{"text_format":"1","workbook":"xlsx","n_sheets":7,"sheets":["Timesheet","Other Payments","Guidance for Timesheet","Guidance for Other Payments","Formulas","ESG","PA70"],"not_rendered":{"charts":0,"images":0,"macros":1,"external_links":0,"defined_names":1,"comments":1,"pivot_tables":0},"unopened":[],"bounds":{"document_bytes":16777216,"sheet_cells":100000,"rows_first":2000,"rows_last":500,"rows_between":2000,"halvings":0,"cell_chars":16384,"cell_head_chars":4096},"cells_cut":0,"cells_raw":0,"read":"whole","date_system":"1900"}

{"sheet":"Timesheet","index":0,"n_rows":4000,"n_cols":38,"rows_kept":2250,"cut":true,"hidden":false,"merged":[[0,1,0,4],[0,11,0,16],[0,35,0,36],[0,29,0,31],[0,32,0,34],[0,17,0,22],[0,27,0,28],[0,23,0,26]],"bounds":{"rows_first":1000,"rows_last":250,"rows_between":1000,"halvings":1}}
[null,"STAFF INFORMATION",null,null,null,null,null,null,null,null,"Last date\nof claim","HOURS UP TO FULL-TIME",null,null,null,null,null,"OVERTIME",null,null,null,null,null,"SITE MANAGER O/T",null,null,null,"UNSOCIAL HRS",null,"HOURS UP TO FULL-TIME",null,null,"OVERTIME",null,null,"SITE MANAGER O/T",null,"UNSOCIAL HRS"]
["School/Academy name","Cost Centre","Pay Number","Surname","Forename","Position","Grade","Sp Pt","Std Hours","ESG","Use date\nformat\nDD.MM.YYYY","Monday \nto Friday",null,"Saturday",null,"Sunday",null,"Monday \nto Saturday",null,"Sunday",null,"Public \nHoliday",null,"O/T Lower \nRate @ 1",null,"O/T Lower \nRate @ 1.5",null,"Unsocial \nHours ",null,"Monday \nto Friday","Saturday","Sunday","Monday \nto Saturday","Sunday","Public \nHoliday","O/T Lower \nRate @ 1","O/T Lower \nRate @ 1.5","Unsocial \nHours "]
[null,"E33036",44789,"Adamek","Marzanna","2 YOP Practitioner","SC4",10,17.5,"07",null,null,{"$f":"IF(AD3=\"Not eligible\", \"Not eligible\", AD3)","v":0},null,{"$f":"IF(AE3=\"Not eligible\", \"Not eligible\", AE3)","v":0},null,{"$f":"IF(AF3=\"Not eligible\", \"Not eligible\", AF3)","v":0},null,{"$f":"IF(AG3=\"Not eligible\", \"Not eligible\", AG3)","v":0},null,{"$f":"IF(AH3=\"Not eligible\", \"Not eligible\", AH3)","v":0},null,{"$f":"IF(AI3=\"Not eligible\", \"Not eligible\", AI3)","v":0},null,{"$f":"IF(AJ3=\"Not eligible\", \"Not eligible\", AJ3)","v":0},null,{"$f":"IF(AK3=\"Not eligible\", \"Not eligible\", AK3)","v":0},null,{"$f":"IF(AL3=\"Not eligible\", \"Not eligible\",AL3)","v":0},{"$f":"Formulas!D3","v":0},{"$f":"Formulas!H3","v":0},{"$f":"Formulas!L3","v":0},{"$f":"Formulas!P3","v":0},{"$f":"Formulas!T3","v":0},{"$f":"Formulas!X3","v":0},{"$f":"Formulas!AB3","v":0},{"$f":"Formulas!AF3","v":0},{"$f":"Formulas!AJ3","v":0}]
[null,"E33036",39452,"Adamek","Marzanna","SMSA","SC1B",3,10,"F1",null,null,{"$f":"IF(AD4=\"Not eligible\", \"Not eligible\", AD4)","v":0},null,0,null,0,null,{"$f":"IF(AG4=\"Not eligible\", \"Not eligible\", AG4)","v":0},null,{"$f":"IF(AH4=\"Not eligible\", \"Not eligible\", AH4)","v":0},null,0,null,{"$f":"IF(AJ4=\"Not eligible\", \"Not eligible\", AJ4)","v":0},null,{"$f":"IF(AK4=\"Not eligible\", \"Not eligible\", AK4)","v":0},null,{"$f":"IF(AL4=\"Not eligible\", \"Not eligible\",AL4)","v":0},{"$f":"Formulas!D4","v":0},{"$f":"Formulas!H4","v":0},{"$f":"Formulas!L4","v":0},{"$f":"Formulas!P4","v":0},{"$f":"Formulas!T4","v":0},{"$f":"Formulas!X4","v":0},{"$f":"Formulas!AB4","v":0},{"$f":"Formulas!AF4","v":0},{"$f":"Formulas!AJ4","v":0}]
[null,"E33036",51119,"Adikwu","Nathan","Casual SMSA","SC1B",2,36,"38",null,null,{"$f":"IF(AD5=\"Not eligible\", \"Not eligible\", AD5)","v":0},null,0,null,0,null,0,null,0,null,0,null,0,null,0,null,0,{"$f":"Formulas!D5","v":0},{"$f":"Formulas!H5","v":0},{"$f":"Formulas!L5","v":0},{"$f":"Formulas!P5","v":0},{"$f":"Formulas!T5","v":0},{"$f":"Formulas!X5","v":0},{"$f":"Formulas!AB5","v":0},{"$f":"Formulas!AF5","v":0},{"$f":"Formulas!AJ5","v":0}]
[null,"E33036",20999,"Asante","Tracy","Early Years Teaching Assistant","SC4",10,17.5,"07",null,null,0,null,0,null,0,null,0,null,0,null,0,null,0,null,0,null,0,{"$f":"Formulas!D6","v":0},{"$f":"Formulas!H6","v":0},{"$f":"Formulas!L6","v":0},{"$f":"Formulas!P6","v":0},{"$f":"Formulas!T6","v":0},{"$f":"Formulas!X6","v":0},{"$f":"Formulas!AB6","v":0},{"$f":"Formulas!AF6","v":0},{"$f":"Formulas!AJ6","v":0}]
[null,"E33036",50140,"Bibi-Ali","Rehana","Teacher (UPS)","PTQTEACH",1,32.5,"31",null,null,0,null,0,null,{"$f":"IF(AF7=\"Not eligible\", \"Not eligible\", AF7)","v":0},null,0,null,0,null,0,null,0,null,0,null,0,{"$f":"Formulas!D7","v":0},{"$f":"Formulas!H7","v":0},{"$f":"Formulas!L7","v":0},{"$f":"Formulas!P7","v":0},{"$f":"Formulas!T7","v":0},{"$f":"Formulas!X7","v":0},{"$f":"Formulas!AB7","v":0},{"$f":"Formulas!AF7","v":0},{"$f":"Formulas!AJ7","v":0}]
[null,"E33036",41120,"Cappello","Rosaria","Teacher (UPS)","PTQTEACH",1,32.5,"31",null,null,0,null,0,null,0,null,0,null,0,null,0,null,0,null,0,null,0,{"$f":"Formulas!D8","v":0},{"$f":"Formulas!H8","v":0},{"$f":"Formulas!L8","v":0},{"$f":"Formulas!P8","v":0},{"$f":"Formulas!T8","v":0},{"$f":"Formulas!X8","v":0},{"$f":"Formulas!AB8","v":0},{"$f":"Formulas!AF8","v":0},{"$f":"Formulas!AJ8","v":0}]
[null,"E33036",14019220,"Carolissen","Cheryl","Early Years Teaching Assistant","SC5",15,26,"07",null,null,0,null,0,null,0,null,0,null,0,null,0,null,0,null,0,null,0,{"$f":"Formulas!D9","v":0},{"$f":"Formulas!H9","v":0},{"$f":"Formulas!L9","v":0},{"$f":"Formulas!P9","v":0},{"$f":"Formulas!T9","v":0},{"$f":"Formulas!X9","v":0},{"$f":"Formulas!AB9","v":0},{"$f":"Formulas!AF9","v":0},{"$f":"Formulas!AJ9","v":0}]
[null,"E33036",33161,"Carrington","Margaret","Teacher (UPS)","PTQTEACH",3,32.5,"31",null,null,{"$f":"IF(AD10=\"Not eligible\", \"Not eligible\", AD10)","v":0},null,{"$f":"IF(AE10=\"Not eligible\", \"Not eligible\", AE10)","v":0},null,0,null,{"$f":"IF(AG10=\"Not eligible\", \"Not eligible\", AG10)","v":0},null,{"$f":"IF(AH10=\"Not eligible\", \"Not eligible\", AH10)","v":0},null,{"$f":"IF(AI10=\"Not eligible\", \"Not eligible\", AI10)","v":0},null,{"$f":"IF(AJ10=\"Not eligible\", \"Not eligible\", AJ10)","v":0},null,{"$f":"IF(AK10=\"Not eligible\", \"Not eligible\", AK10)","v":0},null,{"$f":"IF(AL10=\"Not eligible\", \"Not eligible\",AL10)","v":0},{"$f":"Formulas!D10","v":0},{"$f":"Formulas!H10","v":0},{"$f":"Formulas!L10","v":0},{"$f":"Formulas!P10","v":0},{"$f":"Formulas!T10","v":0},{"$f":"Formulas!X10","v":0},{"$f":"Formulas!AB10","v":0},{"$f":"Formulas!AF10","v":0},{"$f":"Formulas!AJ10","v":0}]
[null,"E33036",44988,"Cassim","Safiyah","Teacher","QTEACH",3,32.5,"31",null,null,{"$f":"IF(AD11=\"Not eligible\", \"Not eligible\", AD11)","v":0},null,0,null,0,null,{"$f":"IF(AG11=\"Not eligible\", \"Not eligible\", AG11)","v":0},null,{"$f":"IF(AH11=\"Not eligible\", \"Not eligible\", AH11)","v":0},null,0,null,{"$f":"IF(AJ11=\"Not eligible\", \"Not eligible\", AJ11)","v":0},null,{"$f":"IF(AK11=\"Not eligible\", \"Not eligible\", AK11)","v":0},null,{"$f":"IF(AL11=\"Not eligible\", \"Not eligible\",AL11)","v":0},{"$f":"Formulas!D11","v":0},{"$f":"Formulas!H11","v":0},{"$f":"Formulas!L11","v":0},{"$f":"Formulas!P11","v":0},{"$f":"Formulas!T11","v":0},{"$f":"Formulas!X11","v":0},{"$f":"Formulas!AB11","v":0},{"$f":"Formulas!AF11","v":0},{"$f":"Formulas!AJ11","v":0}]
[null,"E33036",19061,"Codrington","Rosanne","Administration & Reception","SC4",10,21.6,"07",null,null,{"$f":"IF(AD12=\"Not eligible\", \"Not eligible\", AD12)","v":0},null,0,null,0,null,0,null,0,null,0,null,0,null,0,null,0,{"$f":"Formulas!D12","v":0},{"$f":"Formulas!H12","v":0},{"$f":"Formulas!L12","v":0},{"$f":"Formulas!P12","v":0},{"$f":"Formulas!T12","v":0},{"$f":"Formulas!X12","v":0},{"$f":"Formulas!AB12","v":0},{"$f":"Formulas!AF12","v":0},{"$f":"Formulas!AJ12","v":0}]
[null,"E33036",42125,"Coombs","Holly","ASC Playworker","SC4",10,25,"07",null,null,0,null,0,null,0,null,0,null,0,null,0,null,0,null,0,null,0,{"$f":"Formulas!D13","v":0},{"$f":"Formulas!H13","v":0},{"$f":"Formulas!L13","v":0},{"$f":"Formulas!P13","v":0},{"$f":"Formulas!T13","v":0},{"$f":"Formulas!X13","v":0},{"$f":"Formulas!AB13","v":0},{"$f":"Formulas!AF13","v":0},{"$f":"Formulas!AJ13","v":0}]
[null,"E33036",35616,"Coombs","Holly","SMSA","SC1B",3,7.5,"F1",null,null,0,null,0,null,{"$f":"IF(AF14=\"Not eligible\", \"Not eligible\", AF14)","v":0},null,0,null,0,null,0,null,0,null,0,null,0,{"$f":"Formulas!D14","v":0},{"$f":"Formulas!H14","v":0},{"$f":"Formulas!L14","v":0},{"$f":"Formulas!P14","v":0},{"$f":"Formulas!T14","v":0},{"$f":"Formulas!X14","v":0},{"$f":"Formulas!AB14","v":0},{"$f":"Formulas!AF14","v":0},{"$f":"Formulas!AJ14","v":0}]
[null,"E33036",11630,"Davies","Sharna","Administration & Reception","SC4",10,14.4,"07",null,null,0,null,0,null,0,null,0,null,0,null,0,null,0,null,0,null,0,{"$f":"Formulas!D15","v":0},{"$f":"Formulas!H15","v":0},{"$f":"Formulas!L15","v":0},{"$f":"Formulas!P15","v":0},{"$f":"Formulas!T15","v":0},{"$f":"Formulas!X15","v":0},{"$f":"Formulas!AB15","v":0},{"$f":"Formulas!AF15","v":0},{"$f":"Formulas!AJ15","v":0}]
[null,"E33036",33804,"Draper","Sophie","Teacher (UPS)","PTQTEACH",1,32.5,"31",null,null,0,null,0,null,0,null,0,null,0,null,0,null,0,null,0,null,0,{"$f":"Formulas!D16","v":0},{"$f":"Formulas!H16","v":0},{"$f":"Formulas!L16","v":0},{"$f":"Formulas!P16","v":0},{"$f":"Formulas!T16","v":0},{"$f":"Formulas!X16","v":0},{"$f":"Formulas!AB16","v":0},{"$f":"Formulas!AF16","v":0},{"$f":"Formulas!AJ16","v":0}]
[null,"E33036",11681,"Dukyanci","Ebru","Nursery Nurse","SC5",15,21.6,"07",null,null,0,null,{"$f":"IF(AE17=\"Not eligible\", \"Not eligible\", AE17)","v":0},null,0,null,0,null,0,null,0,null,0,null,0,null,0,{"$f":"Formulas!D17","v":0},{"$f":"Formulas!H17","v":0},{"$f":"Formulas!L17","v":0},{"$f":"Formulas!P17","v":0},{"$f":"Formulas!T17","v":0},{"$f":"Formulas!X17","v":0},{"$f":"Formulas!AB17","v":0},{"$f":"Formulas!AF17","v":0},{"$f":"Formulas!AJ17","v":0}]
[null,"E33036",51311,"Edwards","Abigail Louise","HLTA","SC6",19,36,"07",null,null,0,null,0,null,0,null,0,null,0,null,0,null,0,null,0,null,0,{"$f":"Formulas!D18","v":0},{"$f":"Formulas!H18","v":0},{"$f":"Formulas!L18","v":0},{"$f":"Formulas!P18","v":0},{"$f":"Formulas!T18","v":0},{"$f":"Formulas!X18","v":0},{"$f":"Formulas!AB18","v":0},{"$f":"Formulas!AF18","v":0},{"$f":"Formulas!AJ18","v":0}]
[null,"E33036",19209,"Ejiogu","Clare","Assistant Headteacher","LEAD'SHP",12,26,"31",null,null,0,null,0,null,0,null,0,null,0,null,0,null,0,null,0,null,0,{"$f":"Formulas!D19","v":0},{"$f":"Formulas!H19","v":0},{"$f":"Formulas!L19","v":0},{"$f":"Formulas!P19","v":0},{"$f":"Formulas!T19","v":0},{"$f":"Formulas!X19","v":0},{"$f":"Formulas!AB19","v":0},{"$f":"Formulas!AF19","v":0},{"$f":"Formulas!AJ19","v":0}]
[null,"E33036",40516,"Fenton","Shirlana","Early Intervntn & Outreach Practitioner","SO1",25,36,"07",null,null,0,null,0,null,0,null,0,null,0,null,0,null,0,null,0,null,0,{"$f":"Formulas!D20","v":0},{"$f":"Formulas!H20","v":0},{"$f":"Formulas!L20","v":0},{"$f":"Formulas!P20","v":0},{"$f":"Formulas!T20","v":0},{"$f":"Formulas!X20","v":0},{"$f":"Formulas!AB20","v":0},{"$f":"Formulas!AF20","v":0},{"$f":"Formulas!AJ20","v":0}]
[null,"E33036",42806,"Gibson-Matthew","Czerina","Teaching Assistant","SC5",15,36,"07",null,null,0,null,0,null,0,null,0,null,0,null,0,null,0,null,0,null,0,{"$f":"Formulas!D21","v":0},{"$f":"Formulas!H21","v":0},{"$f":"Formulas!L21","v":0},{"$f":"Formulas!P21","v":0},{"$f":"Formulas!T21","v":0},{"$f":"Formulas!X21","v":0},{"$f":"Formulas!AB21","v":0},{"$f":"Formulas!AF21","v":0},{"$f":"Formulas!AJ21","v":0}]
[null,"E33036",47495,"Goncalves Fernandes Freitas","Maria Da Luz","2 YOP Practitioner","SC4",10,32.5,"07",null,null,0,null,0,null,0,null,0,null,0,null,0,null,0,null,0,null,0,{"$f":"Formulas!D22","v":0},{"$f":"Formulas!H22","v":0},{"$f":"Formulas!L22","v":0},{"$f":"Formulas!P22","v":0},{"$f":"Formulas!T22","v":0},{"$f":"Formulas!X22","v":0},{"$f":"Formulas!AB22","v":0},{"$f":"Formulas!AF22","v":0},{"$f":"Formulas!AJ22","v":0}]
[null,"E33036",38391,"Goy","Helen","SMSA","SC1B",3,7.5,"F1",null,null,0,null,0,null,0,null,0,null,0,null,0,null,0,null,0,null,0,{"$f":"Formulas!D23","v":0},{"$f":"Formulas!H23","v":0},{"$f":"Formulas!L23","v":0},{"$f":"Formulas!P23","v":0},{"$f":"Formulas!T23","v":0},{"$f":"Formulas!X23","v":0},{"$f":"Formulas!AB23","v":0},{"$f":"Formulas!AF23","v":0},{"$f":"Formulas!AJ23","v":0}]
[null,"E33036",28706,"Herbert","Pauline","After School Club Worker Manager","SC6",20,20,"07",null,null,0,null,0,null,0,null,0,null,0,null,0,null,0,null,0,null,0,{"$f":"Formulas!D24","v":0},{"$f":"Formulas!H24","v":0},{"$f":"Formulas!L24","v":0},{"$f":"Formulas!P24","v":0},{"$f":"Formulas!T24","v":0},{"$f":"Formulas!X24","v":0},{"$f":"Formulas!AB24","v":0},{"$f":"Formulas!AF24","v":0},{"$f":"Formulas!AJ24","v":0}]
[null,"E33036",44672,"Holland","Susanna","Teacher","QTEACH",6,32.5,"31",null,null,0,null,0,null,0,null,0,null,0,null,0,null,0,null,0,null,0,{"$f":"Formulas!D25","v":0},{"$f":"Formulas!H25","v":0},{"$f":"Formulas!L25","v":0},{"$f":"Formulas!P25","v":0},{"$f":"Formulas!T25","v":0},{"$f":"Formulas!X25","v":0},{"$f":"Formulas!AB25","v":0},{"$f":"Formulas!AF25","v":0},{"$f":"Formulas!AJ25","v":0}]
[null,"E33036",14289262,"Hussain-Dozithee","Gloria","Teaching Assistant","SC4",10,19.5,"07",null,null,0,null,0,null,0,null,0,null,0,null,0,null,0,null,0,null,0,{"$f":"Formulas!D26","v":0},{"$f":"Formulas!H26","v":0},{"$f":"Formulas!L26","v":0},{"$f":"Formulas!P26","v":0},{"$f":"Formulas!T26","v":0},{"$f":"Formulas!X26","v":0},{"$f":"Formulas!AB26","v":0},{"$f":"Formulas!AF26","v":0},{"$f":"Formulas!AJ26","v":0}]
[null,"E33036",18068,"Hussein","Inji","Office Manager","PO1",28,21.6,"07",null,null,0,null,0,null,0,null,0,null,0,null,0,null,0,null,0,null,0,{"$f":"Formulas!D27","v":0},{"$f":"Formulas!H27","v":0},{"$f":"Formulas!L27","v":0},{"$f":"Formulas!P27","v":0},{"$f":"Formulas!T27","v":0},{"$f":"Formulas!X27","v":0},{"$f":"Formulas!AB27","v":0},{"$f":"Formulas!AF27","v":0},{"$f":"Formulas!AJ27","v":0}]
[null,"E33036",13209997,"Jackson-Hinds","Sharon","Teacher (UPS)","PTQTEACH",1,32.5,"31",null,null,0,null,0,null,0,null,0,null,0,null,0,null,0,null,0,null,0,{"$f":"Formulas!D28","v":0},{"$f":"Formulas!H28","v":0},{"$f":"Formulas!L28","v":0},{"$f":"Formulas!P28","v":0},{"$f":"Formulas!T28","v":0},{"$f":"Formulas!X28","v":0},{"$f":"Formulas!AB28","v":0},{"$f":"Formulas!AF28","v":0},{"$f":"Formulas!AJ28","v":0}]
[null,"E33036",59,"Jarvis","Barbara","SMSA","SC1B",3,7.5,"F1",null,null,0,null,0,null,0,null,0,null,0,null,0,null,0,null,0,null,0,{"$f":"Formulas!D29","v":0},{"$f":"Formulas!H29","v":0},{"$f":"Formulas!L29","v":0},{"$f":"Formulas!P29","v":0},{"$f":"Formulas!T29","v":0},{"$f":"Formulas!X29","v":0},{"$f":"Formulas!AB29","v":0},{"$f":"Formulas!AF29","v":0},{"$f":"Formulas!AJ29","v":0}]
[null,"E33036",29923,"Johns","Janet","Breakfast Club Worker","SC1B",3,6.5,"F1",null,null,0,null,0,null,0,null,0,null,0,null,0,null,0,null,0,null,0,{"$f":"Formulas!D30","v":0},{"$f":"Formulas!H30","v":0},{"$f":"Formulas!L30","v":0},{"$f":"Formulas!P30","v":0},{"$f":"Formulas!T30","v":0},{"$f":"Formulas!X30","v":0},{"$f":"Formulas!AB30","v":0},{"$f":"Formulas!AF30","v":0},{"$f":"Formulas!AJ30","v":0}]
[null,"E33036",21790,"Johns","Janet","SMSA","SC1B",3,7.5,"F1",null,null,0,null,0,null,0,null,0,null,0,null,0,null,0,null,0,null,0,{"$f":"Formulas!D31","v":0},{"$f":"Formulas!H31","v":0},{"$f":"Formulas!L31","v":0},{"$f":"Formulas!P31","v":0},{"$f":"Formulas!T31","v":0},{"$f":"Formulas!X31","v":0},{"$f":"Formulas!AB31","v":0},{"$f":"Formulas!AF31","v":0},{"$f":"Formulas!AJ31","v":0}]
[null,"E33036",13016632,"Kaur","Raj","SMSA","SC1B",3,3,"F1",null,null,0,null,0,null,0,null,0,null,0,null,0,null,0,null,0,null,0,{"$f":"Formulas!D32","v":0},{"$f":"Formulas!H32","v":0},{"$f":"Formulas!L32","v":0},{"$f":"Formulas!P32","v":0},{"$f":"Formulas!T32","v":0},{"$f":"Formulas!X32","v":0},{"$f":"Formulas!AB32","v":0},{"$f":"Formulas!AF32","v":0},{"$f":"Formulas!AJ32","v":0}]
[null,"E33036",13616632,"Kaur","Raj","Teaching Assistant","SC4",10,15.75,"06",null,null,0,null,0,null,0,null,0,null,0,null,0,null,0,null,0,null,0,{"$f":"Formulas!D33","v":0},{"$f":"Formulas!H33","v":0},{"$f":"Formulas!L33","v":0},{"$f":"Formulas!P33","v":0},{"$f":"Formulas!T33","v":0},{"$f":"Formulas!X33","v":0},{"$f":"Formulas!AB33","v":0},{"$f":"Formulas!AF33","v":0},{"$f":"Formulas!AJ33","v":0}]
[null,"E33036",40046,"Keenan","Melissa","Early Intervntn & Outreach Practitioner","SO1",25,36,"07",null,null,0,null,0,null,0,null,0,null,0,null,0,null,0,null,0,null,0,{"$f":"Formulas!D34","v":0},{"$f":"Formulas!H34","v":0},{"$f":"Formulas!L34","v":0},{"$f":"Formulas!P34","v":0},{"$f":"Formulas!T34","v":0},{"$f":"Formulas!X34","v":0},{"$f":"Formulas!AB34","v":0},{"$f":"Formulas!AF34","v":0},{"$f":"Formulas!AJ34","v":0}]
[null,"E33036",18140,"Keogh","Anita","School Business Manager","PO4",38,36,"07",null,null,0,null,0,null,0,null,0,null,0,null,0,null,0,null,0,null,0,{"$f":"Formulas!D35","v":0},{"$f":"Formulas!H35","v":0},{"$f":"Formulas!L35","v":0},{"$f":"Formulas!P35","v":0},{"$f":"Formulas!T35","v":0},{"$f":"Formulas!X35","v":0},{"$f":"Formulas!AB35","v":0},{"$f":"Formulas!AF35","v":0},{"$f":"Formulas!AJ35","v":0}]
[null,"E33036",9922,"Kirwan","Sarah","Nursery Nurse","SC5",15,36,"07",null,null,0,null,0,null,0,null,0,null,0,null,0,null,0,null,0,null,0,{"$f":"Formulas!D36","v":0},{"$f":"Formulas!H36","v":0},{"$f":"Formulas!L36","v":0},{"$f":"Formulas!P36","v":0},{"$f":"Formulas!T36","v":0},{"$f":"Formulas!X36","v":0},{"$f":"Formulas!AB36","v":0},{"$f":"Formulas!AF36","v":0},{"$f":"Formulas!AJ36","v":0}]
[null,"E33036",34724,"Lambert","June","Family Support Worker","SO1",25,36,"07",null,null,0,null,0,null,0,null,0,null,0,null,0,null,0,null,0,null,0,{"$f":"Formulas!D37","v":0},{"$f":"Formulas!H37","v":0},{"$f":"Formulas!L37","v":0},{"$f":"Formulas!P37","v":0},{"$f":"Formulas!T37","v":0},{"$f":"Formulas!X37","v":0},{"$f":"Formulas!AB37","v":0},{"$f":"Formulas!AF37","v":0},{"$f":"Formulas!AJ37","v":0}]
[null,"E33036",20933,"Landeut","Gisele","Early Years Teaching Assistant","SC5",15,36,"07",null,null,0,null,0,null,0,null,0,null,0,null,0,null,0,null,0,null,0,{"$f":"Formulas!D38","v":0},{"$f":"Formulas!H38","v":0},{"$f":"Formulas!L38","v":0},{"$f":"Formulas!P38","v":0},{"$f":"Formulas!T38","v":0},{"$f":"Formulas!X38","v":0},{"$f":"Formulas!AB38","v":0},{"$f":"Formulas!AF38","v":0},{"$f":"Formulas!AJ38","v":0}]
[null,"E33036",36025,"Lane","Robert","Deputy Headteacher","LEAD'SHP",21,32.5,"31",null,null,0,null,0,null,0,null,0,null,0,null,0,null,0,null,0,null,0,{"$f":"Formulas!D39","v":0},{"$f":"Formulas!H39","v":0},{"$f":"Formulas!L39","v":0},{"$f":"Formulas!P39","v":0},{"$f":"Formulas!T39","v":0},{"$f":"Formulas!X39","v":0},{"$f":"Formulas!AB39","v":0},{"$f":"Formulas!AF39","v":0},{"$f":"Formulas!AJ39","v":0}]
[null,"E33036",41681,"Malhi","Geeta","Teacher","QTEACH",6,32.5,"31",null,null,0,null,0,null,0,null,0,null,0,null,0,null,0,null,0,null,0,{"$f":"Formulas!D40","v":0},{"$f":"Formulas!H40","v":0},{"$f":"Formulas!L40","v":0},{"$f":"Formulas!P40","v":0},{"$f":"Formulas!T40","v":0},{"$f":"Formulas!X40","v":0},{"$f":"Formulas!AB40","v":0},{"$f":"Formulas!AF40","v":0},{"$f":"Formulas!AJ40","v":0}]
[null,"E33036",42644,"McCarthy","Jack","Teacher","QTEACH",6,32.5,"31",null,null,0,null,0,null,0,null,0,null,0,null,0,null,0,null,0,null,0,{"$f":"Formulas!D41","v":0},{"$f":"Formulas!H41","v":0},{"$f":"Formulas!L41","v":0},{"$f":"Formulas!P41","v":0},{"$f":"Formulas!T41","v":0},{"$f":"Formulas!X41","v":0},{"$f":"Formulas!AB41","v":0},{"$f":"Formulas!AF41","v":0},{"$f":"Formulas!AJ41","v":0}]
[null,"E33036",49476,"McCullough","Adam","Teaching Assistant","SC5",15,36,"07",null,null,0,null,0,null,0,null,0,null,0,null,0,null,0,null,0,null,0,{"$f":"Formulas!D42","v":0},{"$f":"Formulas!H42","v":0},{"$f":"Formulas!L42","v":0},{"$f":"Formulas!P42","v":0},{"$f":"Formulas!T42","v":0},{"$f":"Formulas!X42","v":0},{"$f":"Formulas!AB42","v":0},{"$f":"Formulas!AF42","v":0},{"$f":"Formulas!AJ42","v":0}]
[null,"E33036",50978,"McLoughlin","Pauline","Teacher (UPS)","PTQTEACH",3,19.5,"31",null,null,0,null,0,null,0,null,0,null,0,null,0,null,0,null,0,null,0,{"$f":"Formulas!D43","v":0},{"$f":"Formulas!H43","v":0},{"$f":"Formulas!L43","v":0},{"$f":"Formulas!P43","v":0},{"$f":"Formulas!T43","v":0},{"$f":"Formulas!X43","v":0},{"$f":"Formulas!AB43","v":0},{"$f":"Formulas!AF43","v":0},{"$f":"Formulas!AJ43","v":0}]
[null,"E33036",41705,"Meehan","Patrick","Teacher","QTEACH",6,26,"31",null,null,0,null,0,null,0,null,0,null,0,null,0,null,0,null,0,null,0,{"$f":"Formulas!D44","v":0},{"$f":"Formulas!H44","v":0},{"$f":"Formulas!L44","v":0},{"$f":"Formulas!P44","v":0},{"$f":"Formulas!T44","v":0},{"$f":"Formulas!X44","v":0},{"$f":"Formulas!AB44","v":0},{"$f":"Formulas!AF44","v":0},{"$f":"Formulas!AJ44","v":0}]
[null,"E33036",47311,"Mills","Leanne","2 YOP Practitioner","SC4",10,17.5,"07",null,null,0,null,0,null,0,null,0,null,0,null,0,null,0,null,0,null,0,{"$f":"Formulas!D45","v":0},{"$f":"Formulas!H45","v":0},{"$f":"Formulas!L45","v":0},{"$f":"Formulas!P45","v":0},{"$f":"Formulas!T45","v":0},{"$f":"Formulas!X45","v":0},{"$f":"Formulas!AB45","v":0},{"$f":"Formulas!AF45","v":0},{"$f":"Formulas!AJ45","v":0}]
[null,"E33036",36728,"Mohabeer","Preety","Teacher","QTEACH",5,32.5,"31",null,null,0,null,0,null,0,null,0,null,0,null,0,null,0,null,0,null,0,{"$f":"Formulas!D46","v":0},{"$f":"Formulas!H46","v":0},{"$f":"Formulas!L46","v":0},{"$f":"Formulas!P46","v":0},{"$f":"Formulas!T46","v":0},{"$f":"Formulas!X46","v":0},{"$f":"Formulas!AB46","v":0},{"$f":"Formulas!AF46","v":0},{"$f":"Formulas!AJ46","v":0}]
[null,"E33036",51863,"Muller","Devon","Teaching Assistant","SC5",14,36,"07","19.10.2023",null,0,null,0,null,0,4.5,3141,null,0,null,0,null,0,null,0,null,0,{"$f":"Formulas!D47","v":0},{"$f":"Formulas!H47","v":0},{"$f":"Formulas!L47","v":0},{"$f":"Formulas!P47","v":3141},{"$f":"Formulas!T47","v":0},{"$f":"Formulas!X47","v":0},{"$f":"Formulas!AB47","v":0},{"$f":"Formulas!AF47","v":0},{"$f":"Formulas!AJ47","v":0}]
[null,"E33036",46769,"Nouafasse","Maria","Teacher (UPS)","PTQTEACH",1,32.5,"31",null,null,0,null,0,null,0,null,0,null,0,null,0,null,0,null,0,null,0,{"$f":"Formulas!D48","v":0},{"$f":"Formulas!H48","v":0},{"$f":"Formulas!L48","v":0},{"$f":"Formulas!P48","v":0},{"$f":"Formulas!T48","v":0},{"$f":"Formulas!X48","v":0},{"$f":"Formulas!AB48","v":0},{"$f":"Formulas!AF48","v":0},{"$f":"Formulas!AJ48","v":0}]
[null,"E33036",16845,"O'Reilly","Dara","Centre Manager - School Based","PO3",35,36,"07",null,null,0,null,0,null,0,null,0,null,0,null,0,null,0,null,0,null,0,{"$f":"Formulas!D49","v":0},{"$f":"Formulas!H49","v":0},{"$f":"Formulas!L49","v":0},{"$f":"Formulas!P49","v":0},{"$f":"Formulas!T49","v":0},{"$f":"Formulas!X49","v":0},{"$f":"Formulas!AB49","v":0},{"$f":"Formulas!AF49","v":0},{"$f":"Formulas!AJ49","v":0}]
[null,"E33036",33960,"Pacheco Rios","Delia Elena","Casual SMSA","SC1B",2,36,"38",null,null,0,null,0,null,0,null,0,null,0,null,0,null,0,null,0,null,0,{"$f":"Formulas!D50","v":0},{"$f":"Formulas!H50","v":0},{"$f":"Formulas!L50","v":0},{"$f":"Formulas!P50","v":0},{"$f":"Formulas!T50","v":0},{"$f":"Formulas!X50","v":0},{"$f":"Formulas!AB50","v":0},{"$f":"Formulas!AF50","v":0},{"$f":"Formulas!AJ50","v":0}]
[null,"E33036",9019,"Petrou","Helena","Teacher (UPS)","PTQTEACH",2,32.5,"31",null,null,0,null,0,null,0,null,0,null,0,null,0,null,0,null,0,null,0,{"$f":"Formulas!D51","v":0},{"$f":"Formulas!H51","v":0},{"$f":"Formulas!L51","v":0},{"$f":"Formulas!P51","v":0},{"$f":"Formulas!T51","v":0},{"$f":"Formulas!X51","v":0},{"$f":"Formulas!AB51","v":0},{"$f":"Formulas!AF51","v":0},{"$f":"Formulas!AJ51","v":0}]
[null,"E33036",20207,"Quinton","Alison","SMSA","SC1B",3,7.5,"F1",null,null,0,null,0,null,0,null,0,null,0,null,0,null,0,null,0,null,0,{"$f":"Formulas!D52","v":0},{"$f":"Formulas!H52","v":0},{"$f":"Formulas!L52","v":0},{"$f":"Formulas!P52","v":0},{"$f":"Formulas!T52","v":0},{"$f":"Formulas!X52","v":0},{"$f":"Formulas!AB52","v":0},{"$f":"Formulas!AF52","v":0},{"$f":"Formulas!AJ52","v":0}]
[null,"E33036",46771,"Rahmi","Fatma","Teacher","QTEACH",6,32.5,"31",null,null,0,null,0,null,0,null,0,null,0,null,0,null,0,null,0,null,0,{"$f":"Formulas!D53","v":0},{"$f":"Formulas!H53","v":0},{"$f":"Formulas!L53","v":0},{"$f":"Formulas!P53","v":0},{"$f":"Formulas!T53","v":0},{"$f":"Formulas!X53","v":0},{"$f":"Formulas!AB53","v":0},{"$f":"Formulas!AF53","v":0},{"$f":"Formulas!AJ53","v":0}]
[null,"E33036",14387314,"Russell","Katie","Teaching Assistant","SC4",10,20,"07",null,null,0,null,0,null,0,null,0,null,0,null,0,null,0,null,0,null,0,{"$f":"Formulas!D54","v":0},{"$f":"Formulas!H54","v":0},{"$f":"Formulas!L54","v":0},{"$f":"Formulas!P54","v":0},{"$f":"Formulas!T54","v":0},{"$f":"Formulas!X54","v":0},{"$f":"Formulas!AB54","v":0},{"$f":"Formulas!AF54","v":0},{"$f":"Formulas!AJ54","v":0}]
[null,"E33036",38898,"Russell","Thomas","Teacher","QTEACH",1,32.5,"31",null,null,0,null,0,null,0,null,0,null,0,null,0,null,0,null,0,null,0,{"$f":"Formulas!D55","v":0},{"$f":"Formulas!H55","v":0},{"$f":"Formulas!L55","v":0},{"$f":"Formulas!P55","v":0},{"$f":"Formulas!T55","v":0},{"$f":"Formulas!X55","v":0},{"$f":"Formulas!AB55","v":0},{"$f":"Formulas!AF55","v":0},{"$f":"Formulas!AJ55","v":0}]
[null,"E33036",14016208,"Salusbury-Hughes","Hester","Learning Mentor","SO1",25,36,"07",null,null,0,null,0,null,0,null,0,null,0,null,0,null,0,null,0,null,0,{"$f":"Formulas!D56","v":0},{"$f":"Formulas!H56","v":0},{"$f":"Formulas!L56","v":0},{"$f":"Formulas!P56","v":0},{"$f":"Formulas!T56","v":0},{"$f":"Formulas!X56","v":0},{"$f":"Formulas!AB56","v":0},{"$f":"Formulas!AF56","v":0},{"$f":"Formulas!AJ56","v":0}]
[null,"E33036",38962,"Simkassi","Marina","Teacher (UPS)","PTQTEACH",1,32.5,"31",null,null,0,null,0,null,0,null,0,null,0,null,0,null,0,null,0,null,0,{"$f":"Formulas!D57","v":0},{"$f":"Formulas!H57","v":0},{"$f":"Formulas!L57","v":0},{"$f":"Formulas!P57","v":0},{"$f":"Formulas!T57","v":0},{"$f":"Formulas!X57","v":0},{"$f":"Formulas!AB57","v":0},{"$f":"Formulas!AF57","v":0},{"$f":"Formulas!AJ57","v":0}]
[null,"E33036",39361,"Singh","Gareb","Site Manager","SC6",20,36,"06",null,null,0,null,0,null,0,null,0,null,0,null,0,null,0,null,0,null,0,{"$f":"Formulas!D58","v":0},{"$f":"Formulas!H58","v":0},{"$f":"Formulas!L58","v":0},{"$f":"Formulas!P58","v":0},{"$f":"Formulas!T58","v":0},{"$f":"Formulas!X58","v":0},{"$f":"Formulas!AB58","v":0},{"$f":"Formulas!AF58","v":0},{"$f":"Formulas!AJ58","v":0}]
[null,"E33036",37015,"Staggs","Jane","Breakfast Club Worker","SC1B",3,5,"F1",null,null,0,null,0,null,0,null,0,null,0,null,0,null,0,null,0,null,0,{"$f":"Formulas!D59","v":0},{"$f":"Formulas!H59","v":0},{"$f":"Formulas!L59","v":0},{"$f":"Formulas!P59","v":0},{"$f":"Formulas!T59","v":0},{"$f":"Formulas!X59","v":0},{"$f":"Formulas!AB59","v":0},{"$f":"Formulas!AF59","v":0},{"$f":"Formulas!AJ59","v":0}]
[null,"E33036",29683,"Staggs","Jane","SEN Teaching Assistant","SC3",6,27.5,"07",null,null,0,null,0,null,0,null,0,null,0,null,0,null,0,null,0,null,0,{"$f":"Formulas!D60","v":0},{"$f":"Formulas!H60","v":0},{"$f":"Formulas!L60","v":0},{"$f":"Formulas!P60","v":0},{"$f":"Formulas!T60","v":0},{"$f":"Formulas!X60","v":0},{"$f":"Formulas!AB60","v":0},{"$f":"Formulas!AF60","v":0},{"$f":"Formulas!AJ60","v":0}]
[null,"E33036",23115,"Staggs","Jane","SMSA","SC1B",3,5,"F1",null,null,0,null,0,null,0,null,0,null,0,null,0,null,0,null,0,null,0,{"$f":"Formulas!D61","v":0},{"$f":"Formulas!H61","v":0},{"$f":"Formulas!L61","v":0},{"$f":"Formulas!P61","v":0},{"$f":"Formulas!T61","v":0},{"$f":"Formulas!X61","v":0},{"$f":"Formulas!AB61","v":0},{"$f":"Formulas!AF61","v":0},{"$f":"Formulas!AJ61","v":0}]
[null,"E33036",14037690,"Stone","Jane","Deputy Headteacher","LEAD'SHP",17,26,"31",null,null,0,null,0,null,0,null,0,null,0,null,0,null,0,null,0,null,0,{"$f":"Formulas!D62","v":0},{"$f":"Formulas!H62","v":0},{"$f":"Formulas!L62","v":0},{"$f":"Formulas!P62","v":0},{"$f":"Formulas!T62","v":0},{"$f":"Formulas!X62","v":0},{"$f":"Formulas!AB62","v":0},{"$f":"Formulas!AF62","v":0},{"$f":"Formulas!AJ62","v":0}]
[null,"E33036",12174,"Streeter","Frank","Teacher (UPS)","PTQTEACH",1,32.5,"31",null,null,0,null,0,null,0,null,0,null,0,null,0,null,0,null,0,null,0,{"$f":"Formulas!D63","v":0},{"$f":"Formulas!H63","v":0},{"$f":"Formulas!L63","v":0},{"$f":"Formulas!P63","v":0},{"$f":"Formulas!T63","v":0},{"$f":"Formulas!X63","v":0},{"$f":"Formulas!AB63","v":0},{"$f":"Formulas!AF63","v":0},{"$f":"Formulas!AJ63","v":0}]
[null,"E33036",13009,"Tagoe","Mary","Senior SMSA","SC3",6,7.5,"F1",null,null,0,null,0,null,0,null,0,null,0,null,0,null,0,null,0,null,0,{"$f":"Formulas!D64","v":0},{"$f":"Formulas!H64","v":0},{"$f":"Formulas!L64","v":0},{"$f":"Formulas!P64","v":0},{"$f":"Formulas!T64","v":0},{"$f":"Formulas!X64","v":0},{"$f":"Formulas!AB64","v":0},{"$f":"Formulas!AF64","v":0},{"$f":"Formulas!AJ64","v":0}]
[null,"E33036",51874,"Tang","Kylie","HLTA","SC6",19,36,"07",null,null,0,null,0,null,0,null,0,null,0,null,0,null,0,null,0,null,0,{"$f":"Formulas!D65","v":0},{"$f":"Formulas!H65","v":0},{"$f":"Formulas!L65","v":0},{"$f":"Formulas!P65","v":0},{"$f":"Formulas!T65","v":0},{"$f":"Formulas!X65","v":0},{"$f":"Formulas!AB65","v":0},{"$f":"Formulas!AF65","v":0},{"$f":"Formulas!AJ65","v":0}]
[null,"E33036",45964,"Toprak","Emma","Early Years Teaching Assistant","SC5",15,21.6,"07",null,null,0,null,0,null,0,null,0,null,0,null,0,null,0,null,0,null,0,{"$f":"Formulas!D66","v":0},{"$f":"Formulas!H66","v":0},{"$f":"Formulas!L66","v":0},{"$f":"Formulas!P66","v":0},{"$f":"Formulas!T66","v":0},{"$f":"Formulas!X66","v":0},{"$f":"Formulas!AB66","v":0},{"$f":"Formulas!AF66","v":0},{"$f":"Formulas!AJ66","v":0}]
[null,"E33036",54194,"Tubl","Sara","Teacher","QTEACH",1,32.5,"31",null,null,0,null,0,null,0,null,0,null,0,null,{"$f":"IF(AI67=\"Not eligible\", \"Not eligible\", AI67)","v":0},null,0,null,0,null,0,{"$f":"Formulas!D67","v":0},{"$f":"Formulas!H67","v":0},{"$f":"Formulas!L67","v":0},{"$f":"Formulas!P67","v":0},{"$f":"Formulas!T67","v":0},{"$f":"Formulas!X67","v":0},{"$f":"Formulas!AB67","v":0},{"$f":"Formulas!AF67","v":0},{"$f":"Formulas!AJ67","v":0}]
[null,"E33036",14299640,"Van-Rossum","Chantelle","Teaching Assistant","SC5",15,36,"07",null,null,0,null,0,null,0,null,{"$f":"IF(AG68=\"Not eligible\", \"Not eligible\", AG68)","v":0},null,{"$f":"IF(AH68=\"Not eligible\", \"Not eligible\", AH68)","v":0},null,0,null,{"$f":"IF(AJ68=\"Not eligible\", \"Not eligible\", AJ68)","v":0},null,{"$f":"IF(AK68=\"Not eligible\", \"Not eligible\", AK68)","v":0},null,{"$f":"IF(AL68=\"Not eligible\", \"Not eligible\",AL68)","v":0},{"$f":"Formulas!D68","v":0},{"$f":"Formulas!H68","v":0},{"$f":"Formulas!L68","v":0},{"$f":"Formulas!P68","v":0},{"$f":"Formulas!T68","v":0},{"$f":"Formulas!X68","v":0},{"$f":"Formulas!AB68","v":0},{"$f":"Formulas!AF68","v":0},{"$f":"Formulas!AJ68","v":0}]
[null,"E33036",28604,"Virgo","Kathleen","After School Club Playworker","SC4",10,16,"07",null,null,{"$f":"IF(AD69=\"Not eligible\", \"Not eligible\", AD69)","v":0},null,0,null,0,null,0,null,0,null,0,null,0,null,0,null,0,{"$f":"Formulas!D69","v":0},{"$f":"Formulas!H69","v":0},{"$f":"Formulas!L69","v":0},{"$f":"Formulas!P69","v":0},{"$f":"Formulas!T69","v":0},{"$f":"Formulas!X69","v":0},{"$f":"Formulas!AB69","v":0},{"$f":"Formulas!AF69","v":0},{"$f":"Formulas!AJ69","v":0}]
[null,"E33036",28602,"Virgo","Kathleen","Lunchtime Play Leader","SC4",10,5,"07",null,null,0,null,0,null,0,null,0,null,0,null,0,null,0,null,0,null,0,{"$f":"Formulas!D70","v":0},{"$f":"Formulas!H70","v":0},{"$f":"Formulas!L70","v":0},{"$f":"Formulas!P70","v":0},{"$f":"Formulas!T70","v":0},{"$f":"Formulas!X70","v":0},{"$f":"Formulas!AB70","v":0},{"$f":"Formulas!AF70","v":0},{"$f":"Formulas!AJ70","v":0}]
[null,"E33036",28989,"Witter","Roy","Teaching Assistant","SC4",10,35,"07",null,null,0,null,0,null,{"$f":"IF(AF71=\"Not eligible\", \"Not eligible\", AF71)","v":0},null,0,null,0,null,0,null,0,null,0,null,0,{"$f":"Formulas!D71","v":0},{"$f":"Formulas!H71","v":0},{"$f":"Formulas!L71","v":0},{"$f":"Formulas!P71","v":0},{"$f":"Formulas!T71","v":0},{"$f":"Formulas!X71","v":0},{"$f":"Formulas!AB71","v":0},{"$f":"Formulas!AF71","v":0},{"$f":"Formulas!AJ71","v":0}]
[null,"E33036",28779,"Wszolek","Justina","Teacher","QTEACH",5,32.5,"31",null,null,0,null,0,null,0,null,0,null,0,null,0,null,0,null,0,null,0,{"$f":"Formulas!D72","v":0},{"$f":"Formulas!H72","v":0},{"$f":"Formulas!L72","v":0},{"$f":"Formulas!P72","v":0},{"$f":"Formulas!T72","v":0},{"$f":"Formulas!X72","v":0},{"$f":"Formulas!AB72","v":0},{"$f":"Formulas!AF72","v":0},{"$f":"Formulas!AJ72","v":0}]
[null,"E33036",20013,"Zaman","Raina","SMSA","SC1B",3,7.5,"F1",null,null,0,null,0,null,0,null,0,null,0,null,0,null,0,null,0,null,0,{"$f":"Formulas!D73","v":0},{"$f":"Formulas!H73","v":0},{"$f":"Formulas!L73","v":0},{"$f":"Formulas!P73","v":0},{"$f":"Formulas!T73","v":0},{"$f":"Formulas!X73","v":0},{"$f":"Formulas!AB73","v":0},{"$f":"Formulas!AF73","v":0},{"$f":"Formulas!AJ73","v":0}]
[null,null,null,null,null,null,null,null,null,null,null,null,0,null,{"$f":"IF(AE74=\"Not eligible\", \"Not eligible\", AE74)","v":0},null,0,null,0,null,0,null,0,null,0,null,0,null,0,{"$f":"Formulas!D74","v":0},{"$f":"Formulas!H74","v":0},{"$f":"Formulas!L74","v":0},{"$f":"Formulas!P74","v":0},{"$f":"Formulas!T74","v":0},{"$f":"Formulas!X74","v":0},{"$f":"Formulas!AB74","v":0},{"$f":"Formulas!AF74","v":0},{"$f":"Formulas!AJ74","v":0}]
[null,null,null,null,null,null,null,null,null,null,null,null,0,null,0,null,0,null,0,null,0,null,0,null,0,null,0,null,0,{"$f":"Formulas!D75","v":0},{"$f":"Formulas!H75","v":0},{"$f":"Formulas!L75","v":0},{"$f":"Formulas!P75","v":0},{"$f":"Formulas!T75","v":0},{"$f":"Formulas!X75","v":0},{"$f":"Formulas!AB75","v":0},{"$f":"Formulas!AF75","v":0},{"$f":"Formulas!AJ75","v":0}]
[null,null,null,null,null,null,null,null,null,null,null,null,0,null,0,null,0,null,0,null,0,null,0,null,0,null,0,null,0,{"$f":"Formulas!D76","v":0},{"$f":"Formulas!H76","v":0},{"$f":"Formulas!L76","v":0},{"$f":"Formulas!P76","v":0},{"$f":"Formulas!T76","v":0},{"$f":"Formulas!X76","v":0},{"$f":"Formulas!AB76","v":0},{"$f":"Formulas!AF76","v":0},{"$f":"Formulas!AJ76","v":0}]
[null,null,null,null,null,null,null,null,null,null,null,null,0,null,0,null,0,null,0,null,0,null,0,null,0,null,0,null,0,{"$f":"Formulas!D77","v":0},{"$f":"Formulas!H77","v":0},{"$f":"Formulas!L77","v":0},{"$f":"Formulas!P77","v":0},{"$f":"Formulas!T77","v":0},{"$f":"Formulas!X77","v":0},{"$f":"Formulas!AB77","v":0},{"$f":"Formulas!AF77","v":0},{"$f":"Formulas!AJ77","v":0}]
[null,null,null,null,null,null,null,null,null,null,null,null,0,null,0,null,0,null,0,null,0,null,0,null,0,null,0,null,0,{"$f":"Formulas!D78","v":0},{"$f":"Formulas!H78","v":0},{"$f":"Formulas!L78","v":0},{"$f":"Formulas!P78","v":0},{"$f":"Formulas!T78","v":0},{"$f":"Formulas!X78","v":0},{"$f":"Formulas!AB78","v":0},{"$f":"Formulas!AF78","v":0},{"$f":"Formulas!AJ78","v":0}]
[null,null,null,null,null,null,null,null,null,null,null,null,0,null,0,null,0,null,0,null,0,null,0,null,0,null,0,null,0,{"$f":"Formulas!D79","v":0},{"$f":"Formulas!H79","v":0},{"$f":"Formulas!L79","v":0},{"$f":"Formulas!P79","v":0},{"$f":"Formulas!T79","v":0},{"$f":"Formulas!X79","v":0},{"$f":"Formulas!AB79","v":0},{"$f":"Formulas!AF79","v":0},{"$f":"Formulas!AJ79","v":0}]
[null,null,null,null,null,null,null,null,null,null,null,null,0,null,0,null,0,null,0,null,0,null,0,null,0,null,0,null,0,{"$f":"Formulas!D80","v":0},{"$f":"Formulas!H80","v":0},{"$f":"Formulas!L80","v":0},{"$f":"Formulas!P80","v":0},{"$f":"Formulas!T80","v":0},{"$f":"Formulas!X80","v":0},{"$f":"Formulas!AB80","v":0},{"$f":"Formulas!AF80","v":0},{"$f":"Formulas!AJ80","v":0}]
[null,null,null,null,null,null,null,null,null,null,null,null,0,null,0,null,0,null,0,null,0,null,0,null,0,null,0,null,0,{"$f":"Formulas!D81","v":0},{"$f":"Formulas!H81","v":0},{"$f":"Formulas!L81","v":0},{"$f":"Formulas!P81","v":0},{"$f":"Formulas!T81","v":0},{"$f":"Formulas!X81","v":0},{"$f":"Formulas!AB81","v":0},{"$f":"Formulas!AF81","v":0},{"$f":"Formulas!AJ81","v":0}]
[null,null,null,null,null,null,null,null,null,null,null,null,0,null,0,null,0,null,0,null,0,null,0,null,0,null,0,null,0,{"$f":"Formulas!D82","v":0},{"$f":"Formulas!H82","v":0},{"$f":"Formulas!L82","v":0},{"$f":"Formulas!P82","v":0},{"$f":"Formulas!T82","v":0},{"$f":"Formulas!X82","v":0},{"$f":"Formulas!AB82","v":0},{"$f":"Formulas!AF82","v":0},{"$f":"Formulas!AJ82","v":0}]
[null,null,null,null,null,null,null,null,null,null,null,null,0,null,0,null,0,null,0,null,0,null,0,null,0,null,0,null,0,{"$f":"Formulas!D83","v":0},{"$f":"Formulas!H83","v":0},{"$f":"Formulas!L83","v":0},{"$f":"Formulas!P83","v":0},{"$f":"Formulas!T83","v":0},{"$f":"Formulas!X83","v":0},{"$f":"Formulas!AB83","v":0},{"$f":"Formulas!AF83","v":0},{"$f":"Formulas!AJ83","v":0}]
[null,null,null,null,null,null,null,null,null,null,null,null,0,null,0,null,0,null,0,null,0,null,0,null,0,null,0,null,0,{"$f":"Formulas!D84","v":0},{"$f":"Formulas!H84","v":0},{"$f":"Formulas!L84","v":0},{"$f":"Formulas!P84","v":0},{"$f":"Formulas!T84","v":0},{"$f":"Formulas!X84","v":0},{"$f":"Formulas!AB84","v":0},{"$f":"Formulas!AF84","v":0},{"$f":"Formulas!AJ84","v":0}]
[null,null,null,null,null,null,null,null,null,null,null,null,0,null,0,null,0,null,0,null,0,null,0,null,0,null,0,null,0,{"$f":"Formulas!D85","v":0},{"$f":"Formulas!H85","v":0},{"$f":"Formulas!L85","v":0},{"$f":"Formulas!P85","v":0},{"$f":"Formulas!T85","v":0},{"$f":"Formulas!X85","v":0},{"$f":"Formulas!AB85","v":0},{"$f":"Formulas!AF85","v":0},{"$f":"Formulas!AJ85","v":0}]
[null,null,null,null,null,null,null,null,null,null,null,null,0,null,0,null,0,null,0,null,0,null,0,null,0,null,0,null,0,{"$f":"Formulas!D86","v":0},{"$f":"Formulas!H86","v":0},{"$f":"Formulas!L86","v":0},{"$f":"Formulas!P86","v":0},{"$f":"Formulas!T86","v":0},{"$f":"Formulas!X86","v":0},{"$f":"Formulas!AB86","v":0},{"$f":"Formulas!AF86","v":0},{"$f":"Formulas!AJ86","v":0}]
[null,null,null,null,null,null,null,null,null,null,null,null,0,null,0,null,0,null,0,null,0,null,0,null,0,null,0,null,0,{"$f":"Formulas!D87","v":0},{"$f":"Formulas!H87","v":0},{"$f":"Formulas!L87","v":0},{"$f":"Formulas!P87","v":0},{"$f":"Formulas!T87","v":0},{"$f":"Formulas!X87","v":0},{"$f":"Formulas!AB87","v":0},{"$f":"Formulas!AF87","v":0},{"$f":"Formulas!AJ87","v":0}]
[null,null,null,null,null,null,null,null,null,null,null,null,0,null,0,null,0,null,0,null,0,null,0,null,0,null,0,null,0,{"$f":"Formulas!D88","v":0},{"$f":"Formulas!H88","v":0},{"$f":"Formulas!L88","v":0},{"$f":"Formulas!P88","v":0},{"$f":"Formulas!T88","v":0},{"$f":"Formulas!X88","v":0},{"$f":"Formulas!AB88","v":0},{"$f":"Formulas!AF88","v":0},{"$f":"Formulas!AJ88","v":0}]
[null,null,null,null,null,null,null,null,null,null,null,null,0,null,0,null,0,null,0,null,0,null,0,null,0,null,0,null,0,{"$f":"Formulas!D89","v":0},{"$f":"Formulas!H89","v":0},{"$f":"Formulas!L89","v":0},{"$f":"Formulas!P89","v":0},{"$f":"Formulas!T89","v":0},{"$f":"Formulas!X89","v":0},{"$f":"Formulas!AB89","v":0},{"$f":"Formulas!AF89","v":0},{"$f":"Formulas!AJ89","v":0}]
[null,null,null,null,null,null,null,null,null,null,null,null,0,null,0,null,0,null,0,null,0,null,0,null,0,null,0,null,0,{"$f":"Formulas!D90","v":0},{"$f":"Formulas!H90","v":0},{"$f":"Formulas!L90","v":0},{"$f":"Formulas!P90","v":0},{"$f":"Formulas!T90","v":0},{"$f":"Formulas!X90","v":0},{"$f":"Formulas!AB90","v":0},{"$f":"Formulas!AF90","v":0},{"$f":"Formulas!AJ90","v":0}]
[null,null,null,null,null,null,null,null,null,null,null,null,0,null,0,null,0,null,0,null,0,null,0,null,0,null,0,null,0,{"$f":"Formulas!D91","v":0},{"$f":"Formulas!H91","v":0},{"$f":"Formulas!L91","v":0},{"$f":"Formulas!P91","v":0},{"$f":"Formulas!T91","v":0},{"$f":"Formulas!X91","v":0},{"$f":"Formulas!AB91","v":0},{"$f":"Formulas!AF91","v":0},{"$f":"Formulas!AJ91","v":0}]
[null,null,null,null,null,null,null,null,null,null,null,null,0,null,0,null,0,null,0,null,0,null,0,null,0,null,0,null,0,{"$f":"Formulas!D92","v":0},{"$f":"Formulas!H92","v":0},{"$f":"Formulas!L92","v":0},{"$f":"Formulas!P92","v":0},{"$f":"Formulas!T92","v":0},{"$f":"Formulas!X92","v":0},{"$f":"Formulas!AB92","v":0},{"$f":"Formulas!AF92","v":0},{"$f":"Formulas!AJ92","v":0}]
[null,null,null,null,null,null,null,null,null,null,null,null,0,null,0,null,0,null,0,null,0,null,0,null,0,null,0,null,0,{"$f":"Formulas!D93","v":0},{"$f":"Formulas!H93","v":0},{"$f":"Formulas!L93","v":0},{"$f":"Formulas!P93","v":0},{"$f":"Formulas!T93","v":0},{"$f":"Formulas!X93","v":0},{"$f":"Formulas!AB93","v":0},{"$f":"Formulas!AF93","v":0},{"$f":"Formulas!AJ93","v":0}]
[null,null,null,null,null,null,null,null,null,null,null,null,0,null,0,null,0,null,0,null,0,null,0,null,0,null,0,null,0,{"$f":"Formulas!D94","v":0},{"$f":"Formulas!H94","v":0},{"$f":"Formulas!L94","v":0},{"$f":"Formulas!P94","v":0},{"$f":"Formulas!T94","v":0},{"$f":"Formulas!X94","v":0},{"$f":"Formulas!AB94","v":0},{"$f":"Formulas!AF94","v":0},{"$f":"Formulas!AJ94","v":0}]
[null,null,null,null,null,null,null,null,null,null,null,null,0,null,0,null,0,null,0,null,0,null,0,null,0,null,0,null,0,{"$f":"Formulas!D95","v":0},{"$f":"Formulas!H95","v":0},{"$f":"Formulas!L95","v":0},{"$f":"Formulas!P95","v":0},{"$f":"Formulas!T95","v":0},{"$f":"Formulas!X95","v":0},{"$f":"Formulas!AB95","v":0},{"$f":"Formulas!AF95","v":0},{"$f":"Formulas!AJ95","v":0}]
[null,null,null,null,null,null,null,null,null,null,null,null,0,null,0,null,0,null,0,null,0,null,0,null,0,null,0,null,0,{"$f":"Formulas!D96","v":0},{"$f":"Formulas!H96","v":0},{"$f":"Formulas!L96","v":0},{"$f":"Formulas!P96","v":0},{"$f":"Formulas!T96","v":0},{"$f":"Formulas!X96","v":0},{"$f":"Formulas!AB96","v":0},{"$f":"Formulas!AF96","v":0},{"$f":"Formulas!AJ96","v":0}]
[null,null,null,null,null,null,null,null,null,null,null,null,0,null,0,null,0,null,0,null,0,null,0,null,0,null,0,null,0,{"$f":"Formulas!D97","v":0},{"$f":"Formulas!H97","v":0},{"$f":"Formulas!L97","v":0},{"$f":"Formulas!P97","v":0},{"$f":"Formulas!T97","v":0},{"$f":"Formulas!X97","v":0},{"$f":"Formulas!AB97","v":0},{"$f":"Formulas!AF97","v":0},{"$f":"Formulas!AJ97","v":0}]
[null,null,null,null,null,null,null,null,null,null,null,null,0,null,0,null,0,null,0,null,0,null,0,null,0,null,0,null,0,{"$f":"Formulas!D98","v":0},{"$f":"Formulas!H98","v":0},{"$f":"Formulas!L98","v":0},{"$f":"Formulas!P98","v":0},{"$f":"Formulas!T98","v":0},{"$f":"Formulas!X98","v":0},{"$f":"Formulas!AB98","v":0},{"$f":"Formulas!AF98","v":0},{"$f":"Formulas!AJ98","v":0}]
[null,null,null,null,null,null,null,null,null,null,null,null,0,null,0,null,0,null,0,null,0,null,0,null,0,null,0,null,0,{"$f":"Formulas!D99","v":0},{"$f":"Formulas!H99","v":0},{"$f":"Formulas!L99","v":0},{"$f":"Formulas!P99","v":0},{"$f":"Formulas!T99","v":0},{"$f":"Formulas!X99","v":0},{"$f":"Formulas!AB99","v":0},{"$f":"Formulas!AF99","v":0},{"$f":"Formulas!AJ99","v":0}]
[null,null,null,null,null,null,null,null,null,null,null,null,0,null,0,null,0,null,0,null,0,null,0,null,0,null,0,null,0,{"$f":"Formulas!D100","v":0},{"$f":"Formulas!H100","v":0},{"$f":"Formulas!L100","v":0},{"$f":"Formulas!P100","v":0},{"$f":"Formulas!T100","v":0},{"$f":"Formulas!X100","v":0},{"$f":"Formulas!AB100","v":0},{"$f":"Formulas!AF100","v":0},{"$f":"Formulas!AJ100","v":0}]
[null,null,null,null,null,null,null,null,null,null,null,null,0,null,0,null,0,null,0,null,0,null,0,null,0,null,0,null,0,{"$f":"Formulas!D101","v":0},{"$f":"Formulas!H101","v":0},{"$f":"Formulas!L101","v":0},{"$f":"Formulas!P101","v":0},{"$f":"Formulas!T101","v":0},{"$f":"Formulas!X101","v":0},{"$f":"Formulas!AB101","v":0},{"$f":"Formulas!AF101","v":0},{"$f":"Formulas!AJ101","v":0}]
[null,null,null,null,null,null,null,null,null,null,null,null,0,null,0,null,0,null,0,null,0,null,0,null,0,null,0,null,0,{"$f":"Formulas!D102","v":0},{"$f":"Formulas!H102","v":0},{"$f":"Formulas!L102","v":0},{"$f":"Formulas!P102","v":0},{"$f":"Formulas!T102","v":0},{"$f":"Formulas!X102","v":0},{"$f":"Formulas!AB102","v":0},{"$f":"Formulas!AF102","v":0},{"$f":"Formulas!AJ102","v":0}]
[null,null,null,null,null,null,null,null,null,null,null,null,0,null,0,null,0,null,0,null,0,null,0,null,0,null,0,null,0,{"$f":"Formulas!D103","v":0},{"$f":"Formulas!H103","v":0},{"$f":"Formulas!L103","v":0},{"$f":"Formulas!P103","v":0},{"$f":"Formulas!T103","v":0},{"$f":"Formulas!X103","v":0},{"$f":"Formulas!AB103","v":0},{"$f":"Formulas!AF103","v":0},{"$f":"Formulas!AJ103","v":0}]
[null,null,null,null,null,null,null,null,null,null,null,null,0,null,0,null,0,null,0,null,0,null,0,null,0,null,0,null,0,{"$f":"Formulas!D104","v":0},{"$f":"Formulas!H104","v":0},{"$f":"Formulas!L104","v":0},{"$f":"Formulas!P104","v":0},{"$f":"Formulas!T104","v":0},{"$f":"Formulas!X104","v":0},{"$f":"Formulas!AB104","v":0},{"$f":"Formulas!AF104","v":0},{"$f":"Formulas!AJ104","v":0}]
[null,null,null,null,null,null,null,null,null,null,null,null,0,null,0,null,0,null,0,null,0,null,0,null,0,null,0,null,0,{"$f":"Formulas!D105","v":0},{"$f":"Formulas!H105","v":0},{"$f":"Formulas!L105","v":0},{"$f":"Formulas!P105","v":0},{"$f":"Formulas!T105","v":0},{"$f":"Formulas!X105","v":0},{"$f":"Formulas!AB105","v":0},{"$f":"Formulas!AF105","v":0},{"$f":"Formulas!AJ105","v":0}]
[null,null,null,null,null,null,null,null,null,null,null,null,0,null,0,null,0,null,0,null,0,null,0,null,0,null,0,null,0,{"$f":"Formulas!D106","v":0},{"$f":"Formulas!H106","v":0},{"$f":"Formulas!L106","v":0},{"$f":"Formulas!P106","v":0},{"$f":"Formulas!T106","v":0},{"$f":"Formulas!X106","v":0},{"$f":"Formulas!AB106","v":0},{"$f":"Formulas!AF106","v":0},{"$f":"Formulas!AJ106","v":0}]
[null,null,null,null,null,null,null,null,null,null,null,null,0,null,0,null,0,null,0,null,0,null,0,null,0,null,0,null,0,{"$f":"Formulas!D107","v":0},{"$f":"Formulas!H107","v":0},{"$f":"Formulas!L107","v":0},{"$f":"Formulas!P107","v":0},{"$f":"Formulas!T107","v":0},{"$f":"Formulas!X107","v":0},{"$f":"Formulas!AB107","v":0},{"$f":"Formulas!AF107","v":0},{"$f":"Formulas!AJ107","v":0}]
[null,null,null,null,null,null,null,null,null,null,null,null,0,null,0,null,0,null,0,null,0,null,0,null,0,null,0,null,0,{"$f":"Formulas!D108","v":0},{"$f":"Formulas!H108","v":0},{"$f":"Formulas!L108","v":0},{"$f":"Formulas!P108","v":0},{"$f":"Formulas!T108","v":0},{"$f":"Formulas!X108","v":0},{"$f":"Formulas!AB108","v":0},{"$f":"Formulas!AF108","v":0},{"$f":"Formulas!AJ108","v":0}]
[null,null,null,null,null,null,null,null,null,null,null,null,0,null,0,null,0,null,0,null,0,null,0,null,0,null,0,null,0,{"$f":"Formulas!D109","v":0},{"$f":"Formulas!H109","v":0},{"$f":"Formulas!L109","v":0},{"$f":"Formulas!P109","v":0},{"$f":"Formulas!T109","v":0},{"$f":"Formulas!X109","v":0},{"$f":"Formulas!AB109","v":0},{"$f":"Formulas!AF109","v":0},{"$f":"Formulas!AJ109","v":0}]
[null,null,null,null,null,null,null,null,null,null,null,null,0,null,0,null,0,null,0,null,0,null,0,null,0,null,0,null,0,{"$f":"Formulas!D110","v":0},{"$f":"Formulas!H110","v":0},{"$f":"Formulas!L110","v":0},{"$f":"Formulas!P110","v":0},{"$f":"Formulas!T110","v":0},{"$f":"Formulas!X110","v":0},{"$f":"Formulas!AB110","v":0},{"$f":"Formulas!AF110","v":0},{"$f":"Formulas!AJ110","v":0}]
[null,null,null,null,null,null,null,null,null,null,null,null,0,null,0,null,0,null,0,null,0,null,0,null,0,null,0,null,0,{"$f":"Formulas!D111","v":0},{"$f":"Formulas!H111","v":0},{"$f":"Formulas!L111","v":0},{"$f":"Formulas!P111","v":0},{"$f":"Formulas!T111","v":0},{"$f":"Formulas!X111","v":0},{"$f":"Formulas!AB111","v":0},{"$f":"Formulas!AF111","v":0},{"$f":"Formulas!AJ111","v":0}]
[null,null,null,null,null,null,null,null,null,null,null,null,0,null,0,null,0,null,0,null,0,null,0,null,0,null,0,null,0,{"$f":"Formulas!D112","v":0},{"$f":"Formulas!H112","v":0},{"$f":"Formulas!L112","v":0},{"$f":"Formulas!P112","v":0},{"$f":"Formulas!T112","v":0},{"$f":"Formulas!X112","v":0},{"$f":"Formulas!AB112","v":0},{"$f":"Formulas!AF112","v":0},{"$f":"Formulas!AJ112","v":0}]
[null,null,null,null,null,null,null,null,null,null,null,null,0,null,0,null,0,null,0,null,0,null,0,null,0,null,0,null,0,{"$f":"Formulas!D113","v":0},{"$f":"Formulas!H113","v":0},{"$f":"Formulas!L113","v":0},{"$f":"Formulas!P113","v":0},{"$f":"Formulas!T113","v":0},{"$f":"Formulas!X113","v":0},{"$f":"Formulas!AB113","v":0},{"$f":"Formulas!AF113","v":0},{"$f":"Formulas!AJ113","v":0}]
[null,null,null,null,null,null,null,null,null,null,null,null,0,null,0,null,0,null,0,null,0,null,0,null,0,null,0,null,0,{"$f":"Formulas!D114","v":0},{"$f":"Formulas!H114","v":0},{"$f":"Formulas!L114","v":0},{"$f":"Formulas!P114","v":0},{"$f":"Formulas!T114","v":0},{"$f":"Formulas!X114","v":0},{"$f":"Formulas!AB114","v":0},{"$f":"Formulas!AF114","v":0},{"$f":"Formulas!AJ114","v":0}]
[null,null,null,null,null,null,null,null,null,null,null,null,0,null,0,null,0,null,0,null,0,null,0,null,0,null,0,null,0,{"$f":"Formulas!D115","v":0},{"$f":"Formulas!H115","v":0},{"$f":"Formulas!L115","v":0},{"$f":"Formulas!P115","v":0},{"$f":"Formulas!T115","v":0},{"$f":"Formulas!X115","v":0},{"$f":"Formulas!AB115","v":0},{"$f":"Formulas!AF115","v":0},{"$f":"Formulas!AJ115","v":0}]
[null,null,null,null,null,null,null,null,null,null,null,null,0,null,0,null,0,null,0,null,0,null,0,null,0,null,0,null,0,{"$f":"Formulas!D116","v":0},{"$f":"Formulas!H116","v":0},{"$f":"Formulas!L116","v":0},{"$f":"Formulas!P116","v":0},{"$f":"Formulas!T116","v":0},{"$f":"Formulas!X116","v":0},{"$f":"Formulas!AB116","v":0},{"$f":"Formulas!AF116","v":0},{"$f":"Formulas!AJ116","v":0}]
[null,null,null,null,null,null,null,null,null,null,null,null,0,null,0,null,0,null,0,null,0,null,0,null,0,null,0,null,0,{"$f":"Formulas!D117","v":0},{"$f":"Formulas!H117","v":0},{"$f":"Formulas!L117","v":0},{"$f":"Formulas!P117","v":0},{"$f":"Formulas!T117","v":0},{"$f":"Formulas!X117","v":0},{"$f":"Formulas!AB117","v":0},{"$f":"Formulas!AF117","v":0},{"$f":"Formulas!AJ117","v":0}]
[null,null,null,null,null,null,null,null,null,null,null,null,0,null,0,null,0,null,0,null,0,null,0,null,0,null,0,null,0,{"$f":"Formulas!D118","v":0},{"$f":"Formulas!H118","v":0},{"$f":"Formulas!L118","v":0},{"$f":"Formulas!P118","v":0},{"$f":"Formulas!T118","v":0},{"$f":"Formulas!X118","v":0},{"$f":"Formulas!AB118","v":0},{"$f":"Formulas!AF118","v":0},{"$f":"Formulas!AJ118","v":0}]
[null,null,null,null,null,null,null,null,null,null,null,null,0,null,0,null,0,null,0,null,0,null,0,null,0,null,0,null,0,{"$f":"Formulas!D119","v":0},{"$f":"Formulas!H119","v":0},{"$f":"Formulas!L119","v":0},{"$f":"Formulas!P119","v":0},{"$f":"Formulas!T119","v":0},{"$f":"Formulas!X119","v":0},{"$f":"Formulas!AB119","v":0},{"$f":"Formulas!AF119","v":0},{"$f":"Formulas!AJ119","v":0}]
[null,null,null,null,null,null,null,null,null,null,null,null,0,null,0,null,0,null,0,null,0,null,0,null,0,null,0,null,0,{"$f":"Formulas!D120","v":0},{"$f":"Formulas!H120","v":0},{"$f":"Formulas!L120","v":0},{"$f":"Formulas!P120","v":0},{"$f":"Formulas!T120","v":0},{"$f":"Formulas!X120","v":0},{"$f":"Formulas!AB120","v":0},{"$f":"Formulas!AF120","v":0},{"$f":"Formulas!AJ120","v":0}]
[null,null,null,null,null,null,null,null,null,null,null,null,0,null,0,null,0,null,0,null,0,null,0,null,0,null,0,null,0,{"$f":"Formulas!D121","v":0},{"$f":"Formulas!H121","v":0},{"$f":"Formulas!L121","v":0},{"$f":"Formulas!P121","v":0},{"$f":"Formulas!T121","v":0},{"$f":"Formulas!X121","v":0},{"$f":"Formulas!AB121","v":0},{"$f":"Formulas!AF121","v":0},{"$f":"Formulas!AJ121","v":0}]
[null,null,null,null,null,null,null,null,null,null,null,null,0,null,0,null,0,null,0,null,0,null,0,null,0,null,0,null,0,{"$f":"Formulas!D122","v":0},{"$f":"Formulas!H122","v":0},{"$f":"Formulas!L122","v":0},{"$f":"Formulas!P122","v":0},{"$f":"Formulas!T122","v":0},{"$f":"Formulas!X122","v":0},{"$f":"Formulas!AB122","v":0},{"$f":"Formulas!AF122","v":0},{"$f":"Formulas!AJ122","v":0}]
[null,null,null,null,null,null,null,null,null,null,null,null,0,null,0,null,0,null,0,null,0,null,0,null,0,null,0,null,0,{"$f":"Formulas!D123","v":0},{"$f":"Formulas!H123","v":0},{"$f":"Formulas!L123","v":0},{"$f":"Formulas!P123","v":0},{"$f":"Formulas!T123","v":0},{"$f":"Formulas!X123","v":0},{"$f":"Formulas!AB123","v":0},{"$f":"Formulas!AF123","v":0},{"$f":"Formulas!AJ123","v":0}]
[null,null,null,null,null,null,null,null,null,null,null,null,0,null,0,null,0,null,0,null,0,null,0,null,0,null,0,null,0,{"$f":"Formulas!D124","v":0},{"$f":"Formulas!H124","v":0},{"$f":"Formulas!L124","v":0},{"$f":"Formulas!P124","v":0},{"$f":"Formulas!T124","v":0},{"$f":"Formulas!X124","v":0},{"$f":"Formulas!AB124","v":0},{"$f":"Formulas!AF124","v":0},{"$f":"Formulas!AJ124","v":0}]
[null,null,null,null,null,null,null,null,null,null,null,null,0,null,0,null,0,null,0,null,0,null,0,null,0,null,0,null,0,{"$f":"Formulas!D125","v":0},{"$f":"Formulas!H125","v":0},{"$f":"Formulas!L125","v":0},{"$f":"Formulas!P125","v":0},{"$f":"Formulas!T125","v":0},{"$f":"Formulas!X125","v":0},{"$f":"Formulas!AB125","v":0},{"$f":"Formulas!AF125","v":0},{"$f":"Formulas!AJ125","v":0}]
[null,null,null,null,null,null,null,null,null,null,null,null,0,null,0,null,0,null,0,null,0,null,0,null,0,null,0,null,0,{"$f":"Formulas!D126","v":0},{"$f":"Formulas!H126","v":0},{"$f":"Formulas!L126","v":0},{"$f":"Formulas!P126","v":0},{"$f":"Formulas!T126","v":0},{"$f":"Formulas!X126","v":0},{"$f":"Formulas!AB126","v":0},{"$f":"Formulas!AF126","v":0},{"$f":"Formulas!AJ126","v":0}]
[null,null,null,null,null,null,null,null,null,null,null,null,0,null,0,null,0,null,0,null,0,null,0,null,0,null,0,null,0,{"$f":"Formulas!D127","v":0},{"$f":"Formulas!H127","v":0},{"$f":"Formulas!L127","v":0},{"$f":"Formulas!P127","v":0},{"$f":"Formulas!T127","v":0},{"$f":"Formulas!X127","v":0},{"$f":"Formulas!AB127","v":0},{"$f":"Formulas!AF127","v":0},{"$f":"Formulas!AJ127","v":0}]
[null,null,null,null,null,null,null,null,null,null,null,null,0,null,0,null,0,null,0,null,0,null,0,null,0,null,0,null,0,{"$f":"Formulas!D128","v":0},{"$f":"Formulas!H128","v":0},{"$f":"Formulas!L128","v":0},{"$f":"Formulas!P128","v":0},{"$f":"Formulas!T128","v":0},{"$f":"Formulas!X128","v":0},{"$f":"Formulas!AB128","v":0},{"$f":"Formulas!AF128","v":0},{"$f":"Formulas!AJ128","v":0}]
[null,null,null,null,null,null,null,null,null,null,null,null,0,null,0,null,0,null,0,null,0,null,0,null,0,null,0,null,0,{"$f":"Formulas!D129","v":0},{"$f":"Formulas!H129","v":0},{"$f":"Formulas!L129","v":0},{"$f":"Formulas!P129","v":0},{"$f":"Formulas!T129","v":0},{"$f":"Formulas!X129","v":0},{"$f":"Formulas!AB129","v":0},{"$f":"Formulas!AF129","v":0},{"$f":"Formulas!AJ129","v":0}]
[null,null,null,null,null,null,null,null,null,null,null,null,0,null,0,null,0,null,0,null,0,null,0,null,0,null,0,null,0,{"$f":"Formulas!D130","v":0},{"$f":"Formulas!H130","v":0},{"$f":"Formulas!L130","v":0},{"$f":"Formulas!P130","v":0},{"$f":"Formulas!T130","v":0},{"$f":"Formulas!X130","v":0},{"$f":"Formulas!AB130","v":0},{"$f":"Formulas!AF130","v":0},{"$f":"Formulas!AJ130","v":0}]
[null,null,null,null,null,null,null,null,null,null,null,null,0,null,0,null,0,null,0,null,0,null,{"$f":"IF(AI131=\"Not eligible\", \"Not eligible\", AI131)","v":0},null,0,null,0,null,0,{"$f":"Formulas!D131","v":0},{"$f":"Formulas!H131","v":0},{"$f":"Formulas!L131","v":0},{"$f":"Formulas!P131","v":0},{"$f":"Formulas!T131","v":0},{"$f":"Formulas!X131","v":0},{"$f":"Formulas!AB131","v":0},{"$f":"Formulas!AF131","v":0},{"$f":"Formulas!AJ131","v":0}]
[null,null,null,null,null,null,null,null,null,null,null,null,0,null,0,null,0,null,{"$f":"IF(AG132=\"Not eligible\", \"Not eligible\", AG132)","v":0},null,{"$f":"IF(AH132=\"Not eligible\", \"Not eligible\", AH132)","v":0},null,0,null,{"$f":"IF(AJ132=\"Not eligible\", \"Not eligible\", AJ132)","v":0},null,{"$f":"IF(AK132=\"Not eligible\", \"Not eligible\", AK132)","v":0},null,{"$f":"IF(AL132=\"Not eligible\", \"Not eligible\",AL132)","v":0},{"$f":"Formulas!D132","v":0},{"$f":"Formulas!H132","v":0},{"$f":"Formulas!L132","v":0},{"$f":"Formulas!P132","v":0},{"$f":"Formulas!T132","v":0},{"$f":"Formulas!X132","v":0},{"$f":"Formulas!AB132","v":0},{"$f":"Formulas!AF132","v":0},{"$f":"Formulas!AJ132","v":0}]
[null,null,null,null,null,null,null,null,null,null,null,null,{"$f":"IF(AD133=\"Not eligible\", \"Not eligible\", AD133)","v":0},null,0,null,0,null,0,null,0,null,0,null,0,null,0,null,0,{"$f":"Formulas!D133","v":0},{"$f":"Formulas!H133","v":0},{"$f":"Formulas!L133","v":0},{"$f":"Formulas!P133","v":0},{"$f":"Formulas!T133","v":0},{"$f":"Formulas!X133","v":0},{"$f":"Formulas!AB133","v":0},{"$f":"Formulas!AF133","v":0},{"$f":"Formulas!AJ133","v":0}]
[null,null,null,null,null,null,null,null,null,null,null,null,0,null,0,null,0,null,0,null,0,null,0,null,0,null,0,null,0,{"$f":"Formulas!D134","v":0},{"$f":"Formulas!H134","v":0},{"$f":"Formulas!L134","v":0},{"$f":"Formulas!P134","v":0},{"$f":"Formulas!T134","v":0},{"$f":"Formulas!X134","v":0},{"$f":"Formulas!AB134","v":0},{"$f":"Formulas!AF134","v":0},{"$f":"Formulas!AJ134","v":0}]
[null,null,null,null,null,null,null,null,null,null,null,null,0,null,0,null,{"$f":"IF(AF135=\"Not eligible\", \"Not eligible\", AF135)","v":0},null,0,null,0,null,0,null,0,null,0,null,0,{"$f":"Formulas!D135","v":0},{"$f":"Formulas!H135","v":0},{"$f":"Formulas!L135","v":0},{"$f":"Formulas!P135","v":0},{"$f":"Formulas!T135","v":0},{"$f":"Formulas!X135","v":0},{"$f":"Formulas!AB135","v":0},{"$f":"Formulas!AF135","v":0},{"$f":"Formulas!AJ135","v":0}]
[null,null,null,null,null,null,null,null,null,null,null,null,0,null,0,null,0,null,0,null,0,null,0,null,0,null,0,null,0,{"$f":"Formulas!D136","v":0},{"$f":"Formulas!H136","v":0},{"$f":"Formulas!L136","v":0},{"$f":"Formulas!P136","v":0},{"$f":"Formulas!T136","v":0},{"$f":"Formulas!X136","v":0},{"$f":"Formulas!AB136","v":0},{"$f":"Formulas!AF136","v":0},{"$f":"Formulas!AJ136","v":0}]
[null,null,null,null,null,null,null,null,null,null,null,null,0,null,0,null,0,null,0,null,0,null,0,null,0,null,0,null,0,{"$f":"Formulas!D137","v":0},{"$f":"Formulas!H137","v":0},{"$f":"Formulas!L137","v":0},{"$f":"Formulas!P137","v":0},{"$f":"Formulas!T137","v":0},{"$f":"Formulas!X137","v":0},{"$f":"Formulas!AB137","v":0},{"$f":"Formulas!AF137","v":0},{"$f":"Formulas!AJ137","v":0}]
[null,null,null,null,null,null,null,null,null,null,null,null,0,null,{"$f":"IF(AE138=\"Not eligible\", \"Not eligible\", AE138)","v":0},null,0,null,0,null,0,null,0,null,0,null,0,null,0,{"$f":"Formulas!D138","v":0},{"$f":"Formulas!H138","v":0},{"$f":"Formulas!L138","v":0},{"$f":"Formulas!P138","v":0},{"$f":"Formulas!T138","v":0},{"$f":"Formulas!X138","v":0},{"$f":"Formulas!AB138","v":0},{"$f":"Formulas!AF138","v":0},{"$f":"Formulas!AJ138","v":0}]
[null,null,null,null,null,null,null,null,null,null,null,null,0,null,0,null,0,null,0,null,0,null,0,null,0,null,0,null,0,{"$f":"Formulas!D139","v":0},{"$f":"Formulas!H139","v":0},{"$f":"Formulas!L139","v":0},{"$f":"Formulas!P139","v":0},{"$f":"Formulas!T139","v":0},{"$f":"Formulas!X139","v":0},{"$f":"Formulas!AB139","v":0},{"$f":"Formulas!AF139","v":0},{"$f":"Formulas!AJ139","v":0}]
[null,null,null,null,null,null,null,null,null,null,null,null,0,null,0,null,0,null,0,null,0,null,0,null,0,null,0,null,0,{"$f":"Formulas!D140","v":0},{"$f":"Formulas!H140","v":0},{"$f":"Formulas!L140","v":0},{"$f":"Formulas!P140","v":0},{"$f":"Formulas!T140","v":0},{"$f":"Formulas!X140","v":0},{"$f":"Formulas!AB140","v":0},{"$f":"Formulas!AF140","v":0},{"$f":"Formulas!AJ140","v":0}]
[null,null,null,null,null,null,null,null,null,null,null,null,0,null,0,null,0,null,0,null,0,null,0,null,0,null,0,null,0,{"$f":"Formulas!D141","v":0},{"$f":"Formulas!H141","v":0},{"$f":"Formulas!L141","v":0},{"$f":"Formulas!P141","v":0},{"$f":"Formulas!T141","v":0},{"$f":"Formulas!X141","v":0},{"$f":"Formulas!AB141","v":0},{"$f":"Formulas!AF141","v":0},{"$f":"Formulas!AJ141","v":0}]
[null,null,null,null,null,null,null,null,null,null,null,null,0,null,0,null,0,null,0,null,0,null,0,null,0,null,0,null,0,{"$f":"Formulas!D142","v":0},{"$f":"Formulas!H142","v":0},{"$f":"Formulas!L142","v":0},{"$f":"Formulas!P142","v":0},{"$f":"Formulas!T142","v":0},{"$f":"Formulas!X142","v":0},{"$f":"Formulas!AB142","v":0},{"$f":"Formulas!AF142","v":0},{"$f":"Formulas!AJ142","v":0}]
[null,null,null,null,null,null,null,null,null,null,null,null,0,null,0,null,0,null,0,null,0,null,0,null,0,null,0,null,0,{"$f":"Formulas!D143","v":0},{"$f":"Formulas!H143","v":0},{"$f":"Formulas!L143","v":0},{"$f":"Formulas!P143","v":0},{"$f":"Formulas!T143","v":0},{"$f":"Formulas!X143","v":0},{"$f":"Formulas!AB143","v":0},{"$f":"Formulas!AF143","v":0},{"$f":"Formulas!AJ143","v":0}]
[null,null,null,null,null,null,null,null,null,null,null,null,0,null,0,null,0,null,0,null,0,null,0,null,0,null,0,null,0,{"$f":"Formulas!D144","v":0},{"$f":"Formulas!H144","v":0},{"$f":"Formulas!L144","v":0},{"$f":"Formulas!P144","v":0},{"$f":"Formulas!T144","v":0},{"$f":"Formulas!X144","v":0},{"$f":"Formulas!AB144","v":0},{"$f":"Formulas!AF144","v":0},{"$f":"Formulas!AJ144","v":0}]
[null,null,null,null,null,null,null,null,null,null,null,null,0,null,0,null,0,null,0,null,0,null,0,null,0,null,0,null,0,{"$f":"Formulas!D145","v":0},{"$f":"Formulas!H145","v":0},{"$f":"Formulas!L145","v":0},{"$f":"Formulas!P145","v":0},{"$f":"Formulas!T145","v":0},{"$f":"Formulas!X145","v":0},{"$f":"Formulas!AB145","v":0},{"$f":"Formulas!AF145","v":0},{"$f":"Formulas!AJ145","v":0}]
[null,null,null,null,null,null,null,null,null,null,null,null,0,null,0,null,0,null,0,null,0,null,0,null,0,null,0,null,0,{"$f":"Formulas!D146","v":0},{"$f":"Formulas!H146","v":0},{"$f":"Formulas!L146","v":0},{"$f":"Formulas!P146","v":0},{"$f":"Formulas!T146","v":0},{"$f":"Formulas!X146","v":0},{"$f":"Formulas!AB146","v":0},{"$f":"Formulas!AF146","v":0},{"$f":"Formulas!AJ146","v":0}]
[null,null,null,null,null,null,null,null,null,null,null,null,0,null,0,null,0,null,0,null,0,null,0,null,0,null,0,null,0,{"$f":"Formulas!D147","v":0},{"$f":"Formulas!H147","v":0},{"$f":"Formulas!L147","v":0},{"$f":"Formulas!P147","v":0},{"$f":"Formulas!T147","v":0},{"$f":"Formulas!X147","v":0},{"$f":"Formulas!AB147","v":0},{"$f":"Formulas!AF147","v":0},{"$f":"Formulas!AJ147","v":0}]
[null,null,null,null,null,null,null,null,null,null,null,null,0,null,0,null,0,null,0,null,0,null,0,null,0,null,0,null,0,{"$f":"Formulas!D148","v":0},{"$f":"Formulas!H148","v":0},{"$f":"Formulas!L148","v":0},{"$f":"Formulas!P148","v":0},{"$f":"Formulas!T148","v":0},{"$f":"Formulas!X148","v":0},{"$f":"Formulas!AB148","v":0},{"$f":"Formulas!AF148","v":0},{"$f":"Formulas!AJ148","v":0}]
[null,null,null,null,null,null,null,null,null,null,null,null,0,null,0,null,0,null,0,null,0,null,0,null,0,null,0,null,0,{"$f":"Formulas!D149","v":0},{"$f":"Formulas!H149","v":0},{"$f":"Formulas!L149","v":0},{"$f":"Formulas!P149","v":0},{"$f":"Formulas!T149","v":0},{"$f":"Formulas!X149","v":0},{"$f":"Formulas!AB149","v":0},{"$f":"Formulas!AF149","v":0},{"$f":"Formulas!AJ149","v":0}]
[null,null,null,null,null,null,null,null,null,null,null,null,0,null,0,null,0,null,0,null,0,null,0,null,0,null,0,null,0,{"$f":"Formulas!D150","v":0},{"$f":"Formulas!H150","v":0},{"$f":"Formulas!L150","v":0},{"$f":"Formulas!P150","v":0},{"$f":"Formulas!T150","v":0},{"$f":"Formulas!X150","v":0},{"$f":"Formulas!AB150","v":0},{"$f":"Formulas!AF150","v":0},{"$f":"Formulas!AJ150","v":0}]
[null,null,null,null,null,null,null,null,null,null,null,null,0,null,0,null,0,null,0,null,0,null,0,null,0,null,0,null,0,{"$f":"Formulas!D151","v":0},{"$f":"Formulas!H151","v":0},{"$f":"Formulas!L151","v":0},{"$f":"Formulas!P151","v":0},{"$f":"Formulas!T151","v":0},{"$f":"Formulas!X151","v":0},{"$f":"Formulas!AB151","v":0},{"$f":"Formulas!AF151","v":0},{"$f":"Formulas!AJ151","v":0}]
[null,null,null,null,null,null,null,null,null,null,null,null,0,null,0,null,0,null,0,null,0,null,0,null,0,null,0,null,0,{"$f":"Formulas!D152","v":0},{"$f":"Formulas!H152","v":0},{"$f":"Formulas!L152","v":0},{"$f":"Formulas!P152","v":0},{"$f":"Formulas!T152","v":0},{"$f":"Formulas!X152","v":0},{"$f":"Formulas!AB152","v":0},{"$f":"Formulas!AF152","v":0},{"$f":"Formulas!AJ152","v":0}]
[null,null,null,null,null,null,null,null,null,null,null,null,0,null,0,null,0,null,0,null,0,null,0,null,0,null,0,null,0,{"$f":"Formulas!D153","v":0},{"$f":"Formulas!H153","v":0},{"$f":"Formulas!L153","v":0},{"$f":"Formulas!P153","v":0},{"$f":"Formulas!T153","v":0},{"$f":"Formulas!X153","v":0},{"$f":"Formulas!AB153","v":0},{"$f":"Formulas!AF153","v":0},{"$f":"Formulas!AJ153","v":0}]
[null,null,null,null,null,null,null,null,null,null,null,null,0,null,0,null,0,null,0,null,0,null,0,null,0,null,0,null,0,{"$f":"Formulas!D154","v":0},{"$f":"Formulas!H154","v":0},{"$f":"Formulas!L154","v":0},{"$f":"Formulas!P154","v":0},{"$f":"Formulas!T154","v":0},{"$f":"Formulas!X154","v":0},{"$f":"Formulas!AB154","v":0},{"$f":"Formulas!AF154","v":0},{"$f":"Formulas!AJ154","v":0}]
[null,null,null,null,null,null,null,null,null,null,null,null,0,null,0,null,0,null,0,null,0,null,0,null,0,null,0,null,0,{"$f":"Formulas!D155","v":0},{"$f":"Formulas!H155","v":0},{"$f":"Formulas!L155","v":0},{"$f":"Formulas!P155","v":0},{"$f":"Formulas!T155","v":0},{"$f":"Formulas!X155","v":0},{"$f":"Formulas!AB155","v":0},{"$f":"Formulas!AF155","v":0},{"$f":"Formulas!AJ155","v":0}]
[null,null,null,null,null,null,null,null,null,null,null,null,0,null,0,null,0,null,0,null,0,null,0,null,0,null,0,null,0,{"$f":"Formulas!D156","v":0},{"$f":"Formulas!H156","v":0},{"$f":"Formulas!L156","v":0},{"$f":"Formulas!P156","v":0},{"$f":"Formulas!T156","v":0},{"$f":"Formulas!X156","v":0},{"$f":"Formulas!AB156","v":0},{"$f":"Formulas!AF156","v":0},{"$f":"Formulas!AJ156","v":0}]
[null,null,null,null,null,null,null,null,null,null,null,null,0,null,0,null,0,null,0,null,0,null,0,null,0,null,0,null,0,{"$f":"Formulas!D157","v":0},{"$f":"Formulas!H157","v":0},{"$f":"Formulas!L157","v":0},{"$f":"Formulas!P157","v":0},{"$f":"Formulas!T157","v":0},{"$f":"Formulas!X157","v":0},{"$f":"Formulas!AB157","v":0},{"$f":"Formulas!AF157","v":0},{"$f":"Formulas!AJ157","v":0}]
[null,null,null,null,null,null,null,null,null,null,null,null,0,null,0,null,0,null,0,null,0,null,0,null,0,null,0,null,0,{"$f":"Formulas!D158","v":0},{"$f":"Formulas!H158","v":0},{"$f":"Formulas!L158","v":0},{"$f":"Formulas!P158","v":0},{"$f":"Formulas!T158","v":0},{"$f":"Formulas!X158","v":0},{"$f":"Formulas!AB158","v":0},{"$f":"Formulas!AF158","v":0},{"$f":"Formulas!AJ158","v":0}]
[null,null,null,null,null,null,null,null,null,null,null,null,0,null,0,null,0,null,0,null,0,null,0,null,0,null,0,null,0,{"$f":"Formulas!D159","v":0},{"$f":"Formulas!H159","v":0},{"$f":"Formulas!L159","v":0},{"$f":"Formulas!P159","v":0},{"$f":"Formulas!T159","v":0},{"$f":"Formulas!X159","v":0},{"$f":"Formulas!AB159","v":0},{"$f":"Formulas!AF159","v":0},{"$f":"Formulas!AJ159","v":0}]
[null,null,null,null,null,null,null,null,null,null,null,null,0,null,0,null,0,null,0,null,0,null,0,null,0,null,0,null,0,{"$f":"Formulas!D160","v":0},{"$f":"Formulas!H160","v":0},{"$f":"Formulas!L160","v":0},{"$f":"Formulas!P160","v":0},{"$f":"Formulas!T160","v":0},{"$f":"Formulas!X160","v":0},{"$f":"Formulas!AB160","v":0},{"$f":"Formulas!AF160","v":0},{"$f":"Formulas!AJ160","v":0}]
[null,null,null,null,null,null,null,null,null,null,null,null,0,null,0,null,0,null,0,null,0,null,0,null,0,null,0,null,0,{"$f":"Formulas!D161","v":0},{"$f":"Formulas!H161","v":0},{"$f":"Formulas!L161","v":0},{"$f":"Formulas!P161","v":0},{"$f":"Formulas!T161","v":0},{"$f":"Formulas!X161","v":0},{"$f":"Formulas!AB161","v":0},{"$f":"Formulas!AF161","v":0},{"$f":"Formulas!AJ161","v":0}]
[null,null,null,null,null,null,null,null,null,null,null,null,0,null,0,null,0,null,0,null,0,null,0,null,0,null,0,null,0,{"$f":"Formulas!D162","v":0},{"$f":"Formulas!H162","v":0},{"$f":"Formulas!L162","v":0},{"$f":"Formulas!P162","v":0},{"$f":"Formulas!T162","v":0},{"$f":"Formulas!X162","v":0},{"$f":"Formulas!AB162","v":0},{"$f":"Formulas!AF162","v":0},{"$f":"Formulas!AJ162","v":0}]
[null,null,null,null,null,null,null,null,null,null,null,null,0,null,0,null,0,null,0,null,0,null,0,null,0,null,0,null,0,{"$f":"Formulas!D163","v":0},{"$f":"Formulas!H163","v":0},{"$f":"Formulas!L163","v":0},{"$f":"Formulas!P163","v":0},{"$f":"Formulas!T163","v":0},{"$f":"Formulas!X163","v":0},{"$f":"Formulas!AB163","v":0},{"$f":"Formulas!AF163","v":0},{"$f":"Formulas!AJ163","v":0}]
[null,null,null,null,null,null,null,null,null,null,null,null,0,null,0,null,0,null,0,null,0,null,0,null,0,null,0,null,0,{"$f":"Formulas!D164","v":0},{"$f":"Formulas!H164","v":0},{"$f":"Formulas!L164","v":0},{"$f":"Formulas!P164","v":0},{"$f":"Formulas!T164","v":0},{"$f":"Formulas!X164","v":0},{"$f":"Formulas!AB164","v":0},{"$f":"Formulas!AF164","v":0},{"$f":"Formulas!AJ164","v":0}]
[null,null,null,null,null,null,null,null,null,null,null,null,0,null,0,null,0,null,0,null,0,null,0,null,0,null,0,null,0,{"$f":"Formulas!D165","v":0},{"$f":"Formulas!H165","v":0},{"$f":"Formulas!L165","v":0},{"$f":"Formulas!P165","v":0},{"$f":"Formulas!T165","v":0},{"$f":"Formulas!X165","v":0},{"$f":"Formulas!AB165","v":0},{"$f":"Formulas!AF165","v":0},{"$f":"Formulas!AJ165","v":0}]
[null,null,null,null,null,null,null,null,null,null,null,null,0,null,0,null,0,null,0,null,0,null,0,null,0,null,0,null,0,{"$f":"Formulas!D166","v":0},{"$f":"Formulas!H166","v":0},{"$f":"Formulas!L166","v":0},{"$f":"Formulas!P166","v":0},{"$f":"Formulas!T166","v":0},{"$f":"Formulas!X166","v":0},{"$f":"Formulas!AB166","v":0},{"$f":"Formulas!AF166","v":0},{"$f":"Formulas!AJ166","v":0}]
[null,null,null,null,null,null,null,null,null,null,null,null,0,null,0,null,0,null,0,null,0,null,0,null,0,null,0,null,0,{"$f":"Formulas!D167","v":0},{"$f":"Formulas!H167","v":0},{"$f":"Formulas!L167","v":0},{"$f":"Formulas!P167","v":0},{"$f":"Formulas!T167","v":0},{"$f":"Formulas!X167","v":0},{"$f":"Formulas!AB167","v":0},{"$f":"Formulas!AF167","v":0},{"$f":"Formulas!AJ167","v":0}]
[null,null,null,null,null,null,null,null,null,null,null,null,0,null,0,null,0,null,0,null,0,null,0,null,0,null,0,null,0,{"$f":"Formulas!D168","v":0},{"$f":"Formulas!H168","v":0},{"$f":"Formulas!L168","v":0},{"$f":"Formulas!P168","v":0},{"$f":"Formulas!T168","v":0},{"$f":"Formulas!X168","v":0},{"$f":"Formulas!AB168","v":0},{"$f":"Formulas!AF168","v":0},{"$f":"Formulas!AJ168","v":0}]
[null,null,null,null,null,null,null,null,null,null,null,null,0,null,0,null,0,null,0,null,0,null,0,null,0,null,0,null,0,{"$f":"Formulas!D169","v":0},{"$f":"Formulas!H169","v":0},{"$f":"Formulas!L169","v":0},{"$f":"Formulas!P169","v":0},{"$f":"Formulas!T169","v":0},{"$f":"Formulas!X169","v":0},{"$f":"Formulas!AB169","v":0},{"$f":"Formulas!AF169","v":0},{"$f":"Formulas!AJ169","v":0}]
[null,null,null,null,null,null,null,null,null,null,null,null,0,null,0,null,0,null,0,null,0,null,0,null,0,null,0,null,0,{"$f":"Formulas!D170","v":0},{"$f":"Formulas!H170","v":0},{"$f":"Formulas!L170","v":0},{"$f":"Formulas!P170","v":0},{"$f":"Formulas!T170","v":0},{"$f":"Formulas!X170","v":0},{"$f":"Formulas!AB170","v":0},{"$f":"Formulas!AF170","v":0},{"$f":"Formulas!AJ170","v":0}]
[null,null,null,null,null,null,null,null,null,null,null,null,0,null,0,null,0,null,0,null,0,null,0,null,0,null,0,null,0,{"$f":"Formulas!D171","v":0},{"$f":"Formulas!H171","v":0},{"$f":"Formulas!L171","v":0},{"$f":"Formulas!P171","v":0},{"$f":"Formulas!T171","v":0},{"$f":"Formulas!X171","v":0},{"$f":"Formulas!AB171","v":0},{"$f":"Formulas!AF171","v":0},{"$f":"Formulas!AJ171","v":0}]
[null,null,null,null,null,null,null,null,null,null,null,null,0,null,0,null,0,null,0,null,0,null,0,null,0,null,0,null,0,{"$f":"Formulas!D172","v":0},{"$f":"Formulas!H172","v":0},{"$f":"Formulas!L172","v":0},{"$f":"Formulas!P172","v":0},{"$f":"Formulas!T172","v":0},{"$f":"Formulas!X172","v":0},{"$f":"Formulas!AB172","v":0},{"$f":"Formulas!AF172","v":0},{"$f":"Formulas!AJ172","v":0}]
[null,null,null,null,null,null,null,null,null,null,null,null,0,null,0,null,0,null,0,null,0,null,0,null,0,null,0,null,0,{"$f":"Formulas!D173","v":0},{"$f":"Formulas!H173","v":0},{"$f":"Formulas!L173","v":0},{"$f":"Formulas!P173","v":0},{"$f":"Formulas!T173","v":0},{"$f":"Formulas!X173","v":0},{"$f":"Formulas!AB173","v":0},{"$f":"Formulas!AF173","v":0},{"$f":"Formulas!AJ173","v":0}]
[null,null,null,null,null,null,null,null,null,null,null,null,0,null,0,null,0,null,0,null,0,null,0,null,0,null,0,null,0,{"$f":"Formulas!D174","v":0},{"$f":"Formulas!H174","v":0},{"$f":"Formulas!L174","v":0},{"$f":"Formulas!P174","v":0},{"$f":"Formulas!T174","v":0},{"$f":"Formulas!X174","v":0},{"$f":"Formulas!AB174","v":0},{"$f":"Formulas!AF174","v":0},{"$f":"Formulas!AJ174","v":0}]
[null,null,null,null,null,null,null,null,null,null,null,null,0,null,0,null,0,null,0,null,0,null,0,null,0,null,0,null,0,{"$f":"Formulas!D175","v":0},{"$f":"Formulas!H175","v":0},{"$f":"Formulas!L175","v":0},{"$f":"Formulas!P175","v":0},{"$f":"Formulas!T175","v":0},{"$f":"Formulas!X175","v":0},{"$f":"Formulas!AB175","v":0},{"$f":"Formulas!AF175","v":0},{"$f":"Formulas!AJ175","v":0}]
[null,null,null,null,null,null,null,null,null,null,null,null,0,null,0,null,0,null,0,null,0,null,0,null,0,null,0,null,0,{"$f":"Formulas!D176","v":0},{"$f":"Formulas!H176","v":0},{"$f":"Formulas!L176","v":0},{"$f":"Formulas!P176","v":0},{"$f":"Formulas!T176","v":0},{"$f":"Formulas!X176","v":0},{"$f":"Formulas!AB176","v":0},{"$f":"Formulas!AF176","v":0},{"$f":"Formulas!AJ176","v":0}]
[null,null,null,null,null,null,null,null,null,null,null,null,0,null,0,null,0,null,0,null,0,null,0,null,0,null,0,null,0,{"$f":"Formulas!D177","v":0},{"$f":"Formulas!H177","v":0},{"$f":"Formulas!L177","v":0},{"$f":"Formulas!P177","v":0},{"$f":"Formulas!T177","v":0},{"$f":"Formulas!X177","v":0},{"$f":"Formulas!AB177","v":0},{"$f":"Formulas!AF177","v":0},{"$f":"Formulas!AJ177","v":0}]
[null,null,null,null,null,null,null,null,null,null,null,null,0,null,0,null,0,null,0,null,0,null,0,null,0,null,0,null,0,{"$f":"Formulas!D178","v":0},{"$f":"Formulas!H178","v":0},{"$f":"Formulas!L178","v":0},{"$f":"Formulas!P178","v":0},{"$f":"Formulas!T178","v":0},{"$f":"Formulas!X178","v":0},{"$f":"Formulas!AB178","v":0},{"$f":"Formulas!AF178","v":0},{"$f":"Formulas!AJ178","v":0}]
[null,null,null,null,null,null,null,null,null,null,null,null,0,null,0,null,0,null,0,null,0,null,0,null,0,null,0,null,0,{"$f":"Formulas!D179","v":0},{"$f":"Formulas!H179","v":0},{"$f":"Formulas!L179","v":0},{"$f":"Formulas!P179","v":0},{"$f":"Formulas!T179","v":0},{"$f":"Formulas!X179","v":0},{"$f":"Formulas!AB179","v":0},{"$f":"Formulas!AF179","v":0},{"$f":"Formulas!AJ179","v":0}]
[null,null,null,null,null,null,null,null,null,null,null,null,0,null,0,null,0,null,0,null,0,null,0,null,0,null,0,null,0,{"$f":"Formulas!D180","v":0},{"$f":"Formulas!H180","v":0},{"$f":"Formulas!L180","v":0},{"$f":"Formulas!P180","v":0},{"$f":"Formulas!T180","v":0},{"$f":"Formulas!X180","v":0},{"$f":"Formulas!AB180","v":0},{"$f":"Formulas!AF180","v":0},{"$f":"Formulas!AJ180","v":0}]
[null,null,null,null,null,null,null,null,null,null,null,null,0,null,0,null,0,null,0,null,0,null,0,null,0,null,0,null,0,{"$f":"Formulas!D181","v":0},{"$f":"Formulas!H181","v":0},{"$f":"Formulas!L181","v":0},{"$f":"Formulas!P181","v":0},{"$f":"Formulas!T181","v":0},{"$f":"Formulas!X181","v":0},{"$f":"Formulas!AB181","v":0},{"$f":"Formulas!AF181","v":0},{"$f":"Formulas!AJ181","v":0}]
[null,null,null,null,null,null,null,null,null,null,null,null,0,null,0,null,0,null,0,null,0,null,0,null,0,null,0,null,0,{"$f":"Formulas!D182","v":0},{"$f":"Formulas!H182","v":0},{"$f":"Formulas!L182","v":0},{"$f":"Formulas!P182","v":0},{"$f":"Formulas!T182","v":0},{"$f":"Formulas!X182","v":0},{"$f":"Formulas!AB182","v":0},{"$f":"Formulas!AF182","v":0},{"$f":"Formulas!AJ182","v":0}]
[null,null,null,null,null,null,null,null,null,null,null,null,0,null,0,null,0,null,0,null,0,null,0,null,0,null,0,null,0,{"$f":"Formulas!D183","v":0},{"$f":"Formulas!H183","v":0},{"$f":"Formulas!L183","v":0},{"$f":"Formulas!P183","v":0},{"$f":"Formulas!T183","v":0},{"$f":"Formulas!X183","v":0},{"$f":"Formulas!AB183","v":0},{"$f":"Formulas!AF183","v":0},{"$f":"Formulas!AJ183","v":0}]
[null,null,null,null,null,null,null,null,null,null,null,null,0,null,0,null,0,null,0,null,0,null,0,null,0,null,0,null,0,{"$f":"Formulas!D184","v":0},{"$f":"Formulas!H184","v":0},{"$f":"Formulas!L184","v":0},{"$f":"Formulas!P184","v":0},{"$f":"Formulas!T184","v":0},{"$f":"Formulas!X184","v":0},{"$f":"Formulas!AB184","v":0},{"$f":"Formulas!AF184","v":0},{"$f":"Formulas!AJ184","v":0}]
[null,null,null,null,null,null,null,null,null,null,null,null,0,null,0,null,0,null,0,null,0,null,0,null,0,null,0,null,0,{"$f":"Formulas!D185","v":0},{"$f":"Formulas!H185","v":0},{"$f":"Formulas!L185","v":0},{"$f":"Formulas!P185","v":0},{"$f":"Formulas!T185","v":0},{"$f":"Formulas!X185","v":0},{"$f":"Formulas!AB185","v":0},{"$f":"Formulas!AF185","v":0},{"$f":"Formulas!AJ185","v":0}]
[null,null,null,null,null,null,null,null,null,null,null,null,0,null,0,null,0,null,0,null,0,null,0,null,0,null,0,null,0,{"$f":"Formulas!D186","v":0},{"$f":"Formulas!H186","v":0},{"$f":"Formulas!L186","v":0},{"$f":"Formulas!P186","v":0},{"$f":"Formulas!T186","v":0},{"$f":"Formulas!X186","v":0},{"$f":"Formulas!AB186","v":0},{"$f":"Formulas!AF186","v":0},{"$f":"Formulas!AJ186","v":0}]
[null,null,null,null,null,null,null,null,null,null,null,null,0,null,0,null,0,null,0,null,0,null,0,null,0,null,0,null,0,{"$f":"Formulas!D187","v":0},{"$f":"Formulas!H187","v":0},{"$f":"Formulas!L187","v":0},{"$f":"Formulas!P187","v":0},{"$f":"Formulas!T187","v":0},{"$f":"Formulas!X187","v":0},{"$f":"Formulas!AB187","v":0},{"$f":"Formulas!AF187","v":0},{"$f":"Formulas!AJ187","v":0}]
[null,null,null,null,null,null,null,null,null,null,null,null,0,null,0,null,0,null,0,null,0,null,0,null,0,null,0,null,0,{"$f":"Formulas!D188","v":0},{"$f":"Formulas!H188","v":0},{"$f":"Formulas!L188","v":0},{"$f":"Formulas!P188","v":0},{"$f":"Formulas!T188","v":0},{"$f":"Formulas!X188","v":0},{"$f":"Formulas!AB188","v":0},{"$f":"Formulas!AF188","v":0},{"$f":"Formulas!AJ188","v":0}]
[null,null,null,null,null,null,null,null,null,null,null,null,0,null,0,null,0,null,0,null,0,null,0,null,0,null,0,null,0,{"$f":"Formulas!D189","v":0},{"$f":"Formulas!H189","v":0},{"$f":"Formulas!L189","v":0},{"$f":"Formulas!P189","v":0},{"$f":"Formulas!T189","v":0},{"$f":"Formulas!X189","v":0},{"$f":"Formulas!AB189","v":0},{"$f":"Formulas!AF189","v":0},{"$f":"Formulas!AJ189","v":0}]
[null,null,null,null,null,null,null,null,null,null,null,null,0,null,0,null,0,null,0,null,0,null,0,null,0,null,0,null,0,{"$f":"Formulas!D190","v":0},{"$f":"Formulas!H190","v":0},{"$f":"Formulas!L190","v":0},{"$f":"Formulas!P190","v":0},{"$f":"Formulas!T190","v":0},{"$f":"Formulas!X190","v":0},{"$f":"Formulas!AB190","v":0},{"$f":"Formulas!AF190","v":0},{"$f":"Formulas!AJ190","v":0}]
[null,null,null,null,null,null,null,null,null,null,null,null,0,null,0,null,0,null,0,null,0,null,0,null,0,null,0,null,0,{"$f":"Formulas!D191","v":0},{"$f":"Formulas!H191","v":0},{"$f":"Formulas!L191","v":0},{"$f":"Formulas!P191","v":0},{"$f":"Formulas!T191","v":0},{"$f":"Formulas!X191","v":0},{"$f":"Formulas!AB191","v":0},{"$f":"Formulas!AF191","v":0},{"$f":"Formulas!AJ191","v":0}]
[null,null,null,null,null,null,null,null,null,null,null,null,0,null,0,null,0,null,0,null,0,null,0,null,0,null,0,null,0,{"$f":"Formulas!D192","v":0},{"$f":"Formulas!H192","v":0},{"$f":"Formulas!L192","v":0},{"$f":"Formulas!P192","v":0},{"$f":"Formulas!T192","v":0},{"$f":"Formulas!X192","v":0},{"$f":"Formulas!AB192","v":0},{"$f":"Formulas!AF192","v":0},{"$f":"Formulas!AJ192","v":0}]
[null,null,null,null,null,null,null,null,null,null,null,null,0,null,0,null,0,null,0,null,0,null,0,null,0,null,0,null,0,{"$f":"Formulas!D193","v":0},{"$f":"Formulas!H193","v":0},{"$f":"Formulas!L193","v":0},{"$f":"Formulas!P193","v":0},{"$f":"Formulas!T193","v":0},{"$f":"Formulas!X193","v":0},{"$f":"Formulas!AB193","v":0},{"$f":"Formulas!AF193","v":0},{"$f":"Formulas!AJ193","v":0}]
[null,null,null,null,null,null,null,null,null,null,null,null,0,null,0,null,0,null,0,null,0,null,0,null,0,null,0,null,0,{"$f":"Formulas!D194","v":0},{"$f":"Formulas!H194","v":0},{"$f":"Formulas!L194","v":0},{"$f":"Formulas!P194","v":0},{"$f":"Formulas!T194","v":0},{"$f":"Formulas!X194","v":0},{"$f":"Formulas!AB194","v":0},{"$f":"Formulas!AF194","v":0},{"$f":"Formulas!AJ194","v":0}]
[null,null,null,null,null,null,null,null,null,null,null,null,0,null,0,null,0,null,0,null,0,null,{"$f":"IF(AI195=\"Not eligible\", \"Not eligible\", AI195)","v":0},null,0,null,0,null,0,{"$f":"Formulas!D195","v":0},{"$f":"Formulas!H195","v":0},{"$f":"Formulas!L195","v":0},{"$f":"Formulas!P195","v":0},{"$f":"Formulas!T195","v":0},{"$f":"Formulas!X195","v":0},{"$f":"Formulas!AB195","v":0},{"$f":"Formulas!AF195","v":0},{"$f":"Formulas!AJ195","v":0}]
[null,null,null,null,null,null,null,null,null,null,null,null,0,null,0,null,0,null,{"$f":"IF(AG196=\"Not eligible\", \"Not eligible\", AG196)","v":0},null,{"$f":"IF(AH196=\"Not eligible\", \"Not eligible\", AH196)","v":0},null,0,null,{"$f":"IF(AJ196=\"Not eligible\", \"Not eligible\", AJ196)","v":0},null,{"$f":"IF(AK196=\"Not eligible\", \"Not eligible\", AK196)","v":0},null,{"$f":"IF(AL196=\"Not eligible\", \"Not eligible\",AL196)","v":0},{"$f":"Formulas!D196","v":0},{"$f":"Formulas!H196","v":0},{"$f":"Formulas!L196","v":0},{"$f":"Formulas!P196","v":0},{"$f":"Formulas!T196","v":0},{"$f":"Formulas!X196","v":0},{"$f":"Formulas!AB196","v":0},{"$f":"Formulas!AF196","v":0},{"$f":"Formulas!AJ196","v":0}]
[null,null,null,null,null,null,null,null,null,null,null,null,{"$f":"IF(AD197=\"Not eligible\", \"Not eligible\", AD197)","v":0},null,0,null,0,null,0,null,0,null,0,null,0,null,0,null,0,{"$f":"Formulas!D197","v":0},{"$f":"Formulas!H197","v":0},{"$f":"Formulas!L197","v":0},{"$f":"Formulas!P197","v":0},{"$f":"Formulas!T197","v":0},{"$f":"Formulas!X197","v":0},{"$f":"Formulas!AB197","v":0},{"$f":"Formulas!AF197","v":0},{"$f":"Formulas!AJ197","v":0}]
[null,null,null,null,null,null,null,null,null,null,null,null,0,null,0,null,0,null,0,null,0,null,0,null,0,null,0,null,0,{"$f":"Formulas!D198","v":0},{"$f":"Formulas!H198","v":0},{"$f":"Formulas!L198","v":0},{"$f":"Formulas!P198","v":0},{"$f":"Formulas!T198","v":0},{"$f":"Formulas!X198","v":0},{"$f":"Formulas!AB198","v":0},{"$f":"Formulas!AF198","v":0},{"$f":"Formulas!AJ198","v":0}]
[null,null,null,null,null,null,null,null,null,null,null,null,0,null,0,null,{"$f":"IF(AF199=\"Not eligible\", \"Not eligible\", AF199)","v":0},null,0,null,0,null,0,null,0,null,0,null,0,{"$f":"Formulas!D199","v":0},{"$f":"Formulas!H199","v":0},{"$f":"Formulas!L199","v":0},{"$f":"Formulas!P199","v":0},{"$f":"Formulas!T199","v":0},{"$f":"Formulas!X199","v":0},{"$f":"Formulas!AB199","v":0},{"$f":"Formulas!AF199","v":0},{"$f":"Formulas!AJ199","v":0}]
[null,null,null,null,null,null,null,null,null,null,null,null,0,null,0,null,0,null,0,null,0,null,0,null,0,null,0,null,0,{"$f":"Formulas!D200","v":0},{"$f":"Formulas!H200","v":0},{"$f":"Formulas!L200","v":0},{"$f":"Formulas!P200","v":0},{"$f":"Formulas!T200","v":0},{"$f":"Formulas!X200","v":0},{"$f":"Formulas!AB200","v":0},{"$f":"Formulas!AF200","v":0},{"$f":"Formulas!AJ200","v":0}]
[null,null,null,null,null,null,null,null,null,null,null,null,0,null,0,null,0,null,0,null,0,null,0,null,0,null,0,null,0,{"$f":"Formulas!D201","v":0},{"$f":"Formulas!H201","v":0},{"$f":"Formulas!L201","v":0},{"$f":"Formulas!P201","v":0},{"$f":"Formulas!T201","v":0},{"$f":"Formulas!X201","v":0},{"$f":"Formulas!AB201","v":0},{"$f":"Formulas!AF201","v":0},{"$f":"Formulas!AJ201","v":0}]
[null,null,null,null,null,null,null,null,null,null,null,null,0,null,{"$f":"IF(AE202=\"Not eligible\", \"Not eligible\", AE202)","v":0},null,0,null,0,null,0,null,0,null,0,null,0,null,0,{"$f":"Formulas!D202","v":0},{"$f":"Formulas!H202","v":0},{"$f":"Formulas!L202","v":0},{"$f":"Formulas!P202","v":0},{"$f":"Formulas!T202","v":0},{"$f":"Formulas!X202","v":0},{"$f":"Formulas!AB202","v":0},{"$f":"Formulas!AF202","v":0},{"$f":"Formulas!AJ202","v":0}]
[null,null,null,null,null,null,null,null,null,null,null,null,0,null,0,null,0,null,0,null,0,null,0,null,0,null,0,null,0,{"$f":"Formulas!D203","v":0},{"$f":"Formulas!H203","v":0},{"$f":"Formulas!L203","v":0},{"$f":"Formulas!P203","v":0},{"$f":"Formulas!T203","v":0},{"$f":"Formulas!X203","v":0},{"$f":"Formulas!AB203","v":0},{"$f":"Formulas!AF203","v":0},{"$f":"Formulas!AJ203","v":0}]
[null,null,null,null,null,null,null,null,null,null,null,null,0,null,0,null,0,null,0,null,0,null,0,null,0,null,0,null,0,{"$f":"Formulas!D204","v":0},{"$f":"Formulas!H204","v":0},{"$f":"Formulas!L204","v":0},{"$f":"Formulas!P204","v":0},{"$f":"Formulas!T204","v":0},{"$f":"Formulas!X204","v":0},{"$f":"Formulas!AB204","v":0},{"$f":"Formulas!AF204","v":0},{"$f":"Formulas!AJ204","v":0}]
[null,null,null,null,null,null,null,null,null,null,null,null,0,null,0,null,0,null,0,null,0,null,0,null,0,null,0,null,0,{"$f":"Formulas!D205","v":0},{"$f":"Formulas!H205","v":0},{"$f":"Formulas!L205","v":0},{"$f":"Formulas!P205","v":0},{"$f":"Formulas!T205","v":0},{"$f":"Formulas!X205","v":0},{"$f":"Formulas!AB205","v":0},{"$f":"Formulas!AF205","v":0},{"$f":"Formulas!AJ205","v":0}]
[null,null,null,null,null,null,null,null,null,null,null,null,0,null,0,null,0,null,0,null,0,null,0,null,0,null,0,null,0,{"$f":"Formulas!D206","v":0},{"$f":"Formulas!H206","v":0},{"$f":"Formulas!L206","v":0},{"$f":"Formulas!P206","v":0},{"$f":"Formulas!T206","v":0},{"$f":"Formulas!X206","v":0},{"$f":"Formulas!AB206","v":0},{"$f":"Formulas!AF206","v":0},{"$f":"Formulas!AJ206","v":0}]
[null,null,null,null,null,null,null,null,null,null,null,null,0,null,0,null,0,null,0,null,0,null,0,null,0,null,0,null,0,{"$f":"Formulas!D207","v":0},{"$f":"Formulas!H207","v":0},{"$f":"Formulas!L207","v":0},{"$f":"Formulas!P207","v":0},{"$f":"Formulas!T207","v":0},{"$f":"Formulas!X207","v":0},{"$f":"Formulas!AB207","v":0},{"$f":"Formulas!AF207","v":0},{"$f":"Formulas!AJ207","v":0}]
[null,null,null,null,null,null,null,null,null,null,null,null,0,null,0,null,0,null,0,null,0,null,0,null,0,null,0,null,0,{"$f":"Formulas!D208","v":0},{"$f":"Formulas!H208","v":0},{"$f":"Formulas!L208","v":0},{"$f":"Formulas!P208","v":0},{"$f":"Formulas!T208","v":0},{"$f":"Formulas!X208","v":0},{"$f":"Formulas!AB208","v":0},{"$f":"Formulas!AF208","v":0},{"$f":"Formulas!AJ208","v":0}]
[null,null,null,null,null,null,null,null,null,null,null,null,0,null,0,null,0,null,0,null,0,null,0,null,0,null,0,null,0,{"$f":"Formulas!D209","v":0},{"$f":"Formulas!H209","v":0},{"$f":"Formulas!L209","v":0},{"$f":"Formulas!P209","v":0},{"$f":"Formulas!T209","v":0},{"$f":"Formulas!X209","v":0},{"$f":"Formulas!AB209","v":0},{"$f":"Formulas!AF209","v":0},{"$f":"Formulas!AJ209","v":0}]
[null,null,null,null,null,null,null,null,null,null,null,null,0,null,0,null,0,null,0,null,0,null,0,null,0,null,0,null,0,{"$f":"Formulas!D210","v":0},{"$f":"Formulas!H210","v":0},{"$f":"Formulas!L210","v":0},{"$f":"Formulas!P210","v":0},{"$f":"Formulas!T210","v":0},{"$f":"Formulas!X210","v":0},{"$f":"Formulas!AB210","v":0},{"$f":"Formulas!AF210","v":0},{"$f":"Formulas!AJ210","v":0}]
[null,null,null,null,null,null,null,null,null,null,null,null,0,null,0,null,0,null,0,null,0,null,0,null,0,null,0,null,0,{"$f":"Formulas!D211","v":0},{"$f":"Formulas!H211","v":0},{"$f":"Formulas!L211","v":0},{"$f":"Formulas!P211","v":0},{"$f":"Formulas!T211","v":0},{"$f":"Formulas!X211","v":0},{"$f":"Formulas!AB211","v":0},{"$f":"Formulas!AF211","v":0},{"$f":"Formulas!AJ211","v":0}]
[null,null,null,null,null,null,null,null,null,null,null,null,0,null,0,null,0,null,0,null,0,null,0,null,0,null,0,null,0,{"$f":"Formulas!D212","v":0},{"$f":"Formulas!H212","v":0},{"$f":"Formulas!L212","v":0},{"$f":"Formulas!P212","v":0},{"$f":"Formulas!T212","v":0},{"$f":"Formulas!X212","v":0},{"$f":"Formulas!AB212","v":0},{"$f":"Formulas!AF212","v":0},{"$f":"Formulas!AJ212","v":0}]
[null,null,null,null,null,null,null,null,null,null,null,null,0,null,0,null,0,null,0,null,0,null,0,null,0,null,0,null,0,{"$f":"Formulas!D213","v":0},{"$f":"Formulas!H213","v":0},{"$f":"Formulas!L213","v":0},{"$f":"Formulas!P213","v":0},{"$f":"Formulas!T213","v":0},{"$f":"Formulas!X213","v":0},{"$f":"Formulas!AB213","v":0},{"$f":"Formulas!AF213","v":0},{"$f":"Formulas!AJ213","v":0}]
[null,null,null,null,null,null,null,null,null,null,null,null,0,null,0,null,0,null,0,null,0,null,0,null,0,null,0,null,0,{"$f":"Formulas!D214","v":0},{"$f":"Formulas!H214","v":0},{"$f":"Formulas!L214","v":0},{"$f":"Formulas!P214","v":0},{"$f":"Formulas!T214","v":0},{"$f":"Formulas!X214","v":0},{"$f":"Formulas!AB214","v":0},{"$f":"Formulas!AF214","v":0},{"$f":"Formulas!AJ214","v":0}]
[null,null,null,null,null,null,null,null,null,null,null,null,0,null,0,null,0,null,0,null,0,null,0,null,0,null,0,null,0,{"$f":"Formulas!D215","v":0},{"$f":"Formulas!H215","v":0},{"$f":"Formulas!L215","v":0},{"$f":"Formulas!P215","v":0},{"$f":"Formulas!T215","v":0},{"$f":"Formulas!X215","v":0},{"$f":"Formulas!AB215","v":0},{"$f":"Formulas!AF215","v":0},{"$f":"Formulas!AJ215","v":0}]
[null,null,null,null,null,null,null,null,null,null,null,null,0,null,0,null,0,null,0,null,0,null,0,null,0,null,0,null,0,{"$f":"Formulas!D216","v":0},{"$f":"Formulas!H216","v":0},{"$f":"Formulas!L216","v":0},{"$f":"Formulas!P216","v":0},{"$f":"Formulas!T216","v":0},{"$f":"Formulas!X216","v":0},{"$f":"Formulas!AB216","v":0},{"$f":"Formulas!AF216","v":0},{"$f":"Formulas!AJ216","v":0}]
[null,null,null,null,null,null,null,null,null,null,null,null,0,null,0,null,0,null,0,null,0,null,0,null,0,null,0,null,0,{"$f":"Formulas!D217","v":0},{"$f":"Formulas!H217","v":0},{"$f":"Formulas!L217","v":0},{"$f":"Formulas!P217","v":0},{"$f":"Formulas!T217","v":0},{"$f":"Formulas!X217","v":0},{"$f":"Formulas!AB217","v":0},{"$f":"Formulas!AF217","v":0},{"$f":"Formulas!AJ217","v":0}]
[null,null,null,null,null,null,null,null,null,null,null,null,0,null,0,null,0,null,0,null,0,null,0,null,0,null,0,null,0,{"$f":"Formulas!D218","v":0},{"$f":"Formulas!H218","v":0},{"$f":"Formulas!L218","v":0},{"$f":"Formulas!P218","v":0},{"$f":"Formulas!T218","v":0},{"$f":"Formulas!X218","v":0},{"$f":"Formulas!AB218","v":0},{"$f":"Formulas!AF218","v":0},{"$f":"Formulas!AJ218","v":0}]
[null,null,null,null,null,null,null,null,null,null,null,null,0,null,0,null,0,null,0,null,0,null,0,null,0,null,0,null,0,{"$f":"Formulas!D219","v":0},{"$f":"Formulas!H219","v":0},{"$f":"Formulas!L219","v":0},{"$f":"Formulas!P219","v":0},{"$f":"Formulas!T219","v":0},{"$f":"Formulas!X219","v":0},{"$f":"Formulas!AB219","v":0},{"$f":"Formulas!AF219","v":0},{"$f":"Formulas!AJ219","v":0}]
[null,null,null,null,null,null,null,null,null,null,null,null,0,null,0,null,0,null,0,null,0,null,0,null,0,null,0,null,0,{"$f":"Formulas!D220","v":0},{"$f":"Formulas!H220","v":0},{"$f":"Formulas!L220","v":0},{"$f":"Formulas!P220","v":0},{"$f":"Formulas!T220","v":0},{"$f":"Formulas!X220","v":0},{"$f":"Formulas!AB220","v":0},{"$f":"Formulas!AF220","v":0},{"$f":"Formulas!AJ220","v":0}]
[null,null,null,null,null,null,null,null,null,null,null,null,0,null,0,null,0,null,0,null,0,null,0,null,0,null,0,null,0,{"$f":"Formulas!D221","v":0},{"$f":"Formulas!H221","v":0},{"$f":"Formulas!L221","v":0},{"$f":"Formulas!P221","v":0},{"$f":"Formulas!T221","v":0},{"$f":"Formulas!X221","v":0},{"$f":"Formulas!AB221","v":0},{"$f":"Formulas!AF221","v":0},{"$f":"Formulas!AJ221","v":0}]
[null,null,null,null,null,null,null,null,null,null,null,null,0,null,0,null,0,null,0,null,0,null,0,null,0,null,0,null,0,{"$f":"Formulas!D222","v":0},{"$f":"Formulas!H222","v":0},{"$f":"Formulas!L222","v":0},{"$f":"Formulas!P222","v":0},{"$f":"Formulas!T222","v":0},{"$f":"Formulas!X222","v":0},{"$f":"Formulas!AB222","v":0},{"$f":"Formulas!AF222","v":0},{"$f":"Formulas!AJ222","v":0}]
[null,null,null,null,null,null,null,null,null,null,null,null,0,null,0,null,0,null,0,null,0,null,0,null,0,null,0,null,0,{"$f":"Formulas!D223","v":0},{"$f":"Formulas!H223","v":0},{"$f":"Formulas!L223","v":0},{"$f":"Formulas!P223","v":0},{"$f":"Formulas!T223","v":0},{"$f":"Formulas!X223","v":0},{"$f":"Formulas!AB223","v":0},{"$f":"Formulas!AF223","v":0},{"$f":"Formulas!AJ223","v":0}]
[null,null,null,null,null,null,null,null,null,null,null,null,0,null,0,null,0,null,0,null,0,null,0,null,0,null,0,null,0,{"$f":"Formulas!D224","v":0},{"$f":"Formulas!H224","v":0},{"$f":"Formulas!L224","v":0},{"$f":"Formulas!P224","v":0},{"$f":"Formulas!T224","v":0},{"$f":"Formulas!X224","v":0},{"$f":"Formulas!AB224","v":0},{"$f":"Formulas!AF224","v":0},{"$f":"Formulas!AJ224","v":0}]
[null,null,null,null,null,null,null,null,null,null,null,null,0,null,0,null,0,null,0,null,0,null,0,null,0,null,0,null,0,{"$f":"Formulas!D225","v":0},{"$f":"Formulas!H225","v":0},{"$f":"Formulas!L225","v":0},{"$f":"Formulas!P225","v":0},{"$f":"Formulas!T225","v":0},{"$f":"Formulas!X225","v":0},{"$f":"Formulas!AB225","v":0},{"$f":"Formulas!AF225","v":0},{"$f":"Formulas!AJ225","v":0}]
[null,null,null,null,null,null,null,null,null,null,null,null,0,null,0,null,0,null,0,null,0,null,0,null,0,null,0,null,0,{"$f":"Formulas!D226","v":0},{"$f":"Formulas!H226","v":0},{"$f":"Formulas!L226","v":0},{"$f":"Formulas!P226","v":0},{"$f":"Formulas!T226","v":0},{"$f":"Formulas!X226","v":0},{"$f":"Formulas!AB226","v":0},{"$f":"Formulas!AF226","v":0},{"$f":"Formulas!AJ226","v":0}]
[null,null,null,null,null,null,null,null,null,null,null,null,0,null,0,null,0,null,0,null,0,null,0,null,0,null,0,null,0,{"$f":"Formulas!D227","v":0},{"$f":"Formulas!H227","v":0},{"$f":"Formulas!L227","v":0},{"$f":"Formulas!P227","v":0},{"$f":"Formulas!T227","v":0},{"$f":"Formulas!X227","v":0},{"$f":"Formulas!AB227","v":0},{"$f":"Formulas!AF227","v":0},{"$f":"Formulas!AJ227","v":0}]
[null,null,null,null,null,null,null,null,null,null,null,null,0,null,0,null,0,null,0,null,0,null,0,null,0,null,0,null,0,{"$f":"Formulas!D228","v":0},{"$f":"Formulas!H228","v":0},{"$f":"Formulas!L228","v":0},{"$f":"Formulas!P228","v":0},{"$f":"Formulas!T228","v":0},{"$f":"Formulas!X228","v":0},{"$f":"Formulas!AB228","v":0},{"$f":"Formulas!AF228","v":0},{"$f":"Formulas!AJ228","v":0}]
[null,null,null,null,null,null,null,null,null,null,null,null,0,null,0,null,0,null,0,null,0,null,0,null,0,null,0,null,0,{"$f":"Formulas!D229","v":0},{"$f":"Formulas!H229","v":0},{"$f":"Formulas!L229","v":0},{"$f":"Formulas!P229","v":0},{"$f":"Formulas!T229","v":0},{"$f":"Formulas!X229","v":0},{"$f":"Formulas!AB229","v":0},{"$f":"Formulas!AF229","v":0},{"$f":"Formulas!AJ229","v":0}]
[null,null,null,null,null,null,null,null,null,null,null,null,0,null,0,null,0,null,0,null,0,null,0,null,0,null,0,null,0,{"$f":"Formulas!D230","v":0},{"$f":"Formulas!H230","v":0},{"$f":"Formulas!L230","v":0},{"$f":"Formulas!P230","v":0},{"$f":"Formulas!T230","v":0},{"$f":"Formulas!X230","v":0},{"$f":"Formulas!AB230","v":0},{"$f":"Formulas!AF230","v":0},{"$f":"Formulas!AJ230","v":0}]
[null,null,null,null,null,null,null,null,null,null,null,null,0,null,0,null,0,null,0,null,0,null,0,null,0,null,0,null,0,{"$f":"Formulas!D231","v":0},{"$f":"Formulas!H231","v":0},{"$f":"Formulas!L231","v":0},{"$f":"Formulas!P231","v":0},{"$f":"Formulas!T231","v":0},{"$f":"Formulas!X231","v":0},{"$f":"Formulas!AB231","v":0},{"$f":"Formulas!AF231","v":0},{"$f":"Formulas!AJ231","v":0}]
[null,null,null,null,null,null,null,null,null,null,null,null,0,null,0,null,0,null,0,null,0,null,0,null,0,null,0,null,0,{"$f":"Formulas!D232","v":0},{"$f":"Formulas!H232","v":0},{"$f":"Formulas!L232","v":0},{"$f":"Formulas!P232","v":0},{"$f":"Formulas!T232","v":0},{"$f":"Formulas!X232","v":0},{"$f":"Formulas!AB232","v":0},{"$f":"Formulas!AF232","v":0},{"$f":"Formulas!AJ232","v":0}]
[null,null,null,null,null,null,null,null,null,null,null,null,0,null,0,null,0,null,0,null,0,null,0,null,0,null,0,null,0,{"$f":"Formulas!D233","v":0},{"$f":"Formulas!H233","v":0},{"$f":"Formulas!L233","v":0},{"$f":"Formulas!P233","v":0},{"$f":"Formulas!T233","v":0},{"$f":"Formulas!X233","v":0},{"$f":"Formulas!AB233","v":0},{"$f":"Formulas!AF233","v":0},{"$f":"Formulas!AJ233","v":0}]
[null,null,null,null,null,null,null,null,null,null,null,null,0,null,0,null,0,null,0,null,0,null,0,null,0,null,0,null,0,{"$f":"Formulas!D234","v":0},{"$f":"Formulas!H234","v":0},{"$f":"Formulas!L234","v":0},{"$f":"Formulas!P234","v":0},{"$f":"Formulas!T234","v":0},{"$f":"Formulas!X234","v":0},{"$f":"Formulas!AB234","v":0},{"$f":"Formulas!AF234","v":0},{"$f":"Formulas!AJ234","v":0}]
[null,null,null,null,null,null,null,null,null,null,null,null,0,null,0,null,0,null,0,null,0,null,0,null,0,null,0,null,0,{"$f":"Formulas!D235","v":0},{"$f":"Formulas!H235","v":0},{"$f":"Formulas!L235","v":0},{"$f":"Formulas!P235","v":0},{"$f":"Formulas!T235","v":0},{"$f":"Formulas!X235","v":0},{"$f":"Formulas!AB235","v":0},{"$f":"Formulas!AF235","v":0},{"$f":"Formulas!AJ235","v":0}]
[null,null,null,null,null,null,null,null,null,null,null,null,0,null,0,null,0,null,0,null,0,null,0,null,0,null,0,null,0,{"$f":"Formulas!D236","v":0},{"$f":"Formulas!H236","v":0},{"$f":"Formulas!L236","v":0},{"$f":"Formulas!P236","v":0},{"$f":"Formulas!T236","v":0},{"$f":"Formulas!X236","v":0},{"$f":"Formulas!AB236","v":0},{"$f":"Formulas!AF236","v":0},{"$f":"Formulas!AJ236","v":0}]
[null,null,null,null,null,null,null,null,null,null,null,null,0,null,0,null,0,null,0,null,0,null,0,null,0,null,0,null,0,{"$f":"Formulas!D237","v":0},{"$f":"Formulas!H237","v":0},{"$f":"Formulas!L237","v":0},{"$f":"Formulas!P237","v":0},{"$f":"Formulas!T237","v":0},{"$f":"Formulas!X237","v":0},{"$f":"Formulas!AB237","v":0},{"$f":"Formulas!AF237","v":0},{"$f":"Formulas!AJ237","v":0}]
[null,null,null,null,null,null,null,null,null,null,null,null,0,null,0,null,0,null,0,null,0,null,0,null,0,null,0,null,0,{"$f":"Formulas!D238","v":0},{"$f":"Formulas!H238","v":0},{"$f":"Formulas!L238","v":0},{"$f":"Formulas!P238","v":0},{"$f":"Formulas!T238","v":0},{"$f":"Formulas!X238","v":0},{"$f":"Formulas!AB238","v":0},{"$f":"Formulas!AF238","v":0},{"$f":"Formulas!AJ238","v":0}]
[null,null,null,null,null,null,null,null,null,null,null,null,0,null,0,null,0,null,0,null,0,null,0,null,0,null,0,null,0,{"$f":"Formulas!D239","v":0},{"$f":"Formulas!H239","v":0},{"$f":"Formulas!L239","v":0},{"$f":"Formulas!P239","v":0},{"$f":"Formulas!T239","v":0},{"$f":"Formulas!X239","v":0},{"$f":"Formulas!AB239","v":0},{"$f":"Formulas!AF239","v":0},{"$f":"Formulas!AJ239","v":0}]
[null,null,null,null,null,null,null,null,null,null,null,null,0,null,0,null,0,null,0,null,0,null,0,null,0,null,0,null,0,{"$f":"Formulas!D240","v":0},{"$f":"Formulas!H240","v":0},{"$f":"Formulas!L240","v":0},{"$f":"Formulas!P240","v":0},{"$f":"Formulas!T240","v":0},{"$f":"Formulas!X240","v":0},{"$f":"Formulas!AB240","v":0},{"$f":"Formulas!AF240","v":0},{"$f":"Formulas!AJ240","v":0}]
[null,null,null,null,null,null,null,null,null,null,null,null,0,null,0,null,0,null,0,null,0,null,0,null,0,null,0,null,0,{"$f":"Formulas!D241","v":0},{"$f":"Formulas!H241","v":0},{"$f":"Formulas!L241","v":0},{"$f":"Formulas!P241","v":0},{"$f":"Formulas!T241","v":0},{"$f":"Formulas!X241","v":0},{"$f":"Formulas!AB241","v":0},{"$f":"Formulas!AF241","v":0},{"$f":"Formulas!AJ241","v":0}]
[null,null,null,null,null,null,null,null,null,null,null,null,0,null,0,null,0,null,0,null,0,null,0,null,0,null,0,null,0,{"$f":"Formulas!D242","v":0},{"$f":"Formulas!H242","v":0},{"$f":"Formulas!L242","v":0},{"$f":"Formulas!P242","v":0},{"$f":"Formulas!T242","v":0},{"$f":"Formulas!X242","v":0},{"$f":"Formulas!AB242","v":0},{"$f":"Formulas!AF242","v":0},{"$f":"Formulas!AJ242","v":0}]
[null,null,null,null,null,null,null,null,null,null,null,null,0,null,0,null,0,null,0,null,0,null,0,null,0,null,0,null,0,{"$f":"Formulas!D243","v":0},{"$f":"Formulas!H243","v":0},{"$f":"Formulas!L243","v":0},{"$f":"Formulas!P243","v":0},{"$f":"Formulas!T243","v":0},{"$f":"Formulas!X243","v":0},{"$f":"Formulas!AB243","v":0},{"$f":"Formulas!AF243","v":0},{"$f":"Formulas!AJ243","v":0}]
[null,null,null,null,null,null,null,null,null,null,null,null,0,null,0,null,0,null,0,null,0,null,0,null,0,null,0,null,0,{"$f":"Formulas!D244","v":0},{"$f":"Formulas!H244","v":0},{"$f":"Formulas!L244","v":0},{"$f":"Formulas!P244","v":0},{"$f":"Formulas!T244","v":0},{"$f":"Formulas!X244","v":0},{"$f":"Formulas!AB244","v":0},{"$f":"Formulas!AF244","v":0},{"$f":"Formulas!AJ244","v":0}]
[null,null,null,null,null,null,null,null,null,null,null,null,0,null,0,null,0,null,0,null,0,null,0,null,0,null,0,null,0,{"$f":"Formulas!D245","v":0},{"$f":"Formulas!H245","v":0},{"$f":"Formulas!L245","v":0},{"$f":"Formulas!P245","v":0},{"$f":"Formulas!T245","v":0},{"$f":"Formulas!X245","v":0},{"$f":"Formulas!AB245","v":0},{"$f":"Formulas!AF245","v":0},{"$f":"Formulas!AJ245","v":0}]
[null,null,null,null,null,null,null,null,null,null,null,null,0,null,0,null,0,null,0,null,0,null,0,null,0,null,0,null,0,{"$f":"Formulas!D246","v":0},{"$f":"Formulas!H246","v":0},{"$f":"Formulas!L246","v":0},{"$f":"Formulas!P246","v":0},{"$f":"Formulas!T246","v":0},{"$f":"Formulas!X246","v":0},{"$f":"Formulas!AB246","v":0},{"$f":"Formulas!AF246","v":0},{"$f":"Formulas!AJ246","v":0}]
[null,null,null,null,null,null,null,null,null,null,null,null,0,null,0,null,0,null,0,null,0,null,0,null,0,null,0,null,0,{"$f":"Formulas!D247","v":0},{"$f":"Formulas!H247","v":0},{"$f":"Formulas!L247","v":0},{"$f":"Formulas!P247","v":0},{"$f":"Formulas!T247","v":0},{"$f":"Formulas!X247","v":0},{"$f":"Formulas!AB247","v":0},{"$f":"Formulas!AF247","v":0},{"$f":"Formulas!AJ247","v":0}]
[null,null,null,null,null,null,null,null,null,null,null,null,0,null,0,null,0,null,0,null,0,null,0,null,0,null,0,null,0,{"$f":"Formulas!D248","v":0},{"$f":"Formulas!H248","v":0},{"$f":"Formulas!L248","v":0},{"$f":"Formulas!P248","v":0},{"$f":"Formulas!T248","v":0},{"$f":"Formulas!X248","v":0},{"$f":"Formulas!AB248","v":0},{"$f":"Formulas!AF248","v":0},{"$f":"Formulas!AJ248","v":0}]
[null,null,null,null,null,null,null,null,null,null,null,null,0,null,0,null,0,null,0,null,0,null,0,null,0,null,0,null,0,{"$f":"Formulas!D249","v":0},{"$f":"Formulas!H249","v":0},{"$f":"Formulas!L249","v":0},{"$f":"Formulas!P249","v":0},{"$f":"Formulas!T249","v":0},{"$f":"Formulas!X249","v":0},{"$f":"Formulas!AB249","v":0},{"$f":"Formulas!AF249","v":0},{"$f":"Formulas!AJ249","v":0}]
[null,null,null,null,null,null,null,null,null,null,null,null,0,null,0,null,0,null,0,null,0,null,0,null,0,null,0,null,0,{"$f":"Formulas!D250","v":0},{"$f":"Formulas!H250","v":0},{"$f":"Formulas!L250","v":0},{"$f":"Formulas!P250","v":0},{"$f":"Formulas!T250","v":0},{"$f":"Formulas!X250","v":0},{"$f":"Formulas!AB250","v":0},{"$f":"Formulas!AF250","v":0},{"$f":"Formulas!AJ250","v":0}]
[null,null,null,null,null,null,null,null,null,null,null,null,0,null,0,null,0,null,0,null,0,null,0,null,0,null,0,null,0,{"$f":"Formulas!D251","v":0},{"$f":"Formulas!H251","v":0},{"$f":"Formulas!L251","v":0},{"$f":"Formulas!P251","v":0},{"$f":"Formulas!T251","v":0},{"$f":"Formulas!X251","v":0},{"$f":"Formulas!AB251","v":0},{"$f":"Formulas!AF251","v":0},{"$f":"Formulas!AJ251","v":0}]
[null,null,null,null,null,null,null,null,null,null,null,null,0,null,0,null,0,null,0,null,0,null,0,null,0,null,0,null,0,{"$f":"Formulas!D252","v":0},{"$f":"Formulas!H252","v":0},{"$f":"Formulas!L252","v":0},{"$f":"Formulas!P252","v":0},{"$f":"Formulas!T252","v":0},{"$f":"Formulas!X252","v":0},{"$f":"Formulas!AB252","v":0},{"$f":"Formulas!AF252","v":0},{"$f":"Formulas!AJ252","v":0}]
[null,null,null,null,null,null,null,null,null,null,null,null,0,null,0,null,0,null,0,null,0,null,0,null,0,null,0,null,0,{"$f":"Formulas!D253","v":0},{"$f":"Formulas!H253","v":0},{"$f":"Formulas!L253","v":0},{"$f":"Formulas!P253","v":0},{"$f":"Formulas!T253","v":0},{"$f":"Formulas!X253","v":0},{"$f":"Formulas!AB253","v":0},{"$f":"Formulas!AF253","v":0},{"$f":"Formulas!AJ253","v":0}]
[null,null,null,null,null,null,null,null,null,null,null,null,0,null,0,null,0,null,0,null,0,null,0,null,0,null,0,null,0,{"$f":"Formulas!D254","v":0},{"$f":"Formulas!H254","v":0},{"$f":"Formulas!L254","v":0},{"$f":"Formulas!P254","v":0},{"$f":"Formulas!T254","v":0},{"$f":"Formulas!X254","v":0},{"$f":"Formulas!AB254","v":0},{"$f":"Formulas!AF254","v":0},{"$f":"Formulas!AJ254","v":0}]
[null,null,null,null,null,null,null,null,null,null,null,null,0,null,0,null,0,null,0,null,0,null,0,null,0,null,0,null,0,{"$f":"Formulas!D255","v":0},{"$f":"Formulas!H255","v":0},{"$f":"Formulas!L255","v":0},{"$f":"Formulas!P255","v":0},{"$f":"Formulas!T255","v":0},{"$f":"Formulas!X255","v":0},{"$f":"Formulas!AB255","v":0},{"$f":"Formulas!AF255","v":0},{"$f":"Formulas!AJ255","v":0}]
[null,null,null,null,null,null,null,null,null,null,null,null,0,null,0,null,0,null,0,null,0,null,0,null,0,null,0,null,0,{"$f":"Formulas!D256","v":0},{"$f":"Formulas!H256","v":0},{"$f":"Formulas!L256","v":0},{"$f":"Formulas!P256","v":0},{"$f":"Formulas!T256","v":0},{"$f":"Formulas!X256","v":0},{"$f":"Formulas!AB256","v":0},{"$f":"Formulas!AF256","v":0},{"$f":"Formulas!AJ256","v":0}]
[null,null,null,null,null,null,null,null,null,null,null,null,0,null,0,null,0,null,0,null,0,null,0,null,0,null,0,null,0,{"$f":"Formulas!D257","v":0},{"$f":"Formulas!H257","v":0},{"$f":"Formulas!L257","v":0},{"$f":"Formulas!P257","v":0},{"$f":"Formulas!T257","v":0},{"$f":"Formulas!X257","v":0},{"$f":"Formulas!AB257","v":0},{"$f":"Formulas!AF257","v":0},{"$f":"Formulas!AJ257","v":0}]
[null,null,null,null,null,null,null,null,null,null,null,null,0,null,0,null,0,null,0,null,0,null,0,null,0,null,0,null,0,{"$f":"Formulas!D258","v":0},{"$f":"Formulas!H258","v":0},{"$f":"Formulas!L258","v":0},{"$f":"Formulas!P258","v":0},{"$f":"Formulas!T258","v":0},{"$f":"Formulas!X258","v":0},{"$f":"Formulas!AB258","v":0},{"$f":"Formulas!AF258","v":0},{"$f":"Formulas!AJ258","v":0}]
[null,null,null,null,null,null,null,null,null,null,null,null,0,null,0,null,0,null,0,null,0,null,{"$f":"IF(AI259=\"Not eligible\", \"Not eligible\", AI259)","v":0},null,0,null,0,null,0,{"$f":"Formulas!D259","v":0},{"$f":"Formulas!H259","v":0},{"$f":"Formulas!L259","v":0},{"$f":"Formulas!P259","v":0},{"$f":"Formulas!T259","v":0},{"$f":"Formulas!X259","v":0},{"$f":"Formulas!AB259","v":0},{"$f":"Formulas!AF259","v":0},{"$f":"Formulas!AJ259","v":0}]
[null,null,null,null,null,null,null,null,null,null,null,null,0,null,0,null,0,null,{"$f":"IF(AG260=\"Not eligible\", \"Not eligible\", AG260)","v":0},null,{"$f":"IF(AH260=\"Not eligible\", \"Not eligible\", AH260)","v":0},null,0,null,{"$f":"IF(AJ260=\"Not eligible\", \"Not eligible\", AJ260)","v":0},null,{"$f":"IF(AK260=\"Not eligible\", \"Not eligible\", AK260)","v":0},null,{"$f":"IF(AL260=\"Not eligible\", \"Not eligible\",AL260)","v":0},{"$f":"Formulas!D260","v":0},{"$f":"Formulas!H260","v":0},{"$f":"Formulas!L260","v":0},{"$f":"Formulas!P260","v":0},{"$f":"Formulas!T260","v":0},{"$f":"Formulas!X260","v":0},{"$f":"Formulas!AB260","v":0},{"$f":"Formulas!AF260","v":0},{"$f":"Formulas!AJ260","v":0}]
[null,null,null,null,null,null,null,null,null,null,null,null,{"$f":"IF(AD261=\"Not eligible\", \"Not eligible\", AD261)","v":0},null,0,null,0,null,0,null,0,null,0,null,0,null,0,null,0,{"$f":"Formulas!D261","v":0},{"$f":"Formulas!H261","v":0},{"$f":"Formulas!L261","v":0},{"$f":"Formulas!P261","v":0},{"$f":"Formulas!T261","v":0},{"$f":"Formulas!X261","v":0},{"$f":"Formulas!AB261","v":0},{"$f":"Formulas!AF261","v":0},{"$f":"Formulas!AJ261","v":0}]
[null,null,null,null,null,null,null,null,null,null,null,null,0,null,0,null,0,null,0,null,0,null,0,null,0,null,0,null,0,{"$f":"Formulas!D262","v":0},{"$f":"Formulas!H262","v":0},{"$f":"Formulas!L262","v":0},{"$f":"Formulas!P262","v":0},{"$f":"Formulas!T262","v":0},{"$f":"Formulas!X262","v":0},{"$f":"Formulas!AB262","v":0},{"$f":"Formulas!AF262","v":0},{"$f":"Formulas!AJ262","v":0}]
[null,null,null,null,null,null,null,null,null,null,null,null,0,null,0,null,{"$f":"IF(AF263=\"Not eligible\", \"Not eligible\", AF263)","v":0},null,0,null,0,null,0,null,0,null,0,null,0,{"$f":"Formulas!D263","v":0},{"$f":"Formulas!H263","v":0},{"$f":"Formulas!L263","v":0},{"$f":"Formulas!P263","v":0},{"$f":"Formulas!T263","v":0},{"$f":"Formulas!X263","v":0},{"$f":"Formulas!AB263","v":0},{"$f":"Formulas!AF263","v":0},{"$f":"Formulas!AJ263","v":0}]
[null,null,null,null,null,null,null,null,null,null,null,null,0,null,0,null,0,null,0,null,0,null,0,null,0,null,0,null,0,{"$f":"Formulas!D264","v":0},{"$f":"Formulas!H264","v":0},{"$f":"Formulas!L264","v":0},{"$f":"Formulas!P264","v":0},{"$f":"Formulas!T264","v":0},{"$f":"Formulas!X264","v":0},{"$f":"Formulas!AB264","v":0},{"$f":"Formulas!AF264","v":0},{"$f":"Formulas!AJ264","v":0}]
[null,null,null,null,null,null,null,null,null,null,null,null,0,null,0,null,0,null,0,null,0,null,0,null,0,null,0,null,0,{"$f":"Formulas!D265","v":0},{"$f":"Formulas!H265","v":0},{"$f":"Formulas!L265","v":0},{"$f":"Formulas!P265","v":0},{"$f":"Formulas!T265","v":0},{"$f":"Formulas!X265","v":0},{"$f":"Formulas!AB265","v":0},{"$f":"Formulas!AF265","v":0},{"$f":"Formulas!AJ265","v":0}]
[null,null,null,null,null,null,null,null,null,null,null,null,0,null,{"$f":"IF(AE266=\"Not eligible\", \"Not eligible\", AE266)","v":0},null,0,null,0,null,0,null,0,null,0,null,0,null,0,{"$f":"Formulas!D266","v":0},{"$f":"Formulas!H266","v":0},{"$f":"Formulas!L266","v":0},{"$f":"Formulas!P266","v":0},{"$f":"Formulas!T266","v":0},{"$f":"Formulas!X266","v":0},{"$f":"Formulas!AB266","v":0},{"$f":"Formulas!AF266","v":0},{"$f":"Formulas!AJ266","v":0}]
[null,null,null,null,null,null,null,null,null,null,null,null,0,null,0,null,0,null,0,null,0,null,0,null,0,null,0,null,0,{"$f":"Formulas!D267","v":0},{"$f":"Formulas!H267","v":0},{"$f":"Formulas!L267","v":0},{"$f":"Formulas!P267","v":0},{"$f":"Formulas!T267","v":0},{"$f":"Formulas!X267","v":0},{"$f":"Formulas!AB267","v":0},{"$f":"Formulas!AF267","v":0},{"$f":"Formulas!AJ267","v":0}]
[null,null,null,null,null,null,null,null,null,null,null,null,0,null,0,null,0,null,0,null,0,null,0,null,0,null,0,null,0,{"$f":"Formulas!D268","v":0},{"$f":"Formulas!H268","v":0},{"$f":"Formulas!L268","v":0},{"$f":"Formulas!P268","v":0},{"$f":"Formulas!T268","v":0},{"$f":"Formulas!X268","v":0},{"$f":"Formulas!AB268","v":0},{"$f":"Formulas!AF268","v":0},{"$f":"Formulas!AJ268","v":0}]
[null,null,null,null,null,null,null,null,null,null,null,null,0,null,0,null,0,null,0,null,0,null,0,null,0,null,0,null,0,{"$f":"Formulas!D269","v":0},{"$f":"Formulas!H269","v":0},{"$f":"Formulas!L269","v":0},{"$f":"Formulas!P269","v":0},{"$f":"Formulas!T269","v":0},{"$f":"Formulas!X269","v":0},{"$f":"Formulas!AB269","v":0},{"$f":"Formulas!AF269","v":0},{"$f":"Formulas!AJ269","v":0}]
[null,null,null,null,null,null,null,null,null,null,null,null,0,null,0,null,0,null,0,null,0,null,0,null,0,null,0,null,0,{"$f":"Formulas!D270","v":0},{"$f":"Formulas!H270","v":0},{"$f":"Formulas!L270","v":0},{"$f":"Formulas!P270","v":0},{"$f":"Formulas!T270","v":0},{"$f":"Formulas!X270","v":0},{"$f":"Formulas!AB270","v":0},{"$f":"Formulas!AF270","v":0},{"$f":"Formulas!AJ270","v":0}]
[null,null,null,null,null,null,null,null,null,null,null,null,0,null,0,null,0,null,0,null,0,null,0,null,0,null,0,null,0,{"$f":"Formulas!D271","v":0},{"$f":"Formulas!H271","v":0},{"$f":"Formulas!L271","v":0},{"$f":"Formulas!P271","v":0},{"$f":"Formulas!T271","v":0},{"$f":"Formulas!X271","v":0},{"$f":"Formulas!AB271","v":0},{"$f":"Formulas!AF271","v":0},{"$f":"Formulas!AJ271","v":0}]
[null,null,null,null,null,null,null,null,null,null,null,null,0,null,0,null,0,null,0,null,0,null,0,null,0,null,0,null,0,{"$f":"Formulas!D272","v":0},{"$f":"Formulas!H272","v":0},{"$f":"Formulas!L272","v":0},{"$f":"Formulas!P272","v":0},{"$f":"Formulas!T272","v":0},{"$f":"Formulas!X272","v":0},{"$f":"Formulas!AB272","v":0},{"$f":"Formulas!AF272","v":0},{"$f":"Formulas!AJ272","v":0}]
[null,null,null,null,null,null,null,null,null,null,null,null,0,null,0,null,0,null,0,null,0,null,0,null,0,null,0,null,0,{"$f":"Formulas!D273","v":0},{"$f":"Formulas!H273","v":0},{"$f":"Formulas!L273","v":0},{"$f":"Formulas!P273","v":0},{"$f":"Formulas!T273","v":0},{"$f":"Formulas!X273","v":0},{"$f":"Formulas!AB273","v":0},{"$f":"Formulas!AF273","v":0},{"$f":"Formulas!AJ273","v":0}]
[null,null,null,null,null,null,null,null,null,null,null,null,0,null,0,null,0,null,0,null,0,null,0,null,0,null,0,null,0,{"$f":"Formulas!D274","v":0},{"$f":"Formulas!H274","v":0},{"$f":"Formulas!L274","v":0},{"$f":"Formulas!P274","v":0},{"$f":"Formulas!T274","v":0},{"$f":"Formulas!X274","v":0},{"$f":"Formulas!AB274","v":0},{"$f":"Formulas!AF274","v":0},{"$f":"Formulas!AJ274","v":0}]
[null,null,null,null,null,null,null,null,null,null,null,null,0,null,0,null,0,null,0,null,0,null,0,null,0,null,0,null,0,{"$f":"Formulas!D275","v":0},{"$f":"Formulas!H275","v":0},{"$f":"Formulas!L275","v":0},{"$f":"Formulas!P275","v":0},{"$f":"Formulas!T275","v":0},{"$f":"Formulas!X275","v":0},{"$f":"Formulas!AB275","v":0},{"$f":"Formulas!AF275","v":0},{"$f":"Formulas!AJ275","v":0}]
[null,null,null,null,null,null,null,null,null,null,null,null,0,null,0,null,0,null,0,null,0,null,0,null,0,null,0,null,0,{"$f":"Formulas!D276","v":0},{"$f":"Formulas!H276","v":0},{"$f":"Formulas!L276","v":0},{"$f":"Formulas!P276","v":0},{"$f":"Formulas!T276","v":0},{"$f":"Formulas!X276","v":0},{"$f":"Formulas!AB276","v":0},{"$f":"Formulas!AF276","v":0},{"$f":"Formulas!AJ276","v":0}]
[null,null,null,null,null,null,null,null,null,null,null,null,0,null,0,null,0,null,0,null,0,null,0,null,0,null,0,null,0,{"$f":"Formulas!D277","v":0},{"$f":"Formulas!H277","v":0},{"$f":"Formulas!L277","v":0},{"$f":"Formulas!P277","v":0},{"$f":"Formulas!T277","v":0},{"$f":"Formulas!X277","v":0},{"$f":"Formulas!AB277","v":0},{"$f":"Formulas!AF277","v":0},{"$f":"Formulas!AJ277","v":0}]
[null,null,null,null,null,null,null,null,null,null,null,null,0,null,0,null,0,null,0,null,0,null,0,null,0,null,0,null,0,{"$f":"Formulas!D278","v":0},{"$f":"Formulas!H278","v":0},{"$f":"Formulas!L278","v":0},{"$f":"Formulas!P278","v":0},{"$f":"Formulas!T278","v":0},{"$f":"Formulas!X278","v":0},{"$f":"Formulas!AB278","v":0},{"$f":"Formulas!AF278","v":0},{"$f":"Formulas!AJ278","v":0}]
[null,null,null,null,null,null,null,null,null,null,null,null,0,null,0,null,0,null,0,null,0,null,0,null,0,null,0,null,0,{"$f":"Formulas!D279","v":0},{"$f":"Formulas!H279","v":0},{"$f":"Formulas!L279","v":0},{"$f":"Formulas!P279","v":0},{"$f":"Formulas!T279","v":0},{"$f":"Formulas!X279","v":0},{"$f":"Formulas!AB279","v":0},{"$f":"Formulas!AF279","v":0},{"$f":"Formulas!AJ279","v":0}]
[null,null,null,null,null,null,null,null,null,null,null,null,0,null,0,null,0,null,0,null,0,null,0,null,0,null,0,null,0,{"$f":"Formulas!D280","v":0},{"$f":"Formulas!H280","v":0},{"$f":"Formulas!L280","v":0},{"$f":"Formulas!P280","v":0},{"$f":"Formulas!T280","v":0},{"$f":"Formulas!X280","v":0},{"$f":"Formulas!AB280","v":0},{"$f":"Formulas!AF280","v":0},{"$f":"Formulas!AJ280","v":0}]
[null,null,null,null,null,null,null,null,null,null,null,null,0,null,0,null,0,null,0,null,0,null,0,null,0,null,0,null,0,{"$f":"Formulas!D281","v":0},{"$f":"Formulas!H281","v":0},{"$f":"Formulas!L281","v":0},{"$f":"Formulas!P281","v":0},{"$f":"Formulas!T281","v":0},{"$f":"Formulas!X281","v":0},{"$f":"Formulas!AB281","v":0},{"$f":"Formulas!AF281","v":0},{"$f":"Formulas!AJ281","v":0}]
[null,null,null,null,null,null,null,null,null,null,null,null,0,null,0,null,0,null,0,null,0,null,0,null,0,null,0,null,0,{"$f":"Formulas!D282","v":0},{"$f":"Formulas!H282","v":0},{"$f":"Formulas!L282","v":0},{"$f":"Formulas!P282","v":0},{"$f":"Formulas!T282","v":0},{"$f":"Formulas!X282","v":0},{"$f":"Formulas!AB282","v":0},{"$f":"Formulas!AF282","v":0},{"$f":"Formulas!AJ282","v":0}]
[null,null,null,null,null,null,null,null,null,null,null,null,0,null,0,null,0,null,0,null,0,null,0,null,0,null,0,null,0,{"$f":"Formulas!D283","v":0},{"$f":"Formulas!H283","v":0},{"$f":"Formulas!L283","v":0},{"$f":"Formulas!P283","v":0},{"$f":"Formulas!T283","v":0},{"$f":"Formulas!X283","v":0},{"$f":"Formulas!AB283","v":0},{"$f":"Formulas!AF283","v":0},{"$f":"Formulas!AJ283","v":0}]
[null,null,null,null,null,null,null,null,null,null,null,null,0,null,0,null,0,null,0,null,0,null,0,null,0,null,0,null,0,{"$f":"Formulas!D284","v":0},{"$f":"Formulas!H284","v":0},{"$f":"Formulas!L284","v":0},{"$f":"Formulas!P284","v":0},{"$f":"Formulas!T284","v":0},{"$f":"Formulas!X284","v":0},{"$f":"Formulas!AB284","v":0},{"$f":"Formulas!AF284","v":0},{"$f":"Formulas!AJ284","v":0}]
[null,null,null,null,null,null,null,null,null,null,null,null,0,null,0,null,0,null,0,null,0,null,0,null,0,null,0,null,0,{"$f":"Formulas!D285","v":0},{"$f":"Formulas!H285","v":0},{"$f":"Formulas!L285","v":0},{"$f":"Formulas!P285","v":0},{"$f":"Formulas!T285","v":0},{"$f":"Formulas!X285","v":0},{"$f":"Formulas!AB285","v":0},{"$f":"Formulas!AF285","v":0},{"$f":"Formulas!AJ285","v":0}]
[null,null,null,null,null,null,null,null,null,null,null,null,0,null,0,null,0,null,0,null,0,null,0,null,0,null,0,null,0,{"$f":"Formulas!D286","v":0},{"$f":"Formulas!H286","v":0},{"$f":"Formulas!L286","v":0},{"$f":"Formulas!P286","v":0},{"$f":"Formulas!T286","v":0},{"$f":"Formulas!X286","v":0},{"$f":"Formulas!AB286","v":0},{"$f":"Formulas!AF286","v":0},{"$f":"Formulas!AJ286","v":0}]
[null,null,null,null,null,null,null,null,null,null,null,null,0,null,0,null,0,null,0,null,0,null,0,null,0,null,0,null,0,{"$f":"Formulas!D287","v":0},{"$f":"Formulas!H287","v":0},{"$f":"Formulas!L287","v":0},{"$f":"Formulas!P287","v":0},{"$f":"Formulas!T287","v":0},{"$f":"Formulas!X287","v":0},{"$f":"Formulas!AB287","v":0},{"$f":"Formulas!AF287","v":0},{"$f":"Formulas!AJ287","v":0}]
[null,null,null,null,null,null,null,null,null,null,null,null,0,null,0,null,0,null,0,null,0,null,0,null,0,null,0,null,0,{"$f":"Formulas!D288","v":0},{"$f":"Formulas!H288","v":0},{"$f":"Formulas!L288","v":0},{"$f":"Formulas!P288","v":0},{"$f":"Formulas!T288","v":0},{"$f":"Formulas!X288","v":0},{"$f":"Formulas!AB288","v":0},{"$f":"Formulas!AF288","v":0},{"$f":"Formulas!AJ288","v":0}]
[null,null,null,null,null,null,null,null,null,null,null,null,0,null,0,null,0,null,0,null,0,null,0,null,0,null,0,null,0,{"$f":"Formulas!D289","v":0},{"$f":"Formulas!H289","v":0},{"$f":"Formulas!L289","v":0},{"$f":"Formulas!P289","v":0},{"$f":"Formulas!T289","v":0},{"$f":"Formulas!X289","v":0},{"$f":"Formulas!AB289","v":0},{"$f":"Formulas!AF289","v":0},{"$f":"Formulas!AJ289","v":0}]
[null,null,null,null,null,null,null,null,null,null,null,null,0,null,0,null,0,null,0,null,0,null,0,null,0,null,0,null,0,{"$f":"Formulas!D290","v":0},{"$f":"Formulas!H290","v":0},{"$f":"Formulas!L290","v":0},{"$f":"Formulas!P290","v":0},{"$f":"Formulas!T290","v":0},{"$f":"Formulas!X290","v":0},{"$f":"Formulas!AB290","v":0},{"$f":"Formulas!AF290","v":0},{"$f":"Formulas!AJ290","v":0}]
[null,null,null,null,null,null,null,null,null,null,null,null,0,null,0,null,0,null,0,null,0,null,0,null,0,null,0,null,0,{"$f":"Formulas!D291","v":0},{"$f":"Formulas!H291","v":0},{"$f":"Formulas!L291","v":0},{"$f":"Formulas!P291","v":0},{"$f":"Formulas!T291","v":0},{"$f":"Formulas!X291","v":0},{"$f":"Formulas!AB291","v":0},{"$f":"Formulas!AF291","v":0},{"$f":"Formulas!AJ291","v":0}]
[null,null,null,null,null,null,null,null,null,null,null,null,0,null,0,null,0,null,0,null,0,null,0,null,0,null,0,null,0,{"$f":"Formulas!D292","v":0},{"$f":"Formulas!H292","v":0},{"$f":"Formulas!L292","v":0},{"$f":"Formulas!P292","v":0},{"$f":"Formulas!T292","v":0},{"$f":"Formulas!X292","v":0},{"$f":"Formulas!AB292","v":0},{"$f":"Formulas!AF292","v":0},{"$f":"Formulas!AJ292","v":0}]
[null,null,null,null,null,null,null,null,null,null,null,null,0,null,0,null,0,null,0,null,0,null,0,null,0,null,0,null,0,{"$f":"Formulas!D293","v":0},{"$f":"Formulas!H293","v":0},{"$f":"Formulas!L293","v":0},{"$f":"Formulas!P293","v":0},{"$f":"Formulas!T293","v":0},{"$f":"Formulas!X293","v":0},{"$f":"Formulas!AB293","v":0},{"$f":"Formulas!AF293","v":0},{"$f":"Formulas!AJ293","v":0}]
[null,null,null,null,null,null,null,null,null,null,null,null,0,null,0,null,0,null,0,null,0,null,0,null,0,null,0,null,0,{"$f":"Formulas!D294","v":0},{"$f":"Formulas!H294","v":0},{"$f":"Formulas!L294","v":0},{"$f":"Formulas!P294","v":0},{"$f":"Formulas!T294","v":0},{"$f":"Formulas!X294","v":0},{"$f":"Formulas!AB294","v":0},{"$f":"Formulas!AF294","v":0},{"$f":"Formulas!AJ294","v":0}]
[null,null,null,null,null,null,null,null,null,null,null,null,0,null,0,null,0,null,0,null,0,null,0,null,0,null,0,null,0,{"$f":"Formulas!D295","v":0},{"$f":"Formulas!H295","v":0},{"$f":"Formulas!L295","v":0},{"$f":"Formulas!P295","v":0},{"$f":"Formulas!T295","v":0},{"$f":"Formulas!X295","v":0},{"$f":"Formulas!AB295","v":0},{"$f":"Formulas!AF295","v":0},{"$f":"Formulas!AJ295","v":0}]
[null,null,null,null,null,null,null,null,null,null,null,null,0,null,0,null,0,null,0,null,0,null,0,null,0,null,0,null,0,{"$f":"Formulas!D296","v":0},{"$f":"Formulas!H296","v":0},{"$f":"Formulas!L296","v":0},{"$f":"Formulas!P296","v":0},{"$f":"Formulas!T296","v":0},{"$f":"Formulas!X296","v":0},{"$f":"Formulas!AB296","v":0},{"$f":"Formulas!AF296","v":0},{"$f":"Formulas!AJ296","v":0}]
[null,null,null,null,null,null,null,null,null,null,null,null,0,null,0,null,0,null,0,null,0,null,0,null,0,null,0,null,0,{"$f":"Formulas!D297","v":0},{"$f":"Formulas!H297","v":0},{"$f":"Formulas!L297","v":0},{"$f":"Formulas!P297","v":0},{"$f":"Formulas!T297","v":0},{"$f":"Formulas!X297","v":0},{"$f":"Formulas!AB297","v":0},{"$f":"Formulas!AF297","v":0},{"$f":"Formulas!AJ297","v":0}]
[null,null,null,null,null,null,null,null,null,null,null,null,0,null,0,null,0,null,0,null,0,null,0,null,0,null,0,null,0,{"$f":"Formulas!D298","v":0},{"$f":"Formulas!H298","v":0},{"$f":"Formulas!L298","v":0},{"$f":"Formulas!P298","v":0},{"$f":"Formulas!T298","v":0},{"$f":"Formulas!X298","v":0},{"$f":"Formulas!AB298","v":0},{"$f":"Formulas!AF298","v":0},{"$f":"Formulas!AJ298","v":0}]
[null,null,null,null,null,null,null,null,null,null,null,null,0,null,0,null,0,null,0,null,0,null,0,null,0,null,0,null,0,{"$f":"Formulas!D299","v":0},{"$f":"Formulas!H299","v":0},{"$f":"Formulas!L299","v":0},{"$f":"Formulas!P299","v":0},{"$f":"Formulas!T299","v":0},{"$f":"Formulas!X299","v":0},{"$f":"Formulas!AB299","v":0},{"$f":"Formulas!AF299","v":0},{"$f":"Formulas!AJ299","v":0}]
[null,null,null,null,null,null,null,null,null,null,null,null,0,null,0,null,0,null,0,null,0,null,0,null,0,null,0,null,0,{"$f":"Formulas!D300","v":0},{"$f":"Formulas!H300","v":0},{"$f":"Formulas!L300","v":0},{"$f":"Formulas!P300","v":0},{"$f":"Formulas!T300","v":0},{"$f":"Formulas!X300","v":0},{"$f":"Formulas!AB300","v":0},{"$f":"Formulas!AF300","v":0},{"$f":"Formulas!AJ300","v":0}]
[null,null,null,null,null,null,null,null,null,null,null,null,0,null,0,null,0,null,0,null,0,null,0,null,0,null,0,null,0]
[null,null,null,null,null,null,null,null,null,null,null,null,0,null,0,null,0,null,0,null,0,null,0,null,0,null,0,null,0]
[null,null,null,null,null,null,null,null,null,null,null,null,0,null,0,null,0,null,0,null,0,null,0,null,0,null,0,null,0]
[null,null,null,null,null,null,null,null,null,null,null,null,0,null,0,null,0,null,0,null,0,null,0,null,0,null,0,null,0]
[null,null,null,null,null,null,null,null,null,null,null,null,0,null,0,null,0,null,0,null,0,null,0,null,0,null,0,null,0]
[null,null,null,null,null,null,null,null,null,null,null,null,0,null,0,null,0,null,0,null,0,null,0,null,0,null,0,null,0]
[null,null,null,null,null,null,null,null,null,null,null,null,0,null,0,null,0,null,0,null,0,null,0,null,0,null,0,null,0]
[null,null,null,null,null,null,null,null,null,null,null,null,0,null,0,null,0,null,0,null,0,null,0,null,0,null,0,null,0]
[null,null,null,null,null,null,null,null,null,null,null,null,0,null,0,null,0,null,0,null,0,null,0,null,0,null,0,null,0]
[null,null,null,null,null,null,null,null,null,null,null,null,0,null,0,null,0,null,0,null,0,null,0,null,0,null,0,null,0]
[null,null,null,null,null,null,null,null,null,null,null,null,0,null,0,null,0,null,0,null,0,null,0,null,0,null,0,null,0]
[null,null,null,null,null,null,null,null,null,null,null,null,0,null,0,null,0,null,0,null,0,null,0,null,0,null,0,null,0]
[null,null,null,null,null,null,null,null,null,null,null,null,0,null,0,null,0,null,0,null,0,null,0,null,0,null,0,null,0]
[null,null,null,null,null,null,null,null,null,null,null,null,0,null,0,null,0,null,0,null,0,null,0,null,0,null,0,null,0]
[null,null,null,null,null,null,null,null,null,null,null,null,0,null,0,null,0,null,0,null,0,null,0,null,0,null,0,null,0]
[null,null,null,null,null,null,null,null,null,null,null,null,0,null,0,null,0,null,0,null,0,null,0,null,0,null,0,null,0]
[null,null,null,null,null,null,null,null,null,null,null,null,0,null,0,null,0,null,0,null,0,null,0,null,0,null,0,null,0]
[null,null,null,null,null,null,null,null,null,null,null,null,0,null,0,null,0,null,0,null,0,null,0,null,0,null,0,null,0]
[null,null,null,null,null,null,null,null,null,null,null,null,0,null,0,null,0,null,0,null,0,null,0,null,0,null,0,null,0]
[null,null,null,null,null,null,null,null,null,null,null,null,0,null,0,null,0,null,0,null,0,null,0,null,0,null,0,null,0]
[null,null,null,null,null,null,null,null,null,null,null,null,0,null,0,null,0,null,0,null,0,null,0,null,0,null,0,null,0]
[null,null,null,null,null,null,null,null,null,null,null,null,0,null,0,null,0,null,0,null,0,null,0,null,0,null,0,null,0]
[null,null,null,null,null,null,null,null,null,null,null,null,0,null,0,null,0,null,0,null,0,null,{"$f":"IF(AI323=\"Not eligible\", \"Not eligible\", AI323)","v":0},null,0,null,0,null,0]
[null,null,null,null,null,null,null,null,null,null,null,null,0,null,0,null,0,null,{"$f":"IF(AG324=\"Not eligible\", \"Not eligible\", AG324)","v":0},null,{"$f":"IF(AH324=\"Not eligible\", \"Not eligible\", AH324)","v":0},null,0,null,{"$f":"IF(AJ324=\"Not eligible\", \"Not eligible\", AJ324)","v":0},null,{"$f":"IF(AK324=\"Not eligible\", \"Not eligible\", AK324)","v":0},null,{"$f":"IF(AL324=\"Not eligible\", \"Not eligible\",AL324)","v":0}]
[null,null,null,null,null,null,null,null,null,null,null,null,{"$f":"IF(AD325=\"Not eligible\", \"Not eligible\", AD325)","v":0},null,0,null,0,null,0,null,0,null,0,null,0,null,0,null,0]
[null,null,null,null,null,null,null,null,null,null,null,null,0,null,0,null,0,null,0,null,0,null,0,null,0,null,0,null,0]
[null,null,null,null,null,null,null,null,null,null,null,null,0,null,0,null,{"$f":"IF(AF327=\"Not eligible\", \"Not eligible\", AF327)","v":0},null,0,null,0,null,0,null,0,null,0,null,0]
[null,null,null,null,null,null,null,null,null,null,null,null,0,null,0,null,0,null,0,null,0,null,0,null,0,null,0,null,0]
[null,null,null,null,null,null,null,null,null,null,null,null,0,null,0,null,0,null,0,null,0,null,0,null,0,null,0,null,0]
[null,null,null,null,null,null,null,null,null,null,null,null,0,null,{"$f":"IF(AE330=\"Not eligible\", \"Not eligible\", AE330)","v":0},null,0,null,0,null,0,null,0,null,0,null,0,null,0]
[null,null,null,null,null,null,null,null,null,null,null,null,0,null,0,null,0,null,0,null,0,null,0,null,0,null,0,null,0]
[null,null,null,null,null,null,null,null,null,null,null,null,0,null,0,null,0,null,0,null,0,null,0,null,0,null,0,null,0]
[null,null,null,null,null,null,null,null,null,null,null,null,0,null,0,null,0,null,0,null,0,null,0,null,0,null,0,null,0]
[null,null,null,null,null,null,null,null,null,null,null,null,0,null,0,null,0,null,0,null,0,null,0,null,0,null,0,null,0]
[null,null,null,null,null,null,null,null,null,null,null,null,0,null,0,null,0,null,0,null,0,null,0,null,0,null,0,null,0]
[null,null,null,null,null,null,null,null,null,null,null,null,0,null,0,null,0,null,0,null,0,null,0,null,0,null,0,null,0]
[null,null,null,null,null,null,null,null,null,null,null,null,0,null,0,null,0,null,0,null,0,null,0,null,0,null,0,null,0]
[null,null,null,null,null,null,null,null,null,null,null,null,0,null,0,null,0,null,0,null,0,null,0,null,0,null,0,null,0]
[null,null,null,null,null,null,null,null,null,null,null,null,0,null,0,null,0,null,0,null,0,null,0,null,0,null,0,null,0]
[null,null,null,null,null,null,null,null,null,null,null,null,0,null,0,null,0,null,0,null,0,null,0,null,0,null,0,null,0]
[null,null,null,null,null,null,null,null,null,null,null,null,0,null,0,null,0,null,0,null,0,null,0,null,0,null,0,null,0]
[null,null,null,null,null,null,null,null,null,null,null,null,0,null,0,null,0,null,0,null,0,null,0,null,0,null,0,null,0]
[null,null,null,null,null,null,null,null,null,null,null,null,0,null,0,null,0,null,0,null,0,null,0,null,0,null,0,null,0]
[null,null,null,null,null,null,null,null,null,null,null,null,0,null,0,null,0,null,0,null,0,null,0,null,0,null,0,null,0]
[null,null,null,null,null,null,null,null,null,null,null,null,0,null,0,null,0,null,0,null,0,null,0,null,0,null,0,null,0]
[null,null,null,null,null,null,null,null,null,null,null,null,0,null,0,null,0,null,0,null,0,null,0,null,0,null,0,null,0]
[null,null,null,null,null,null,null,null,null,null,null,null,0,null,0,null,0,null,0,null,0,null,0,null,0,null,0,null,0]
[null,null,null,null,null,null,null,null,null,null,null,null,0,null,0,null,0,null,0,null,0,null,0,null,0,null,0,null,0]
[null,null,null,null,null,null,null,null,null,null,null,null,0,null,0,null,0,null,0,null,0,null,0,null,0,null,0,null,0]
[null,null,null,null,null,null,null,null,null,null,null,null,0,null,0,null,0,null,0,null,0,null,0,null,0,null,0,null,0]
[null,null,null,null,null,null,null,null,null,null,null,null,0,null,0,null,0,null,0,null,0,null,0,null,0,null,0,null,0]
[null,null,null,null,null,null,null,null,null,null,null,null,0,null,0,null,0,null,0,null,0,null,0,null,0,null,0,null,0]
[null,null,null,null,null,null,null,null,null,null,null,null,0,null,0,null,0,null,0,null,0,null,0,null,0,null,0,null,0]
[null,null,null,null,null,null,null,null,null,null,null,null,0,null,0,null,0,null,0,null,0,null,0,null,0,null,0,null,0]
[null,null,null,null,null,null,null,null,null,null,null,null,0,null,0,null,0,null,0,null,0,null,0,null,0,null,0,null,0]
[null,null,null,null,null,null,null,null,null,null,null,null,0,null,0,null,0,null,0,null,0,null,0,null,0,null,0,null,0]
[null,null,null,null,null,null,null,null,null,null,null,null,0,null,0,null,0,null,0,null,0,null,0,null,0,null,0,null,0]
[null,null,null,null,null,null,null,null,null,null,null,null,0,null,0,null,0,null,0,null,0,null,0,null,0,null,0,null,0]
[null,null,null,null,null,null,null,null,null,null,null,null,0,null,0,null,0,null,0,null,0,null,0,null,0,null,0,null,0]
[null,null,null,null,null,null,null,null,null,null,null,null,0,null,0,null,0,null,0,null,0,null,0,null,0,null,0,null,0]
[null,null,null,null,null,null,null,null,null,null,null,null,0,null,0,null,0,null,0,null,0,null,0,null,0,null,0,null,0]
[null,null,null,null,null,null,null,null,null,null,null,null,0,null,0,null,0,null,0,null,0,null,0,null,0,null,0,null,0]
[null,null,null,null,null,null,null,null,null,null,null,null,0,null,0,null,0,null,0,null,0,null,0,null,0,null,0,null,0]
[null,null,null,null,null,null,null,null,null,null,null,null,0,null,0,null,0,null,0,null,0,null,0,null,0,null,0,null,0]
[null,null,null,null,null,null,null,null,null,null,null,null,0,null,0,null,0,null,0,null,0,null,0,null,0,null,0,null,0]
[null,null,null,null,null,null,null,null,null,null,null,null,0,null,0,null,0,null,0,null,0,null,0,null,0,null,0,null,0]
[null,null,null,null,null,null,null,null,null,null,null,null,0,null,0,null,0,null,0,null,0,null,0,null,0,null,0,null,0]
[null,null,null,null,null,null,null,null,null,null,null,null,0,null,0,null,0,null,0,null,0,null,0,null,0,null,0,null,0]
[null,null,null,null,null,null,null,null,null,null,null,null,0,null,0,null,0,null,0,null,0,null,0,null,0,null,0,null,0]
[null,null,null,null,null,null,null,null,null,null,null,null,0,null,0,null,0,null,0,null,0,null,0,null,0,null,0,null,0]
[null,null,null,null,null,null,null,null,null,null,null,null,0,null,0,null,0,null,0,null,0,null,0,null,0,null,0,null,0]
[null,null,null,null,null,null,null,null,null,null,null,null,0,null,0,null,0,null,0,null,0,null,0,null,0,null,0,null,0]
[null,null,null,null,null,null,null,null,null,null,null,null,0,null,0,null,0,null,0,null,0,null,0,null,0,null,0,null,0]
[null,null,null,null,null,null,null,null,null,null,null,null,0,null,0,null,0,null,0,null,0,null,0,null,0,null,0,null,0]
[null,null,null,null,null,null,null,null,null,null,null,null,0,null,0,null,0,null,0,null,0,null,0,null,0,null,0,null,0]
[null,null,null,null,null,null,null,null,null,null,null,null,0,null,0,null,0,null,0,null,0,null,0,null,0,null,0,null,0]
[null,null,null,null,null,null,null,null,null,null,null,null,0,null,0,null,0,null,0,null,0,null,0,null,0,null,0,null,0]
[null,null,null,null,null,null,null,null,null,null,null,null,0,null,0,null,0,null,0,null,0,null,0,null,0,null,0,null,0]
[null,null,null,null,null,null,null,null,null,null,null,null,0,null,0,null,0,null,0,null,0,null,0,null,0,null,0,null,0]
[null,null,null,null,null,null,null,null,null,null,null,null,0,null,0,null,0,null,0,null,0,null,0,null,0,null,0,null,0]
[null,null,null,null,null,null,null,null,null,null,null,null,0,null,0,null,0,null,0,null,0,null,0,null,0,null,0,null,0]
[null,null,null,null,null,null,null,null,null,null,null,null,0,null,0,null,0,null,0,null,0,null,0,null,0,null,0,null,0]
[null,null,null,null,null,null,null,null,null,null,null,null,0,null,0,null,0,null,0,null,0,null,0,null,0,null,0,null,0]
[null,null,null,null,null,null,null,null,null,null,null,null,0,null,0,null,0,null,0,null,0,null,0,null,0,null,0,null,0]
[null,null,null,null,null,null,null,null,null,null,null,null,0,null,0,null,0,null,0,null,0,null,0,null,0,null,0,null,0]
[null,null,null,null,null,null,null,null,null,null,null,null,0,null,0,null,0,null,0,null,0,null,0,null,0,null,0,null,0]
[null,null,null,null,null,null,null,null,null,null,null,null,0,null,0,null,0,null,0,null,0,null,{"$f":"IF(AI387=\"Not eligible\", \"Not eligible\", AI387)","v":0},null,0,null,0,null,0]
[null,null,null,null,null,null,null,null,null,null,null,null,0,null,0,null,0,null,{"$f":"IF(AG388=\"Not eligible\", \"Not eligible\", AG388)","v":0},null,{"$f":"IF(AH388=\"Not eligible\", \"Not eligible\", AH388)","v":0},null,0,null,{"$f":"IF(AJ388=\"Not eligible\", \"Not eligible\", AJ388)","v":0},null,{"$f":"IF(AK388=\"Not eligible\", \"Not eligible\", AK388)","v":0},null,{"$f":"IF(AL388=\"Not eligible\", \"Not eligible\",AL388)","v":0}]
[null,null,null,null,null,null,null,null,null,null,null,null,{"$f":"IF(AD389=\"Not eligible\", \"Not eligible\", AD389)","v":0},null,0,null,0,null,0,null,0,null,0,null,0,null,0,null,0]
[null,null,null,null,null,null,null,null,null,null,null,null,0,null,0,null,0,null,0,null,0,null,0,null,0,null,0,null,0]
[null,null,null,null,null,null,null,null,null,null,null,null,0,null,0,null,{"$f":"IF(AF391=\"Not eligible\", \"Not eligible\", AF391)","v":0},null,0,null,0,null,0,null,0,null,0,null,0]
[null,null,null,null,null,null,null,null,null,null,null,null,0,null,0,null,0,null,0,null,0,null,0,null,0,null,0,null,0]
[null,null,null,null,null,null,null,null,null,null,null,null,0,null,0,null,0,null,0,null,0,null,0,null,0,null,0,null,0]
[null,null,null,null,null,null,null,null,null,null,null,null,0,null,{"$f":"IF(AE394=\"Not eligible\", \"Not eligible\", AE394)","v":0},null,0,null,0,null,0,null,0,null,0,null,0,null,0]
[null,null,null,null,null,null,null,null,null,null,null,null,0,null,0,null,0,null,0,null,0,null,0,null,0,null,0,null,0]
[null,null,null,null,null,null,null,null,null,null,null,null,0,null,0,null,0,null,0,null,0,null,0,null,0,null,0,null,0]
[null,null,null,null,null,null,null,null,null,null,null,null,0,null,0,null,0,null,0,null,0,null,0,null,0,null,0,null,0]
[null,null,null,null,null,null,null,null,null,null,null,null,0,null,0,null,0,null,0,null,0,null,0,null,0,null,0,null,0]
[null,null,null,null,null,null,null,null,null,null,null,null,0,null,0,null,0,null,0,null,0,null,0,null,0,null,0,null,0]
[null,null,null,null,null,null,null,null,null,null,null,null,0,null,0,null,0,null,0,null,0,null,0,null,0,null,0,null,0]
[null,null,null,null,null,null,null,null,null,null,null,null,0,null,0,null,0,null,0,null,0,null,0,null,0,null,0,null,0]
[null,null,null,null,null,null,null,null,null,null,null,null,0,null,0,null,0,null,0,null,0,null,0,null,0,null,0,null,0]
[null,null,null,null,null,null,null,null,null,null,null,null,0,null,0,null,0,null,0,null,0,null,0,null,0,null,0,null,0]
[null,null,null,null,null,null,null,null,null,null,null,null,0,null,0,null,0,null,0,null,0,null,0,null,0,null,0,null,0]
[null,null,null,null,null,null,null,null,null,null,null,null,0,null,0,null,0,null,0,null,0,null,0,null,0,null,0,null,0]
[null,null,null,null,null,null,null,null,null,null,null,null,0,null,0,null,0,null,0,null,0,null,0,null,0,null,0,null,0]
[null,null,null,null,null,null,null,null,null,null,null,null,0,null,0,null,0,null,0,null,0,null,0,null,0,null,0,null,0]
[null,null,null,null,null,null,null,null,null,null,null,null,0,null,0,null,0,null,0,null,0,null,0,null,0,null,0,null,0]
[null,null,null,null,null,null,null,null,null,null,null,null,0,null,0,null,0,null,0,null,0,null,0,null,0,null,0,null,0]
[null,null,null,null,null,null,null,null,null,null,null,null,0,null,0,null,0,null,0,null,0,null,0,null,0,null,0,null,0]
[null,null,null,null,null,null,null,null,null,null,null,null,0,null,0,null,0,null,0,null,0,null,0,null,0,null,0,null,0]
[null,null,null,null,null,null,null,null,null,null,null,null,0,null,0,null,0,null,0,null,0,null,0,null,0,null,0,null,0]
[null,null,null,null,null,null,null,null,null,null,null,null,0,null,0,null,0,null,0,null,0,null,0,null,0,null,0,null,0]
[null,null,null,null,null,null,null,null,null,null,null,null,0,null,0,null,0,null,0,null,0,null,0,null,0,null,0,null,0]
[null,null,null,null,null,null,null,null,null,null,null,null,0,null,0,null,0,null,0,null,0,null,0,null,0,null,0,null,0]
[null,null,null,null,null,null,null,null,null,null,null,null,0,null,0,null,0,null,0,null,0,null,0,null,0,null,0,null,0]
[null,null,null,null,null,null,null,null,null,null,null,null,0,null,0,null,0,null,0,null,0,null,0,null,0,null,0,null,0]
[null,null,null,null,null,null,null,null,null,null,null,null,0,null,0,null,0,null,0,null,0,null,0,null,0,null,0,null,0]
[null,null,null,null,null,null,null,null,null,null,null,null,0,null,0,null,0,null,0,null,0,null,0,null,0,null,0,null,0]
[null,null,null,null,null,null,null,null,null,null,null,null,0,null,0,null,0,null,0,null,0,null,0,null,0,null,0,null,0]
[null,null,null,null,null,null,null,null,null,null,null,null,0,null,0,null,0,null,0,null,0,null,0,null,0,null,0,null,0]
[null,null,null,null,null,null,null,null,null,null,null,null,0,null,0,null,0,null,0,null,0,null,0,null,0,null,0,null,0]
[null,null,null,null,null,null,null,null,null,null,null,null,0,null,0,null,0,null,0,null,0,null,0,null,0,null,0,null,0]
[null,null,null,null,null,null,null,null,null,null,null,null,0,null,0,null,0,null,0,null,0,null,0,null,0,null,0,null,0]
[null,null,null,null,null,null,null,null,null,null,null,null,0,null,0,null,0,null,0,null,0,null,0,null,0,null,0,null,0]
[null,null,null,null,null,null,null,null,null,null,null,null,0,null,0,null,0,null,0,null,0,null,0,null,0,null,0,null,0]
[null,null,null,null,null,null,null,null,null,null,null,null,0,null,0,null,0,null,0,null,0,null,0,null,0,null,0,null,0]
[null,null,null,null,null,null,null,null,null,null,null,null,0,null,0,null,0,null,0,null,0,null,0,null,0,null,0,null,0]
[null,null,null,null,null,null,null,null,null,null,null,null,0,null,0,null,0,null,0,null,0,null,0,null,0,null,0,null,0]
[null,null,null,null,null,null,null,null,null,null,null,null,0,null,0,null,0,null,0,null,0,null,0,null,0,null,0,null,0]
[null,null,null,null,null,null,null,null,null,null,null,null,0,null,0,null,0,null,0,null,0,null,0,null,0,null,0,null,0]
[null,null,null,null,null,null,null,null,null,null,null,null,0,null,0,null,0,null,0,null,0,null,0,null,0,null,0,null,0]
[null,null,null,null,null,null,null,null,null,null,null,null,0,null,0,null,0,null,0,null,0,null,0,null,0,null,0,null,0]
[null,null,null,null,null,null,null,null,null,null,null,null,0,null,0,null,0,null,0,null,0,null,0,null,0,null,0,null,0]
[null,null,null,null,null,null,null,null,null,null,null,null,0,null,0,null,0,null,0,null,0,null,0,null,0,null,0,null,0]
[null,null,null,null,null,null,null,null,null,null,null,null,0,null,0,null,0,null,0,null,0,null,0,null,0,null,0,null,0]
[null,null,null,null,null,null,null,null,null,null,null,null,0,null,0,null,0,null,0,null,0,null,0,null,0,null,0,null,0]
[null,null,null,null,null,null,null,null,null,null,null,null,0,null,0,null,0,null,0,null,0,null,0,null,0,null,0,null,0]
[null,null,null,null,null,null,null,null,null,null,null,null,0,null,0,null,0,null,0,null,0,null,0,null,0,null,0,null,0]
[null,null,null,null,null,null,null,null,null,null,null,null,0,null,0,null,0,null,0,null,0,null,0,null,0,null,0,null,0]
[null,null,null,null,null,null,null,null,null,null,null,null,0,null,0,null,0,null,0,null,0,null,0,null,0,null,0,null,0]
[null,null,null,null,null,null,null,null,null,null,null,null,0,null,0,null,0,null,0,null,0,null,0,null,0,null,0,null,0]
[null,null,null,null,null,null,null,null,null,null,null,null,0,null,0,null,0,null,0,null,0,null,0,null,0,null,0,null,0]
[null,null,null,null,null,null,null,null,null,null,null,null,0,null,0,null,0,null,0,null,0,null,0,null,0,null,0,null,0]
[null,null,null,null,null,null,null,null,null,null,null,null,0,null,0,null,0,null,0,null,0,null,0,null,0,null,0,null,0]
[null,null,null,null,null,null,null,null,null,null,null,null,0,null,0,null,0,null,0,null,0,null,0,null,0,null,0,null,0]
[null,null,null,null,null,null,null,null,null,null,null,null,0,null,0,null,0,null,0,null,0,null,0,null,0,null,0,null,0]
[null,null,null,null,null,null,null,null,null,null,null,null,0,null,0,null,0,null,0,null,0,null,0,null,0,null,0,null,0]
[null,null,null,null,null,null,null,null,null,null,null,null,0,null,0,null,0,null,0,null,0,null,0,null,0,null,0,null,0]
[null,null,null,null,null,null,null,null,null,null,null,null,0,null,0,null,0,null,0,null,0,null,0,null,0,null,0,null,0]
[null,null,null,null,null,null,null,null,null,null,null,null,0,null,0,null,0,null,0,null,0,null,{"$f":"IF(AI451=\"Not eligible\", \"Not eligible\", AI451)","v":0},null,0,null,0,null,0]
[null,null,null,null,null,null,null,null,null,null,null,null,0,null,0,null,0,null,{"$f":"IF(AG452=\"Not eligible\", \"Not eligible\", AG452)","v":0},null,{"$f":"IF(AH452=\"Not eligible\", \"Not eligible\", AH452)","v":0},null,0,null,{"$f":"IF(AJ452=\"Not eligible\", \"Not eligible\", AJ452)","v":0},null,{"$f":"IF(AK452=\"Not eligible\", \"Not eligible\", AK452)","v":0},null,{"$f":"IF(AL452=\"Not eligible\", \"Not eligible\",AL452)","v":0}]
[null,null,null,null,null,null,null,null,null,null,null,null,{"$f":"IF(AD453=\"Not eligible\", \"Not eligible\", AD453)","v":0},null,0,null,0,null,0,null,0,null,0,null,0,null,0,null,0]
[null,null,null,null,null,null,null,null,null,null,null,null,0,null,0,null,0,null,0,null,0,null,0,null,0,null,0,null,0]
[null,null,null,null,null,null,null,null,null,null,null,null,0,null,0,null,{"$f":"IF(AF455=\"Not eligible\", \"Not eligible\", AF455)","v":0},null,0,null,0,null,0,null,0,null,0,null,0]
[null,null,null,null,null,null,null,null,null,null,null,null,0,null,0,null,0,null,0,null,0,null,0,null,0,null,0,null,0]
[null,null,null,null,null,null,null,null,null,null,null,null,0,null,0,null,0,null,0,null,0,null,0,null,0,null,0,null,0]
[null,null,null,null,null,null,null,null,null,null,null,null,0,null,{"$f":"IF(AE458=\"Not eligible\", \"Not eligible\", AE458)","v":0},null,0,null,0,null,0,null,0,null,0,null,0,null,0]
[null,null,null,null,null,null,null,null,null,null,null,null,0,null,0,null,0,null,0,null,0,null,0,null,0,null,0,null,0]
[null,null,null,null,null,null,null,null,null,null,null,null,0,null,0,null,0,null,0,null,0,null,0,null,0,null,0,null,0]
[null,null,null,null,null,null,null,null,null,null,null,null,0,null,0,null,0,null,0,null,0,null,0,null,0,null,0,null,0]
[null,null,null,null,null,null,null,null,null,null,null,null,0,null,0,null,0,null,0,null,0,null,0,null,0,null,0,null,0]
[null,null,null,null,null,null,null,null,null,null,null,null,0,null,0,null,0,null,0,null,0,null,0,null,0,null,0,null,0]
[null,null,null,null,null,null,null,null,null,null,null,null,0,null,0,null,0,null,0,null,0,null,0,null,0,null,0,null,0]
[null,null,null,null,null,null,null,null,null,null,null,null,0,null,0,null,0,null,0,null,0,null,0,null,0,null,0,null,0]
[null,null,null,null,null,null,null,null,null,null,null,null,0,null,0,null,0,null,0,null,0,null,0,null,0,null,0,null,0]
[null,null,null,null,null,null,null,null,null,null,null,null,0,null,0,null,0,null,0,null,0,null,0,null,0,null,0,null,0]
[null,null,null,null,null,null,null,null,null,null,null,null,0,null,0,null,0,null,0,null,0,null,0,null,0,null,0,null,0]
[null,null,null,null,null,null,null,null,null,null,null,null,0,null,0,null,0,null,0,null,0,null,0,null,0,null,0,null,0]
[null,null,null,null,null,null,null,null,null,null,null,null,0,null,0,null,0,null,0,null,0,null,0,null,0,null,0,null,0]
[null,null,null,null,null,null,null,null,null,null,null,null,0,null,0,null,0,null,0,null,0,null,0,null,0,null,0,null,0]
[null,null,null,null,null,null,null,null,null,null,null,null,0,null,0,null,0,null,0,null,0,null,0,null,0,null,0,null,0]
[null,null,null,null,null,null,null,null,null,null,null,null,0,null,0,null,0,null,0,null,0,null,0,null,0,null,0,null,0]
[null,null,null,null,null,null,null,null,null,null,null,null,0,null,0,null,0,null,0,null,0,null,0,null,0,null,0,null,0]
[null,null,null,null,null,null,null,null,null,null,null,null,0,null,0,null,0,null,0,null,0,null,0,null,0,null,0,null,0]
[null,null,null,null,null,null,null,null,null,null,null,null,0,null,0,null,0,null,0,null,0,null,0,null,0,null,0,null,0]
[null,null,null,null,null,null,null,null,null,null,null,null,0,null,0,null,0,null,0,null,0,null,0,null,0,null,0,null,0]
[null,null,null,null,null,null,null,null,null,null,null,null,0,null,0,null,0,null,0,null,0,null,0,null,0,null,0,null,0]
[null,null,null,null,null,null,null,null,null,null,null,null,0,null,0,null,0,null,0,null,0,null,0,null,0,null,0,null,0]
[null,null,null,null,null,null,null,null,null,null,null,null,0,null,0,null,0,null,0,null,0,null,0,null,0,null,0,null,0]
[null,null,null,null,null,null,null,null,null,null,null,null,0,null,0,null,0,null,0,null,0,null,0,null,0,null,0,null,0]
[null,null,null,null,null,null,null,null,null,null,null,null,0,null,0,null,0,null,0,null,0,null,0,null,0,null,0,null,0]
[null,null,null,null,null,null,null,null,null,null,null,null,0,null,0,null,0,null,0,null,0,null,0,null,0,null,0,null,0]
[null,null,null,null,null,null,null,null,null,null,null,null,0,null,0,null,0,null,0,null,0,null,0,null,0,null,0,null,0]
[null,null,null,null,null,null,null,null,null,null,null,null,0,null,0,null,0,null,0,null,0,null,0,null,0,null,0,null,0]
[null,null,null,null,null,null,null,null,null,null,null,null,0,null,0,null,0,null,0,null,0,null,0,null,0,null,0,null,0]
[null,null,null,null,null,null,null,null,null,null,null,null,0,null,0,null,0,null,0,null,0,null,0,null,0,null,0,null,0]
[null,null,null,null,null,null,null,null,null,null,null,null,0,null,0,null,0,null,0,null,0,null,0,null,0,null,0,null,0]
[null,null,null,null,null,null,null,null,null,null,null,null,0,null,0,null,0,null,0,null,0,null,0,null,0,null,0,null,0]
[null,null,null,null,null,null,null,null,null,null,null,null,0,null,0,null,0,null,0,null,0,null,0,null,0,null,0,null,0]
[null,null,null,null,null,null,null,null,null,null,null,null,0,null,0,null,0,null,0,null,0,null,0,null,0,null,0,null,0]
[null,null,null,null,null,null,null,null,null,null,null,null,0,null,0,null,0,null,0,null,0,null,0,null,0,null,0,null,0]
[null,null,null,null,null,null,null,null,null,null,null,null,0,null,0,null,0,null,0,null,0,null,0,null,0,null,0,null,0]
[null,null,null,null,null,null,null,null,null,null,null,null,0,null,0,null,0,null,0,null,0,null,0,null,0,null,0,null,0]
[null,null,null,null,null,null,null,null,null,null,null,null,0,null,0,null,0,null,0,null,0,null,0,null,0,null,0,null,0]
[null,null,null,null,null,null,null,null,null,null,null,null,0,null,0,null,0,null,0,null,0,null,0,null,0,null,0,null,0]
[null,null,null,null,null,null,null,null,null,null,null,null,0,null,0,null,0,null,0,null,0,null,0,null,0,null,0,null,0]
[null,null,null,null,null,null,null,null,null,null,null,null,0,null,0,null,0,null,0,null,0,null,0,null,0,null,0,null,0]
[null,null,null,null,null,null,null,null,null,null,null,null,0,null,0,null,0,null,0,null,0,null,0,null,0,null,0,null,0]
[null,null,null,null,null,null,null,null,null,null,null,null,0,null,0,null,0,null,0,null,0,null,0,null,0,null,0,null,0]
[null,null,null,null,null,null,null,null,null,null,null,null,0,null,0,null,0,null,0,null,0,null,0,null,0,null,0,null,0]
[null,null,null,null,null,null,null,null,null,null,null,null,0,null,0,null,0,null,0,null,0,null,0,null,0,null,0,null,0]
[null,null,null,null,null,null,null,null,null,null,null,null,0,null,0,null,0,null,0,null,0,null,0,null,0,null,0,null,0]
[null,null,null,null,null,null,null,null,null,null,null,null,0,null,0,null,0,null,0,null,0,null,0,null,0,null,0,null,0]
[null,null,null,null,null,null,null,null,null,null,null,null,0,null,0,null,0,null,0,null,0,null,0,null,0,null,0,null,0]
[null,null,null,null,null,null,null,null,null,null,null,null,0,null,0,null,0,null,0,null,0,null,0,null,0,null,0,null,0]
[null,null,null,null,null,null,null,null,null,null,null,null,0,null,0,null,0,null,0,null,0,null,0,null,0,null,0,null,0]
[null,null,null,null,null,null,null,null,null,null,null,null,0,null,0,null,0,null,0,null,0,null,0,null,0,null,0,null,0]
[null,null,null,null,null,null,null,null,null,null,null,null,0,null,0,null,0,null,0,null,0,null,0,null,0,null,0,null,0]
[null,null,null,null,null,null,null,null,null,null,null,null,0,null,0,null,0,null,0,null,0,null,0,null,0,null,0,null,0]
[null,null,null,null,null,null,null,null,null,null,null,null,0,null,0,null,0,null,0,null,0,null,0,null,0,null,0,null,0]
[null,null,null,null,null,null,null,null,null,null,null,null,0,null,0,null,0,null,0,null,0,null,0,null,0,null,0,null,0]
[null,null,null,null,null,null,null,null,null,null,null,null,0,null,0,null,0,null,0,null,0,null,0,null,0,null,0,null,0]
[null,null,null,null,null,null,null,null,null,null,null,null,0,null,0,null,0,null,0,null,0,null,0,null,0,null,0,null,0]
[null,null,null,null,null,null,null,null,null,null,null,null,0,null,0,null,0,null,0,null,0,null,{"$f":"IF(AI515=\"Not eligible\", \"Not eligible\", AI515)","v":0},null,0,null,0,null,0]
[null,null,null,null,null,null,null,null,null,null,null,null,0,null,0,null,0,null,{"$f":"IF(AG516=\"Not eligible\", \"Not eligible\", AG516)","v":0},null,{"$f":"IF(AH516=\"Not eligible\", \"Not eligible\", AH516)","v":0},null,0,null,{"$f":"IF(AJ516=\"Not eligible\", \"Not eligible\", AJ516)","v":0},null,{"$f":"IF(AK516=\"Not eligible\", \"Not eligible\", AK516)","v":0},null,{"$f":"IF(AL516=\"Not eligible\", \"Not eligible\",AL516)","v":0}]
[null,null,null,null,null,null,null,null,null,null,null,null,{"$f":"IF(AD517=\"Not eligible\", \"Not eligible\", AD517)","v":0},null,0,null,0,null,0,null,0,null,0,null,0,null,0,null,0]
[null,null,null,null,null,null,null,null,null,null,null,null,0,null,0,null,0,null,0,null,0,null,0,null,0,null,0,null,0]
[null,null,null,null,null,null,null,null,null,null,null,null,0,null,0,null,{"$f":"IF(AF519=\"Not eligible\", \"Not eligible\", AF519)","v":0},null,0,null,0,null,0,null,0,null,0,null,0]
[null,null,null,null,null,null,null,null,null,null,null,null,0,null,0,null,0,null,0,null,0,null,0,null,0,null,0,null,0]
[null,null,null,null,null,null,null,null,null,null,null,null,0,null,0,null,0,null,0,null,0,null,0,null,0,null,0,null,0]
[null,null,null,null,null,null,null,null,null,null,null,null,0,null,{"$f":"IF(AE522=\"Not eligible\", \"Not eligible\", AE522)","v":0},null,0,null,0,null,0,null,0,null,0,null,0,null,0]
[null,null,null,null,null,null,null,null,null,null,null,null,0,null,0,null,0,null,0,null,0,null,0,null,0,null,0,null,0]
[null,null,null,null,null,null,null,null,null,null,null,null,0,null,0,null,0,null,0,null,0,null,0,null,0,null,0,null,0]
[null,null,null,null,null,null,null,null,null,null,null,null,0,null,0,null,0,null,0,null,0,null,0,null,0,null,0,null,0]
[null,null,null,null,null,null,null,null,null,null,null,null,0,null,0,null,0,null,0,null,0,null,0,null,0,null,0,null,0]
[null,null,null,null,null,null,null,null,null,null,null,null,0,null,0,null,0,null,0,null,0,null,0,null,0,null,0,null,0]
[null,null,null,null,null,null,null,null,null,null,null,null,0,null,0,null,0,null,0,null,0,null,0,null,0,null,0,null,0]
[null,null,null,null,null,null,null,null,null,null,null,null,0,null,0,null,0,null,0,null,0,null,0,null,0,null,0,null,0]
[null,null,null,null,null,null,null,null,null,null,null,null,0,null,0,null,0,null,0,null,0,null,0,null,0,null,0,null,0]
[null,null,null,null,null,null,null,null,null,null,null,null,0,null,0,null,0,null,0,null,0,null,0,null,0,null,0,null,0]
[null,null,null,null,null,null,null,null,null,null,null,null,0,null,0,null,0,null,0,null,0,null,0,null,0,null,0,null,0]
[null,null,null,null,null,null,null,null,null,null,null,null,0,null,0,null,0,null,0,null,0,null,0,null,0,null,0,null,0]
[null,null,null,null,null,null,null,null,null,null,null,null,0,null,0,null,0,null,0,null,0,null,0,null,0,null,0,null,0]
[null,null,null,null,null,null,null,null,null,null,null,null,0,null,0,null,0,null,0,null,0,null,0,null,0,null,0,null,0]
[null,null,null,null,null,null,null,null,null,null,null,null,0,null,0,null,0,null,0,null,0,null,0,null,0,null,0,null,0]
[null,null,null,null,null,null,null,null,null,null,null,null,0,null,0,null,0,null,0,null,0,null,0,null,0,null,0,null,0]
[null,null,null,null,null,null,null,null,null,null,null,null,0,null,0,null,0,null,0,null,0,null,0,null,0,null,0,null,0]
[null,null,null,null,null,null,null,null,null,null,null,null,0,null,0,null,0,null,0,null,0,null,0,null,0,null,0,null,0]
[null,null,null,null,null,null,null,null,null,null,null,null,0,null,0,null,0,null,0,null,0,null,0,null,0,null,0,null,0]
[null,null,null,null,null,null,null,null,null,null,null,null,0,null,0,null,0,null,0,null,0,null,0,null,0,null,0,null,0]
[null,null,null,null,null,null,null,null,null,null,null,null,0,null,0,null,0,null,0,null,0,null,0,null,0,null,0,null,0]
[null,null,null,null,null,null,null,null,null,null,null,null,0,null,0,null,0,null,0,null,0,null,0,null,0,null,0,null,0]
[null,null,null,null,null,null,null,null,null,null,null,null,0,null,0,null,0,null,0,null,0,null,0,null,0,null,0,null,0]
[null,null,null,null,null,null,null,null,null,null,null,null,0,null,0,null,0,null,0,null,0,null,0,null,0,null,0,null,0]
[null,null,null,null,null,null,null,null,null,null,null,null,0,null,0,null,0,null,0,null,0,null,0,null,0,null,0,null,0]
[null,null,null,null,null,null,null,null,null,null,null,null,0,null,0,null,0,null,0,null,0,null,0,null,0,null,0,null,0]
[null,null,null,null,null,null,null,null,null,null,null,null,0,null,0,null,0,null,0,null,0,null,0,null,0,null,0,null,0]
[null,null,null,null,null,null,null,null,null,null,null,null,0,null,0,null,0,null,0,null,0,null,0,null,0,null,0,null,0]
[null,null,null,null,null,null,null,null,null,null,null,null,0,null,0,null,0,null,0,null,0,null,0,null,0,null,0,null,0]
[null,null,null,null,null,null,null,null,null,null,null,null,0,null,0,null,0,null,0,null,0,null,0,null,0,null,0,null,0]
[null,null,null,null,null,null,null,null,null,null,null,null,0,null,0,null,0,null,0,null,0,null,0,null,0,null,0,null,0]
[null,null,null,null,null,null,null,null,null,null,null,null,0,null,0,null,0,null,0,null,0,null,0,null,0,null,0,null,0]
[null,null,null,null,null,null,null,null,null,null,null,null,0,null,0,null,0,null,0,null,0,null,0,null,0,null,0,null,0]
[null,null,null,null,null,null,null,null,null,null,null,null,0,null,0,null,0,null,0,null,0,null,0,null,0,null,0,null,0]
[null,null,null,null,null,null,null,null,null,null,null,null,0,null,0,null,0,null,0,null,0,null,0,null,0,null,0,null,0]
[null,null,null,null,null,null,null,null,null,null,null,null,0,null,0,null,0,null,0,null,0,null,0,null,0,null,0,null,0]
[null,null,null,null,null,null,null,null,null,null,null,null,0,null,0,null,0,null,0,null,0,null,0,null,0,null,0,null,0]
[null,null,null,null,null,null,null,null,null,null,null,null,0,null,0,null,0,null,0,null,0,null,0,null,0,null,0,null,0]
[null,null,null,null,null,null,null,null,null,null,null,null,0,null,0,null,0,null,0,null,0,null,0,null,0,null,0,null,0]
[null,null,null,null,null,null,null,null,null,null,null,null,0,null,0,null,0,null,0,null,0,null,0,null,0,null,0,null,0]
[null,null,null,null,null,null,null,null,null,null,null,null,0,null,0,null,0,null,0,null,0,null,0,null,0,null,0,null,0]
[null,null,null,null,null,null,null,null,null,null,null,null,0,null,0,null,0,null,0,null,0,null,0,null,0,null,0,null,0]
[null,null,null,null,null,null,null,null,null,null,null,null,0,null,0,null,0,null,0,null,0,null,0,null,0,null,0,null,0]
[null,null,null,null,null,null,null,null,null,null,null,null,0,null,0,null,0,null,0,null,0,null,0,null,0,null,0,null,0]
[null,null,null,null,null,null,null,null,null,null,null,null,0,null,0,null,0,null,0,null,0,null,0,null,0,null,0,null,0]
[null,null,null,null,null,null,null,null,null,null,null,null,0,null,0,null,0,null,0,null,0,null,0,null,0,null,0,null,0]
[null,null,null,null,null,null,null,null,null,null,null,null,0,null,0,null,0,null,0,null,0,null,0,null,0,null,0,null,0]
[null,null,null,null,null,null,null,null,null,null,null,null,0,null,0,null,0,null,0,null,0,null,0,null,0,null,0,null,0]
[null,null,null,null,null,null,null,null,null,null,null,null,0,null,0,null,0,null,0,null,0,null,0,null,0,null,0,null,0]
[null,null,null,null,null,null,null,null,null,null,null,null,0,null,0,null,0,null,0,null,0,null,0,null,0,null,0,null,0]
[null,null,null,null,null,null,null,null,null,null,null,null,0,null,0,null,0,null,0,null,0,null,0,null,0,null,0,null,0]
[null,null,null,null,null,null,null,null,null,null,null,null,0,null,0,null,0,null,0,null,0,null,0,null,0,null,0,null,0]
[null,null,null,null,null,null,null,null,null,null,null,null,0,null,0,null,0,null,0,null,0,null,0,null,0,null,0,null,0]
[null,null,null,null,null,null,null,null,null,null,null,null,0,null,0,null,0,null,0,null,0,null,0,null,0,null,0,null,0]
[null,null,null,null,null,null,null,null,null,null,null,null,0,null,0,null,0,null,0,null,0,null,0,null,0,null,0,null,0]
[null,null,null,null,null,null,null,null,null,null,null,null,0,null,0,null,0,null,0,null,0,null,0,null,0,null,0,null,0]
[null,null,null,null,null,null,null,null,null,null,null,null,0,null,0,null,0,null,0,null,0,null,0,null,0,null,0,null,0]
[null,null,null,null,null,null,null,null,null,null,null,null,0,null,0,null,0,null,0,null,0,null,{"$f":"IF(AI579=\"Not eligible\", \"Not eligible\", AI579)","v":0},null,0,null,0,null,0]
[null,null,null,null,null,null,null,null,null,null,null,null,0,null,0,null,0,null,{"$f":"IF(AG580=\"Not eligible\", \"Not eligible\", AG580)","v":0},null,{"$f":"IF(AH580=\"Not eligible\", \"Not eligible\", AH580)","v":0},null,0,null,{"$f":"IF(AJ580=\"Not eligible\", \"Not eligible\", AJ580)","v":0},null,{"$f":"IF(AK580=\"Not eligible\", \"Not eligible\", AK580)","v":0},null,{"$f":"IF(AL580=\"Not eligible\", \"Not eligible\",AL580)","v":0}]
[null,null,null,null,null,null,null,null,null,null,null,null,{"$f":"IF(AD581=\"Not eligible\", \"Not eligible\", AD581)","v":0},null,0,null,0,null,0,null,0,null,0,null,0,null,0,null,0]
[null,null,null,null,null,null,null,null,null,null,null,null,0,null,0,null,0,null,0,null,0,null,0,null,0,null,0,null,0]
[null,null,null,null,null,null,null,null,null,null,null,null,0,null,0,null,{"$f":"IF(AF583=\"Not eligible\", \"Not eligible\", AF583)","v":0},null,0,null,0,null,0,null,0,null,0,null,0]
[null,null,null,null,null,null,null,null,null,null,null,null,0,null,0,null,0,null,0,null,0,null,0,null,0,null,0,null,0]
[null,null,null,null,null,null,null,null,null,null,null,null,0,null,0,null,0,null,0,null,0,null,0,null,0,null,0,null,0]
[null,null,null,null,null,null,null,null,null,null,null,null,0,null,{"$f":"IF(AE586=\"Not eligible\", \"Not eligible\", AE586)","v":0},null,0,null,0,null,0,null,0,null,0,null,0,null,0]
[null,null,null,null,null,null,null,null,null,null,null,null,0,null,0,null,0,null,0,null,0,null,0,null,0,null,0,null,0]
[null,null,null,null,null,null,null,null,null,null,null,null,0,null,0,null,0,null,0,null,0,null,0,null,0,null,0,null,0]
[null,null,null,null,null,null,null,null,null,null,null,null,0,null,0,null,0,null,0,null,0,null,0,null,0,null,0,null,0]
[null,null,null,null,null,null,null,null,null,null,null,null,0,null,0,null,0,null,0,null,0,null,0,null,0,null,0,null,0]
[null,null,null,null,null,null,null,null,null,null,null,null,0,null,0,null,0,null,0,null,0,null,0,null,0,null,0,null,0]
[null,null,null,null,null,null,null,null,null,null,null,null,0,null,0,null,0,null,0,null,0,null,0,null,0,null,0,null,0]
[null,null,null,null,null,null,null,null,null,null,null,null,0,null,0,null,0,null,0,null,0,null,0,null,0,null,0,null,0]
[null,null,null,null,null,null,null,null,null,null,null,null,0,null,0,null,0,null,0,null,0,null,0,null,0,null,0,null,0]
[null,null,null,null,null,null,null,null,null,null,null,null,0,null,0,null,0,null,0,null,0,null,0,null,0,null,0,null,0]
[null,null,null,null,null,null,null,null,null,null,null,null,0,null,0,null,0,null,0,null,0,null,0,null,0,null,0,null,0]
[null,null,null,null,null,null,null,null,null,null,null,null,0,null,0,null,0,null,0,null,0,null,0,null,0,null,0,null,0]
[null,null,null,null,null,null,null,null,null,null,null,null,0,null,0,null,0,null,0,null,0,null,0,null,0,null,0,null,0]
[null,null,null,null,null,null,null,null,null,null,null,null,0,null,0,null,0,null,0,null,0,null,0,null,0,null,0,null,0]
[null,null,null,null,null,null,null,null,null,null,null,null,0,null,0,null,0,null,0,null,0,null,0,null,0,null,0,null,0]
[null,null,null,null,null,null,null,null,null,null,null,null,0,null,0,null,0,null,0,null,0,null,0,null,0,null,0,null,0]
[null,null,null,null,null,null,null,null,null,null,null,null,0,null,0,null,0,null,0,null,0,null,0,null,0,null,0,null,0]
[null,null,null,null,null,null,null,null,null,null,null,null,0,null,0,null,0,null,0,null,0,null,0,null,0,null,0,null,0]
[null,null,null,null,null,null,null,null,null,null,null,null,0,null,0,null,0,null,0,null,0,null,0,null,0,null,0,null,0]
[null,null,null,null,null,null,null,null,null,null,null,null,0,null,0,null,0,null,0,null,0,null,0,null,0,null,0,null,0]
[null,null,null,null,null,null,null,null,null,null,null,null,0,null,0,null,0,null,0,null,0,null,0,null,0,null,0,null,0]
[null,null,null,null,null,null,null,null,null,null,null,null,0,null,0,null,0,null,0,null,0,null,0,null,0,null,0,null,0]
[null,null,null,null,null,null,null,null,null,null,null,null,0,null,0,null,0,null,0,null,0,null,0,null,0,null,0,null,0]
[null,null,null,null,null,null,null,null,null,null,null,null,0,null,0,null,0,null,0,null,0,null,0,null,0,null,0,null,0]
[null,null,null,null,null,null,null,null,null,null,null,null,0,null,0,null,0,null,0,null,0,null,0,null,0,null,0,null,0]
[null,null,null,null,null,null,null,null,null,null,null,null,0,null,0,null,0,null,0,null,0,null,0,null,0,null,0,null,0]
[null,null,null,null,null,null,null,null,null,null,null,null,0,null,0,null,0,null,0,null,0,null,0,null,0,null,0,null,0]
[null,null,null,null,null,null,null,null,null,null,null,null,0,null,0,null,0,null,0,null,0,null,0,null,0,null,0,null,0]
[null,null,null,null,null,null,null,null,null,null,null,null,0,null,0,null,0,null,0,null,0,null,0,null,0,null,0,null,0]
[null,null,null,null,null,null,null,null,null,null,null,null,0,null,0,null,0,null,0,null,0,null,0,null,0,null,0,null,0]
[null,null,null,null,null,null,null,null,null,null,null,null,0,null,0,null,0,null,0,null,0,null,0,null,0,null,0,null,0]
[null,null,null,null,null,null,null,null,null,null,null,null,0,null,0,null,0,null,0,null,0,null,0,null,0,null,0,null,0]
[null,null,null,null,null,null,null,null,null,null,null,null,0,null,0,null,0,null,0,null,0,null,0,null,0,null,0,null,0]
[null,null,null,null,null,null,null,null,null,null,null,null,0,null,0,null,0,null,0,null,0,null,0,null,0,null,0,null,0]
[null,null,null,null,null,null,null,null,null,null,null,null,0,null,0,null,0,null,0,null,0,null,0,null,0,null,0,null,0]
[null,null,null,null,null,null,null,null,null,null,null,null,0,null,0,null,0,null,0,null,0,null,0,null,0,null,0,null,0]
[null,null,null,null,null,null,null,null,null,null,null,null,0,null,0,null,0,null,0,null,0,null,0,null,0,null,0,null,0]
[null,null,null,null,null,null,null,null,null,null,null,null,0,null,0,null,0,null,0,null,0,null,0,null,0,null,0,null,0]
[null,null,null,null,null,null,null,null,null,null,null,null,0,null,0,null,0,null,0,null,0,null,0,null,0,null,0,null,0]
[null,null,null,null,null,null,null,null,null,null,null,null,0,null,0,null,0,null,0,null,0,null,0,null,0,null,0,null,0]
[null,null,null,null,null,null,null,null,null,null,null,null,0,null,0,null,0,null,0,null,0,null,0,null,0,null,0,null,0]
[null,null,null,null,null,null,null,null,null,null,null,null,0,null,0,null,0,null,0,null,0,null,0,null,0,null,0,null,0]
[null,null,null,null,null,null,null,null,null,null,null,null,0,null,0,null,0,null,0,null,0,null,0,null,0,null,0,null,0]
[null,null,null,null,null,null,null,null,null,null,null,null,0,null,0,null,0,null,0,null,0,null,0,null,0,null,0,null,0]
[null,null,null,null,null,null,null,null,null,null,null,null,0,null,0,null,0,null,0,null,0,null,0,null,0,null,0,null,0]
[null,null,null,null,null,null,null,null,null,null,null,null,0,null,0,null,0,null,0,null,0,null,0,null,0,null,0,null,0]
[null,null,null,null,null,null,null,null,null,null,null,null,0,null,0,null,0,null,0,null,0,null,0,null,0,null,0,null,0]
[null,null,null,null,null,null,null,null,null,null,null,null,0,null,0,null,0,null,0,null,0,null,0,null,0,null,0,null,0]
[null,null,null,null,null,null,null,null,null,null,null,null,0,null,0,null,0,null,0,null,0,null,0,null,0,null,0,null,0]
[null,null,null,null,null,null,null,null,null,null,null,null,0,null,0,null,0,null,0,null,0,null,0,null,0,null,0,null,0]
[null,null,null,null,null,null,null,null,null,null,null,null,0,null,0,null,0,null,0,null,0,null,0,null,0,null,0,null,0]
[null,null,null,null,null,null,null,null,null,null,null,null,0,null,0,null,0,null,0,null,0,null,0,null,0,null,0,null,0]
[null,null,null,null,null,null,null,null,null,null,null,null,0,null,0,null,0,null,0,null,0,null,0,null,0,null,0,null,0]
[null,null,null,null,null,null,null,null,null,null,null,null,0,null,0,null,0,null,0,null,0,null,0,null,0,null,0,null,0]
[null,null,null,null,null,null,null,null,null,null,null,null,0,null,0,null,0,null,0,null,0,null,0,null,0,null,0,null,0]
[null,null,null,null,null,null,null,null,null,null,null,null,0,null,0,null,0,null,0,null,0,null,0,null,0,null,0,null,0]
[null,null,null,null,null,null,null,null,null,null,null,null,0,null,0,null,0,null,0,null,0,null,0,null,0,null,0,null,0]
[null,null,null,null,null,null,null,null,null,null,null,null,0,null,0,null,0,null,0,null,0,null,{"$f":"IF(AI643=\"Not eligible\", \"Not eligible\", AI643)","v":0},null,0,null,0,null,0]
[null,null,null,null,null,null,null,null,null,null,null,null,0,null,0,null,0,null,{"$f":"IF(AG644=\"Not eligible\", \"Not eligible\", AG644)","v":0},null,{"$f":"IF(AH644=\"Not eligible\", \"Not eligible\", AH644)","v":0},null,0,null,{"$f":"IF(AJ644=\"Not eligible\", \"Not eligible\", AJ644)","v":0},null,{"$f":"IF(AK644=\"Not eligible\", \"Not eligible\", AK644)","v":0},null,{"$f":"IF(AL644=\"Not eligible\", \"Not eligible\",AL644)","v":0}]
[null,null,null,null,null,null,null,null,null,null,null,null,{"$f":"IF(AD645=\"Not eligible\", \"Not eligible\", AD645)","v":0},null,0,null,0,null,0,null,0,null,0,null,0,null,0,null,0]
[null,null,null,null,null,null,null,null,null,null,null,null,0,null,0,null,0,null,0,null,0,null,0,null,0,null,0,null,0]
[null,null,null,null,null,null,null,null,null,null,null,null,0,null,0,null,{"$f":"IF(AF647=\"Not eligible\", \"Not eligible\", AF647)","v":0},null,0,null,0,null,0,null,0,null,0,null,0]
[null,null,null,null,null,null,null,null,null,null,null,null,0,null,0,null,0,null,0,null,0,null,0,null,0,null,0,null,0]
[null,null,null,null,null,null,null,null,null,null,null,null,0,null,0,null,0,null,0,null,0,null,0,null,0,null,0,null,0]
[null,null,null,null,null,null,null,null,null,null,null,null,0,null,{"$f":"IF(AE650=\"Not eligible\", \"Not eligible\", AE650)","v":0},null,0,null,0,null,0,null,0,null,0,null,0,null,0]
[null,null,null,null,null,null,null,null,null,null,null,null,0,null,0,null,0,null,0,null,0,null,0,null,0,null,0,null,0]
[null,null,null,null,null,null,null,null,null,null,null,null,0,null,0,null,0,null,0,null,0,null,0,null,0,null,0,null,0]
[null,null,null,null,null,null,null,null,null,null,null,null,0,null,0,null,0,null,0,null,0,null,0,null,0,null,0,null,0]
[null,null,null,null,null,null,null,null,null,null,null,null,0,null,0,null,0,null,0,null,0,null,0,null,0,null,0,null,0]
[null,null,null,null,null,null,null,null,null,null,null,null,0,null,0,null,0,null,0,null,0,null,0,null,0,null,0,null,0]
[null,null,null,null,null,null,null,null,null,null,null,null,0,null,0,null,0,null,0,null,0,null,0,null,0,null,0,null,0]
[null,null,null,null,null,null,null,null,null,null,null,null,0,null,0,null,0,null,0,null,0,null,0,null,0,null,0,null,0]
[null,null,null,null,null,null,null,null,null,null,null,null,0,null,0,null,0,null,0,null,0,null,0,null,0,null,0,null,0]
[null,null,null,null,null,null,null,null,null,null,null,null,0,null,0,null,0,null,0,null,0,null,0,null,0,null,0,null,0]
[null,null,null,null,null,null,null,null,null,null,null,null,0,null,0,null,0,null,0,null,0,null,0,null,0,null,0,null,0]
[null,null,null,null,null,null,null,null,null,null,null,null,0,null,0,null,0,null,0,null,0,null,0,null,0,null,0,null,0]
[null,null,null,null,null,null,null,null,null,null,null,null,0,null,0,null,0,null,0,null,0,null,0,null,0,null,0,null,0]
[null,null,null,null,null,null,null,null,null,null,null,null,0,null,0,null,0,null,0,null,0,null,0,null,0,null,0,null,0]
[null,null,null,null,null,null,null,null,null,null,null,null,0,null,0,null,0,null,0,null,0,null,0,null,0,null,0,null,0]
[null,null,null,null,null,null,null,null,null,null,null,null,0,null,0,null,0,null,0,null,0,null,0,null,0,null,0,null,0]
[null,null,null,null,null,null,null,null,null,null,null,null,0,null,0,null,0,null,0,null,0,null,0,null,0,null,0,null,0]
[null,null,null,null,null,null,null,null,null,null,null,null,0,null,0,null,0,null,0,null,0,null,0,null,0,null,0,null,0]
[null,null,null,null,null,null,null,null,null,null,null,null,0,null,0,null,0,null,0,null,0,null,0,null,0,null,0,null,0]
[null,null,null,null,null,null,null,null,null,null,null,null,0,null,0,null,0,null,0,null,0,null,0,null,0,null,0,null,0]
[null,null,null,null,null,null,null,null,null,null,null,null,0,null,0,null,0,null,0,null,0,null,0,null,0,null,0,null,0]
[null,null,null,null,null,null,null,null,null,null,null,null,0,null,0,null,0,null,0,null,0,null,0,null,0,null,0,null,0]
[null,null,null,null,null,null,null,null,null,null,null,null,0,null,0,null,0,null,0,null,0,null,0,null,0,null,0,null,0]
[null,null,null,null,null,null,null,null,null,null,null,null,0,null,0,null,0,null,0,null,0,null,0,null,0,null,0,null,0]
[null,null,null,null,null,null,null,null,null,null,null,null,0,null,0,null,0,null,0,null,0,null,0,null,0,null,0,null,0]
[null,null,null,null,null,null,null,null,null,null,null,null,0,null,0,null,0,null,0,null,0,null,0,null,0,null,0,null,0]
[null,null,null,null,null,null,null,null,null,null,null,null,0,null,0,null,0,null,0,null,0,null,0,null,0,null,0,null,0]
[null,null,null,null,null,null,null,null,null,null,null,null,0,null,0,null,0,null,0,null,0,null,0,null,0,null,0,null,0]
[null,null,null,null,null,null,null,null,null,null,null,null,0,null,0,null,0,null,0,null,0,null,0,null,0,null,0,null,0]
[null,null,null,null,null,null,null,null,null,null,null,null,0,null,0,null,0,null,0,null,0,null,0,null,0,null,0,null,0]
[null,null,null,null,null,null,null,null,null,null,null,null,0,null,0,null,0,null,0,null,0,null,0,null,0,null,0,null,0]
[null,null,null,null,null,null,null,null,null,null,null,null,0,null,0,null,0,null,0,null,0,null,0,null,0,null,0,null,0]
[null,null,null,null,null,null,null,null,null,null,null,null,0,null,0,null,0,null,0,null,0,null,0,null,0,null,0,null,0]
[null,null,null,null,null,null,null,null,null,null,null,null,0,null,0,null,0,null,0,null,0,null,0,null,0,null,0,null,0]
[null,null,null,null,null,null,null,null,null,null,null,null,0,null,0,null,0,null,0,null,0,null,0,null,0,null,0,null,0]
[null,null,null,null,null,null,null,null,null,null,null,null,0,null,0,null,0,null,0,null,0,null,0,null,0,null,0,null,0]
[null,null,null,null,null,null,null,null,null,null,null,null,0,null,0,null,0,null,0,null,0,null,0,null,0,null,0,null,0]
[null,null,null,null,null,null,null,null,null,null,null,null,0,null,0,null,0,null,0,null,0,null,0,null,0,null,0,null,0]
[null,null,null,null,null,null,null,null,null,null,null,null,0,null,0,null,0,null,0,null,0,null,0,null,0,null,0,null,0]
[null,null,null,null,null,null,null,null,null,null,null,null,0,null,0,null,0,null,0,null,0,null,0,null,0,null,0,null,0]
[null,null,null,null,null,null,null,null,null,null,null,null,0,null,0,null,0,null,0,null,0,null,0,null,0,null,0,null,0]
[null,null,null,null,null,null,null,null,null,null,null,null,0,null,0,null,0,null,0,null,0,null,0,null,0,null,0,null,0]
[null,null,null,null,null,null,null,null,null,null,null,null,0,null,0,null,0,null,0,null,0,null,0,null,0,null,0,null,0]
[null,null,null,null,null,null,null,null,null,null,null,null,0,null,0,null,0,null,0,null,0,null,0,null,0,null,0,null,0]
[null,null,null,null,null,null,null,null,null,null,null,null,0,null,0,null,0,null,0,null,0,null,0,null,0,null,0,null,0]
[null,null,null,null,null,null,null,null,null,null,null,null,0,null,0,null,0,null,0,null,0,null,0,null,0,null,0,null,0]
[null,null,null,null,null,null,null,null,null,null,null,null,0,null,0,null,0,null,0,null,0,null,0,null,0,null,0,null,0]
[null,null,null,null,null,null,null,null,null,null,null,null,0,null,0,null,0,null,0,null,0,null,0,null,0,null,0,null,0]
[null,null,null,null,null,null,null,null,null,null,null,null,0,null,0,null,0,null,0,null,0,null,0,null,0,null,0,null,0]
[null,null,null,null,null,null,null,null,null,null,null,null,0,null,0,null,0,null,0,null,0,null,0,null,0,null,0,null,0]
[null,null,null,null,null,null,null,null,null,null,null,null,0,null,0,null,0,null,0,null,0,null,0,null,0,null,0,null,0]
[null,null,null,null,null,null,null,null,null,null,null,null,0,null,0,null,0,null,0,null,0,null,0,null,0,null,0,null,0]
[null,null,null,null,null,null,null,null,null,null,null,null,0,null,0,null,0,null,0,null,0,null,0,null,0,null,0,null,0]
[null,null,null,null,null,null,null,null,null,null,null,null,0,null,0,null,0,null,0,null,0,null,0,null,0,null,0,null,0]
[null,null,null,null,null,null,null,null,null,null,null,null,0,null,0,null,0,null,0,null,0,null,0,null,0,null,0,null,0]
[null,null,null,null,null,null,null,null,null,null,null,null,0,null,0,null,0,null,0,null,0,null,0,null,0,null,0,null,0]
[null,null,null,null,null,null,null,null,null,null,null,null,0,null,0,null,0,null,0,null,0,null,0,null,0,null,0,null,0]
[null,null,null,null,null,null,null,null,null,null,null,null,0,null,0,null,0,null,0,null,0,null,{"$f":"IF(AI707=\"Not eligible\", \"Not eligible\", AI707)","v":0},null,0,null,0,null,0]
[null,null,null,null,null,null,null,null,null,null,null,null,0,null,0,null,0,null,{"$f":"IF(AG708=\"Not eligible\", \"Not eligible\", AG708)","v":0},null,{"$f":"IF(AH708=\"Not eligible\", \"Not eligible\", AH708)","v":0},null,0,null,{"$f":"IF(AJ708=\"Not eligible\", \"Not eligible\", AJ708)","v":0},null,{"$f":"IF(AK708=\"Not eligible\", \"Not eligible\", AK708)","v":0},null,{"$f":"IF(AL708=\"Not eligible\", \"Not eligible\",AL708)","v":0}]
[null,null,null,null,null,null,null,null,null,null,null,null,{"$f":"IF(AD709=\"Not eligible\", \"Not eligible\", AD709)","v":0},null,0,null,0,null,0,null,0,null,0,null,0,null,0,null,0]
[null,null,null,null,null,null,null,null,null,null,null,null,0,null,0,null,0,null,0,null,0,null,0,null,0,null,0,null,0]
[null,null,null,null,null,null,null,null,null,null,null,null,0,null,0,null,{"$f":"IF(AF711=\"Not eligible\", \"Not eligible\", AF711)","v":0},null,0,null,0,null,0,null,0,null,0,null,0]
[null,null,null,null,null,null,null,null,null,null,null,null,0,null,0,null,0,null,0,null,0,null,0,null,0,null,0,null,0]
[null,null,null,null,null,null,null,null,null,null,null,null,0,null,0,null,0,null,0,null,0,null,0,null,0,null,0,null,0]
[null,null,null,null,null,null,null,null,null,null,null,null,0,null,{"$f":"IF(AE714=\"Not eligible\", \"Not eligible\", AE714)","v":0},null,0,null,0,null,0,null,0,null,0,null,0,null,0]
[null,null,null,null,null,null,null,null,null,null,null,null,0,null,0,null,0,null,0,null,0,null,0,null,0,null,0,null,0]
[null,null,null,null,null,null,null,null,null,null,null,null,0,null,0,null,0,null,0,null,0,null,0,null,0,null,0,null,0]
[null,null,null,null,null,null,null,null,null,null,null,null,0,null,0,null,0,null,0,null,0,null,0,null,0,null,0,null,0]
[null,null,null,null,null,null,null,null,null,null,null,null,0,null,0,null,0,null,0,null,0,null,0,null,0,null,0,null,0]
[null,null,null,null,null,null,null,null,null,null,null,null,0,null,0,null,0,null,0,null,0,null,0,null,0,null,0,null,0]
[null,null,null,null,null,null,null,null,null,null,null,null,0,null,0,null,0,null,0,null,0,null,0,null,0,null,0,null,0]
[null,null,null,null,null,null,null,null,null,null,null,null,0,null,0,null,0,null,0,null,0,null,0,null,0,null,0,null,0]
[null,null,null,null,null,null,null,null,null,null,null,null,0,null,0,null,0,null,0,null,0,null,0,null,0,null,0,null,0]
[null,null,null,null,null,null,null,null,null,null,null,null,0,null,0,null,0,null,0,null,0,null,0,null,0,null,0,null,0]
[null,null,null,null,null,null,null,null,null,null,null,null,0,null,0,null,0,null,0,null,0,null,0,null,0,null,0,null,0]
[null,null,null,null,null,null,null,null,null,null,null,null,0,null,0,null,0,null,0,null,0,null,0,null,0,null,0,null,0]
[null,null,null,null,null,null,null,null,null,null,null,null,0,null,0,null,0,null,0,null,0,null,0,null,0,null,0,null,0]
[null,null,null,null,null,null,null,null,null,null,null,null,0,null,0,null,0,null,0,null,0,null,0,null,0,null,0,null,0]
[null,null,null,null,null,null,null,null,null,null,null,null,0,null,0,null,0,null,0,null,0,null,0,null,0,null,0,null,0]
[null,null,null,null,null,null,null,null,null,null,null,null,0,null,0,null,0,null,0,null,0,null,0,null,0,null,0,null,0]
[null,null,null,null,null,null,null,null,null,null,null,null,0,null,0,null,0,null,0,null,0,null,0,null,0,null,0,null,0]
[null,null,null,null,null,null,null,null,null,null,null,null,0,null,0,null,0,null,0,null,0,null,0,null,0,null,0,null,0]
[null,null,null,null,null,null,null,null,null,null,null,null,0,null,0,null,0,null,0,null,0,null,0,null,0,null,0,null,0]
[null,null,null,null,null,null,null,null,null,null,null,null,0,null,0,null,0,null,0,null,0,null,0,null,0,null,0,null,0]
[null,null,null,null,null,null,null,null,null,null,null,null,0,null,0,null,0,null,0,null,0,null,0,null,0,null,0,null,0]
[null,null,null,null,null,null,null,null,null,null,null,null,0,null,0,null,0,null,0,null,0,null,0,null,0,null,0,null,0]
[null,null,null,null,null,null,null,null,null,null,null,null,0,null,0,null,0,null,0,null,0,null,0,null,0,null,0,null,0]
[null,null,null,null,null,null,null,null,null,null,null,null,0,null,0,null,0,null,0,null,0,null,0,null,0,null,0,null,0]
[null,null,null,null,null,null,null,null,null,null,null,null,0,null,0,null,0,null,0,null,0,null,0,null,0,null,0,null,0]
[null,null,null,null,null,null,null,null,null,null,null,null,0,null,0,null,0,null,0,null,0,null,0,null,0,null,0,null,0]
[null,null,null,null,null,null,null,null,null,null,null,null,0,null,0,null,0,null,0,null,0,null,0,null,0,null,0,null,0]
[null,null,null,null,null,null,null,null,null,null,null,null,0,null,0,null,0,null,0,null,0,null,0,null,0,null,0,null,0]
[null,null,null,null,null,null,null,null,null,null,null,null,0,null,0,null,0,null,0,null,0,null,0,null,0,null,0,null,0]
[null,null,null,null,null,null,null,null,null,null,null,null,0,null,0,null,0,null,0,null,0,null,0,null,0,null,0,null,0]
[null,null,null,null,null,null,null,null,null,null,null,null,0,null,0,null,0,null,0,null,0,null,0,null,0,null,0,null,0]
[null,null,null,null,null,null,null,null,null,null,null,null,0,null,0,null,0,null,0,null,0,null,0,null,0,null,0,null,0]
[null,null,null,null,null,null,null,null,null,null,null,null,0,null,0,null,0,null,0,null,0,null,0,null,0,null,0,null,0]
[null,null,null,null,null,null,null,null,null,null,null,null,0,null,0,null,0,null,0,null,0,null,0,null,0,null,0,null,0]
[null,null,null,null,null,null,null,null,null,null,null,null,0,null,0,null,0,null,0,null,0,null,0,null,0,null,0,null,0]
[null,null,null,null,null,null,null,null,null,null,null,null,0,null,0,null,0,null,0,null,0,null,0,null,0,null,0,null,0]
[null,null,null,null,null,null,null,null,null,null,null,null,0,null,0,null,0,null,0,null,0,null,0,null,0,null,0,null,0]
[null,null,null,null,null,null,null,null,null,null,null,null,0,null,0,null,0,null,0,null,0,null,0,null,0,null,0,null,0]
[null,null,null,null,null,null,null,null,null,null,null,null,0,null,0,null,0,null,0,null,0,null,0,null,0,null,0,null,0]
[null,null,null,null,null,null,null,null,null,null,null,null,0,null,0,null,0,null,0,null,0,null,0,null,0,null,0,null,0]
[null,null,null,null,null,null,null,null,null,null,null,null,0,null,0,null,0,null,0,null,0,null,0,null,0,null,0,null,0]
[null,null,null,null,null,null,null,null,null,null,null,null,0,null,0,null,0,null,0,null,0,null,0,null,0,null,0,null,0]
[null,null,null,null,null,null,null,null,null,null,null,null,0,null,0,null,0,null,0,null,0,null,0,null,0,null,0,null,0]
[null,null,null,null,null,null,null,null,null,null,null,null,0,null,0,null,0,null,0,null,0,null,0,null,0,null,0,null,0]
[null,null,null,null,null,null,null,null,null,null,null,null,0,null,0,null,0,null,0,null,0,null,0,null,0,null,0,null,0]
[null,null,null,null,null,null,null,null,null,null,null,null,0,null,0,null,0,null,0,null,0,null,0,null,0,null,0,null,0]
[null,null,null,null,null,null,null,null,null,null,null,null,0,null,0,null,0,null,0,null,0,null,0,null,0,null,0,null,0]
[null,null,null,null,null,null,null,null,null,null,null,null,0,null,0,null,0,null,0,null,0,null,0,null,0,null,0,null,0]
[null,null,null,null,null,null,null,null,null,null,null,null,0,null,0,null,0,null,0,null,0,null,0,null,0,null,0,null,0]
[null,null,null,null,null,null,null,null,null,null,null,null,0,null,0,null,0,null,0,null,0,null,0,null,0,null,0,null,0]
[null,null,null,null,null,null,null,null,null,null,null,null,0,null,0,null,0,null,0,null,0,null,0,null,0,null,0,null,0]
[null,null,null,null,null,null,null,null,null,null,null,null,0,null,0,null,0,null,0,null,0,null,0,null,0,null,0,null,0]
[null,null,null,null,null,null,null,null,null,null,null,null,0,null,0,null,0,null,0,null,0,null,0,null,0,null,0,null,0]
[null,null,null,null,null,null,null,null,null,null,null,null,0,null,0,null,0,null,0,null,0,null,0,null,0,null,0,null,0]
[null,null,null,null,null,null,null,null,null,null,null,null,0,null,0,null,0,null,0,null,0,null,0,null,0,null,0,null,0]
[null,null,null,null,null,null,null,null,null,null,null,null,0,null,0,null,0,null,0,null,0,null,0,null,0,null,0,null,0]
[null,null,null,null,null,null,null,null,null,null,null,null,0,null,0,null,0,null,0,null,0,null,0,null,0,null,0,null,0]
[null,null,null,null,null,null,null,null,null,null,null,null,0,null,0,null,0,null,0,null,0,null,{"$f":"IF(AI771=\"Not eligible\", \"Not eligible\", AI771)","v":0},null,0,null,0,null,0]
[null,null,null,null,null,null,null,null,null,null,null,null,0,null,0,null,0,null,{"$f":"IF(AG772=\"Not eligible\", \"Not eligible\", AG772)","v":0},null,{"$f":"IF(AH772=\"Not eligible\", \"Not eligible\", AH772)","v":0},null,0,null,{"$f":"IF(AJ772=\"Not eligible\", \"Not eligible\", AJ772)","v":0},null,{"$f":"IF(AK772=\"Not eligible\", \"Not eligible\", AK772)","v":0},null,{"$f":"IF(AL772=\"Not eligible\", \"Not eligible\",AL772)","v":0}]
[null,null,null,null,null,null,null,null,null,null,null,null,{"$f":"IF(AD773=\"Not eligible\", \"Not eligible\", AD773)","v":0},null,0,null,0,null,0,null,0,null,0,null,0,null,0,null,0]
[null,null,null,null,null,null,null,null,null,null,null,null,0,null,0,null,0,null,0,null,0,null,0,null,0,null,0,null,0]
[null,null,null,null,null,null,null,null,null,null,null,null,0,null,0,null,{"$f":"IF(AF775=\"Not eligible\", \"Not eligible\", AF775)","v":0},null,0,null,0,null,0,null,0,null,0,null,0]
[null,null,null,null,null,null,null,null,null,null,null,null,0,null,0,null,0,null,0,null,0,null,0,null,0,null,0,null,0]
[null,null,null,null,null,null,null,null,null,null,null,null,0,null,0,null,0,null,0,null,0,null,0,null,0,null,0,null,0]
[null,null,null,null,null,null,null,null,null,null,null,null,0,null,{"$f":"IF(AE778=\"Not eligible\", \"Not eligible\", AE778)","v":0},null,0,null,0,null,0,null,0,null,0,null,0,null,0]
[null,null,null,null,null,null,null,null,null,null,null,null,0,null,0,null,0,null,0,null,0,null,0,null,0,null,0,null,0]
[null,null,null,null,null,null,null,null,null,null,null,null,0,null,0,null,0,null,0,null,0,null,0,null,0,null,0,null,0]
[null,null,null,null,null,null,null,null,null,null,null,null,0,null,0,null,0,null,0,null,0,null,0,null,0,null,0,null,0]
[null,null,null,null,null,null,null,null,null,null,null,null,0,null,0,null,0,null,0,null,0,null,0,null,0,null,0,null,0]
[null,null,null,null,null,null,null,null,null,null,null,null,0,null,0,null,0,null,0,null,0,null,0,null,0,null,0,null,0]
[null,null,null,null,null,null,null,null,null,null,null,null,0,null,0,null,0,null,0,null,0,null,0,null,0,null,0,null,0]
[null,null,null,null,null,null,null,null,null,null,null,null,0,null,0,null,0,null,0,null,0,null,0,null,0,null,0,null,0]
[null,null,null,null,null,null,null,null,null,null,null,null,0,null,0,null,0,null,0,null,0,null,0,null,0,null,0,null,0]
[null,null,null,null,null,null,null,null,null,null,null,null,0,null,0,null,0,null,0,null,0,null,0,null,0,null,0,null,0]
[null,null,null,null,null,null,null,null,null,null,null,null,0,null,0,null,0,null,0,null,0,null,0,null,0,null,0,null,0]
[null,null,null,null,null,null,null,null,null,null,null,null,0,null,0,null,0,null,0,null,0,null,0,null,0,null,0,null,0]
[null,null,null,null,null,null,null,null,null,null,null,null,0,null,0,null,0,null,0,null,0,null,0,null,0,null,0,null,0]
[null,null,null,null,null,null,null,null,null,null,null,null,0,null,0,null,0,null,0,null,0,null,0,null,0,null,0,null,0]
[null,null,null,null,null,null,null,null,null,null,null,null,0,null,0,null,0,null,0,null,0,null,0,null,0,null,0,null,0]
[null,null,null,null,null,null,null,null,null,null,null,null,0,null,0,null,0,null,0,null,0,null,0,null,0,null,0,null,0]
[null,null,null,null,null,null,null,null,null,null,null,null,0,null,0,null,0,null,0,null,0,null,0,null,0,null,0,null,0]
[null,null,null,null,null,null,null,null,null,null,null,null,0,null,0,null,0,null,0,null,0,null,0,null,0,null,0,null,0]
[null,null,null,null,null,null,null,null,null,null,null,null,0,null,0,null,0,null,0,null,0,null,0,null,0,null,0,null,0]
[null,null,null,null,null,null,null,null,null,null,null,null,0,null,0,null,0,null,0,null,0,null,0,null,0,null,0,null,0]
[null,null,null,null,null,null,null,null,null,null,null,null,0,null,0,null,0,null,0,null,0,null,0,null,0,null,0,null,0]
[null,null,null,null,null,null,null,null,null,null,null,null,0,null,0,null,0,null,0,null,0,null,0,null,0,null,0,null,0]
[null,null,null,null,null,null,null,null,null,null,null,null,0,null,0,null,0,null,0,null,0,null,0,null,0,null,0,null,0]
[null,null,null,null,null,null,null,null,null,null,null,null,0,null,0,null,0,null,0,null,0,null,0,null,0,null,0,null,0]
[null,null,null,null,null,null,null,null,null,null,null,null,0,null,0,null,0,null,0,null,0,null,0,null,0,null,0,null,0]
[null,null,null,null,null,null,null,null,null,null,null,null,0,null,0,null,0,null,0,null,0,null,0,null,0,null,0,null,0]
[null,null,null,null,null,null,null,null,null,null,null,null,0,null,0,null,0,null,0,null,0,null,0,null,0,null,0,null,0]
[null,null,null,null,null,null,null,null,null,null,null,null,0,null,0,null,0,null,0,null,0,null,0,null,0,null,0,null,0]
[null,null,null,null,null,null,null,null,null,null,null,null,0,null,0,null,0,null,0,null,0,null,0,null,0,null,0,null,0]
[null,null,null,null,null,null,null,null,null,null,null,null,0,null,0,null,0,null,0,null,0,null,0,null,0,null,0,null,0]
[null,null,null,null,null,null,null,null,null,null,null,null,0,null,0,null,0,null,0,null,0,null,0,null,0,null,0,null,0]
[null,null,null,null,null,null,null,null,null,null,null,null,0,null,0,null,0,null,0,null,0,null,0,null,0,null,0,null,0]
[null,null,null,null,null,null,null,null,null,null,null,null,0,null,0,null,0,null,0,null,0,null,0,null,0,null,0,null,0]
[null,null,null,null,null,null,null,null,null,null,null,null,0,null,0,null,0,null,0,null,0,null,0,null,0,null,0,null,0]
[null,null,null,null,null,null,null,null,null,null,null,null,0,null,0,null,0,null,0,null,0,null,0,null,0,null,0,null,0]
[null,null,null,null,null,null,null,null,null,null,null,null,0,null,0,null,0,null,0,null,0,null,0,null,0,null,0,null,0]
[null,null,null,null,null,null,null,null,null,null,null,null,0,null,0,null,0,null,0,null,0,null,0,null,0,null,0,null,0]
[null,null,null,null,null,null,null,null,null,null,null,null,0,null,0,null,0,null,0,null,0,null,0,null,0,null,0,null,0]
[null,null,null,null,null,null,null,null,null,null,null,null,0,null,0,null,0,null,0,null,0,null,0,null,0,null,0,null,0]
[null,null,null,null,null,null,null,null,null,null,null,null,0,null,0,null,0,null,0,null,0,null,0,null,0,null,0,null,0]
[null,null,null,null,null,null,null,null,null,null,null,null,0,null,0,null,0,null,0,null,0,null,0,null,0,null,0,null,0]
[null,null,null,null,null,null,null,null,null,null,null,null,0,null,0,null,0,null,0,null,0,null,0,null,0,null,0,null,0]
[null,null,null,null,null,null,null,null,null,null,null,null,0,null,0,null,0,null,0,null,0,null,0,null,0,null,0,null,0]
[null,null,null,null,null,null,null,null,null,null,null,null,0,null,0,null,0,null,0,null,0,null,0,null,0,null,0,null,0]
[null,null,null,null,null,null,null,null,null,null,null,null,0,null,0,null,0,null,0,null,0,null,0,null,0,null,0,null,0]
[null,null,null,null,null,null,null,null,null,null,null,null,0,null,0,null,0,null,0,null,0,null,0,null,0,null,0,null,0]
[null,null,null,null,null,null,null,null,null,null,null,null,0,null,0,null,0,null,0,null,0,null,0,null,0,null,0,null,0]
[null,null,null,null,null,null,null,null,null,null,null,null,0,null,0,null,0,null,0,null,0,null,0,null,0,null,0,null,0]
[null,null,null,null,null,null,null,null,null,null,null,null,0,null,0,null,0,null,0,null,0,null,0,null,0,null,0,null,0]
[null,null,null,null,null,null,null,null,null,null,null,null,0,null,0,null,0,null,0,null,0,null,0,null,0,null,0,null,0]
[null,null,null,null,null,null,null,null,null,null,null,null,0,null,0,null,0,null,0,null,0,null,0,null,0,null,0,null,0]
[null,null,null,null,null,null,null,null,null,null,null,null,0,null,0,null,0,null,0,null,0,null,0,null,0,null,0,null,0]
[null,null,null,null,null,null,null,null,null,null,null,null,0,null,0,null,0,null,0,null,0,null,0,null,0,null,0,null,0]
[null,null,null,null,null,null,null,null,null,null,null,null,0,null,0,null,0,null,0,null,0,null,0,null,0,null,0,null,0]
[null,null,null,null,null,null,null,null,null,null,null,null,0,null,0,null,0,null,0,null,0,null,0,null,0,null,0,null,0]
[null,null,null,null,null,null,null,null,null,null,null,null,0,null,0,null,0,null,0,null,0,null,0,null,0,null,0,null,0]
[null,null,null,null,null,null,null,null,null,null,null,null,0,null,0,null,0,null,0,null,0,null,0,null,0,null,0,null,0]
[null,null,null,null,null,null,null,null,null,null,null,null,0,null,0,null,0,null,0,null,0,null,{"$f":"IF(AI835=\"Not eligible\", \"Not eligible\", AI835)","v":0},null,0,null,0,null,0]
[null,null,null,null,null,null,null,null,null,null,null,null,0,null,0,null,0,null,{"$f":"IF(AG836=\"Not eligible\", \"Not eligible\", AG836)","v":0},null,{"$f":"IF(AH836=\"Not eligible\", \"Not eligible\", AH836)","v":0},null,0,null,{"$f":"IF(AJ836=\"Not eligible\", \"Not eligible\", AJ836)","v":0},null,{"$f":"IF(AK836=\"Not eligible\", \"Not eligible\", AK836)","v":0},null,{"$f":"IF(AL836=\"Not eligible\", \"Not eligible\",AL836)","v":0}]
[null,null,null,null,null,null,null,null,null,null,null,null,{"$f":"IF(AD837=\"Not eligible\", \"Not eligible\", AD837)","v":0},null,0,null,0,null,0,null,0,null,0,null,0,null,0,null,0]
[null,null,null,null,null,null,null,null,null,null,null,null,0,null,0,null,0,null,0,null,0,null,0,null,0,null,0,null,0]
[null,null,null,null,null,null,null,null,null,null,null,null,0,null,0,null,{"$f":"IF(AF839=\"Not eligible\", \"Not eligible\", AF839)","v":0},null,0,null,0,null,0,null,0,null,0,null,0]
[null,null,null,null,null,null,null,null,null,null,null,null,0,null,0,null,0,null,0,null,0,null,0,null,0,null,0,null,0]
[null,null,null,null,null,null,null,null,null,null,null,null,0,null,0,null,0,null,0,null,0,null,0,null,0,null,0,null,0]
[null,null,null,null,null,null,null,null,null,null,null,null,0,null,{"$f":"IF(AE842=\"Not eligible\", \"Not eligible\", AE842)","v":0},null,0,null,0,null,0,null,0,null,0,null,0,null,0]
[null,null,null,null,null,null,null,null,null,null,null,null,0,null,0,null,0,null,0,null,0,null,0,null,0,null,0,null,0]
[null,null,null,null,null,null,null,null,null,null,null,null,0,null,0,null,0,null,0,null,0,null,0,null,0,null,0,null,0]
[null,null,null,null,null,null,null,null,null,null,null,null,0,null,0,null,0,null,0,null,0,null,0,null,0,null,0,null,0]
[null,null,null,null,null,null,null,null,null,null,null,null,0,null,0,null,0,null,0,null,0,null,0,null,0,null,0,null,0]
[null,null,null,null,null,null,null,null,null,null,null,null,0,null,0,null,0,null,0,null,0,null,0,null,0,null,0,null,0]
[null,null,null,null,null,null,null,null,null,null,null,null,0,null,0,null,0,null,0,null,0,null,0,null,0,null,0,null,0]
[null,null,null,null,null,null,null,null,null,null,null,null,0,null,0,null,0,null,0,null,0,null,0,null,0,null,0,null,0]
[null,null,null,null,null,null,null,null,null,null,null,null,0,null,0,null,0,null,0,null,0,null,0,null,0,null,0,null,0]
[null,null,null,null,null,null,null,null,null,null,null,null,0,null,0,null,0,null,0,null,0,null,0,null,0,null,0,null,0]
[null,null,null,null,null,null,null,null,null,null,null,null,0,null,0,null,0,null,0,null,0,null,0,null,0,null,0,null,0]
[null,null,null,null,null,null,null,null,null,null,null,null,0,null,0,null,0,null,0,null,0,null,0,null,0,null,0,null,0]
[null,null,null,null,null,null,null,null,null,null,null,null,0,null,0,null,0,null,0,null,0,null,0,null,0,null,0,null,0]
[null,null,null,null,null,null,null,null,null,null,null,null,0,null,0,null,0,null,0,null,0,null,0,null,0,null,0,null,0]
[null,null,null,null,null,null,null,null,null,null,null,null,0,null,0,null,0,null,0,null,0,null,0,null,0,null,0,null,0]
[null,null,null,null,null,null,null,null,null,null,null,null,0,null,0,null,0,null,0,null,0,null,0,null,0,null,0,null,0]
[null,null,null,null,null,null,null,null,null,null,null,null,0,null,0,null,0,null,0,null,0,null,0,null,0,null,0,null,0]
[null,null,null,null,null,null,null,null,null,null,null,null,0,null,0,null,0,null,0,null,0,null,0,null,0,null,0,null,0]
[null,null,null,null,null,null,null,null,null,null,null,null,0,null,0,null,0,null,0,null,0,null,0,null,0,null,0,null,0]
[null,null,null,null,null,null,null,null,null,null,null,null,0,null,0,null,0,null,0,null,0,null,0,null,0,null,0,null,0]
[null,null,null,null,null,null,null,null,null,null,null,null,0,null,0,null,0,null,0,null,0,null,0,null,0,null,0,null,0]
[null,null,null,null,null,null,null,null,null,null,null,null,0,null,0,null,0,null,0,null,0,null,0,null,0,null,0,null,0]
[null,null,null,null,null,null,null,null,null,null,null,null,0,null,0,null,0,null,0,null,0,null,0,null,0,null,0,null,0]
[null,null,null,null,null,null,null,null,null,null,null,null,0,null,0,null,0,null,0,null,0,null,0,null,0,null,0,null,0]
[null,null,null,null,null,null,null,null,null,null,null,null,0,null,0,null,0,null,0,null,0,null,0,null,0,null,0,null,0]
[null,null,null,null,null,null,null,null,null,null,null,null,0,null,0,null,0,null,0,null,0,null,0,null,0,null,0,null,0]
[null,null,null,null,null,null,null,null,null,null,null,null,0,null,0,null,0,null,0,null,0,null,0,null,0,null,0,null,0]
[null,null,null,null,null,null,null,null,null,null,null,null,0,null,0,null,0,null,0,null,0,null,0,null,0,null,0,null,0]
[null,null,null,null,null,null,null,null,null,null,null,null,0,null,0,null,0,null,0,null,0,null,0,null,0,null,0,null,0]
[null,null,null,null,null,null,null,null,null,null,null,null,0,null,0,null,0,null,0,null,0,null,0,null,0,null,0,null,0]
[null,null,null,null,null,null,null,null,null,null,null,null,0,null,0,null,0,null,0,null,0,null,0,null,0,null,0,null,0]
[null,null,null,null,null,null,null,null,null,null,null,null,0,null,0,null,0,null,0,null,0,null,0,null,0,null,0,null,0]
[null,null,null,null,null,null,null,null,null,null,null,null,0,null,0,null,0,null,0,null,0,null,0,null,0,null,0,null,0]
[null,null,null,null,null,null,null,null,null,null,null,null,0,null,0,null,0,null,0,null,0,null,0,null,0,null,0,null,0]
[null,null,null,null,null,null,null,null,null,null,null,null,0,null,0,null,0,null,0,null,0,null,0,null,0,null,0,null,0]
[null,null,null,null,null,null,null,null,null,null,null,null,0,null,0,null,0,null,0,null,0,null,0,null,0,null,0,null,0]
[null,null,null,null,null,null,null,null,null,null,null,null,0,null,0,null,0,null,0,null,0,null,0,null,0,null,0,null,0]
[null,null,null,null,null,null,null,null,null,null,null,null,0,null,0,null,0,null,0,null,0,null,0,null,0,null,0,null,0]
[null,null,null,null,null,null,null,null,null,null,null,null,0,null,0,null,0,null,0,null,0,null,0,null,0,null,0,null,0]
[null,null,null,null,null,null,null,null,null,null,null,null,0,null,0,null,0,null,0,null,0,null,0,null,0,null,0,null,0]
[null,null,null,null,null,null,null,null,null,null,null,null,0,null,0,null,0,null,0,null,0,null,0,null,0,null,0,null,0]
[null,null,null,null,null,null,null,null,null,null,null,null,0,null,0,null,0,null,0,null,0,null,0,null,0,null,0,null,0]
[null,null,null,null,null,null,null,null,null,null,null,null,0,null,0,null,0,null,0,null,0,null,0,null,0,null,0,null,0]
[null,null,null,null,null,null,null,null,null,null,null,null,0,null,0,null,0,null,0,null,0,null,0,null,0,null,0,null,0]
[null,null,null,null,null,null,null,null,null,null,null,null,0,null,0,null,0,null,0,null,0,null,0,null,0,null,0,null,0]
[null,null,null,null,null,null,null,null,null,null,null,null,0,null,0,null,0,null,0,null,0,null,0,null,0,null,0,null,0]
[null,null,null,null,null,null,null,null,null,null,null,null,0,null,0,null,0,null,0,null,0,null,0,null,0,null,0,null,0]
[null,null,null,null,null,null,null,null,null,null,null,null,0,null,0,null,0,null,0,null,0,null,0,null,0,null,0,null,0]
[null,null,null,null,null,null,null,null,null,null,null,null,0,null,0,null,0,null,0,null,0,null,0,null,0,null,0,null,0]
[null,null,null,null,null,null,null,null,null,null,null,null,0,null,0,null,0,null,0,null,0,null,0,null,0,null,0,null,0]
[null,null,null,null,null,null,null,null,null,null,null,null,0,null,0,null,0,null,0,null,0,null,0,null,0,null,0,null,0]
[null,null,null,null,null,null,null,null,null,null,null,null,0,null,0,null,0,null,0,null,0,null,0,null,0,null,0,null,0]
[null,null,null,null,null,null,null,null,null,null,null,null,0,null,0,null,0,null,0,null,0,null,0,null,0,null,0,null,0]
[null,null,null,null,null,null,null,null,null,null,null,null,0,null,0,null,0,null,0,null,0,null,0,null,0,null,0,null,0]
[null,null,null,null,null,null,null,null,null,null,null,null,0,null,0,null,0,null,0,null,0,null,0,null,0,null,0,null,0]
[null,null,null,null,null,null,null,null,null,null,null,null,0,null,0,null,0,null,0,null,0,null,0,null,0,null,0,null,0]
[null,null,null,null,null,null,null,null,null,null,null,null,0,null,0,null,0,null,0,null,0,null,0,null,0,null,0,null,0]
[null,null,null,null,null,null,null,null,null,null,null,null,0,null,0,null,0,null,0,null,0,null,{"$f":"IF(AI899=\"Not eligible\", \"Not eligible\", AI899)","v":0},null,0,null,0,null,0]
[null,null,null,null,null,null,null,null,null,null,null,null,0,null,0,null,0,null,{"$f":"IF(AG900=\"Not eligible\", \"Not eligible\", AG900)","v":0},null,{"$f":"IF(AH900=\"Not eligible\", \"Not eligible\", AH900)","v":0},null,0,null,{"$f":"IF(AJ900=\"Not eligible\", \"Not eligible\", AJ900)","v":0},null,{"$f":"IF(AK900=\"Not eligible\", \"Not eligible\", AK900)","v":0},null,{"$f":"IF(AL900=\"Not eligible\", \"Not eligible\",AL900)","v":0}]
[null,null,null,null,null,null,null,null,null,null,null,null,{"$f":"IF(AD901=\"Not eligible\", \"Not eligible\", AD901)","v":0},null,0,null,0,null,0,null,0,null,0,null,0,null,0,null,0]
[null,null,null,null,null,null,null,null,null,null,null,null,0,null,0,null,0,null,0,null,0,null,0,null,0,null,0,null,0]
[null,null,null,null,null,null,null,null,null,null,null,null,0,null,0,null,{"$f":"IF(AF903=\"Not eligible\", \"Not eligible\", AF903)","v":0},null,0,null,0,null,0,null,0,null,0,null,0]
[null,null,null,null,null,null,null,null,null,null,null,null,0,null,0,null,0,null,0,null,0,null,0,null,0,null,0,null,0]
[null,null,null,null,null,null,null,null,null,null,null,null,0,null,0,null,0,null,0,null,0,null,0,null,0,null,0,null,0]
[null,null,null,null,null,null,null,null,null,null,null,null,0,null,{"$f":"IF(AE906=\"Not eligible\", \"Not eligible\", AE906)","v":0},null,0,null,0,null,0,null,0,null,0,null,0,null,0]
[null,null,null,null,null,null,null,null,null,null,null,null,0,null,0,null,0,null,0,null,0,null,0,null,0,null,0,null,0]
[null,null,null,null,null,null,null,null,null,null,null,null,0,null,0,null,0,null,0,null,0,null,0,null,0,null,0,null,0]
[null,null,null,null,null,null,null,null,null,null,null,null,0,null,0,null,0,null,0,null,0,null,0,null,0,null,0,null,0]
[null,null,null,null,null,null,null,null,null,null,null,null,0,null,0,null,0,null,0,null,0,null,0,null,0,null,0,null,0]
[null,null,null,null,null,null,null,null,null,null,null,null,0,null,0,null,0,null,0,null,0,null,0,null,0,null,0,null,0]
[null,null,null,null,null,null,null,null,null,null,null,null,0,null,0,null,0,null,0,null,0,null,0,null,0,null,0,null,0]
[null,null,null,null,null,null,null,null,null,null,null,null,0,null,0,null,0,null,0,null,0,null,0,null,0,null,0,null,0]
[null,null,null,null,null,null,null,null,null,null,null,null,0,null,0,null,0,null,0,null,0,null,0,null,0,null,0,null,0]
[null,null,null,null,null,null,null,null,null,null,null,null,0,null,0,null,0,null,0,null,0,null,0,null,0,null,0,null,0]
[null,null,null,null,null,null,null,null,null,null,null,null,0,null,0,null,0,null,0,null,0,null,0,null,0,null,0,null,0]
[null,null,null,null,null,null,null,null,null,null,null,null,0,null,0,null,0,null,0,null,0,null,0,null,0,null,0,null,0]
[null,null,null,null,null,null,null,null,null,null,null,null,0,null,0,null,0,null,0,null,0,null,0,null,0,null,0,null,0]
[null,null,null,null,null,null,null,null,null,null,null,null,0,null,0,null,0,null,0,null,0,null,0,null,0,null,0,null,0]
[null,null,null,null,null,null,null,null,null,null,null,null,0,null,0,null,0,null,0,null,0,null,0,null,0,null,0,null,0]
[null,null,null,null,null,null,null,null,null,null,null,null,0,null,0,null,0,null,0,null,0,null,0,null,0,null,0,null,0]
[null,null,null,null,null,null,null,null,null,null,null,null,0,null,0,null,0,null,0,null,0,null,0,null,0,null,0,null,0]
[null,null,null,null,null,null,null,null,null,null,null,null,0,null,0,null,0,null,0,null,0,null,0,null,0,null,0,null,0]
[null,null,null,null,null,null,null,null,null,null,null,null,0,null,0,null,0,null,0,null,0,null,0,null,0,null,0,null,0]
[null,null,null,null,null,null,null,null,null,null,null,null,0,null,0,null,0,null,0,null,0,null,0,null,0,null,0,null,0]
[null,null,null,null,null,null,null,null,null,null,null,null,0,null,0,null,0,null,0,null,0,null,0,null,0,null,0,null,0]
[null,null,null,null,null,null,null,null,null,null,null,null,0,null,0,null,0,null,0,null,0,null,0,null,0,null,0,null,0]
[null,null,null,null,null,null,null,null,null,null,null,null,0,null,0,null,0,null,0,null,0,null,0,null,0,null,0,null,0]
[null,null,null,null,null,null,null,null,null,null,null,null,0,null,0,null,0,null,0,null,0,null,0,null,0,null,0,null,0]
[null,null,null,null,null,null,null,null,null,null,null,null,0,null,0,null,0,null,0,null,0,null,0,null,0,null,0,null,0]
[null,null,null,null,null,null,null,null,null,null,null,null,0,null,0,null,0,null,0,null,0,null,0,null,0,null,0,null,0]
[null,null,null,null,null,null,null,null,null,null,null,null,0,null,0,null,0,null,0,null,0,null,0,null,0,null,0,null,0]
[null,null,null,null,null,null,null,null,null,null,null,null,0,null,0,null,0,null,0,null,0,null,0,null,0,null,0,null,0]
[null,null,null,null,null,null,null,null,null,null,null,null,0,null,0,null,0,null,0,null,0,null,0,null,0,null,0,null,0]
[null,null,null,null,null,null,null,null,null,null,null,null,0,null,0,null,0,null,0,null,0,null,0,null,0,null,0,null,0]
[null,null,null,null,null,null,null,null,null,null,null,null,0,null,0,null,0,null,0,null,0,null,0,null,0,null,0,null,0]
[null,null,null,null,null,null,null,null,null,null,null,null,0,null,0,null,0,null,0,null,0,null,0,null,0,null,0,null,0]
[null,null,null,null,null,null,null,null,null,null,null,null,0,null,0,null,0,null,0,null,0,null,0,null,0,null,0,null,0]
[null,null,null,null,null,null,null,null,null,null,null,null,0,null,0,null,0,null,0,null,0,null,0,null,0,null,0,null,0]
[null,null,null,null,null,null,null,null,null,null,null,null,0,null,0,null,0,null,0,null,0,null,0,null,0,null,0,null,0]
[null,null,null,null,null,null,null,null,null,null,null,null,0,null,0,null,0,null,0,null,0,null,0,null,0,null,0,null,0]
[null,null,null,null,null,null,null,null,null,null,null,null,0,null,0,null,0,null,0,null,0,null,0,null,0,null,0,null,0]
[null,null,null,null,null,null,null,null,null,null,null,null,0,null,0,null,0,null,0,null,0,null,0,null,0,null,0,null,0]
[null,null,null,null,null,null,null,null,null,null,null,null,0,null,0,null,0,null,0,null,0,null,0,null,0,null,0,null,0]
[null,null,null,null,null,null,null,null,null,null,null,null,0,null,0,null,0,null,0,null,0,null,0,null,0,null,0,null,0]
[null,null,null,null,null,null,null,null,null,null,null,null,0,null,0,null,0,null,0,null,0,null,0,null,0,null,0,null,0]
[null,null,null,null,null,null,null,null,null,null,null,null,0,null,0,null,0,null,0,null,0,null,0,null,0,null,0,null,0]
[null,null,null,null,null,null,null,null,null,null,null,null,0,null,0,null,0,null,0,null,0,null,0,null,0,null,0,null,0]
[null,null,null,null,null,null,null,null,null,null,null,null,0,null,0,null,0,null,0,null,0,null,0,null,0,null,0,null,0]
[null,null,null,null,null,null,null,null,null,null,null,null,0,null,0,null,0,null,0,null,0,null,0,null,0,null,0,null,0]
[null,null,null,null,null,null,null,null,null,null,null,null,0,null,0,null,0,null,0,null,0,null,0,null,0,null,0,null,0]
[null,null,null,null,null,null,null,null,null,null,null,null,0,null,0,null,0,null,0,null,0,null,0,null,0,null,0,null,0]
[null,null,null,null,null,null,null,null,null,null,null,null,0,null,0,null,0,null,0,null,0,null,0,null,0,null,0,null,0]
[null,null,null,null,null,null,null,null,null,null,null,null,0,null,0,null,0,null,0,null,0,null,0,null,0,null,0,null,0]
[null,null,null,null,null,null,null,null,null,null,null,null,0,null,0,null,0,null,0,null,0,null,0,null,0,null,0,null,0]
[null,null,null,null,null,null,null,null,null,null,null,null,0,null,0,null,0,null,0,null,0,null,0,null,0,null,0,null,0]
[null,null,null,null,null,null,null,null,null,null,null,null,0,null,0,null,0,null,0,null,0,null,0,null,0,null,0,null,0]
[null,null,null,null,null,null,null,null,null,null,null,null,0,null,0,null,0,null,0,null,0,null,0,null,0,null,0,null,0]
[null,null,null,null,null,null,null,null,null,null,null,null,0,null,0,null,0,null,0,null,0,null,0,null,0,null,0,null,0]
[null,null,null,null,null,null,null,null,null,null,null,null,0,null,0,null,0,null,0,null,0,null,0,null,0,null,0,null,0]
[null,null,null,null,null,null,null,null,null,null,null,null,0,null,0,null,0,null,0,null,0,null,0,null,0,null,0,null,0]
[null,null,null,null,null,null,null,null,null,null,null,null,0,null,0,null,0,null,0,null,0,null,0,null,0,null,0,null,0]
[null,null,null,null,null,null,null,null,null,null,null,null,0,null,0,null,0,null,0,null,0,null,{"$f":"IF(AI963=\"Not eligible\", \"Not eligible\", AI963)","v":0},null,0,null,0,null,0]
[null,null,null,null,null,null,null,null,null,null,null,null,0,null,0,null,0,null,{"$f":"IF(AG964=\"Not eligible\", \"Not eligible\", AG964)","v":0},null,{"$f":"IF(AH964=\"Not eligible\", \"Not eligible\", AH964)","v":0},null,0,null,{"$f":"IF(AJ964=\"Not eligible\", \"Not eligible\", AJ964)","v":0},null,{"$f":"IF(AK964=\"Not eligible\", \"Not eligible\", AK964)","v":0},null,{"$f":"IF(AL964=\"Not eligible\", \"Not eligible\",AL964)","v":0}]
[null,null,null,null,null,null,null,null,null,null,null,null,{"$f":"IF(AD965=\"Not eligible\", \"Not eligible\", AD965)","v":0},null,0,null,0,null,0,null,0,null,0,null,0,null,0,null,0]
[null,null,null,null,null,null,null,null,null,null,null,null,0,null,0,null,0,null,0,null,0,null,0,null,0,null,0,null,0]
[null,null,null,null,null,null,null,null,null,null,null,null,0,null,0,null,{"$f":"IF(AF967=\"Not eligible\", \"Not eligible\", AF967)","v":0},null,0,null,0,null,0,null,0,null,0,null,0]
[null,null,null,null,null,null,null,null,null,null,null,null,0,null,0,null,0,null,0,null,0,null,0,null,0,null,0,null,0]
[null,null,null,null,null,null,null,null,null,null,null,null,0,null,0,null,0,null,0,null,0,null,0,null,0,null,0,null,0]
[null,null,null,null,null,null,null,null,null,null,null,null,0,null,{"$f":"IF(AE970=\"Not eligible\", \"Not eligible\", AE970)","v":0},null,0,null,0,null,0,null,0,null,0,null,0,null,0]
[null,null,null,null,null,null,null,null,null,null,null,null,0,null,0,null,0,null,0,null,0,null,0,null,0,null,0,null,0]
[null,null,null,null,null,null,null,null,null,null,null,null,0,null,0,null,0,null,0,null,0,null,0,null,0,null,0,null,0]
[null,null,null,null,null,null,null,null,null,null,null,null,0,null,0,null,0,null,0,null,0,null,0,null,0,null,0,null,0]
[null,null,null,null,null,null,null,null,null,null,null,null,0,null,0,null,0,null,0,null,0,null,0,null,0,null,0,null,0]
[null,null,null,null,null,null,null,null,null,null,null,null,0,null,0,null,0,null,0,null,0,null,0,null,0,null,0,null,0]
[null,null,null,null,null,null,null,null,null,null,null,null,0,null,0,null,0,null,0,null,0,null,0,null,0,null,0,null,0]
[null,null,null,null,null,null,null,null,null,null,null,null,0,null,0,null,0,null,0,null,0,null,0,null,0,null,0,null,0]
[null,null,null,null,null,null,null,null,null,null,null,null,0,null,0,null,0,null,0,null,0,null,0,null,0,null,0,null,0]
[null,null,null,null,null,null,null,null,null,null,null,null,0,null,0,null,0,null,0,null,0,null,0,null,0,null,0,null,0]
[null,null,null,null,null,null,null,null,null,null,null,null,0,null,0,null,0,null,0,null,0,null,0,null,0,null,0,null,0]
[null,null,null,null,null,null,null,null,null,null,null,null,0,null,0,null,0,null,0,null,0,null,0,null,0,null,0,null,0]
[null,null,null,null,null,null,null,null,null,null,null,null,0,null,0,null,0,null,0,null,0,null,0,null,0,null,0,null,0]
[null,null,null,null,null,null,null,null,null,null,null,null,0,null,0,null,0,null,0,null,0,null,0,null,0,null,0,null,0]
[null,null,null,null,null,null,null,null,null,null,null,null,0,null,0,null,0,null,0,null,0,null,0,null,0,null,0,null,0]
[null,null,null,null,null,null,null,null,null,null,null,null,0,null,0,null,0,null,0,null,0,null,0,null,0,null,0,null,0]
[null,null,null,null,null,null,null,null,null,null,null,null,0,null,0,null,0,null,0,null,0,null,0,null,0,null,0,null,0]
[null,null,null,null,null,null,null,null,null,null,null,null,0,null,0,null,0,null,0,null,0,null,0,null,0,null,0,null,0]
[null,null,null,null,null,null,null,null,null,null,null,null,0,null,0,null,0,null,0,null,0,null,0,null,0,null,0,null,0]
[null,null,null,null,null,null,null,null,null,null,null,null,0,null,0,null,0,null,0,null,0,null,0,null,0,null,0,null,0]
[null,null,null,null,null,null,null,null,null,null,null,null,0,null,0,null,0,null,0,null,0,null,0,null,0,null,0,null,0]
[null,null,null,null,null,null,null,null,null,null,null,null,0,null,0,null,0,null,0,null,0,null,0,null,0,null,0,null,0]
[null,null,null,null,null,null,null,null,null,null,null,null,0,null,0,null,0,null,0,null,0,null,0,null,0,null,0,null,0]
[null,null,null,null,null,null,null,null,null,null,null,null,0,null,0,null,0,null,0,null,0,null,0,null,0,null,0,null,0]
[null,null,null,null,null,null,null,null,null,null,null,null,0,null,0,null,0,null,0,null,0,null,0,null,0,null,0,null,0]
[null,null,null,null,null,null,null,null,null,null,null,null,0,null,0,null,0,null,0,null,0,null,0,null,0,null,0,null,0]
[null,null,null,null,null,null,null,null,null,null,null,null,0,null,0,null,0,null,0,null,0,null,0,null,0,null,0,null,0]
[null,null,null,null,null,null,null,null,null,null,null,null,0,null,0,null,0,null,0,null,0,null,0,null,0,null,0,null,0]
[null,null,null,null,null,null,null,null,null,null,null,null,0,null,0,null,0,null,0,null,0,null,0,null,0,null,0,null,0]
[null,null,null,null,null,null,null,null,null,null,null,null,0,null,0,null,0,null,0,null,0,null,0,null,0,null,0,null,0]
[null,null,null,null,null,null,null,null,null,null,null,null,0,null,0,null,0,null,0,null,0,null,0,null,0,null,0,null,0]
[null,null,null,null,null,null,null,null,null,null,null,null,0,null,0,null,0,null,0,null,0,null,0,null,0,null,0,null,0]
[null,null,null,null,null,null,null,null,null,null,null,null,0,null,0,null,0,null,0,null,0,null,0,null,0,null,0,null,0]
[null,null,null,null,null,null,null,null,null,null,null,null,0,null,0,null,0,null,0,null,0,null,0,null,0,null,0,null,0]
[null,null,null,null,null,null,null,null,null,null,null,null,0,null,0,null,0,null,0,null,0,null,0,null,0,null,0,null,0]
[null,null,null,null,null,null,null,null,null,null,null,null,0,null,0,null,0,null,0,null,0,null,0,null,0,null,0,null,0]
[null,null,null,null,null,null,null,null,null,null,null,null,0,null,0,null,0,null,0,null,0,null,0,null,0,null,0,null,0]
[null,null,null,null,null,null,null,null,null,null,null,null,0,null,0,null,0,null,0,null,0,null,0,null,0,null,0,null,0]
[null,null,null,null,null,null,null,null,null,null,null,null,0,null,0,null,0,null,0,null,0,null,0,null,0,null,0,null,0]
[null,null,null,null,null,null,null,null,null,null,null,null,0,null,0,null,0,null,0,null,0,null,0,null,0,null,0,null,0]
[null,null,null,null,null,null,null,null,null,null,null,null,0,null,0,null,0,null,0,null,0,null,0,null,0,null,0,null,0]
[null,null,null,null,null,null,null,null,null,null,null,null,{"$f":"IF(AD1029=\"Not eligible\", \"Not eligible\", AD1029)","v":0},null,0,null,0,null,0,null,0,null,0,null,0,null,0,null,0]
[null,null,null,null,null,null,null,null,null,null,null,null,0,null,0,null,0,null,0,null,0,null,0,null,0,null,0,null,0]
[null,null,null,null,null,null,null,null,null,null,null,null,0,null,0,null,0,null,0,null,0,null,0,null,0,null,0,null,0]
[null,null,null,null,null,null,null,null,null,null,null,null,0,null,0,null,0,null,0,null,0,null,0,null,0,null,0,null,0]
[null,null,null,null,null,null,null,null,null,null,null,null,0,null,0,null,0,null,0,null,0,null,0,null,0,null,0,null,0]
[null,null,null,null,null,null,null,null,null,null,null,null,0,null,0,null,0,null,0,null,0,null,0,null,0,null,0,null,0]
[null,null,null,null,null,null,null,null,null,null,null,null,0,null,0,null,0,null,0,null,0,null,0,null,0,null,0,null,0]
[null,null,null,null,null,null,null,null,null,null,null,null,0,null,0,null,0,null,0,null,0,null,0,null,0,null,0,null,0]
[null,null,null,null,null,null,null,null,null,null,null,null,0,null,0,null,0,null,0,null,0,null,0,null,0,null,0,null,0]
[null,null,null,null,null,null,null,null,null,null,null,null,0,null,0,null,0,null,0,null,0,null,0,null,0,null,0,null,0]
[null,null,null,null,null,null,null,null,null,null,null,null,0,null,0,null,0,null,0,null,0,null,0,null,0,null,0,null,0]
[null,null,null,null,null,null,null,null,null,null,null,null,0,null,0,null,0,null,0,null,0,null,0,null,0,null,0,null,0]
[null,null,null,null,null,null,null,null,null,null,null,null,0,null,0,null,0,null,0,null,0,null,0,null,0,null,0,null,0]
[null,null,null,null,null,null,null,null,null,null,null,null,0,null,0,null,0,null,0,null,0,null,0,null,0,null,0,null,0]
[null,null,null,null,null,null,null,null,null,null,null,null,0,null,0,null,0,null,0,null,0,null,0,null,0,null,0,null,0]
[null,null,null,null,null,null,null,null,null,null,null,null,0,null,0,null,0,null,0,null,0,null,0,null,0,null,0,null,0]
[null,null,null,null,null,null,null,null,null,null,null,null,0,null,0,null,0,null,0,null,0,null,0,null,0,null,0,null,0]
[null,null,null,null,null,null,null,null,null,null,null,null,0,null,0,null,0,null,0,null,0,null,0,null,0,null,0,null,0]
[null,null,null,null,null,null,null,null,null,null,null,null,0,null,0,null,0,null,0,null,0,null,0,null,0,null,0,null,0]
[null,null,null,null,null,null,null,null,null,null,null,null,0,null,0,null,0,null,0,null,0,null,0,null,0,null,0,null,0]
[null,null,null,null,null,null,null,null,null,null,null,null,0,null,0,null,0,null,0,null,0,null,0,null,0,null,0,null,0]
[null,null,null,null,null,null,null,null,null,null,null,null,0,null,0,null,0,null,0,null,0,null,0,null,0,null,0,null,0]
[null,null,null,null,null,null,null,null,null,null,null,null,0,null,0,null,0,null,0,null,0,null,0,null,0,null,0,null,0]
[null,null,null,null,null,null,null,null,null,null,null,null,0,null,0,null,0,null,{"$f":"IF(AG1092=\"Not eligible\", \"Not eligible\", AG1092)","v":0},null,{"$f":"IF(AH1092=\"Not eligible\", \"Not eligible\", AH1092)","v":0},null,0,null,{"$f":"IF(AJ1092=\"Not eligible\", \"Not eligible\", AJ1092)","v":0},null,{"$f":"IF(AK1092=\"Not eligible\", \"Not eligible\", AK1092)","v":0},null,{"$f":"IF(AL1092=\"Not eligible\", \"Not eligible\",AL1092)","v":0}]
[null,null,null,null,null,null,null,null,null,null,null,null,0,null,0,null,{"$f":"IF(AF1095=\"Not eligible\", \"Not eligible\", AF1095)","v":0},null,0,null,0,null,0,null,0,null,0,null,0]
[null,null,null,null,null,null,null,null,null,null,null,null,0,null,0,null,0,null,0,null,0,null,0,null,0,null,0,null,0]
[null,null,null,null,null,null,null,null,null,null,null,null,0,null,0,null,0,null,0,null,0,null,0,null,0,null,0,null,0]
[null,null,null,null,null,null,null,null,null,null,null,null,0,null,0,null,0,null,0,null,0,null,0,null,0,null,0,null,0]
[null,null,null,null,null,null,null,null,null,null,null,null,0,null,0,null,0,null,0,null,0,null,0,null,0,null,0,null,0]
[null,null,null,null,null,null,null,null,null,null,null,null,0,null,0,null,0,null,0,null,0,null,0,null,0,null,0,null,0]
[null,null,null,null,null,null,null,null,null,null,null,null,0,null,0,null,0,null,0,null,0,null,0,null,0,null,0,null,0]
[null,null,null,null,null,null,null,null,null,null,null,null,0,null,0,null,0,null,0,null,0,null,0,null,0,null,0,null,0]
[null,null,null,null,null,null,null,null,null,null,null,null,0,null,0,null,0,null,0,null,0,null,0,null,0,null,0,null,0]
[null,null,null,null,null,null,null,null,null,null,null,null,0,null,0,null,0,null,0,null,0,null,0,null,0,null,0,null,0]
[null,null,null,null,null,null,null,null,null,null,null,null,0,null,0,null,0,null,0,null,0,null,0,null,0,null,0,null,0]
[null,null,null,null,null,null,null,null,null,null,null,null,0,null,0,null,0,null,0,null,0,null,0,null,0,null,0,null,0]
[null,null,null,null,null,null,null,null,null,null,null,null,0,null,0,null,0,null,0,null,0,null,0,null,0,null,0,null,0]
[null,null,null,null,null,null,null,null,null,null,null,null,0,null,0,null,0,null,0,null,0,null,0,null,0,null,0,null,0]
[null,null,null,null,null,null,null,null,null,null,null,null,0,null,0,null,0,null,0,null,0,null,0,null,0,null,0,null,0]
[null,null,null,null,null,null,null,null,null,null,null,null,0,null,0,null,0,null,0,null,0,null,0,null,0,null,0,null,0]
[null,null,null,null,null,null,null,null,null,null,null,null,0,null,0,null,0,null,0,null,0,null,0,null,0,null,0,null,0]
[null,null,null,null,null,null,null,null,null,null,null,null,0,null,0,null,0,null,0,null,0,null,0,null,0,null,0,null,0]
[null,null,null,null,null,null,null,null,null,null,null,null,0,null,0,null,0,null,0,null,0,null,0,null,0,null,0,null,0]
[null,null,null,null,null,null,null,null,null,null,null,null,0,null,0,null,0,null,0,null,0,null,0,null,0,null,0,null,0]
[null,null,null,null,null,null,null,null,null,null,null,null,0,null,0,null,0,null,0,null,0,null,0,null,0,null,0,null,0]
[null,null,null,null,null,null,null,null,null,null,null,null,0,null,0,null,0,null,0,null,0,null,0,null,0,null,0,null,0]
[null,null,null,null,null,null,null,null,null,null,null,null,0,null,0,null,0,null,{"$f":"IF(AG1156=\"Not eligible\", \"Not eligible\", AG1156)","v":0},null,{"$f":"IF(AH1156=\"Not eligible\", \"Not eligible\", AH1156)","v":0},null,0,null,{"$f":"IF(AJ1156=\"Not eligible\", \"Not eligible\", AJ1156)","v":0},null,{"$f":"IF(AK1156=\"Not eligible\", \"Not eligible\", AK1156)","v":0},null,{"$f":"IF(AL1156=\"Not eligible\", \"Not eligible\",AL1156)","v":0}]
[null,null,null,null,null,null,null,null,null,null,null,null,0,null,0,null,0,null,0,null,0,null,0,null,0,null,0,null,0]
[null,null,null,null,null,null,null,null,null,null,null,null,0,null,{"$f":"IF(AE1162=\"Not eligible\", \"Not eligible\", AE1162)","v":0},null,0,null,0,null,0,null,0,null,0,null,0,null,0]
[null,null,null,null,null,null,null,null,null,null,null,null,0,null,0,null,0,null,0,null,0,null,0,null,0,null,0,null,0]
[null,null,null,null,null,null,null,null,null,null,null,null,0,null,0,null,0,null,0,null,0,null,0,null,0,null,0,null,0]
[null,null,null,null,null,null,null,null,null,null,null,null,0,null,0,null,0,null,0,null,0,null,0,null,0,null,0,null,0]
[null,null,null,null,null,null,null,null,null,null,null,null,0,null,0,null,0,null,0,null,0,null,0,null,0,null,0,null,0]
[null,null,null,null,null,null,null,null,null,null,null,null,0,null,0,null,0,null,0,null,0,null,0,null,0,null,0,null,0]
[null,null,null,null,null,null,null,null,null,null,null,null,0,null,0,null,0,null,0,null,0,null,0,null,0,null,0,null,0]
[null,null,null,null,null,null,null,null,null,null,null,null,0,null,0,null,0,null,0,null,0,null,0,null,0,null,0,null,0]
[null,null,null,null,null,null,null,null,null,null,null,null,0,null,0,null,0,null,0,null,0,null,0,null,0,null,0,null,0]
[null,null,null,null,null,null,null,null,null,null,null,null,0,null,0,null,0,null,0,null,0,null,0,null,0,null,0,null,0]
[null,null,null,null,null,null,null,null,null,null,null,null,0,null,0,null,0,null,0,null,0,null,0,null,0,null,0,null,0]
[null,null,null,null,null,null,null,null,null,null,null,null,0,null,0,null,0,null,0,null,0,null,0,null,0,null,0,null,0]
[null,null,null,null,null,null,null,null,null,null,null,null,0,null,0,null,0,null,0,null,0,null,0,null,0,null,0,null,0]
[null,null,null,null,null,null,null,null,null,null,null,null,0,null,0,null,0,null,0,null,0,null,0,null,0,null,0,null,0]
[null,null,null,null,null,null,null,null,null,null,null,null,0,null,0,null,0,null,0,null,0,null,0,null,0,null,0,null,0]
[null,null,null,null,null,null,null,null,null,null,null,null,0,null,0,null,0,null,0,null,0,null,0,null,0,null,0,null,0]
[null,null,null,null,null,null,null,null,null,null,null,null,0,null,0,null,0,null,0,null,0,null,0,null,0,null,0,null,0]
[null,null,null,null,null,null,null,null,null,null,null,null,0,null,0,null,0,null,0,null,0,null,0,null,0,null,0,null,0]
[null,null,null,null,null,null,null,null,null,null,null,null,0,null,0,null,0,null,0,null,0,null,0,null,0,null,0,null,0]
[null,null,null,null,null,null,null,null,null,null,null,null,0,null,0,null,0,null,0,null,0,null,0,null,0,null,0,null,0]
[null,null,null,null,null,null,null,null,null,null,null,null,0,null,0,null,0,null,0,null,0,null,0,null,0,null,0,null,0]
[null,null,null,null,null,null,null,null,null,null,null,null,0,null,0,null,0,null,0,null,0,null,{"$f":"IF(AI1219=\"Not eligible\", \"Not eligible\", AI1219)","v":0},null,0,null,0,null,0]
[null,null,null,null,null,null,null,null,null,null,null,null,0,null,0,null,0,null,0,null,0,null,0,null,0,null,0,null,0]
[null,null,null,null,null,null,null,null,null,null,null,null,0,null,0,null,0,null,0,null,0,null,0,null,0,null,0,null,0]
[null,null,null,null,null,null,null,null,null,null,null,null,0,null,0,null,0,null,0,null,0,null,0,null,0,null,0,null,0]
[null,null,null,null,null,null,null,null,null,null,null,null,0,null,0,null,0,null,0,null,0,null,0,null,0,null,0,null,0]
[null,null,null,null,null,null,null,null,null,null,null,null,0,null,0,null,0,null,0,null,0,null,0,null,0,null,0,null,0]
[null,null,null,null,null,null,null,null,null,null,null,null,0,null,0,null,0,null,0,null,0,null,0,null,0,null,0,null,0]
[null,null,null,null,null,null,null,null,null,null,null,null,0,null,0,null,0,null,0,null,0,null,0,null,0,null,0,null,0]
[null,null,null,null,null,null,null,null,null,null,null,null,0,null,0,null,0,null,0,null,0,null,0,null,0,null,0,null,0]
[null,null,null,null,null,null,null,null,null,null,null,null,0,null,0,null,0,null,0,null,0,null,0,null,0,null,0,null,0]
[null,null,null,null,null,null,null,null,null,null,null,null,0,null,0,null,0,null,0,null,0,null,0,null,0,null,0,null,0]
[null,null,null,null,null,null,null,null,null,null,null,null,0,null,0,null,0,null,0,null,0,null,0,null,0,null,0,null,0]
[null,null,null,null,null,null,null,null,null,null,null,null,0,null,0,null,0,null,0,null,0,null,0,null,0,null,0,null,0]
[null,null,null,null,null,null,null,null,null,null,null,null,0,null,0,null,0,null,0,null,0,null,0,null,0,null,0,null,0]
[null,null,null,null,null,null,null,null,null,null,null,null,0,null,0,null,0,null,0,null,0,null,0,null,0,null,0,null,0]
[null,null,null,null,null,null,null,null,null,null,null,null,0,null,0,null,0,null,0,null,0,null,0,null,0,null,0,null,0]
[null,null,null,null,null,null,null,null,null,null,null,null,0,null,0,null,0,null,0,null,0,null,0,null,0,null,0,null,0]
[null,null,null,null,null,null,null,null,null,null,null,null,0,null,0,null,0,null,0,null,0,null,0,null,0,null,0,null,0]
[null,null,null,null,null,null,null,null,null,null,null,null,0,null,0,null,0,null,0,null,0,null,0,null,0,null,0,null,0]
[null,null,null,null,null,null,null,null,null,null,null,null,0,null,0,null,0,null,0,null,0,null,0,null,0,null,0,null,0]
[null,null,null,null,null,null,null,null,null,null,null,null,0,null,0,null,0,null,0,null,0,null,0,null,0,null,0,null,0]
[null,null,null,null,null,null,null,null,null,null,null,null,0,null,0,null,0,null,0,null,0,null,0,null,0,null,0,null,0]
[null,null,null,null,null,null,null,null,null,null,null,null,0,null,0,null,0,null,0,null,0,null,0,null,0,null,0,null,0]
[null,null,null,null,null,null,null,null,null,null,null,null,0,null,0,null,0,null,0,null,0,null,0,null,0,null,0,null,0]
[null,null,null,null,null,null,null,null,null,null,null,null,{"$f":"IF(AD1285=\"Not eligible\", \"Not eligible\", AD1285)","v":0},null,0,null,0,null,0,null,0,null,0,null,0,null,0,null,0]
[null,null,null,null,null,null,null,null,null,null,null,null,0,null,0,null,0,null,0,null,0,null,0,null,0,null,0,null,0]
[null,null,null,null,null,null,null,null,null,null,null,null,0,null,0,null,0,null,0,null,0,null,0,null,0,null,0,null,0]
[null,null,null,null,null,null,null,null,null,null,null,null,0,null,0,null,0,null,0,null,0,null,0,null,0,null,0,null,0]
[null,null,null,null,null,null,null,null,null,null,null,null,0,null,0,null,0,null,0,null,0,null,0,null,0,null,0,null,0]
[null,null,null,null,null,null,null,null,null,null,null,null,0,null,0,null,0,null,0,null,0,null,0,null,0,null,0,null,0]
[null,null,null,null,null,null,null,null,null,null,null,null,0,null,0,null,0,null,0,null,0,null,0,null,0,null,0,null,0]
[null,null,null,null,null,null,null,null,null,null,null,null,0,null,0,null,0,null,0,null,0,null,0,null,0,null,0,null,0]
[null,null,null,null,null,null,null,null,null,null,null,null,0,null,0,null,0,null,0,null,0,null,0,null,0,null,0,null,0]
[null,null,null,null,null,null,null,null,null,null,null,null,0,null,0,null,0,null,0,null,0,null,0,null,0,null,0,null,0]
[null,null,null,null,null,null,null,null,null,null,null,null,0,null,0,null,0,null,0,null,0,null,0,null,0,null,0,null,0]
[null,null,null,null,null,null,null,null,null,null,null,null,0,null,0,null,0,null,0,null,0,null,0,null,0,null,0,null,0]
[null,null,null,null,null,null,null,null,null,null,null,null,0,null,0,null,0,null,0,null,0,null,0,null,0,null,0,null,0]
[null,null,null,null,null,null,null,null,null,null,null,null,0,null,0,null,0,null,0,null,0,null,0,null,0,null,0,null,0]
[null,null,null,null,null,null,null,null,null,null,null,null,0,null,0,null,0,null,0,null,0,null,0,null,0,null,0,null,0]
[null,null,null,null,null,null,null,null,null,null,null,null,0,null,0,null,0,null,0,null,0,null,0,null,0,null,0,null,0]
[null,null,null,null,null,null,null,null,null,null,null,null,0,null,0,null,0,null,0,null,0,null,0,null,0,null,0,null,0]
[null,null,null,null,null,null,null,null,null,null,null,null,0,null,0,null,0,null,0,null,0,null,0,null,0,null,0,null,0]
[null,null,null,null,null,null,null,null,null,null,null,null,0,null,0,null,0,null,0,null,0,null,0,null,0,null,0,null,0]
[null,null,null,null,null,null,null,null,null,null,null,null,0,null,0,null,0,null,0,null,0,null,0,null,0,null,0,null,0]
[null,null,null,null,null,null,null,null,null,null,null,null,0,null,0,null,0,null,0,null,0,null,0,null,0,null,0,null,0]
[null,null,null,null,null,null,null,null,null,null,null,null,0,null,0,null,0,null,0,null,0,null,0,null,0,null,0,null,0]
[null,null,null,null,null,null,null,null,null,null,null,null,0,null,0,null,0,null,0,null,0,null,0,null,0,null,0,null,0]
[null,null,null,null,null,null,null,null,null,null,null,null,0,null,0,null,0,null,{"$f":"IF(AG1348=\"Not eligible\", \"Not eligible\", AG1348)","v":0},null,{"$f":"IF(AH1348=\"Not eligible\", \"Not eligible\", AH1348)","v":0},null,0,null,{"$f":"IF(AJ1348=\"Not eligible\", \"Not eligible\", AJ1348)","v":0},null,{"$f":"IF(AK1348=\"Not eligible\", \"Not eligible\", AK1348)","v":0},null,{"$f":"IF(AL1348=\"Not eligible\", \"Not eligible\",AL1348)","v":0}]
[null,null,null,null,null,null,null,null,null,null,null,null,0,null,0,null,{"$f":"IF(AF1351=\"Not eligible\", \"Not eligible\", AF1351)","v":0},null,0,null,0,null,0,null,0,null,0,null,0]
[null,null,null,null,null,null,null,null,null,null,null,null,0,null,{"$f":"IF(AE1354=\"Not eligible\", \"Not eligible\", AE1354)","v":0},null,0,null,0,null,0,null,0,null,0,null,0,null,0]
[null,null,null,null,null,null,null,null,null,null,null,null,0,null,0,null,0,null,0,null,0,null,0,null,0,null,0,null,0]
[null,null,null,null,null,null,null,null,null,null,null,null,0,null,0,null,0,null,0,null,0,null,0,null,0,null,0,null,0]
[null,null,null,null,null,null,null,null,null,null,null,null,0,null,0,null,0,null,0,null,0,null,0,null,0,null,0,null,0]
[null,null,null,null,null,null,null,null,null,null,null,null,0,null,0,null,0,null,0,null,0,null,0,null,0,null,0,null,0]
[null,null,null,null,null,null,null,null,null,null,null,null,0,null,0,null,0,null,0,null,0,null,0,null,0,null,0,null,0]
[null,null,null,null,null,null,null,null,null,null,null,null,0,null,0,null,0,null,0,null,0,null,0,null,0,null,0,null,0]
[null,null,null,null,null,null,null,null,null,null,null,null,0,null,0,null,0,null,0,null,0,null,0,null,0,null,0,null,0]
[null,null,null,null,null,null,null,null,null,null,null,null,0,null,0,null,0,null,0,null,0,null,0,null,0,null,0,null,0]
[null,null,null,null,null,null,null,null,null,null,null,null,0,null,0,null,0,null,0,null,0,null,0,null,0,null,0,null,0]
[null,null,null,null,null,null,null,null,null,null,null,null,0,null,0,null,0,null,0,null,0,null,0,null,0,null,0,null,0]
[null,null,null,null,null,null,null,null,null,null,null,null,0,null,0,null,0,null,0,null,0,null,0,null,0,null,0,null,0]
[null,null,null,null,null,null,null,null,null,null,null,null,0,null,0,null,0,null,0,null,0,null,0,null,0,null,0,null,0]
[null,null,null,null,null,null,null,null,null,null,null,null,0,null,0,null,0,null,0,null,0,null,0,null,0,null,0,null,0]
[null,null,null,null,null,null,null,null,null,null,null,null,0,null,0,null,0,null,0,null,0,null,0,null,0,null,0,null,0]
[null,null,null,null,null,null,null,null,null,null,null,null,0,null,0,null,0,null,0,null,0,null,0,null,0,null,0,null,0]
[null,null,null,null,null,null,null,null,null,null,null,null,0,null,0,null,0,null,0,null,0,null,0,null,0,null,0,null,0]
[null,null,null,null,null,null,null,null,null,null,null,null,0,null,0,null,0,null,0,null,0,null,0,null,0,null,0,null,0]
[null,null,null,null,null,null,null,null,null,null,null,null,0,null,0,null,0,null,0,null,0,null,0,null,0,null,0,null,0]
[null,null,null,null,null,null,null,null,null,null,null,null,0,null,0,null,0,null,0,null,0,null,0,null,0,null,0,null,0]
[null,null,null,null,null,null,null,null,null,null,null,null,0,null,0,null,0,null,0,null,0,null,0,null,0,null,0,null,0]
[null,null,null,null,null,null,null,null,null,null,null,null,0,null,0,null,0,null,0,null,0,null,0,null,0,null,0,null,0]
[null,null,null,null,null,null,null,null,null,null,null,null,0,null,0,null,0,null,0,null,0,null,0,null,0,null,0,null,0]
[null,null,null,null,null,null,null,null,null,null,null,null,0,null,0,null,0,null,0,null,0,null,0,null,0,null,0,null,0]
[null,null,null,null,null,null,null,null,null,null,null,null,0,null,0,null,0,null,0,null,0,null,0,null,0,null,0,null,0]
[null,null,null,null,null,null,null,null,null,null,null,null,0,null,0,null,0,null,0,null,0,null,0,null,0,null,0,null,0]
[null,null,null,null,null,null,null,null,null,null,null,null,0,null,0,null,0,null,0,null,0,null,0,null,0,null,0,null,0]
[null,null,null,null,null,null,null,null,null,null,null,null,0,null,0,null,0,null,0,null,0,null,0,null,0,null,0,null,0]
[null,null,null,null,null,null,null,null,null,null,null,null,0,null,0,null,0,null,0,null,0,null,0,null,0,null,0,null,0]
[null,null,null,null,null,null,null,null,null,null,null,null,0,null,0,null,0,null,0,null,0,null,0,null,0,null,0,null,0]
[null,null,null,null,null,null,null,null,null,null,null,null,0,null,0,null,0,null,0,null,0,null,0,null,0,null,0,null,0]
[null,null,null,null,null,null,null,null,null,null,null,null,0,null,0,null,0,null,0,null,0,null,0,null,0,null,0,null,0]
[null,null,null,null,null,null,null,null,null,null,null,null,0,null,0,null,0,null,0,null,0,null,0,null,0,null,0,null,0]
[null,null,null,null,null,null,null,null,null,null,null,null,0,null,0,null,0,null,0,null,0,null,0,null,0,null,0,null,0]
[null,null,null,null,null,null,null,null,null,null,null,null,0,null,0,null,0,null,0,null,0,null,0,null,0,null,0,null,0]
[null,null,null,null,null,null,null,null,null,null,null,null,0,null,0,null,0,null,0,null,0,null,0,null,0,null,0,null,0]
[null,null,null,null,null,null,null,null,null,null,null,null,0,null,0,null,0,null,0,null,0,null,0,null,0,null,0,null,0]
[null,null,null,null,null,null,null,null,null,null,null,null,0,null,0,null,0,null,0,null,0,null,0,null,0,null,0,null,0]
[null,null,null,null,null,null,null,null,null,null,null,null,0,null,0,null,0,null,0,null,0,null,0,null,0,null,0,null,0]
[null,null,null,null,null,null,null,null,null,null,null,null,0,null,0,null,0,null,0,null,0,null,0,null,0,null,0,null,0]
[null,null,null,null,null,null,null,null,null,null,null,null,0,null,0,null,0,null,0,null,0,null,0,null,0,null,0,null,0]
[null,null,null,null,null,null,null,null,null,null,null,null,0,null,0,null,0,null,0,null,0,null,0,null,0,null,0,null,0]
[null,null,null,null,null,null,null,null,null,null,null,null,0,null,0,null,0,null,0,null,0,null,0,null,0,null,0,null,0]
[null,null,null,null,null,null,null,null,null,null,null,null,0,null,0,null,0,null,0,null,0,null,0,null,0,null,0,null,0]
[null,null,null,null,null,null,null,null,null,null,null,null,0,null,0,null,0,null,0,null,0,null,{"$f":"IF(AI1475=\"Not eligible\", \"Not eligible\", AI1475)","v":0},null,0,null,0,null,0]
[null,null,null,null,null,null,null,null,null,null,null,null,{"$f":"IF(AD1477=\"Not eligible\", \"Not eligible\", AD1477)","v":0},null,0,null,0,null,0,null,0,null,0,null,0,null,0,null,0]
[null,null,null,null,null,null,null,null,null,null,null,null,0,null,0,null,0,null,0,null,0,null,0,null,0,null,0,null,0]
[null,null,null,null,null,null,null,null,null,null,null,null,0,null,0,null,0,null,0,null,0,null,0,null,0,null,0,null,0]
[null,null,null,null,null,null,null,null,null,null,null,null,0,null,0,null,0,null,0,null,0,null,0,null,0,null,0,null,0]
[null,null,null,null,null,null,null,null,null,null,null,null,0,null,0,null,0,null,0,null,0,null,0,null,0,null,0,null,0]
[null,null,null,null,null,null,null,null,null,null,null,null,0,null,0,null,0,null,0,null,0,null,0,null,0,null,0,null,0]
[null,null,null,null,null,null,null,null,null,null,null,null,0,null,0,null,0,null,0,null,0,null,0,null,0,null,0,null,0]
[null,null,null,null,null,null,null,null,null,null,null,null,0,null,0,null,0,null,0,null,0,null,0,null,0,null,0,null,0]
[null,null,null,null,null,null,null,null,null,null,null,null,0,null,0,null,0,null,0,null,0,null,0,null,0,null,0,null,0]
[null,null,null,null,null,null,null,null,null,null,null,null,0,null,0,null,0,null,0,null,0,null,0,null,0,null,0,null,0]
[null,null,null,null,null,null,null,null,null,null,null,null,0,null,0,null,0,null,0,null,0,null,0,null,0,null,0,null,0]
[null,null,null,null,null,null,null,null,null,null,null,null,0,null,0,null,0,null,0,null,0,null,0,null,0,null,0,null,0]
[null,null,null,null,null,null,null,null,null,null,null,null,0,null,0,null,0,null,0,null,0,null,0,null,0,null,0,null,0]
[null,null,null,null,null,null,null,null,null,null,null,null,0,null,0,null,0,null,0,null,0,null,0,null,0,null,0,null,0]
[null,null,null,null,null,null,null,null,null,null,null,null,0,null,0,null,0,null,0,null,0,null,0,null,0,null,0,null,0]
[null,null,null,null,null,null,null,null,null,null,null,null,0,null,0,null,0,null,0,null,0,null,0,null,0,null,0,null,0]
[null,null,null,null,null,null,null,null,null,null,null,null,0,null,0,null,0,null,0,null,0,null,0,null,0,null,0,null,0]
[null,null,null,null,null,null,null,null,null,null,null,null,0,null,0,null,0,null,0,null,0,null,0,null,0,null,0,null,0]
[null,null,null,null,null,null,null,null,null,null,null,null,0,null,0,null,0,null,0,null,0,null,0,null,0,null,0,null,0]
[null,null,null,null,null,null,null,null,null,null,null,null,0,null,0,null,0,null,0,null,0,null,0,null,0,null,0,null,0]
[null,null,null,null,null,null,null,null,null,null,null,null,0,null,0,null,0,null,0,null,0,null,0,null,0,null,0,null,0]
[null,null,null,null,null,null,null,null,null,null,null,null,0,null,0,null,0,null,0,null,0,null,0,null,0,null,0,null,0]
[null,null,null,null,null,null,null,null,null,null,null,null,0,null,0,null,0,null,0,null,0,null,0,null,0,null,0,null,0]
[null,null,null,null,null,null,null,null,null,null,null,null,{"$f":"IF(AD1541=\"Not eligible\", \"Not eligible\", AD1541)","v":0},null,0,null,0,null,0,null,0,null,0,null,0,null,0,null,0]
[null,null,null,null,null,null,null,null,null,null,null,null,0,null,0,null,{"$f":"IF(AF1543=\"Not eligible\", \"Not eligible\", AF1543)","v":0},null,0,null,0,null,0,null,0,null,0,null,0]
[null,null,null,null,null,null,null,null,null,null,null,null,0,null,{"$f":"IF(AE1546=\"Not eligible\", \"Not eligible\", AE1546)","v":0},null,0,null,0,null,0,null,0,null,0,null,0,null,0]
[null,null,null,null,null,null,null,null,null,null,null,null,0,null,0,null,0,null,0,null,0,null,0,null,0,null,0,null,0]
[null,null,null,null,null,null,null,null,null,null,null,null,0,null,0,null,0,null,0,null,0,null,0,null,0,null,0,null,0]
[null,null,null,null,null,null,null,null,null,null,null,null,0,null,0,null,0,null,0,null,0,null,0,null,0,null,0,null,0]
[null,null,null,null,null,null,null,null,null,null,null,null,0,null,0,null,0,null,0,null,0,null,0,null,0,null,0,null,0]
[null,null,null,null,null,null,null,null,null,null,null,null,0,null,0,null,0,null,0,null,0,null,0,null,0,null,0,null,0]
[null,null,null,null,null,null,null,null,null,null,null,null,0,null,0,null,0,null,0,null,0,null,0,null,0,null,0,null,0]
[null,null,null,null,null,null,null,null,null,null,null,null,0,null,0,null,0,null,0,null,0,null,0,null,0,null,0,null,0]
[null,null,null,null,null,null,null,null,null,null,null,null,0,null,0,null,0,null,0,null,0,null,0,null,0,null,0,null,0]
[null,null,null,null,null,null,null,null,null,null,null,null,0,null,0,null,0,null,0,null,0,null,0,null,0,null,0,null,0]
[null,null,null,null,null,null,null,null,null,null,null,null,0,null,0,null,0,null,0,null,0,null,0,null,0,null,0,null,0]
[null,null,null,null,null,null,null,null,null,null,null,null,0,null,0,null,0,null,0,null,0,null,0,null,0,null,0,null,0]
[null,null,null,null,null,null,null,null,null,null,null,null,0,null,0,null,0,null,0,null,0,null,0,null,0,null,0,null,0]
[null,null,null,null,null,null,null,null,null,null,null,null,0,null,0,null,0,null,0,null,0,null,0,null,0,null,0,null,0]
[null,null,null,null,null,null,null,null,null,null,null,null,0,null,0,null,0,null,0,null,0,null,0,null,0,null,0,null,0]
[null,null,null,null,null,null,null,null,null,null,null,null,0,null,0,null,0,null,0,null,0,null,0,null,0,null,0,null,0]
[null,null,null,null,null,null,null,null,null,null,null,null,0,null,0,null,0,null,0,null,0,null,0,null,0,null,0,null,0]
[null,null,null,null,null,null,null,null,null,null,null,null,0,null,0,null,0,null,0,null,0,null,0,null,0,null,0,null,0]
[null,null,null,null,null,null,null,null,null,null,null,null,0,null,0,null,0,null,0,null,0,null,0,null,0,null,0,null,0]
[null,null,null,null,null,null,null,null,null,null,null,null,0,null,0,null,0,null,0,null,0,null,0,null,0,null,0,null,0]
[null,null,null,null,null,null,null,null,null,null,null,null,0,null,0,null,0,null,0,null,0,null,0,null,0,null,0,null,0]
[null,null,null,null,null,null,null,null,null,null,null,null,0,null,0,null,0,null,0,null,0,null,{"$f":"IF(AI1603=\"Not eligible\", \"Not eligible\", AI1603)","v":0},null,0,null,0,null,0]
[null,null,null,null,null,null,null,null,null,null,null,null,0,null,0,null,{"$f":"IF(AF1607=\"Not eligible\", \"Not eligible\", AF1607)","v":0},null,0,null,0,null,0,null,0,null,0,null,0]
[null,null,null,null,null,null,null,null,null,null,null,null,0,null,0,null,0,null,0,null,0,null,0,null,0,null,0,null,0]
[null,null,null,null,null,null,null,null,null,null,null,null,0,null,0,null,0,null,0,null,0,null,0,null,0,null,0,null,0]
[null,null,null,null,null,null,null,null,null,null,null,null,0,null,0,null,0,null,0,null,0,null,0,null,0,null,0,null,0]
[null,null,null,null,null,null,null,null,null,null,null,null,0,null,0,null,0,null,0,null,0,null,0,null,0,null,0,null,0]
[null,null,null,null,null,null,null,null,null,null,null,null,0,null,0,null,0,null,0,null,0,null,0,null,0,null,0,null,0]
[null,null,null,null,null,null,null,null,null,null,null,null,0,null,0,null,0,null,0,null,0,null,0,null,0,null,0,null,0]
[null,null,null,null,null,null,null,null,null,null,null,null,0,null,0,null,0,null,0,null,0,null,0,null,0,null,0,null,0]
[null,null,null,null,null,null,null,null,null,null,null,null,0,null,0,null,0,null,0,null,0,null,0,null,0,null,0,null,0]
[null,null,null,null,null,null,null,null,null,null,null,null,0,null,0,null,0,null,0,null,0,null,0,null,0,null,0,null,0]
[null,null,null,null,null,null,null,null,null,null,null,null,0,null,0,null,0,null,0,null,0,null,0,null,0,null,0,null,0]
[null,null,null,null,null,null,null,null,null,null,null,null,0,null,0,null,0,null,0,null,0,null,0,null,0,null,0,null,0]
[null,null,null,null,null,null,null,null,null,null,null,null,0,null,0,null,0,null,0,null,0,null,0,null,0,null,0,null,0]
[null,null,null,null,null,null,null,null,null,null,null,null,0,null,0,null,0,null,0,null,0,null,0,null,0,null,0,null,0]
[null,null,null,null,null,null,null,null,null,null,null,null,0,null,0,null,0,null,0,null,0,null,0,null,0,null,0,null,0]
[null,null,null,null,null,null,null,null,null,null,null,null,0,null,0,null,0,null,0,null,0,null,0,null,0,null,0,null,0]
[null,null,null,null,null,null,null,null,null,null,null,null,0,null,0,null,0,null,0,null,0,null,0,null,0,null,0,null,0]
[null,null,null,null,null,null,null,null,null,null,null,null,0,null,0,null,0,null,0,null,0,null,0,null,0,null,0,null,0]
[null,null,null,null,null,null,null,null,null,null,null,null,0,null,0,null,0,null,0,null,0,null,0,null,0,null,0,null,0]
[null,null,null,null,null,null,null,null,null,null,null,null,0,null,0,null,0,null,0,null,0,null,0,null,0,null,0,null,0]
[null,null,null,null,null,null,null,null,null,null,null,null,0,null,0,null,0,null,0,null,0,null,0,null,0,null,0,null,0]
[null,null,null,null,null,null,null,null,null,null,null,null,0,null,0,null,0,null,0,null,0,null,0,null,0,null,0,null,0]
[null,null,null,null,null,null,null,null,null,null,null,null,0,null,0,null,0,null,0,null,0,null,0,null,0,null,0,null,0]
[null,null,null,null,null,null,null,null,null,null,null,null,{"$f":"IF(AD1669=\"Not eligible\", \"Not eligible\", AD1669)","v":0},null,0,null,0,null,0,null,0,null,0,null,0,null,0,null,0]
[null,null,null,null,null,null,null,null,null,null,null,null,0,null,0,null,0,null,0,null,0,null,0,null,0,null,0,null,0]
[null,null,null,null,null,null,null,null,null,null,null,null,0,null,0,null,0,null,0,null,0,null,0,null,0,null,0,null,0]
[null,null,null,null,null,null,null,null,null,null,null,null,0,null,0,null,0,null,0,null,0,null,0,null,0,null,0,null,0]
[null,null,null,null,null,null,null,null,null,null,null,null,0,null,0,null,0,null,0,null,0,null,0,null,0,null,0,null,0]
[null,null,null,null,null,null,null,null,null,null,null,null,0,null,0,null,0,null,0,null,0,null,0,null,0,null,0,null,0]
[null,null,null,null,null,null,null,null,null,null,null,null,0,null,0,null,0,null,0,null,0,null,0,null,0,null,0,null,0]
[null,null,null,null,null,null,null,null,null,null,null,null,0,null,0,null,0,null,0,null,0,null,0,null,0,null,0,null,0]
[null,null,null,null,null,null,null,null,null,null,null,null,0,null,0,null,0,null,0,null,0,null,0,null,0,null,0,null,0]
[null,null,null,null,null,null,null,null,null,null,null,null,0,null,0,null,0,null,0,null,0,null,0,null,0,null,0,null,0]
[null,null,null,null,null,null,null,null,null,null,null,null,0,null,0,null,0,null,0,null,0,null,0,null,0,null,0,null,0]
[null,null,null,null,null,null,null,null,null,null,null,null,0,null,0,null,0,null,0,null,0,null,0,null,0,null,0,null,0]
[null,null,null,null,null,null,null,null,null,null,null,null,0,null,0,null,0,null,0,null,0,null,0,null,0,null,0,null,0]
[null,null,null,null,null,null,null,null,null,null,null,null,0,null,0,null,0,null,0,null,0,null,0,null,0,null,0,null,0]
[null,null,null,null,null,null,null,null,null,null,null,null,0,null,0,null,0,null,0,null,0,null,0,null,0,null,0,null,0]
[null,null,null,null,null,null,null,null,null,null,null,null,0,null,0,null,0,null,0,null,0,null,0,null,0,null,0,null,0]
[null,null,null,null,null,null,null,null,null,null,null,null,0,null,0,null,0,null,0,null,0,null,0,null,0,null,0,null,0]
[null,null,null,null,null,null,null,null,null,null,null,null,0,null,0,null,0,null,0,null,0,null,0,null,0,null,0,null,0]
[null,null,null,null,null,null,null,null,null,null,null,null,0,null,0,null,0,null,0,null,0,null,0,null,0,null,0,null,0]
[null,null,null,null,null,null,null,null,null,null,null,null,0,null,0,null,0,null,0,null,0,null,0,null,0,null,0,null,0]
[null,null,null,null,null,null,null,null,null,null,null,null,0,null,0,null,0,null,0,null,0,null,0,null,0,null,0,null,0]
[null,null,null,null,null,null,null,null,null,null,null,null,0,null,0,null,0,null,0,null,0,null,0,null,0,null,0,null,0]
[null,null,null,null,null,null,null,null,null,null,null,null,0,null,0,null,0,null,0,null,0,null,0,null,0,null,0,null,0]
[null,null,null,null,null,null,null,null,null,null,null,null,0,null,0,null,0,null,{"$f":"IF(AG1732=\"Not eligible\", \"Not eligible\", AG1732)","v":0},null,{"$f":"IF(AH1732=\"Not eligible\", \"Not eligible\", AH1732)","v":0},null,0,null,{"$f":"IF(AJ1732=\"Not eligible\", \"Not eligible\", AJ1732)","v":0},null,{"$f":"IF(AK1732=\"Not eligible\", \"Not eligible\", AK1732)","v":0},null,{"$f":"IF(AL1732=\"Not eligible\", \"Not eligible\",AL1732)","v":0}]
[null,null,null,null,null,null,null,null,null,null,null,null,0,null,0,null,{"$f":"IF(AF1735=\"Not eligible\", \"Not eligible\", AF1735)","v":0},null,0,null,0,null,0,null,0,null,0,null,0]
[null,null,null,null,null,null,null,null,null,null,null,null,0,null,0,null,0,null,0,null,0,null,0,null,0,null,0,null,0]
[null,null,null,null,null,null,null,null,null,null,null,null,0,null,0,null,0,null,0,null,0,null,0,null,0,null,0,null,0]
[null,null,null,null,null,null,null,null,null,null,null,null,0,null,0,null,0,null,0,null,0,null,0,null,0,null,0,null,0]
[null,null,null,null,null,null,null,null,null,null,null,null,0,null,0,null,0,null,0,null,0,null,0,null,0,null,0,null,0]
[null,null,null,null,null,null,null,null,null,null,null,null,0,null,0,null,0,null,0,null,0,null,0,null,0,null,0,null,0]
[null,null,null,null,null,null,null,null,null,null,null,null,0,null,0,null,0,null,0,null,0,null,0,null,0,null,0,null,0]
[null,null,null,null,null,null,null,null,null,null,null,null,0,null,0,null,0,null,0,null,0,null,0,null,0,null,0,null,0]
[null,null,null,null,null,null,null,null,null,null,null,null,0,null,0,null,0,null,0,null,0,null,0,null,0,null,0,null,0]
[null,null,null,null,null,null,null,null,null,null,null,null,0,null,0,null,0,null,0,null,0,null,0,null,0,null,0,null,0]
[null,null,null,null,null,null,null,null,null,null,null,null,0,null,0,null,0,null,0,null,0,null,0,null,0,null,0,null,0]
[null,null,null,null,null,null,null,null,null,null,null,null,0,null,0,null,0,null,0,null,0,null,0,null,0,null,0,null,0]
[null,null,null,null,null,null,null,null,null,null,null,null,0,null,0,null,0,null,0,null,0,null,0,null,0,null,0,null,0]
[null,null,null,null,null,null,null,null,null,null,null,null,0,null,0,null,0,null,0,null,0,null,0,null,0,null,0,null,0]
[null,null,null,null,null,null,null,null,null,null,null,null,0,null,0,null,0,null,0,null,0,null,0,null,0,null,0,null,0]
[null,null,null,null,null,null,null,null,null,null,null,null,0,null,0,null,0,null,0,null,0,null,0,null,0,null,0,null,0]
[null,null,null,null,null,null,null,null,null,null,null,null,0,null,0,null,0,null,0,null,0,null,0,null,0,null,0,null,0]
[null,null,null,null,null,null,null,null,null,null,null,null,0,null,0,null,0,null,0,null,0,null,0,null,0,null,0,null,0]
[null,null,null,null,null,null,null,null,null,null,null,null,0,null,0,null,0,null,0,null,0,null,0,null,0,null,0,null,0]
[null,null,null,null,null,null,null,null,null,null,null,null,0,null,0,null,0,null,0,null,0,null,0,null,0,null,0,null,0]
[null,null,null,null,null,null,null,null,null,null,null,null,0,null,0,null,0,null,0,null,0,null,0,null,0,null,0,null,0]
[null,null,null,null,null,null,null,null,null,null,null,null,0,null,0,null,0,null,0,null,0,null,0,null,0,null,0,null,0]
[null,null,null,null,null,null,null,null,null,null,null,null,0,null,0,null,0,null,0,null,0,null,{"$f":"IF(AI1795=\"Not eligible\", \"Not eligible\", AI1795)","v":0},null,0,null,0,null,0]
[null,null,null,null,null,null,null,null,null,null,null,null,0,null,0,null,0,null,0,null,0,null,0,null,0,null,0,null,0]
[null,null,null,null,null,null,null,null,null,null,null,null,0,null,{"$f":"IF(AE1802=\"Not eligible\", \"Not eligible\", AE1802)","v":0},null,0,null,0,null,0,null,0,null,0,null,0,null,0]
[null,null,null,null,null,null,null,null,null,null,null,null,0,null,0,null,0,null,0,null,0,null,0,null,0,null,0,null,0]
[null,null,null,null,null,null,null,null,null,null,null,null,0,null,0,null,0,null,0,null,0,null,0,null,0,null,0,null,0]
[null,null,null,null,null,null,null,null,null,null,null,null,0,null,0,null,0,null,0,null,0,null,0,null,0,null,0,null,0]
[null,null,null,null,null,null,null,null,null,null,null,null,0,null,0,null,0,null,0,null,0,null,0,null,0,null,0,null,0]
[null,null,null,null,null,null,null,null,null,null,null,null,0,null,0,null,0,null,0,null,0,null,0,null,0,null,0,null,0]
[null,null,null,null,null,null,null,null,null,null,null,null,0,null,0,null,0,null,0,null,0,null,0,null,0,null,0,null,0]
[null,null,null,null,null,null,null,null,null,null,null,null,0,null,0,null,0,null,0,null,0,null,0,null,0,null,0,null,0]
[null,null,null,null,null,null,null,null,null,null,null,null,0,null,0,null,0,null,0,null,0,null,0,null,0,null,0,null,0]
[null,null,null,null,null,null,null,null,null,null,null,null,0,null,0,null,0,null,0,null,0,null,0,null,0,null,0,null,0]
[null,null,null,null,null,null,null,null,null,null,null,null,0,null,0,null,0,null,0,null,0,null,0,null,0,null,0,null,0]
[null,null,null,null,null,null,null,null,null,null,null,null,0,null,0,null,0,null,0,null,0,null,0,null,0,null,0,null,0]
[null,null,null,null,null,null,null,null,null,null,null,null,0,null,0,null,0,null,0,null,0,null,0,null,0,null,0,null,0]
[null,null,null,null,null,null,null,null,null,null,null,null,0,null,0,null,0,null,0,null,0,null,0,null,0,null,0,null,0]
[null,null,null,null,null,null,null,null,null,null,null,null,0,null,0,null,0,null,0,null,0,null,0,null,0,null,0,null,0]
[null,null,null,null,null,null,null,null,null,null,null,null,0,null,0,null,0,null,0,null,0,null,0,null,0,null,0,null,0]
[null,null,null,null,null,null,null,null,null,null,null,null,0,null,0,null,0,null,0,null,0,null,0,null,0,null,0,null,0]
[null,null,null,null,null,null,null,null,null,null,null,null,0,null,0,null,0,null,0,null,0,null,0,null,0,null,0,null,0]
[null,null,null,null,null,null,null,null,null,null,null,null,0,null,0,null,0,null,0,null,0,null,0,null,0,null,0,null,0]
[null,null,null,null,null,null,null,null,null,null,null,null,0,null,0,null,0,null,0,null,0,null,0,null,0,null,0,null,0]
[null,null,null,null,null,null,null,null,null,null,null,null,0,null,0,null,0,null,0,null,0,null,0,null,0,null,0,null,0]
[null,null,null,null,null,null,null,null,null,null,null,null,0,null,0,null,0,null,{"$f":"IF(AG1860=\"Not eligible\", \"Not eligible\", AG1860)","v":0},null,{"$f":"IF(AH1860=\"Not eligible\", \"Not eligible\", AH1860)","v":0},null,0,null,{"$f":"IF(AJ1860=\"Not eligible\", \"Not eligible\", AJ1860)","v":0},null,{"$f":"IF(AK1860=\"Not eligible\", \"Not eligible\", AK1860)","v":0},null,{"$f":"IF(AL1860=\"Not eligible\", \"Not eligible\",AL1860)","v":0}]
[null,null,null,null,null,null,null,null,null,null,null,null,{"$f":"IF(AD1861=\"Not eligible\", \"Not eligible\", AD1861)","v":0},null,0,null,0,null,0,null,0,null,0,null,0,null,0,null,0]
[null,null,null,null,null,null,null,null,null,null,null,null,0,null,0,null,0,null,0,null,0,null,0,null,0,null,0,null,0]
[null,null,null,null,null,null,null,null,null,null,null,null,0,null,0,null,0,null,0,null,0,null,0,null,0,null,0,null,0]
[null,null,null,null,null,null,null,null,null,null,null,null,0,null,0,null,0,null,0,null,0,null,0,null,0,null,0,null,0]
[null,null,null,null,null,null,null,null,null,null,null,null,0,null,0,null,0,null,0,null,0,null,0,null,0,null,0,null,0]
[null,null,null,null,null,null,null,null,null,null,null,null,0,null,0,null,0,null,0,null,0,null,0,null,0,null,0,null,0]
[null,null,null,null,null,null,null,null,null,null,null,null,0,null,0,null,0,null,0,null,0,null,0,null,0,null,0,null,0]
[null,null,null,null,null,null,null,null,null,null,null,null,0,null,0,null,0,null,0,null,0,null,0,null,0,null,0,null,0]
[null,null,null,null,null,null,null,null,null,null,null,null,0,null,0,null,0,null,0,null,0,null,0,null,0,null,0,null,0]
[null,null,null,null,null,null,null,null,null,null,null,null,0,null,0,null,0,null,0,null,0,null,0,null,0,null,0,null,0]
[null,null,null,null,null,null,null,null,null,null,null,null,0,null,0,null,0,null,0,null,0,null,0,null,0,null,0,null,0]
[null,null,null,null,null,null,null,null,null,null,null,null,0,null,0,null,0,null,0,null,0,null,0,null,0,null,0,null,0]
[null,null,null,null,null,null,null,null,null,null,null,null,0,null,0,null,0,null,0,null,0,null,0,null,0,null,0,null,0]
[null,null,null,null,null,null,null,null,null,null,null,null,0,null,0,null,0,null,0,null,0,null,0,null,0,null,0,null,0]
[null,null,null,null,null,null,null,null,null,null,null,null,0,null,0,null,0,null,0,null,0,null,0,null,0,null,0,null,0]
[null,null,null,null,null,null,null,null,null,null,null,null,0,null,0,null,0,null,0,null,0,null,0,null,0,null,0,null,0]
[null,null,null,null,null,null,null,null,null,null,null,null,0,null,0,null,0,null,0,null,0,null,0,null,0,null,0,null,0]
[null,null,null,null,null,null,null,null,null,null,null,null,0,null,0,null,0,null,0,null,0,null,0,null,0,null,0,null,0]
[null,null,null,null,null,null,null,null,null,null,null,null,0,null,0,null,0,null,0,null,0,null,0,null,0,null,0,null,0]
[null,null,null,null,null,null,null,null,null,null,null,null,0,null,0,null,0,null,0,null,0,null,0,null,0,null,0,null,0]
[null,null,null,null,null,null,null,null,null,null,null,null,0,null,0,null,0,null,0,null,0,null,0,null,0,null,0,null,0]
[null,null,null,null,null,null,null,null,null,null,null,null,0,null,0,null,0,null,0,null,0,null,0,null,0,null,0,null,0]
[null,null,null,null,null,null,null,null,null,null,null,null,0,null,0,null,0,null,{"$f":"IF(AG1924=\"Not eligible\", \"Not eligible\", AG1924)","v":0},null,{"$f":"IF(AH1924=\"Not eligible\", \"Not eligible\", AH1924)","v":0},null,0,null,{"$f":"IF(AJ1924=\"Not eligible\", \"Not eligible\", AJ1924)","v":0},null,{"$f":"IF(AK1924=\"Not eligible\", \"Not eligible\", AK1924)","v":0},null,{"$f":"IF(AL1924=\"Not eligible\", \"Not eligible\",AL1924)","v":0}]
[null,null,null,null,null,null,null,null,null,null,null,null,0,null,0,null,0,null,0,null,0,null,0,null,0,null,0,null,0]
[null,null,null,null,null,null,null,null,null,null,null,null,0,null,0,null,{"$f":"IF(AF1927=\"Not eligible\", \"Not eligible\", AF1927)","v":0},null,0,null,0,null,0,null,0,null,0,null,0]
[null,null,null,null,null,null,null,null,null,null,null,null,0,null,0,null,0,null,0,null,0,null,0,null,0,null,0,null,0]
[null,null,null,null,null,null,null,null,null,null,null,null,0,null,0,null,0,null,0,null,0,null,0,null,0,null,0,null,0]
[null,null,null,null,null,null,null,null,null,null,null,null,0,null,0,null,0,null,0,null,0,null,0,null,0,null,0,null,0]
[null,null,null,null,null,null,null,null,null,null,null,null,0,null,0,null,0,null,0,null,0,null,0,null,0,null,0,null,0]
[null,null,null,null,null,null,null,null,null,null,null,null,0,null,0,null,0,null,0,null,0,null,0,null,0,null,0,null,0]
[null,null,null,null,null,null,null,null,null,null,null,null,0,null,0,null,0,null,0,null,0,null,0,null,0,null,0,null,0]
[null,null,null,null,null,null,null,null,null,null,null,null,0,null,0,null,0,null,0,null,0,null,0,null,0,null,0,null,0]
[null,null,null,null,null,null,null,null,null,null,null,null,0,null,0,null,0,null,0,null,0,null,0,null,0,null,0,null,0]
[null,null,null,null,null,null,null,null,null,null,null,null,0,null,0,null,0,null,0,null,0,null,0,null,0,null,0,null,0]
[null,null,null,null,null,null,null,null,null,null,null,null,0,null,0,null,0,null,0,null,0,null,0,null,0,null,0,null,0]
[null,null,null,null,null,null,null,null,null,null,null,null,0,null,0,null,0,null,0,null,0,null,0,null,0,null,0,null,0]
[null,null,null,null,null,null,null,null,null,null,null,null,0,null,0,null,0,null,0,null,0,null,0,null,0,null,0,null,0]
[null,null,null,null,null,null,null,null,null,null,null,null,0,null,0,null,0,null,0,null,0,null,0,null,0,null,0,null,0]
[null,null,null,null,null,null,null,null,null,null,null,null,0,null,0,null,0,null,0,null,0,null,0,null,0,null,0,null,0]
[null,null,null,null,null,null,null,null,null,null,null,null,0,null,0,null,0,null,0,null,0,null,0,null,0,null,0,null,0]
[null,null,null,null,null,null,null,null,null,null,null,null,0,null,0,null,0,null,0,null,0,null,0,null,0,null,0,null,0]
[null,null,null,null,null,null,null,null,null,null,null,null,0,null,0,null,0,null,0,null,0,null,0,null,0,null,0,null,0]
[null,null,null,null,null,null,null,null,null,null,null,null,0,null,0,null,0,null,0,null,0,null,0,null,0,null,0,null,0]
[null,null,null,null,null,null,null,null,null,null,null,null,0,null,0,null,0,null,0,null,0,null,0,null,0,null,0,null,0]
[null,null,null,null,null,null,null,null,null,null,null,null,0,null,0,null,0,null,0,null,0,null,0,null,0,null,0,null,0]
[null,null,null,null,null,null,null,null,null,null,null,null,0,null,0,null,0,null,0,null,0,null,{"$f":"IF(AI1987=\"Not eligible\", \"Not eligible\", AI1987)","v":0},null,0,null,0,null,0]
[null,null,null,null,null,null,null,null,null,null,null,null,0,null,0,null,0,null,{"$f":"IF(AG1988=\"Not eligible\", \"Not eligible\", AG1988)","v":0},null,{"$f":"IF(AH1988=\"Not eligible\", \"Not eligible\", AH1988)","v":0},null,0,null,{"$f":"IF(AJ1988=\"Not eligible\", \"Not eligible\", AJ1988)","v":0},null,{"$f":"IF(AK1988=\"Not eligible\", \"Not eligible\", AK1988)","v":0},null,{"$f":"IF(AL1988=\"Not eligible\", \"Not eligible\",AL1988)","v":0}]
[null,null,null,null,null,null,null,null,null,null,null,null,0,null,0,null,0,null,0,null,0,null,0,null,0,null,0,null,0]
[null,null,null,null,null,null,null,null,null,null,null,null,0,null,0,null,0,null,0,null,0,null,0,null,0,null,0,null,0]
[null,null,null,null,null,null,null,null,null,null,null,null,0,null,0,null,0,null,0,null,0,null,0,null,0,null,0,null,0]
[null,null,null,null,null,null,null,null,null,null,null,null,0,null,0,null,0,null,0,null,0,null,0,null,0,null,0,null,0]
[null,null,null,null,null,null,null,null,null,null,null,null,0,null,0,null,0,null,0,null,0,null,0,null,0,null,0,null,0]
[null,null,null,null,null,null,null,null,null,null,null,null,0,null,0,null,0,null,0,null,0,null,0,null,0,null,0,null,0]
[null,null,null,null,null,null,null,null,null,null,null,null,0,null,0,null,0,null,0,null,0,null,0,null,0,null,0,null,0]
[null,null,null,null,null,null,null,null,null,null,null,null,0,null,0,null,0,null,0,null,0,null,0,null,0,null,0,null,0]
[null,null,null,null,null,null,null,null,null,null,null,null,0,null,0,null,0,null,0,null,0,null,0,null,0,null,0,null,0]
[null,null,null,null,null,null,null,null,null,null,null,null,0,null,0,null,0,null,0,null,0,null,0,null,0,null,0,null,0]
[null,null,null,null,null,null,null,null,null,null,null,null,0,null,0,null,0,null,0,null,0,null,0,null,0,null,0,null,0]
[null,null,null,null,null,null,null,null,null,null,null,null,0,null,0,null,0,null,0,null,0,null,0,null,0,null,0,null,0]
[null,null,null,null,null,null,null,null,null,null,null,null,0,null,0,null,0,null,0,null,0,null,0,null,0,null,0,null,0]
[null,null,null,null,null,null,null,null,null,null,null,null,0,null,0,null,0,null,0,null,0,null,0,null,0,null,0,null,0]
[null,null,null,null,null,null,null,null,null,null,null,null,0,null,0,null,0,null,0,null,0,null,0,null,0,null,0,null,0]
[null,null,null,null,null,null,null,null,null,null,null,null,0,null,0,null,0,null,0,null,0,null,0,null,0,null,0,null,0]
[null,null,null,null,null,null,null,null,null,null,null,null,0,null,0,null,0,null,0,null,0,null,0,null,0,null,0,null,0]
[null,null,null,null,null,null,null,null,null,null,null,null,0,null,0,null,0,null,0,null,0,null,0,null,0,null,0,null,0]
[null,null,null,null,null,null,null,null,null,null,null,null,0,null,0,null,0,null,0,null,0,null,0,null,0,null,0,null,0]
[null,null,null,null,null,null,null,null,null,null,null,null,0,null,0,null,0,null,0,null,0,null,0,null,0,null,0,null,0]
[null,null,null,null,null,null,null,null,null,null,null,null,0,null,0,null,0,null,0,null,0,null,0,null,0,null,0,null,0]
[null,null,null,null,null,null,null,null,null,null,null,null,0,null,0,null,0,null,0,null,0,null,0,null,0,null,0,null,0]
[null,null,null,null,null,null,null,null,null,null,null,null,{"$f":"IF(AD2053=\"Not eligible\", \"Not eligible\", AD2053)","v":0},null,0,null,0,null,0,null,0,null,0,null,0,null,0,null,0]
[null,null,null,null,null,null,null,null,null,null,null,null,0,null,0,null,0,null,0,null,0,null,0,null,0,null,0,null,0]
[null,null,null,null,null,null,null,null,null,null,null,null,0,null,{"$f":"IF(AE2058=\"Not eligible\", \"Not eligible\", AE2058)","v":0},null,0,null,0,null,0,null,0,null,0,null,0,null,0]
[null,null,null,null,null,null,null,null,null,null,null,null,0,null,0,null,0,null,0,null,0,null,0,null,0,null,0,null,0]
[null,null,null,null,null,null,null,null,null,null,null,null,0,null,0,null,0,null,0,null,0,null,0,null,0,null,0,null,0]
[null,null,null,null,null,null,null,null,null,null,null,null,0,null,0,null,0,null,0,null,0,null,0,null,0,null,0,null,0]
[null,null,null,null,null,null,null,null,null,null,null,null,0,null,0,null,0,null,0,null,0,null,0,null,0,null,0,null,0]
[null,null,null,null,null,null,null,null,null,null,null,null,0,null,0,null,0,null,0,null,0,null,0,null,0,null,0,null,0]
[null,null,null,null,null,null,null,null,null,null,null,null,0,null,0,null,0,null,0,null,0,null,0,null,0,null,0,null,0]
[null,null,null,null,null,null,null,null,null,null,null,null,0,null,0,null,0,null,0,null,0,null,0,null,0,null,0,null,0]
[null,null,null,null,null,null,null,null,null,null,null,null,0,null,0,null,0,null,0,null,0,null,0,null,0,null,0,null,0]
[null,null,null,null,null,null,null,null,null,null,null,null,0,null,0,null,0,null,0,null,0,null,0,null,0,null,0,null,0]
[null,null,null,null,null,null,null,null,null,null,null,null,0,null,0,null,0,null,0,null,0,null,0,null,0,null,0,null,0]
[null,null,null,null,null,null,null,null,null,null,null,null,0,null,0,null,0,null,0,null,0,null,0,null,0,null,0,null,0]
[null,null,null,null,null,null,null,null,null,null,null,null,0,null,0,null,0,null,0,null,0,null,0,null,0,null,0,null,0]
[null,null,null,null,null,null,null,null,null,null,null,null,0,null,0,null,0,null,0,null,0,null,0,null,0,null,0,null,0]
[null,null,null,null,null,null,null,null,null,null,null,null,0,null,0,null,0,null,0,null,0,null,0,null,0,null,0,null,0]
[null,null,null,null,null,null,null,null,null,null,null,null,0,null,0,null,0,null,0,null,0,null,0,null,0,null,0,null,0]
[null,null,null,null,null,null,null,null,null,null,null,null,0,null,0,null,0,null,0,null,0,null,0,null,0,null,0,null,0]
[null,null,null,null,null,null,null,null,null,null,null,null,0,null,0,null,0,null,0,null,0,null,0,null,0,null,0,null,0]
[null,null,null,null,null,null,null,null,null,null,null,null,0,null,0,null,0,null,0,null,0,null,0,null,0,null,0,null,0]
[null,null,null,null,null,null,null,null,null,null,null,null,0,null,0,null,0,null,0,null,0,null,0,null,0,null,0,null,0]
[null,null,null,null,null,null,null,null,null,null,null,null,0,null,0,null,0,null,0,null,0,null,0,null,0,null,0,null,0]
[null,null,null,null,null,null,null,null,null,null,null,null,0,null,0,null,0,null,{"$f":"IF(AG2116=\"Not eligible\", \"Not eligible\", AG2116)","v":0},null,{"$f":"IF(AH2116=\"Not eligible\", \"Not eligible\", AH2116)","v":0},null,0,null,{"$f":"IF(AJ2116=\"Not eligible\", \"Not eligible\", AJ2116)","v":0},null,{"$f":"IF(AK2116=\"Not eligible\", \"Not eligible\", AK2116)","v":0},null,{"$f":"IF(AL2116=\"Not eligible\", \"Not eligible\",AL2116)","v":0}]
[null,null,null,null,null,null,null,null,null,null,null,null,{"$f":"IF(AD2117=\"Not eligible\", \"Not eligible\", AD2117)","v":0},null,0,null,0,null,0,null,0,null,0,null,0,null,0,null,0]
[null,null,null,null,null,null,null,null,null,null,null,null,0,null,0,null,0,null,0,null,0,null,0,null,0,null,0,null,0]
[null,null,null,null,null,null,null,null,null,null,null,null,0,null,0,null,0,null,0,null,0,null,0,null,0,null,0,null,0]
[null,null,null,null,null,null,null,null,null,null,null,null,0,null,0,null,0,null,0,null,0,null,0,null,0,null,0,null,0]
[null,null,null,null,null,null,null,null,null,null,null,null,0,null,0,null,0,null,0,null,0,null,0,null,0,null,0,null,0]
[null,null,null,null,null,null,null,null,null,null,null,null,0,null,0,null,0,null,0,null,0,null,0,null,0,null,0,null,0]
[null,null,null,null,null,null,null,null,null,null,null,null,0,null,0,null,0,null,0,null,0,null,0,null,0,null,0,null,0]
[null,null,null,null,null,null,null,null,null,null,null,null,0,null,0,null,0,null,0,null,0,null,0,null,0,null,0,null,0]
[null,null,null,null,null,null,null,null,null,null,null,null,0,null,0,null,0,null,0,null,0,null,0,null,0,null,0,null,0]
[null,null,null,null,null,null,null,null,null,null,null,null,0,null,0,null,0,null,0,null,0,null,0,null,0,null,0,null,0]
[null,null,null,null,null,null,null,null,null,null,null,null,0,null,0,null,0,null,0,null,0,null,0,null,0,null,0,null,0]
[null,null,null,null,null,null,null,null,null,null,null,null,0,null,0,null,0,null,0,null,0,null,0,null,0,null,0,null,0]
[null,null,null,null,null,null,null,null,null,null,null,null,0,null,0,null,0,null,0,null,0,null,0,null,0,null,0,null,0]
[null,null,null,null,null,null,null,null,null,null,null,null,0,null,0,null,0,null,0,null,0,null,0,null,0,null,0,null,0]
[null,null,null,null,null,null,null,null,null,null,null,null,0,null,0,null,0,null,0,null,0,null,0,null,0,null,0,null,0]
[null,null,null,null,null,null,null,null,null,null,null,null,0,null,0,null,0,null,0,null,0,null,0,null,0,null,0,null,0]
[null,null,null,null,null,null,null,null,null,null,null,null,0,null,0,null,0,null,0,null,0,null,0,null,0,null,0,null,0]
[null,null,null,null,null,null,null,null,null,null,null,null,0,null,0,null,0,null,0,null,0,null,0,null,0,null,0,null,0]
[null,null,null,null,null,null,null,null,null,null,null,null,0,null,0,null,0,null,0,null,0,null,0,null,0,null,0,null,0]
[null,null,null,null,null,null,null,null,null,null,null,null,0,null,0,null,0,null,0,null,0,null,0,null,0,null,0,null,0]
[null,null,null,null,null,null,null,null,null,null,null,null,0,null,0,null,0,null,0,null,0,null,0,null,0,null,0,null,0]
[null,null,null,null,null,null,null,null,null,null,null,null,0,null,0,null,0,null,0,null,0,null,0,null,0,null,0,null,0]
[null,null,null,null,null,null,null,null,null,null,null,null,0,null,0,null,0,null,0,null,0,null,{"$f":"IF(AI2179=\"Not eligible\", \"Not eligible\", AI2179)","v":0},null,0,null,0,null,0]
[null,null,null,null,null,null,null,null,null,null,null,null,0,null,0,null,0,null,0,null,0,null,0,null,0,null,0,null,0]
[null,null,null,null,null,null,null,null,null,null,null,null,0,null,0,null,{"$f":"IF(AF2183=\"Not eligible\", \"Not eligible\", AF2183)","v":0},null,0,null,0,null,0,null,0,null,0,null,0]
[null,null,null,null,null,null,null,null,null,null,null,null,0,null,{"$f":"IF(AE2186=\"Not eligible\", \"Not eligible\", AE2186)","v":0},null,0,null,0,null,0,null,0,null,0,null,0,null,0]
[null,null,null,null,null,null,null,null,null,null,null,null,0,null,0,null,0,null,0,null,0,null,0,null,0,null,0,null,0]
[null,null,null,null,null,null,null,null,null,null,null,null,0,null,0,null,0,null,0,null,0,null,0,null,0,null,0,null,0]
[null,null,null,null,null,null,null,null,null,null,null,null,0,null,0,null,0,null,0,null,0,null,0,null,0,null,0,null,0]
[null,null,null,null,null,null,null,null,null,null,null,null,0,null,0,null,0,null,0,null,0,null,0,null,0,null,0,null,0]
[null,null,null,null,null,null,null,null,null,null,null,null,0,null,0,null,0,null,0,null,0,null,0,null,0,null,0,null,0]
[null,null,null,null,null,null,null,null,null,null,null,null,0,null,0,null,0,null,0,null,0,null,0,null,0,null,0,null,0]
[null,null,null,null,null,null,null,null,null,null,null,null,0,null,0,null,0,null,0,null,0,null,0,null,0,null,0,null,0]
[null,null,null,null,null,null,null,null,null,null,null,null,0,null,0,null,0,null,0,null,0,null,0,null,0,null,0,null,0]
[null,null,null,null,null,null,null,null,null,null,null,null,0,null,0,null,0,null,0,null,0,null,0,null,0,null,0,null,0]
[null,null,null,null,null,null,null,null,null,null,null,null,0,null,0,null,0,null,0,null,0,null,0,null,0,null,0,null,0]
[null,null,null,null,null,null,null,null,null,null,null,null,0,null,0,null,0,null,0,null,0,null,0,null,0,null,0,null,0]
[null,null,null,null,null,null,null,null,null,null,null,null,0,null,0,null,0,null,0,null,0,null,0,null,0,null,0,null,0]
[null,null,null,null,null,null,null,null,null,null,null,null,0,null,0,null,0,null,0,null,0,null,0,null,0,null,0,null,0]
[null,null,null,null,null,null,null,null,null,null,null,null,0,null,0,null,0,null,0,null,0,null,0,null,0,null,0,null,0]
[null,null,null,null,null,null,null,null,null,null,null,null,0,null,0,null,0,null,0,null,0,null,0,null,0,null,0,null,0]
[null,null,null,null,null,null,null,null,null,null,null,null,0,null,0,null,0,null,0,null,0,null,0,null,0,null,0,null,0]
[null,null,null,null,null,null,null,null,null,null,null,null,0,null,0,null,0,null,0,null,0,null,0,null,0,null,0,null,0]
[null,null,null,null,null,null,null,null,null,null,null,null,0,null,0,null,0,null,0,null,0,null,0,null,0,null,0,null,0]
[null,null,null,null,null,null,null,null,null,null,null,null,0,null,0,null,0,null,0,null,0,null,0,null,0,null,0,null,0]
[null,null,null,null,null,null,null,null,null,null,null,null,0,null,0,null,0,null,0,null,0,null,{"$f":"IF(AI2243=\"Not eligible\", \"Not eligible\", AI2243)","v":0},null,0,null,0,null,0]
[null,null,null,null,null,null,null,null,null,null,null,null,{"$f":"IF(AD2245=\"Not eligible\", \"Not eligible\", AD2245)","v":0},null,0,null,0,null,0,null,0,null,0,null,0,null,0,null,0]
[null,null,null,null,null,null,null,null,null,null,null,null,0,null,0,null,0,null,0,null,0,null,0,null,0,null,0,null,0]
[null,null,null,null,null,null,null,null,null,null,null,null,0,null,0,null,0,null,0,null,0,null,0,null,0,null,0,null,0]
[null,null,null,null,null,null,null,null,null,null,null,null,0,null,0,null,0,null,0,null,0,null,0,null,0,null,0,null,0]
[null,null,null,null,null,null,null,null,null,null,null,null,0,null,0,null,0,null,0,null,0,null,0,null,0,null,0,null,0]
[null,null,null,null,null,null,null,null,null,null,null,null,0,null,0,null,0,null,0,null,0,null,0,null,0,null,0,null,0]
[null,null,null,null,null,null,null,null,null,null,null,null,0,null,0,null,0,null,0,null,0,null,0,null,0,null,0,null,0]
[null,null,null,null,null,null,null,null,null,null,null,null,0,null,0,null,0,null,0,null,0,null,0,null,0,null,0,null,0]
[null,null,null,null,null,null,null,null,null,null,null,null,0,null,0,null,0,null,0,null,0,null,0,null,0,null,0,null,0]
[null,null,null,null,null,null,null,null,null,null,null,null,0,null,0,null,0,null,0,null,0,null,0,null,0,null,0,null,0]
[null,null,null,null,null,null,null,null,null,null,null,null,0,null,0,null,0,null,0,null,0,null,0,null,0,null,0,null,0]
[null,null,null,null,null,null,null,null,null,null,null,null,0,null,0,null,0,null,0,null,0,null,0,null,0,null,0,null,0]
[null,null,null,null,null,null,null,null,null,null,null,null,0,null,0,null,0,null,0,null,0,null,0,null,0,null,0,null,0]
[null,null,null,null,null,null,null,null,null,null,null,null,0,null,0,null,0,null,0,null,0,null,0,null,0,null,0,null,0]
[null,null,null,null,null,null,null,null,null,null,null,null,0,null,0,null,0,null,0,null,0,null,0,null,0,null,0,null,0]
[null,null,null,null,null,null,null,null,null,null,null,null,0,null,0,null,0,null,0,null,0,null,0,null,0,null,0,null,0]
[null,null,null,null,null,null,null,null,null,null,null,null,0,null,0,null,0,null,0,null,0,null,0,null,0,null,0,null,0]
[null,null,null,null,null,null,null,null,null,null,null,null,0,null,0,null,0,null,0,null,0,null,0,null,0,null,0,null,0]
[null,null,null,null,null,null,null,null,null,null,null,null,0,null,0,null,0,null,0,null,0,null,0,null,0,null,0,null,0]
[null,null,null,null,null,null,null,null,null,null,null,null,0,null,0,null,0,null,0,null,0,null,0,null,0,null,0,null,0]
[null,null,null,null,null,null,null,null,null,null,null,null,0,null,0,null,0,null,0,null,0,null,0,null,0,null,0,null,0]
[null,null,null,null,null,null,null,null,null,null,null,null,0,null,0,null,0,null,0,null,0,null,0,null,0,null,0,null,0]
[null,null,null,null,null,null,null,null,null,null,null,null,0,null,0,null,0,null,0,null,0,null,0,null,0,null,0,null,0]
[null,null,null,null,null,null,null,null,null,null,null,null,{"$f":"IF(AD2309=\"Not eligible\", \"Not eligible\", AD2309)","v":0},null,0,null,0,null,0,null,0,null,0,null,0,null,0,null,0]
[null,null,null,null,null,null,null,null,null,null,null,null,0,null,0,null,{"$f":"IF(AF2311=\"Not eligible\", \"Not eligible\", AF2311)","v":0},null,0,null,0,null,0,null,0,null,0,null,0]
[null,null,null,null,null,null,null,null,null,null,null,null,0,null,0,null,0,null,0,null,0,null,0,null,0,null,0,null,0]
[null,null,null,null,null,null,null,null,null,null,null,null,0,null,0,null,0,null,0,null,0,null,0,null,0,null,0,null,0]
[null,null,null,null,null,null,null,null,null,null,null,null,0,null,0,null,0,null,0,null,0,null,0,null,0,null,0,null,0]
[null,null,null,null,null,null,null,null,null,null,null,null,0,null,0,null,0,null,0,null,0,null,0,null,0,null,0,null,0]
[null,null,null,null,null,null,null,null,null,null,null,null,0,null,0,null,0,null,0,null,0,null,0,null,0,null,0,null,0]
[null,null,null,null,null,null,null,null,null,null,null,null,0,null,0,null,0,null,0,null,0,null,0,null,0,null,0,null,0]
[null,null,null,null,null,null,null,null,null,null,null,null,0,null,0,null,0,null,0,null,0,null,0,null,0,null,0,null,0]
[null,null,null,null,null,null,null,null,null,null,null,null,0,null,0,null,0,null,0,null,0,null,0,null,0,null,0,null,0]
[null,null,null,null,null,null,null,null,null,null,null,null,0,null,0,null,0,null,0,null,0,null,0,null,0,null,0,null,0]
[null,null,null,null,null,null,null,null,null,null,null,null,0,null,0,null,0,null,0,null,0,null,0,null,0,null,0,null,0]
[null,null,null,null,null,null,null,null,null,null,null,null,0,null,0,null,0,null,0,null,0,null,0,null,0,null,0,null,0]
[null,null,null,null,null,null,null,null,null,null,null,null,0,null,0,null,0,null,0,null,0,null,0,null,0,null,0,null,0]
[null,null,null,null,null,null,null,null,null,null,null,null,0,null,0,null,0,null,0,null,0,null,0,null,0,null,0,null,0]
[null,null,null,null,null,null,null,null,null,null,null,null,0,null,0,null,0,null,0,null,0,null,0,null,0,null,0,null,0]
[null,null,null,null,null,null,null,null,null,null,null,null,0,null,0,null,0,null,0,null,0,null,0,null,0,null,0,null,0]
[null,null,null,null,null,null,null,null,null,null,null,null,0,null,0,null,0,null,0,null,0,null,0,null,0,null,0,null,0]
[null,null,null,null,null,null,null,null,null,null,null,null,0,null,0,null,0,null,0,null,0,null,0,null,0,null,0,null,0]
[null,null,null,null,null,null,null,null,null,null,null,null,0,null,0,null,0,null,0,null,0,null,0,null,0,null,0,null,0]
[null,null,null,null,null,null,null,null,null,null,null,null,0,null,0,null,0,null,0,null,0,null,0,null,0,null,0,null,0]
[null,null,null,null,null,null,null,null,null,null,null,null,0,null,0,null,0,null,0,null,0,null,0,null,0,null,0,null,0]
[null,null,null,null,null,null,null,null,null,null,null,null,0,null,0,null,0,null,0,null,0,null,0,null,0,null,0,null,0]
[null,null,null,null,null,null,null,null,null,null,null,null,0,null,0,null,0,null,{"$f":"IF(AG2372=\"Not eligible\", \"Not eligible\", AG2372)","v":0},null,{"$f":"IF(AH2372=\"Not eligible\", \"Not eligible\", AH2372)","v":0},null,0,null,{"$f":"IF(AJ2372=\"Not eligible\", \"Not eligible\", AJ2372)","v":0},null,{"$f":"IF(AK2372=\"Not eligible\", \"Not eligible\", AK2372)","v":0},null,{"$f":"IF(AL2372=\"Not eligible\", \"Not eligible\",AL2372)","v":0}]
[null,null,null,null,null,null,null,null,null,null,null,null,0,null,0,null,{"$f":"IF(AF2375=\"Not eligible\", \"Not eligible\", AF2375)","v":0},null,0,null,0,null,0,null,0,null,0,null,0]
[null,null,null,null,null,null,null,null,null,null,null,null,0,null,0,null,0,null,0,null,0,null,0,null,0,null,0,null,0]
[null,null,null,null,null,null,null,null,null,null,null,null,0,null,{"$f":"IF(AE2378=\"Not eligible\", \"Not eligible\", AE2378)","v":0},null,0,null,0,null,0,null,0,null,0,null,0,null,0]
[null,null,null,null,null,null,null,null,null,null,null,null,0,null,0,null,0,null,0,null,0,null,0,null,0,null,0,null,0]
[null,null,null,null,null,null,null,null,null,null,null,null,0,null,0,null,0,null,0,null,0,null,0,null,0,null,0,null,0]
[null,null,null,null,null,null,null,null,null,null,null,null,0,null,0,null,0,null,0,null,0,null,0,null,0,null,0,null,0]
[null,null,null,null,null,null,null,null,null,null,null,null,0,null,0,null,0,null,0,null,0,null,0,null,0,null,0,null,0]
[null,null,null,null,null,null,null,null,null,null,null,null,0,null,0,null,0,null,0,null,0,null,0,null,0,null,0,null,0]
[null,null,null,null,null,null,null,null,null,null,null,null,0,null,0,null,0,null,0,null,0,null,0,null,0,null,0,null,0]
[null,null,null,null,null,null,null,null,null,null,null,null,0,null,0,null,0,null,0,null,0,null,0,null,0,null,0,null,0]
[null,null,null,null,null,null,null,null,null,null,null,null,0,null,0,null,0,null,0,null,0,null,0,null,0,null,0,null,0]
[null,null,null,null,null,null,null,null,null,null,null,null,0,null,0,null,0,null,0,null,0,null,0,null,0,null,0,null,0]
[null,null,null,null,null,null,null,null,null,null,null,null,0,null,0,null,0,null,0,null,0,null,0,null,0,null,0,null,0]
[null,null,null,null,null,null,null,null,null,null,null,null,0,null,0,null,0,null,0,null,0,null,0,null,0,null,0,null,0]
[null,null,null,null,null,null,null,null,null,null,null,null,0,null,0,null,0,null,0,null,0,null,0,null,0,null,0,null,0]
[null,null,null,null,null,null,null,null,null,null,null,null,0,null,0,null,0,null,0,null,0,null,0,null,0,null,0,null,0]
[null,null,null,null,null,null,null,null,null,null,null,null,0,null,0,null,0,null,0,null,0,null,0,null,0,null,0,null,0]
[null,null,null,null,null,null,null,null,null,null,null,null,0,null,0,null,0,null,0,null,0,null,0,null,0,null,0,null,0]
[null,null,null,null,null,null,null,null,null,null,null,null,0,null,0,null,0,null,0,null,0,null,0,null,0,null,0,null,0]
[null,null,null,null,null,null,null,null,null,null,null,null,0,null,0,null,0,null,0,null,0,null,0,null,0,null,0,null,0]
[null,null,null,null,null,null,null,null,null,null,null,null,0,null,0,null,0,null,0,null,0,null,0,null,0,null,0,null,0]
[null,null,null,null,null,null,null,null,null,null,null,null,0,null,0,null,0,null,0,null,0,null,0,null,0,null,0,null,0]
[null,null,null,null,null,null,null,null,null,null,null,null,0,null,0,null,0,null,0,null,0,null,{"$f":"IF(AI2435=\"Not eligible\", \"Not eligible\", AI2435)","v":0},null,0,null,0,null,0]
[null,null,null,null,null,null,null,null,null,null,null,null,0,null,0,null,0,null,0,null,0,null,0,null,0,null,0,null,0]
[null,null,null,null,null,null,null,null,null,null,null,null,0,null,0,null,0,null,0,null,0,null,0,null,0,null,0,null,0]
[null,null,null,null,null,null,null,null,null,null,null,null,0,null,0,null,0,null,0,null,0,null,0,null,0,null,0,null,0]
[null,null,null,null,null,null,null,null,null,null,null,null,0,null,0,null,0,null,0,null,0,null,0,null,0,null,0,null,0]
[null,null,null,null,null,null,null,null,null,null,null,null,0,null,0,null,0,null,0,null,0,null,0,null,0,null,0,null,0]
[null,null,null,null,null,null,null,null,null,null,null,null,0,null,0,null,0,null,0,null,0,null,0,null,0,null,0,null,0]
[null,null,null,null,null,null,null,null,null,null,null,null,0,null,0,null,0,null,0,null,0,null,0,null,0,null,0,null,0]
[null,null,null,null,null,null,null,null,null,null,null,null,0,null,0,null,0,null,0,null,0,null,0,null,0,null,0,null,0]
[null,null,null,null,null,null,null,null,null,null,null,null,0,null,0,null,0,null,0,null,0,null,0,null,0,null,0,null,0]
[null,null,null,null,null,null,null,null,null,null,null,null,0,null,0,null,0,null,0,null,0,null,0,null,0,null,0,null,0]
[null,null,null,null,null,null,null,null,null,null,null,null,0,null,0,null,0,null,0,null,0,null,0,null,0,null,0,null,0]
[null,null,null,null,null,null,null,null,null,null,null,null,0,null,0,null,0,null,0,null,0,null,0,null,0,null,0,null,0]
[null,null,null,null,null,null,null,null,null,null,null,null,0,null,0,null,0,null,0,null,0,null,0,null,0,null,0,null,0]
[null,null,null,null,null,null,null,null,null,null,null,null,0,null,0,null,0,null,0,null,0,null,0,null,0,null,0,null,0]
[null,null,null,null,null,null,null,null,null,null,null,null,0,null,0,null,0,null,0,null,0,null,0,null,0,null,0,null,0]
[null,null,null,null,null,null,null,null,null,null,null,null,0,null,0,null,0,null,0,null,0,null,0,null,0,null,0,null,0]
[null,null,null,null,null,null,null,null,null,null,null,null,0,null,0,null,0,null,0,null,0,null,0,null,0,null,0,null,0]
[null,null,null,null,null,null,null,null,null,null,null,null,0,null,0,null,0,null,0,null,0,null,0,null,0,null,0,null,0]
[null,null,null,null,null,null,null,null,null,null,null,null,0,null,0,null,0,null,0,null,0,null,0,null,0,null,0,null,0]
[null,null,null,null,null,null,null,null,null,null,null,null,0,null,0,null,0,null,0,null,0,null,0,null,0,null,0,null,0]
[null,null,null,null,null,null,null,null,null,null,null,null,0,null,0,null,0,null,0,null,0,null,0,null,0,null,0,null,0]
[null,null,null,null,null,null,null,null,null,null,null,null,0,null,0,null,0,null,0,null,0,null,0,null,0,null,0,null,0]
[null,null,null,null,null,null,null,null,null,null,null,null,0,null,0,null,0,null,0,null,0,null,0,null,0,null,0,null,0]
[null,null,null,null,null,null,null,null,null,null,null,null,{"$f":"IF(AD2501=\"Not eligible\", \"Not eligible\", AD2501)","v":0},null,0,null,0,null,0,null,0,null,0,null,0,null,0,null,0]
[null,null,null,null,null,null,null,null,null,null,null,null,0,null,0,null,0,null,0,null,0,null,0,null,0,null,0,null,0]
[null,null,null,null,null,null,null,null,null,null,null,null,0,null,0,null,0,null,0,null,0,null,0,null,0,null,0,null,0]
[null,null,null,null,null,null,null,null,null,null,null,null,0,null,0,null,0,null,0,null,0,null,0,null,0,null,0,null,0]
[null,null,null,null,null,null,null,null,null,null,null,null,0,null,0,null,0,null,0,null,0,null,0,null,0,null,0,null,0]
[null,null,null,null,null,null,null,null,null,null,null,null,0,null,0,null,0,null,0,null,0,null,0,null,0,null,0,null,0]
[null,null,null,null,null,null,null,null,null,null,null,null,0,null,0,null,0,null,0,null,0,null,0,null,0,null,0,null,0]
[null,null,null,null,null,null,null,null,null,null,null,null,0,null,0,null,0,null,0,null,0,null,0,null,0,null,0,null,0]
[null,null,null,null,null,null,null,null,null,null,null,null,0,null,0,null,0,null,0,null,0,null,0,null,0,null,0,null,0]
[null,null,null,null,null,null,null,null,null,null,null,null,0,null,0,null,0,null,0,null,0,null,0,null,0,null,0,null,0]
[null,null,null,null,null,null,null,null,null,null,null,null,0,null,0,null,0,null,0,null,0,null,0,null,0,null,0,null,0]
[null,null,null,null,null,null,null,null,null,null,null,null,0,null,0,null,0,null,0,null,0,null,0,null,0,null,0,null,0]
[null,null,null,null,null,null,null,null,null,null,null,null,0,null,0,null,0,null,0,null,0,null,0,null,0,null,0,null,0]
[null,null,null,null,null,null,null,null,null,null,null,null,0,null,0,null,0,null,0,null,0,null,0,null,0,null,0,null,0]
[null,null,null,null,null,null,null,null,null,null,null,null,0,null,0,null,0,null,0,null,0,null,0,null,0,null,0,null,0]
[null,null,null,null,null,null,null,null,null,null,null,null,0,null,0,null,0,null,0,null,0,null,0,null,0,null,0,null,0]
[null,null,null,null,null,null,null,null,null,null,null,null,0,null,0,null,0,null,0,null,0,null,0,null,0,null,0,null,0]
[null,null,null,null,null,null,null,null,null,null,null,null,0,null,0,null,0,null,0,null,0,null,0,null,0,null,0,null,0]
[null,null,null,null,null,null,null,null,null,null,null,null,0,null,0,null,0,null,0,null,0,null,0,null,0,null,0,null,0]
[null,null,null,null,null,null,null,null,null,null,null,null,0,null,0,null,0,null,0,null,0,null,0,null,0,null,0,null,0]
[null,null,null,null,null,null,null,null,null,null,null,null,0,null,0,null,0,null,0,null,0,null,0,null,0,null,0,null,0]
[null,null,null,null,null,null,null,null,null,null,null,null,0,null,0,null,0,null,0,null,0,null,0,null,0,null,0,null,0]
[null,null,null,null,null,null,null,null,null,null,null,null,0,null,0,null,0,null,0,null,0,null,0,null,0,null,0,null,0]
[null,null,null,null,null,null,null,null,null,null,null,null,0,null,0,null,0,null,{"$f":"IF(AG2564=\"Not eligible\", \"Not eligible\", AG2564)","v":0},null,{"$f":"IF(AH2564=\"Not eligible\", \"Not eligible\", AH2564)","v":0},null,0,null,{"$f":"IF(AJ2564=\"Not eligible\", \"Not eligible\", AJ2564)","v":0},null,{"$f":"IF(AK2564=\"Not eligible\", \"Not eligible\", AK2564)","v":0},null,{"$f":"IF(AL2564=\"Not eligible\", \"Not eligible\",AL2564)","v":0}]
[null,null,null,null,null,null,null,null,null,null,null,null,0,null,0,null,{"$f":"IF(AF2567=\"Not eligible\", \"Not eligible\", AF2567)","v":0},null,0,null,0,null,0,null,0,null,0,null,0]
[null,null,null,null,null,null,null,null,null,null,null,null,0,null,{"$f":"IF(AE2570=\"Not eligible\", \"Not eligible\", AE2570)","v":0},null,0,null,0,null,0,null,0,null,0,null,0,null,0]
[null,null,null,null,null,null,null,null,null,null,null,null,0,null,0,null,0,null,0,null,0,null,0,null,0,null,0,null,0]
[null,null,null,null,null,null,null,null,null,null,null,null,0,null,0,null,0,null,0,null,0,null,0,null,0,null,0,null,0]
[null,null,null,null,null,null,null,null,null,null,null,null,0,null,0,null,0,null,0,null,0,null,0,null,0,null,0,null,0]
[null,null,null,null,null,null,null,null,null,null,null,null,0,null,0,null,0,null,0,null,0,null,0,null,0,null,0,null,0]
[null,null,null,null,null,null,null,null,null,null,null,null,0,null,0,null,0,null,0,null,0,null,0,null,0,null,0,null,0]
[null,null,null,null,null,null,null,null,null,null,null,null,0,null,0,null,0,null,0,null,0,null,0,null,0,null,0,null,0]
[null,null,null,null,null,null,null,null,null,null,null,null,0,null,0,null,0,null,0,null,0,null,0,null,0,null,0,null,0]
[null,null,null,null,null,null,null,null,null,null,null,null,0,null,0,null,0,null,0,null,0,null,0,null,0,null,0,null,0]
[null,null,null,null,null,null,null,null,null,null,null,null,0,null,0,null,0,null,0,null,0,null,0,null,0,null,0,null,0]
[null,null,null,null,null,null,null,null,null,null,null,null,0,null,0,null,0,null,0,null,0,null,0,null,0,null,0,null,0]
[null,null,null,null,null,null,null,null,null,null,null,null,0,null,0,null,0,null,0,null,0,null,0,null,0,null,0,null,0]
[null,null,null,null,null,null,null,null,null,null,null,null,0,null,0,null,0,null,0,null,0,null,0,null,0,null,0,null,0]
[null,null,null,null,null,null,null,null,null,null,null,null,0,null,0,null,0,null,0,null,0,null,0,null,0,null,0,null,0]
[null,null,null,null,null,null,null,null,null,null,null,null,0,null,0,null,0,null,0,null,0,null,0,null,0,null,0,null,0]
[null,null,null,null,null,null,null,null,null,null,null,null,0,null,0,null,0,null,0,null,0,null,0,null,0,null,0,null,0]
[null,null,null,null,null,null,null,null,null,null,null,null,0,null,0,null,0,null,0,null,0,null,0,null,0,null,0,null,0]
[null,null,null,null,null,null,null,null,null,null,null,null,0,null,0,null,0,null,0,null,0,null,0,null,0,null,0,null,0]
[null,null,null,null,null,null,null,null,null,null,null,null,0,null,0,null,0,null,0,null,0,null,0,null,0,null,0,null,0]
[null,null,null,null,null,null,null,null,null,null,null,null,0,null,0,null,0,null,0,null,0,null,0,null,0,null,0,null,0]
[null,null,null,null,null,null,null,null,null,null,null,null,0,null,0,null,0,null,0,null,0,null,0,null,0,null,0,null,0]
[null,null,null,null,null,null,null,null,null,null,null,null,0,null,0,null,0,null,0,null,0,null,{"$f":"IF(AI2627=\"Not eligible\", \"Not eligible\", AI2627)","v":0},null,0,null,0,null,0]
[null,null,null,null,null,null,null,null,null,null,null,null,0,null,0,null,0,null,0,null,0,null,0,null,0,null,0,null,0]
[null,null,null,null,null,null,null,null,null,null,null,null,0,null,0,null,0,null,0,null,0,null,0,null,0,null,0,null,0]
[null,null,null,null,null,null,null,null,null,null,null,null,0,null,0,null,0,null,0,null,0,null,0,null,0,null,0,null,0]
[null,null,null,null,null,null,null,null,null,null,null,null,0,null,0,null,0,null,0,null,0,null,0,null,0,null,0,null,0]
[null,null,null,null,null,null,null,null,null,null,null,null,0,null,0,null,0,null,0,null,0,null,0,null,0,null,0,null,0]
[null,null,null,null,null,null,null,null,null,null,null,null,0,null,0,null,0,null,0,null,0,null,0,null,0,null,0,null,0]
[null,null,null,null,null,null,null,null,null,null,null,null,0,null,0,null,0,null,0,null,0,null,0,null,0,null,0,null,0]
[null,null,null,null,null,null,null,null,null,null,null,null,0,null,0,null,0,null,0,null,0,null,0,null,0,null,0,null,0]
[null,null,null,null,null,null,null,null,null,null,null,null,0,null,0,null,0,null,0,null,0,null,0,null,0,null,0,null,0]
[null,null,null,null,null,null,null,null,null,null,null,null,0,null,0,null,0,null,0,null,0,null,0,null,0,null,0,null,0]
[null,null,null,null,null,null,null,null,null,null,null,null,0,null,0,null,0,null,0,null,0,null,0,null,0,null,0,null,0]
[null,null,null,null,null,null,null,null,null,null,null,null,0,null,0,null,0,null,0,null,0,null,0,null,0,null,0,null,0]
[null,null,null,null,null,null,null,null,null,null,null,null,0,null,0,null,0,null,0,null,0,null,0,null,0,null,0,null,0]
[null,null,null,null,null,null,null,null,null,null,null,null,0,null,0,null,0,null,0,null,0,null,0,null,0,null,0,null,0]
[null,null,null,null,null,null,null,null,null,null,null,null,0,null,0,null,0,null,0,null,0,null,0,null,0,null,0,null,0]
[null,null,null,null,null,null,null,null,null,null,null,null,0,null,0,null,0,null,0,null,0,null,0,null,0,null,0,null,0]
[null,null,null,null,null,null,null,null,null,null,null,null,0,null,0,null,0,null,0,null,0,null,0,null,0,null,0,null,0]
[null,null,null,null,null,null,null,null,null,null,null,null,0,null,0,null,0,null,0,null,0,null,0,null,0,null,0,null,0]
[null,null,null,null,null,null,null,null,null,null,null,null,0,null,0,null,0,null,0,null,0,null,0,null,0,null,0,null,0]
[null,null,null,null,null,null,null,null,null,null,null,null,0,null,0,null,0,null,0,null,0,null,0,null,0,null,0,null,0]
[null,null,null,null,null,null,null,null,null,null,null,null,0,null,0,null,0,null,0,null,0,null,0,null,0,null,0,null,0]
[null,null,null,null,null,null,null,null,null,null,null,null,0,null,0,null,0,null,0,null,0,null,0,null,0,null,0,null,0]
[null,null,null,null,null,null,null,null,null,null,null,null,0,null,0,null,0,null,0,null,0,null,0,null,0,null,0,null,0]
[null,null,null,null,null,null,null,null,null,null,null,null,{"$f":"IF(AD2693=\"Not eligible\", \"Not eligible\", AD2693)","v":0},null,0,null,0,null,0,null,0,null,0,null,0,null,0,null,0]
[null,null,null,null,null,null,null,null,null,null,null,null,0,null,0,null,0,null,0,null,0,null,0,null,0,null,0,null,0]
[null,null,null,null,null,null,null,null,null,null,null,null,0,null,0,null,0,null,0,null,0,null,0,null,0,null,0,null,0]
[null,null,null,null,null,null,null,null,null,null,null,null,0,null,0,null,0,null,0,null,0,null,0,null,0,null,0,null,0]
[null,null,null,null,null,null,null,null,null,null,null,null,0,null,0,null,0,null,0,null,0,null,0,null,0,null,0,null,0]
[null,null,null,null,null,null,null,null,null,null,null,null,0,null,0,null,0,null,0,null,0,null,0,null,0,null,0,null,0]
[null,null,null,null,null,null,null,null,null,null,null,null,0,null,0,null,0,null,0,null,0,null,0,null,0,null,0,null,0]
[null,null,null,null,null,null,null,null,null,null,null,null,0,null,0,null,0,null,0,null,0,null,0,null,0,null,0,null,0]
[null,null,null,null,null,null,null,null,null,null,null,null,0,null,0,null,0,null,0,null,0,null,0,null,0,null,0,null,0]
[null,null,null,null,null,null,null,null,null,null,null,null,0,null,0,null,0,null,0,null,0,null,0,null,0,null,0,null,0]
[null,null,null,null,null,null,null,null,null,null,null,null,0,null,0,null,0,null,0,null,0,null,0,null,0,null,0,null,0]
[null,null,null,null,null,null,null,null,null,null,null,null,0,null,0,null,0,null,0,null,0,null,0,null,0,null,0,null,0]
[null,null,null,null,null,null,null,null,null,null,null,null,0,null,0,null,0,null,0,null,0,null,0,null,0,null,0,null,0]
[null,null,null,null,null,null,null,null,null,null,null,null,0,null,0,null,0,null,0,null,0,null,0,null,0,null,0,null,0]
[null,null,null,null,null,null,null,null,null,null,null,null,0,null,0,null,0,null,0,null,0,null,0,null,0,null,0,null,0]
[null,null,null,null,null,null,null,null,null,null,null,null,0,null,0,null,0,null,0,null,0,null,0,null,0,null,0,null,0]
[null,null,null,null,null,null,null,null,null,null,null,null,0,null,0,null,0,null,0,null,0,null,0,null,0,null,0,null,0]
[null,null,null,null,null,null,null,null,null,null,null,null,0,null,0,null,0,null,0,null,0,null,0,null,0,null,0,null,0]
[null,null,null,null,null,null,null,null,null,null,null,null,0,null,0,null,0,null,0,null,0,null,0,null,0,null,0,null,0]
[null,null,null,null,null,null,null,null,null,null,null,null,0,null,0,null,0,null,0,null,0,null,0,null,0,null,0,null,0]
[null,null,null,null,null,null,null,null,null,null,null,null,0,null,0,null,0,null,0,null,0,null,0,null,0,null,0,null,0]
[null,null,null,null,null,null,null,null,null,null,null,null,0,null,0,null,0,null,0,null,0,null,0,null,0,null,0,null,0]
[null,null,null,null,null,null,null,null,null,null,null,null,0,null,0,null,0,null,0,null,0,null,0,null,0,null,0,null,0]
[null,null,null,null,null,null,null,null,null,null,null,null,0,null,0,null,0,null,{"$f":"IF(AG2756=\"Not eligible\", \"Not eligible\", AG2756)","v":0},null,{"$f":"IF(AH2756=\"Not eligible\", \"Not eligible\", AH2756)","v":0},null,0,null,{"$f":"IF(AJ2756=\"Not eligible\", \"Not eligible\", AJ2756)","v":0},null,{"$f":"IF(AK2756=\"Not eligible\", \"Not eligible\", AK2756)","v":0},null,{"$f":"IF(AL2756=\"Not eligible\", \"Not eligible\",AL2756)","v":0}]
[null,null,null,null,null,null,null,null,null,null,null,null,0,null,0,null,0,null,0,null,0,null,0,null,0,null,0,null,0]
[null,null,null,null,null,null,null,null,null,null,null,null,0,null,{"$f":"IF(AE2762=\"Not eligible\", \"Not eligible\", AE2762)","v":0},null,0,null,0,null,0,null,0,null,0,null,0,null,0]
[null,null,null,null,null,null,null,null,null,null,null,null,0,null,0,null,0,null,0,null,0,null,0,null,0,null,0,null,0]
[null,null,null,null,null,null,null,null,null,null,null,null,0,null,0,null,0,null,0,null,0,null,0,null,0,null,0,null,0]
[null,null,null,null,null,null,null,null,null,null,null,null,0,null,0,null,0,null,0,null,0,null,0,null,0,null,0,null,0]
[null,null,null,null,null,null,null,null,null,null,null,null,0,null,0,null,0,null,0,null,0,null,0,null,0,null,0,null,0]
[null,null,null,null,null,null,null,null,null,null,null,null,0,null,0,null,0,null,0,null,0,null,0,null,0,null,0,null,0]
[null,null,null,null,null,null,null,null,null,null,null,null,0,null,0,null,0,null,0,null,0,null,0,null,0,null,0,null,0]
[null,null,null,null,null,null,null,null,null,null,null,null,0,null,0,null,0,null,0,null,0,null,0,null,0,null,0,null,0]
[null,null,null,null,null,null,null,null,null,null,null,null,0,null,0,null,0,null,0,null,0,null,0,null,0,null,0,null,0]
[null,null,null,null,null,null,null,null,null,null,null,null,0,null,0,null,0,null,0,null,0,null,0,null,0,null,0,null,0]
[null,null,null,null,null,null,null,null,null,null,null,null,0,null,0,null,0,null,0,null,0,null,0,null,0,null,0,null,0]
[null,null,null,null,null,null,null,null,null,null,null,null,0,null,0,null,0,null,0,null,0,null,0,null,0,null,0,null,0]
[null,null,null,null,null,null,null,null,null,null,null,null,0,null,0,null,0,null,0,null,0,null,0,null,0,null,0,null,0]
[null,null,null,null,null,null,null,null,null,null,null,null,0,null,0,null,0,null,0,null,0,null,0,null,0,null,0,null,0]
[null,null,null,null,null,null,null,null,null,null,null,null,0,null,0,null,0,null,0,null,0,null,0,null,0,null,0,null,0]
[null,null,null,null,null,null,null,null,null,null,null,null,0,null,0,null,0,null,0,null,0,null,0,null,0,null,0,null,0]
[null,null,null,null,null,null,null,null,null,null,null,null,0,null,0,null,0,null,0,null,0,null,0,null,0,null,0,null,0]
[null,null,null,null,null,null,null,null,null,null,null,null,0,null,0,null,0,null,0,null,0,null,0,null,0,null,0,null,0]
[null,null,null,null,null,null,null,null,null,null,null,null,0,null,0,null,0,null,0,null,0,null,0,null,0,null,0,null,0]
[null,null,null,null,null,null,null,null,null,null,null,null,0,null,0,null,0,null,0,null,0,null,0,null,0,null,0,null,0]
[null,null,null,null,null,null,null,null,null,null,null,null,0,null,0,null,0,null,0,null,0,null,0,null,0,null,0,null,0]
[null,null,null,null,null,null,null,null,null,null,null,null,0,null,0,null,0,null,0,null,0,null,{"$f":"IF(AI2819=\"Not eligible\", \"Not eligible\", AI2819)","v":0},null,0,null,0,null,0]
[null,null,null,null,null,null,null,null,null,null,null,null,0,null,0,null,0,null,0,null,0,null,0,null,0,null,0,null,0]
[null,null,null,null,null,null,null,null,null,null,null,null,0,null,{"$f":"IF(AE2826=\"Not eligible\", \"Not eligible\", AE2826)","v":0},null,0,null,0,null,0,null,0,null,0,null,0,null,0]
[null,null,null,null,null,null,null,null,null,null,null,null,0,null,0,null,0,null,0,null,0,null,0,null,0,null,0,null,0]
[null,null,null,null,null,null,null,null,null,null,null,null,0,null,0,null,0,null,0,null,0,null,0,null,0,null,0,null,0]
[null,null,null,null,null,null,null,null,null,null,null,null,0,null,0,null,0,null,0,null,0,null,0,null,0,null,0,null,0]
[null,null,null,null,null,null,null,null,null,null,null,null,0,null,0,null,0,null,0,null,0,null,0,null,0,null,0,null,0]
[null,null,null,null,null,null,null,null,null,null,null,null,0,null,0,null,0,null,0,null,0,null,0,null,0,null,0,null,0]
[null,null,null,null,null,null,null,null,null,null,null,null,0,null,0,null,0,null,0,null,0,null,0,null,0,null,0,null,0]
[null,null,null,null,null,null,null,null,null,null,null,null,0,null,0,null,0,null,0,null,0,null,0,null,0,null,0,null,0]
[null,null,null,null,null,null,null,null,null,null,null,null,0,null,0,null,0,null,0,null,0,null,0,null,0,null,0,null,0]
[null,null,null,null,null,null,null,null,null,null,null,null,0,null,0,null,0,null,0,null,0,null,0,null,0,null,0,null,0]
[null,null,null,null,null,null,null,null,null,null,null,null,0,null,0,null,0,null,0,null,0,null,0,null,0,null,0,null,0]
[null,null,null,null,null,null,null,null,null,null,null,null,0,null,0,null,0,null,0,null,0,null,0,null,0,null,0,null,0]
[null,null,null,null,null,null,null,null,null,null,null,null,0,null,0,null,0,null,0,null,0,null,0,null,0,null,0,null,0]
[null,null,null,null,null,null,null,null,null,null,null,null,0,null,0,null,0,null,0,null,0,null,0,null,0,null,0,null,0]
[null,null,null,null,null,null,null,null,null,null,null,null,0,null,0,null,0,null,0,null,0,null,0,null,0,null,0,null,0]
[null,null,null,null,null,null,null,null,null,null,null,null,0,null,0,null,0,null,0,null,0,null,0,null,0,null,0,null,0]
[null,null,null,null,null,null,null,null,null,null,null,null,0,null,0,null,0,null,0,null,0,null,0,null,0,null,0,null,0]
[null,null,null,null,null,null,null,null,null,null,null,null,0,null,0,null,0,null,0,null,0,null,0,null,0,null,0,null,0]
[null,null,null,null,null,null,null,null,null,null,null,null,0,null,0,null,0,null,0,null,0,null,0,null,0,null,0,null,0]
[null,null,null,null,null,null,null,null,null,null,null,null,0,null,0,null,0,null,0,null,0,null,0,null,0,null,0,null,0]
[null,null,null,null,null,null,null,null,null,null,null,null,0,null,0,null,0,null,0,null,0,null,0,null,0,null,0,null,0]
[null,null,null,null,null,null,null,null,null,null,null,null,0,null,0,null,0,null,0,null,0,null,{"$f":"IF(AI2883=\"Not eligible\", \"Not eligible\", AI2883)","v":0},null,0,null,0,null,0]
[null,null,null,null,null,null,null,null,null,null,null,null,{"$f":"IF(AD2885=\"Not eligible\", \"Not eligible\", AD2885)","v":0},null,0,null,0,null,0,null,0,null,0,null,0,null,0,null,0]
[null,null,null,null,null,null,null,null,null,null,null,null,0,null,0,null,0,null,0,null,0,null,0,null,0,null,0,null,0]
[null,null,null,null,null,null,null,null,null,null,null,null,0,null,0,null,0,null,0,null,0,null,0,null,0,null,0,null,0]
[null,null,null,null,null,null,null,null,null,null,null,null,0,null,0,null,0,null,0,null,0,null,0,null,0,null,0,null,0]
[null,null,null,null,null,null,null,null,null,null,null,null,0,null,0,null,0,null,0,null,0,null,0,null,0,null,0,null,0]
[null,null,null,null,null,null,null,null,null,null,null,null,0,null,0,null,0,null,0,null,0,null,0,null,0,null,0,null,0]
[null,null,null,null,null,null,null,null,null,null,null,null,0,null,0,null,0,null,0,null,0,null,0,null,0,null,0,null,0]
[null,null,null,null,null,null,null,null,null,null,null,null,0,null,0,null,0,null,0,null,0,null,0,null,0,null,0,null,0]
[null,null,null,null,null,null,null,null,null,null,null,null,0,null,0,null,0,null,0,null,0,null,0,null,0,null,0,null,0]
[null,null,null,null,null,null,null,null,null,null,null,null,0,null,0,null,0,null,0,null,0,null,0,null,0,null,0,null,0]
[null,null,null,null,null,null,null,null,null,null,null,null,0,null,0,null,0,null,0,null,0,null,0,null,0,null,0,null,0]
[null,null,null,null,null,null,null,null,null,null,null,null,0,null,0,null,0,null,0,null,0,null,0,null,0,null,0,null,0]
[null,null,null,null,null,null,null,null,null,null,null,null,0,null,0,null,0,null,0,null,0,null,0,null,0,null,0,null,0]
[null,null,null,null,null,null,null,null,null,null,null,null,0,null,0,null,0,null,0,null,0,null,0,null,0,null,0,null,0]
[null,null,null,null,null,null,null,null,null,null,null,null,0,null,0,null,0,null,0,null,0,null,0,null,0,null,0,null,0]
[null,null,null,null,null,null,null,null,null,null,null,null,0,null,0,null,0,null,0,null,0,null,0,null,0,null,0,null,0]
[null,null,null,null,null,null,null,null,null,null,null,null,0,null,0,null,0,null,0,null,0,null,0,null,0,null,0,null,0]
[null,null,null,null,null,null,null,null,null,null,null,null,0,null,0,null,0,null,0,null,0,null,0,null,0,null,0,null,0]
[null,null,null,null,null,null,null,null,null,null,null,null,0,null,0,null,0,null,0,null,0,null,0,null,0,null,0,null,0]
[null,null,null,null,null,null,null,null,null,null,null,null,0,null,0,null,0,null,0,null,0,null,0,null,0,null,0,null,0]
[null,null,null,null,null,null,null,null,null,null,null,null,0,null,0,null,0,null,0,null,0,null,0,null,0,null,0,null,0]
[null,null,null,null,null,null,null,null,null,null,null,null,0,null,0,null,0,null,0,null,0,null,0,null,0,null,0,null,0]
[null,null,null,null,null,null,null,null,null,null,null,null,0,null,0,null,0,null,0,null,0,null,0,null,0,null,0,null,0]
[null,null,null,null,null,null,null,null,null,null,null,null,{"$f":"IF(AD2949=\"Not eligible\", \"Not eligible\", AD2949)","v":0},null,0,null,0,null,0,null,0,null,0,null,0,null,0,null,0]
[null,null,null,null,null,null,null,null,null,null,null,null,0,null,0,null,{"$f":"IF(AF2951=\"Not eligible\", \"Not eligible\", AF2951)","v":0},null,0,null,0,null,0,null,0,null,0,null,0]
[null,null,null,null,null,null,null,null,null,null,null,null,0,null,0,null,0,null,0,null,0,null,0,null,0,null,0,null,0]
[null,null,null,null,null,null,null,null,null,null,null,null,0,null,0,null,0,null,0,null,0,null,0,null,0,null,0,null,0]
[null,null,null,null,null,null,null,null,null,null,null,null,0,null,0,null,0,null,0,null,0,null,0,null,0,null,0,null,0]
[null,null,null,null,null,null,null,null,null,null,null,null,0,null,0,null,0,null,0,null,0,null,0,null,0,null,0,null,0]
[null,null,null,null,null,null,null,null,null,null,null,null,0,null,0,null,0,null,0,null,0,null,0,null,0,null,0,null,0]
[null,null,null,null,null,null,null,null,null,null,null,null,0,null,0,null,0,null,0,null,0,null,0,null,0,null,0,null,0]
[null,null,null,null,null,null,null,null,null,null,null,null,0,null,0,null,0,null,0,null,0,null,0,null,0,null,0,null,0]
[null,null,null,null,null,null,null,null,null,null,null,null,0,null,0,null,0,null,0,null,0,null,0,null,0,null,0,null,0]
[null,null,null,null,null,null,null,null,null,null,null,null,0,null,0,null,0,null,0,null,0,null,0,null,0,null,0,null,0]
[null,null,null,null,null,null,null,null,null,null,null,null,0,null,0,null,0,null,0,null,0,null,0,null,0,null,0,null,0]
[null,null,null,null,null,null,null,null,null,null,null,null,0,null,0,null,0,null,0,null,0,null,0,null,0,null,0,null,0]
[null,null,null,null,null,null,null,null,null,null,null,null,0,null,0,null,0,null,0,null,0,null,0,null,0,null,0,null,0]
[null,null,null,null,null,null,null,null,null,null,null,null,0,null,0,null,0,null,0,null,0,null,0,null,0,null,0,null,0]
[null,null,null,null,null,null,null,null,null,null,null,null,0,null,0,null,0,null,0,null,0,null,0,null,0,null,0,null,0]
[null,null,null,null,null,null,null,null,null,null,null,null,0,null,0,null,0,null,0,null,0,null,0,null,0,null,0,null,0]
[null,null,null,null,null,null,null,null,null,null,null,null,0,null,0,null,0,null,0,null,0,null,0,null,0,null,0,null,0]
[null,null,null,null,null,null,null,null,null,null,null,null,0,null,0,null,0,null,0,null,0,null,0,null,0,null,0,null,0]
[null,null,null,null,null,null,null,null,null,null,null,null,0,null,0,null,0,null,0,null,0,null,0,null,0,null,0,null,0]
[null,null,null,null,null,null,null,null,null,null,null,null,0,null,0,null,0,null,0,null,0,null,0,null,0,null,0,null,0]
[null,null,null,null,null,null,null,null,null,null,null,null,0,null,0,null,0,null,0,null,0,null,0,null,0,null,0,null,0]
[null,null,null,null,null,null,null,null,null,null,null,null,0,null,0,null,0,null,0,null,0,null,0,null,0,null,0,null,0]
[null,null,null,null,null,null,null,null,null,null,null,null,0,null,0,null,0,null,{"$f":"IF(AG3012=\"Not eligible\", \"Not eligible\", AG3012)","v":0},null,{"$f":"IF(AH3012=\"Not eligible\", \"Not eligible\", AH3012)","v":0},null,0,null,{"$f":"IF(AJ3012=\"Not eligible\", \"Not eligible\", AJ3012)","v":0},null,{"$f":"IF(AK3012=\"Not eligible\", \"Not eligible\", AK3012)","v":0},null,{"$f":"IF(AL3012=\"Not eligible\", \"Not eligible\",AL3012)","v":0}]
[null,null,null,null,null,null,null,null,null,null,null,null,0,null,0,null,{"$f":"IF(AF3015=\"Not eligible\", \"Not eligible\", AF3015)","v":0},null,0,null,0,null,0,null,0,null,0,null,0]
[null,null,null,null,null,null,null,null,null,null,null,null,0,null,0,null,0,null,0,null,0,null,0,null,0,null,0,null,0]
[null,null,null,null,null,null,null,null,null,null,null,null,0,null,0,null,0,null,0,null,0,null,0,null,0,null,0,null,0]
[null,null,null,null,null,null,null,null,null,null,null,null,0,null,0,null,0,null,0,null,0,null,0,null,0,null,0,null,0]
[null,null,null,null,null,null,null,null,null,null,null,null,0,null,0,null,0,null,0,null,0,null,0,null,0,null,0,null,0]
[null,null,null,null,null,null,null,null,null,null,null,null,0,null,0,null,0,null,0,null,0,null,0,null,0,null,0,null,0]
[null,null,null,null,null,null,null,null,null,null,null,null,0,null,0,null,0,null,0,null,0,null,0,null,0,null,0,null,0]
[null,null,null,null,null,null,null,null,null,null,null,null,0,null,0,null,0,null,0,null,0,null,0,null,0,null,0,null,0]
[null,null,null,null,null,null,null,null,null,null,null,null,0,null,0,null,0,null,0,null,0,null,0,null,0,null,0,null,0]
[null,null,null,null,null,null,null,null,null,null,null,null,0,null,0,null,0,null,0,null,0,null,0,null,0,null,0,null,0]
[null,null,null,null,null,null,null,null,null,null,null,null,0,null,0,null,0,null,0,null,0,null,0,null,0,null,0,null,0]
[null,null,null,null,null,null,null,null,null,null,null,null,0,null,0,null,0,null,0,null,0,null,0,null,0,null,0,null,0]
[null,null,null,null,null,null,null,null,null,null,null,null,0,null,0,null,0,null,0,null,0,null,0,null,0,null,0,null,0]
[null,null,null,null,null,null,null,null,null,null,null,null,0,null,0,null,0,null,0,null,0,null,0,null,0,null,0,null,0]
[null,null,null,null,null,null,null,null,null,null,null,null,0,null,0,null,0,null,0,null,0,null,0,null,0,null,0,null,0]
[null,null,null,null,null,null,null,null,null,null,null,null,0,null,0,null,0,null,0,null,0,null,0,null,0,null,0,null,0]
[null,null,null,null,null,null,null,null,null,null,null,null,0,null,0,null,0,null,0,null,0,null,0,null,0,null,0,null,0]
[null,null,null,null,null,null,null,null,null,null,null,null,0,null,0,null,0,null,0,null,0,null,0,null,0,null,0,null,0]
[null,null,null,null,null,null,null,null,null,null,null,null,0,null,0,null,0,null,0,null,0,null,0,null,0,null,0,null,0]
[null,null,null,null,null,null,null,null,null,null,null,null,0,null,0,null,0,null,0,null,0,null,0,null,0,null,0,null,0]
[null,null,null,null,null,null,null,null,null,null,null,null,0,null,0,null,0,null,0,null,0,null,0,null,0,null,0,null,0]
[null,null,null,null,null,null,null,null,null,null,null,null,0,null,0,null,0,null,0,null,0,null,0,null,0,null,0,null,0]
[null,null,null,null,null,null,null,null,null,null,null,null,0,null,0,null,0,null,0,null,0,null,{"$f":"IF(AI3075=\"Not eligible\", \"Not eligible\", AI3075)","v":0},null,0,null,0,null,0]
[null,null,null,null,null,null,null,null,null,null,null,null,0,null,0,null,0,null,0,null,0,null,0,null,0,null,0,null,0]
[null,null,null,null,null,null,null,null,null,null,null,null,0,null,0,null,0,null,0,null,0,null,0,null,0,null,0,null,0]
[null,null,null,null,null,null,null,null,null,null,null,null,0,null,0,null,0,null,0,null,0,null,0,null,0,null,0,null,0]
[null,null,null,null,null,null,null,null,null,null,null,null,0,null,0,null,0,null,0,null,0,null,0,null,0,null,0,null,0]
[null,null,null,null,null,null,null,null,null,null,null,null,0,null,0,null,0,null,0,null,0,null,0,null,0,null,0,null,0]
[null,null,null,null,null,null,null,null,null,null,null,null,0,null,0,null,0,null,0,null,0,null,0,null,0,null,0,null,0]
[null,null,null,null,null,null,null,null,null,null,null,null,0,null,0,null,0,null,0,null,0,null,0,null,0,null,0,null,0]
[null,null,null,null,null,null,null,null,null,null,null,null,0,null,0,null,0,null,0,null,0,null,0,null,0,null,0,null,0]
[null,null,null,null,null,null,null,null,null,null,null,null,0,null,0,null,0,null,0,null,0,null,0,null,0,null,0,null,0]
[null,null,null,null,null,null,null,null,null,null,null,null,0,null,0,null,0,null,0,null,0,null,0,null,0,null,0,null,0]
[null,null,null,null,null,null,null,null,null,null,null,null,0,null,0,null,0,null,0,null,0,null,0,null,0,null,0,null,0]
[null,null,null,null,null,null,null,null,null,null,null,null,0,null,0,null,0,null,0,null,0,null,0,null,0,null,0,null,0]
[null,null,null,null,null,null,null,null,null,null,null,null,0,null,0,null,0,null,0,null,0,null,0,null,0,null,0,null,0]
[null,null,null,null,null,null,null,null,null,null,null,null,0,null,0,null,0,null,0,null,0,null,0,null,0,null,0,null,0]
[null,null,null,null,null,null,null,null,null,null,null,null,0,null,0,null,0,null,0,null,0,null,0,null,0,null,0,null,0]
[null,null,null,null,null,null,null,null,null,null,null,null,0,null,0,null,0,null,0,null,0,null,0,null,0,null,0,null,0]
[null,null,null,null,null,null,null,null,null,null,null,null,0,null,0,null,0,null,0,null,0,null,0,null,0,null,0,null,0]
[null,null,null,null,null,null,null,null,null,null,null,null,0,null,0,null,0,null,0,null,0,null,0,null,0,null,0,null,0]
[null,null,null,null,null,null,null,null,null,null,null,null,0,null,0,null,0,null,0,null,0,null,0,null,0,null,0,null,0]
[null,null,null,null,null,null,null,null,null,null,null,null,0,null,0,null,0,null,0,null,0,null,0,null,0,null,0,null,0]
[null,null,null,null,null,null,null,null,null,null,null,null,0,null,0,null,0,null,0,null,0,null,0,null,0,null,0,null,0]
[null,null,null,null,null,null,null,null,null,null,null,null,0,null,0,null,0,null,0,null,0,null,0,null,0,null,0,null,0]
[null,null,null,null,null,null,null,null,null,null,null,null,0,null,0,null,0,null,0,null,0,null,0,null,0,null,0,null,0]
[null,null,null,null,null,null,null,null,null,null,null,null,{"$f":"IF(AD3141=\"Not eligible\", \"Not eligible\", AD3141)","v":0},null,0,null,0,null,0,null,0,null,0,null,0,null,0,null,0]
[null,null,null,null,null,null,null,null,null,null,null,null,0,null,0,null,0,null,0,null,0,null,0,null,0,null,0,null,0]
[null,null,null,null,null,null,null,null,null,null,null,null,0,null,0,null,0,null,0,null,0,null,0,null,0,null,0,null,0]
[null,null,null,null,null,null,null,null,null,null,null,null,0,null,0,null,0,null,0,null,0,null,0,null,0,null,0,null,0]
[null,null,null,null,null,null,null,null,null,null,null,null,0,null,0,null,0,null,0,null,0,null,0,null,0,null,0,null,0]
[null,null,null,null,null,null,null,null,null,null,null,null,0,null,0,null,0,null,0,null,0,null,0,null,0,null,0,null,0]
[null,null,null,null,null,null,null,null,null,null,null,null,0,null,0,null,0,null,0,null,0,null,0,null,0,null,0,null,0]
[null,null,null,null,null,null,null,null,null,null,null,null,0,null,0,null,0,null,0,null,0,null,0,null,0,null,0,null,0]
[null,null,null,null,null,null,null,null,null,null,null,null,0,null,0,null,0,null,0,null,0,null,0,null,0,null,0,null,0]
[null,null,null,null,null,null,null,null,null,null,null,null,0,null,0,null,0,null,0,null,0,null,0,null,0,null,0,null,0]
[null,null,null,null,null,null,null,null,null,null,null,null,0,null,0,null,0,null,0,null,0,null,0,null,0,null,0,null,0]
[null,null,null,null,null,null,null,null,null,null,null,null,0,null,0,null,0,null,0,null,0,null,0,null,0,null,0,null,0]
[null,null,null,null,null,null,null,null,null,null,null,null,0,null,0,null,0,null,0,null,0,null,0,null,0,null,0,null,0]
[null,null,null,null,null,null,null,null,null,null,null,null,0,null,0,null,0,null,0,null,0,null,0,null,0,null,0,null,0]
[null,null,null,null,null,null,null,null,null,null,null,null,0,null,0,null,0,null,0,null,0,null,0,null,0,null,0,null,0]
[null,null,null,null,null,null,null,null,null,null,null,null,0,null,0,null,0,null,0,null,0,null,0,null,0,null,0,null,0]
[null,null,null,null,null,null,null,null,null,null,null,null,0,null,0,null,0,null,0,null,0,null,0,null,0,null,0,null,0]
[null,null,null,null,null,null,null,null,null,null,null,null,0,null,0,null,0,null,0,null,0,null,0,null,0,null,0,null,0]
[null,null,null,null,null,null,null,null,null,null,null,null,0,null,0,null,0,null,0,null,0,null,0,null,0,null,0,null,0]
[null,null,null,null,null,null,null,null,null,null,null,null,0,null,0,null,0,null,0,null,0,null,0,null,0,null,0,null,0]
[null,null,null,null,null,null,null,null,null,null,null,null,0,null,0,null,0,null,0,null,0,null,0,null,0,null,0,null,0]
[null,null,null,null,null,null,null,null,null,null,null,null,0,null,0,null,0,null,0,null,0,null,0,null,0,null,0,null,0]
[null,null,null,null,null,null,null,null,null,null,null,null,0,null,0,null,0,null,0,null,0,null,0,null,0,null,0,null,0]
[null,null,null,null,null,null,null,null,null,null,null,null,0,null,0,null,0,null,0,null,0,null,{"$f":"IF(AI3203=\"Not eligible\", \"Not eligible\", AI3203)","v":0},null,0,null,0,null,0]
[null,null,null,null,null,null,null,null,null,null,null,null,0,null,0,null,{"$f":"IF(AF3207=\"Not eligible\", \"Not eligible\", AF3207)","v":0},null,0,null,0,null,0,null,0,null,0,null,0]
[null,null,null,null,null,null,null,null,null,null,null,null,0,null,{"$f":"IF(AE3210=\"Not eligible\", \"Not eligible\", AE3210)","v":0},null,0,null,0,null,0,null,0,null,0,null,0,null,0]
[null,null,null,null,null,null,null,null,null,null,null,null,0,null,0,null,0,null,0,null,0,null,0,null,0,null,0,null,0]
[null,null,null,null,null,null,null,null,null,null,null,null,0,null,0,null,0,null,0,null,0,null,0,null,0,null,0,null,0]
[null,null,null,null,null,null,null,null,null,null,null,null,0,null,0,null,0,null,0,null,0,null,0,null,0,null,0,null,0]
[null,null,null,null,null,null,null,null,null,null,null,null,0,null,0,null,0,null,0,null,0,null,0,null,0,null,0,null,0]
[null,null,null,null,null,null,null,null,null,null,null,null,0,null,0,null,0,null,0,null,0,null,0,null,0,null,0,null,0]
[null,null,null,null,null,null,null,null,null,null,null,null,0,null,0,null,0,null,0,null,0,null,0,null,0,null,0,null,0]
[null,null,null,null,null,null,null,null,null,null,null,null,0,null,0,null,0,null,0,null,0,null,0,null,0,null,0,null,0]
[null,null,null,null,null,null,null,null,null,null,null,null,0,null,0,null,0,null,0,null,0,null,0,null,0,null,0,null,0]
[null,null,null,null,null,null,null,null,null,null,null,null,0,null,0,null,0,null,0,null,0,null,0,null,0,null,0,null,0]
[null,null,null,null,null,null,null,null,null,null,null,null,0,null,0,null,0,null,0,null,0,null,0,null,0,null,0,null,0]
[null,null,null,null,null,null,null,null,null,null,null,null,0,null,0,null,0,null,0,null,0,null,0,null,0,null,0,null,0]
[null,null,null,null,null,null,null,null,null,null,null,null,0,null,0,null,0,null,0,null,0,null,0,null,0,null,0,null,0]
[null,null,null,null,null,null,null,null,null,null,null,null,0,null,0,null,0,null,0,null,0,null,0,null,0,null,0,null,0]
[null,null,null,null,null,null,null,null,null,null,null,null,0,null,0,null,0,null,0,null,0,null,0,null,0,null,0,null,0]
[null,null,null,null,null,null,null,null,null,null,null,null,0,null,0,null,0,null,0,null,0,null,0,null,0,null,0,null,0]
[null,null,null,null,null,null,null,null,null,null,null,null,0,null,0,null,0,null,0,null,0,null,0,null,0,null,0,null,0]
[null,null,null,null,null,null,null,null,null,null,null,null,0,null,0,null,0,null,0,null,0,null,0,null,0,null,0,null,0]
[null,null,null,null,null,null,null,null,null,null,null,null,0,null,0,null,0,null,0,null,0,null,0,null,0,null,0,null,0]
[null,null,null,null,null,null,null,null,null,null,null,null,0,null,0,null,0,null,0,null,0,null,0,null,0,null,0,null,0]
[null,null,null,null,null,null,null,null,null,null,null,null,0,null,0,null,0,null,0,null,0,null,0,null,0,null,0,null,0]
[null,null,null,null,null,null,null,null,null,null,null,null,0,null,0,null,0,null,{"$f":"IF(AG3268=\"Not eligible\", \"Not eligible\", AG3268)","v":0},null,{"$f":"IF(AH3268=\"Not eligible\", \"Not eligible\", AH3268)","v":0},null,0,null,{"$f":"IF(AJ3268=\"Not eligible\", \"Not eligible\", AJ3268)","v":0},null,{"$f":"IF(AK3268=\"Not eligible\", \"Not eligible\", AK3268)","v":0},null,{"$f":"IF(AL3268=\"Not eligible\", \"Not eligible\",AL3268)","v":0}]
[null,null,null,null,null,null,null,null,null,null,null,null,0,null,0,null,0,null,0,null,0,null,0,null,0,null,0,null,0]
[null,null,null,null,null,null,null,null,null,null,null,null,0,null,0,null,0,null,0,null,0,null,0,null,0,null,0,null,0]
[null,null,null,null,null,null,null,null,null,null,null,null,0,null,0,null,0,null,0,null,0,null,0,null,0,null,0,null,0]
[null,null,null,null,null,null,null,null,null,null,null,null,0,null,0,null,0,null,0,null,0,null,0,null,0,null,0,null,0]
[null,null,null,null,null,null,null,null,null,null,null,null,0,null,0,null,0,null,0,null,0,null,0,null,0,null,0,null,0]
[null,null,null,null,null,null,null,null,null,null,null,null,0,null,0,null,0,null,0,null,0,null,0,null,0,null,0,null,0]
[null,null,null,null,null,null,null,null,null,null,null,null,0,null,0,null,0,null,0,null,0,null,0,null,0,null,0,null,0]
[null,null,null,null,null,null,null,null,null,null,null,null,0,null,0,null,0,null,0,null,0,null,0,null,0,null,0,null,0]
[null,null,null,null,null,null,null,null,null,null,null,null,0,null,0,null,0,null,0,null,0,null,0,null,0,null,0,null,0]
[null,null,null,null,null,null,null,null,null,null,null,null,0,null,0,null,0,null,0,null,0,null,0,null,0,null,0,null,0]
[null,null,null,null,null,null,null,null,null,null,null,null,0,null,0,null,0,null,0,null,0,null,0,null,0,null,0,null,0]
[null,null,null,null,null,null,null,null,null,null,null,null,0,null,0,null,0,null,0,null,0,null,0,null,0,null,0,null,0]
[null,null,null,null,null,null,null,null,null,null,null,null,0,null,0,null,0,null,0,null,0,null,0,null,0,null,0,null,0]
[null,null,null,null,null,null,null,null,null,null,null,null,0,null,0,null,0,null,0,null,0,null,0,null,0,null,0,null,0]
[null,null,null,null,null,null,null,null,null,null,null,null,0,null,0,null,0,null,0,null,0,null,0,null,0,null,0,null,0]
[null,null,null,null,null,null,null,null,null,null,null,null,0,null,0,null,0,null,0,null,0,null,0,null,0,null,0,null,0]
[null,null,null,null,null,null,null,null,null,null,null,null,0,null,0,null,0,null,0,null,0,null,0,null,0,null,0,null,0]
[null,null,null,null,null,null,null,null,null,null,null,null,0,null,0,null,0,null,0,null,0,null,0,null,0,null,0,null,0]
[null,null,null,null,null,null,null,null,null,null,null,null,0,null,0,null,0,null,0,null,0,null,0,null,0,null,0,null,0]
[null,null,null,null,null,null,null,null,null,null,null,null,0,null,0,null,0,null,0,null,0,null,0,null,0,null,0,null,0]
[null,null,null,null,null,null,null,null,null,null,null,null,0,null,0,null,0,null,0,null,0,null,0,null,0,null,0,null,0]
[null,null,null,null,null,null,null,null,null,null,null,null,0,null,0,null,0,null,0,null,0,null,0,null,0,null,0,null,0]
[null,null,null,null,null,null,null,null,null,null,null,null,0,null,0,null,0,null,0,null,0,null,0,null,0,null,0,null,0]
[null,null,null,null,null,null,null,null,null,null,null,null,0,null,0,null,0,null,0,null,0,null,0,null,0,null,0,null,0]
[null,null,null,null,null,null,null,null,null,null,null,null,0,null,0,null,0,null,0,null,0,null,0,null,0,null,0,null,0]
[null,null,null,null,null,null,null,null,null,null,null,null,0,null,0,null,0,null,0,null,0,null,0,null,0,null,0,null,0]
[null,null,null,null,null,null,null,null,null,null,null,null,0,null,0,null,0,null,0,null,0,null,0,null,0,null,0,null,0]
[null,null,null,null,null,null,null,null,null,null,null,null,0,null,0,null,0,null,0,null,0,null,0,null,0,null,0,null,0]
[null,null,null,null,null,null,null,null,null,null,null,null,0,null,0,null,0,null,0,null,0,null,0,null,0,null,0,null,0]
[null,null,null,null,null,null,null,null,null,null,null,null,0,null,0,null,0,null,0,null,0,null,0,null,0,null,0,null,0]
[null,null,null,null,null,null,null,null,null,null,null,null,0,null,0,null,0,null,0,null,0,null,0,null,0,null,0,null,0]
[null,null,null,null,null,null,null,null,null,null,null,null,0,null,0,null,0,null,0,null,0,null,0,null,0,null,0,null,0]
[null,null,null,null,null,null,null,null,null,null,null,null,0,null,0,null,0,null,0,null,0,null,0,null,0,null,0,null,0]
[null,null,null,null,null,null,null,null,null,null,null,null,0,null,0,null,0,null,0,null,0,null,0,null,0,null,0,null,0]
[null,null,null,null,null,null,null,null,null,null,null,null,0,null,0,null,0,null,0,null,0,null,0,null,0,null,0,null,0]
[null,null,null,null,null,null,null,null,null,null,null,null,0,null,0,null,0,null,0,null,0,null,0,null,0,null,0,null,0]
[null,null,null,null,null,null,null,null,null,null,null,null,0,null,0,null,0,null,0,null,0,null,0,null,0,null,0,null,0]
[null,null,null,null,null,null,null,null,null,null,null,null,0,null,0,null,0,null,0,null,0,null,0,null,0,null,0,null,0]
[null,null,null,null,null,null,null,null,null,null,null,null,0,null,0,null,0,null,0,null,0,null,0,null,0,null,0,null,0]
[null,null,null,null,null,null,null,null,null,null,null,null,0,null,0,null,0,null,0,null,0,null,0,null,0,null,0,null,0]
[null,null,null,null,null,null,null,null,null,null,null,null,0,null,0,null,0,null,0,null,0,null,0,null,0,null,0,null,0]
[null,null,null,null,null,null,null,null,null,null,null,null,0,null,0,null,0,null,0,null,0,null,0,null,0,null,0,null,0]
[null,null,null,null,null,null,null,null,null,null,null,null,0,null,0,null,0,null,0,null,0,null,0,null,0,null,0,null,0]
[null,null,null,null,null,null,null,null,null,null,null,null,0,null,0,null,0,null,0,null,0,null,0,null,0,null,0,null,0]
[null,null,null,null,null,null,null,null,null,null,null,null,0,null,0,null,0,null,0,null,0,null,0,null,0,null,0,null,0]
[null,null,null,null,null,null,null,null,null,null,null,null,0,null,0,null,0,null,0,null,0,null,0,null,0,null,0,null,0]
[null,null,null,null,null,null,null,null,null,null,null,null,0,null,0,null,0,null,{"$f":"IF(AG3396=\"Not eligible\", \"Not eligible\", AG3396)","v":0},null,{"$f":"IF(AH3396=\"Not eligible\", \"Not eligible\", AH3396)","v":0},null,0,null,{"$f":"IF(AJ3396=\"Not eligible\", \"Not eligible\", AJ3396)","v":0},null,{"$f":"IF(AK3396=\"Not eligible\", \"Not eligible\", AK3396)","v":0},null,{"$f":"IF(AL3396=\"Not eligible\", \"Not eligible\",AL3396)","v":0}]
[null,null,null,null,null,null,null,null,null,null,null,null,0,null,0,null,0,null,0,null,0,null,0,null,0,null,0,null,0]
[null,null,null,null,null,null,null,null,null,null,null,null,0,null,{"$f":"IF(AE3402=\"Not eligible\", \"Not eligible\", AE3402)","v":0},null,0,null,0,null,0,null,0,null,0,null,0,null,0]
[null,null,null,null,null,null,null,null,null,null,null,null,0,null,0,null,0,null,0,null,0,null,0,null,0,null,0,null,0]
[null,null,null,null,null,null,null,null,null,null,null,null,0,null,0,null,0,null,0,null,0,null,0,null,0,null,0,null,0]
[null,null,null,null,null,null,null,null,null,null,null,null,0,null,0,null,0,null,0,null,0,null,0,null,0,null,0,null,0]
[null,null,null,null,null,null,null,null,null,null,null,null,0,null,0,null,0,null,0,null,0,null,0,null,0,null,0,null,0]
[null,null,null,null,null,null,null,null,null,null,null,null,0,null,0,null,0,null,0,null,0,null,0,null,0,null,0,null,0]
[null,null,null,null,null,null,null,null,null,null,null,null,0,null,0,null,0,null,0,null,0,null,0,null,0,null,0,null,0]
[null,null,null,null,null,null,null,null,null,null,null,null,0,null,0,null,0,null,0,null,0,null,0,null,0,null,0,null,0]
[null,null,null,null,null,null,null,null,null,null,null,null,0,null,0,null,0,null,0,null,0,null,0,null,0,null,0,null,0]
[null,null,null,null,null,null,null,null,null,null,null,null,0,null,0,null,0,null,0,null,0,null,0,null,0,null,0,null,0]
[null,null,null,null,null,null,null,null,null,null,null,null,0,null,0,null,0,null,0,null,0,null,0,null,0,null,0,null,0]
[null,null,null,null,null,null,null,null,null,null,null,null,0,null,0,null,0,null,0,null,0,null,0,null,0,null,0,null,0]
[null,null,null,null,null,null,null,null,null,null,null,null,0,null,0,null,0,null,0,null,0,null,0,null,0,null,0,null,0]
[null,null,null,null,null,null,null,null,null,null,null,null,0,null,0,null,0,null,0,null,0,null,0,null,0,null,0,null,0]
[null,null,null,null,null,null,null,null,null,null,null,null,0,null,0,null,0,null,0,null,0,null,0,null,0,null,0,null,0]
[null,null,null,null,null,null,null,null,null,null,null,null,0,null,0,null,0,null,0,null,0,null,0,null,0,null,0,null,0]
[null,null,null,null,null,null,null,null,null,null,null,null,0,null,0,null,0,null,0,null,0,null,0,null,0,null,0,null,0]
[null,null,null,null,null,null,null,null,null,null,null,null,0,null,0,null,0,null,0,null,0,null,0,null,0,null,0,null,0]
[null,null,null,null,null,null,null,null,null,null,null,null,0,null,0,null,0,null,0,null,0,null,0,null,0,null,0,null,0]
[null,null,null,null,null,null,null,null,null,null,null,null,0,null,0,null,0,null,0,null,0,null,0,null,0,null,0,null,0]
[null,null,null,null,null,null,null,null,null,null,null,null,0,null,0,null,0,null,0,null,0,null,0,null,0,null,0,null,0]
[null,null,null,null,null,null,null,null,null,null,null,null,0,null,0,null,0,null,0,null,0,null,{"$f":"IF(AI3459=\"Not eligible\", \"Not eligible\", AI3459)","v":0},null,0,null,0,null,0]
[null,null,null,null,null,null,null,null,null,null,null,null,0,null,0,null,0,null,0,null,0,null,0,null,0,null,0,null,0]
[null,null,null,null,null,null,null,null,null,null,null,null,0,null,{"$f":"IF(AE3466=\"Not eligible\", \"Not eligible\", AE3466)","v":0},null,0,null,0,null,0,null,0,null,0,null,0,null,0]
[null,null,null,null,null,null,null,null,null,null,null,null,0,null,0,null,0,null,0,null,0,null,0,null,0,null,0,null,0]
[null,null,null,null,null,null,null,null,null,null,null,null,0,null,0,null,0,null,0,null,0,null,0,null,0,null,0,null,0]
[null,null,null,null,null,null,null,null,null,null,null,null,0,null,0,null,0,null,0,null,0,null,0,null,0,null,0,null,0]
[null,null,null,null,null,null,null,null,null,null,null,null,0,null,0,null,0,null,0,null,0,null,0,null,0,null,0,null,0]
[null,null,null,null,null,null,null,null,null,null,null,null,0,null,0,null,0,null,0,null,0,null,0,null,0,null,0,null,0]
[null,null,null,null,null,null,null,null,null,null,null,null,0,null,0,null,0,null,0,null,0,null,0,null,0,null,0,null,0]
[null,null,null,null,null,null,null,null,null,null,null,null,0,null,0,null,0,null,0,null,0,null,0,null,0,null,0,null,0]
[null,null,null,null,null,null,null,null,null,null,null,null,0,null,0,null,0,null,0,null,0,null,0,null,0,null,0,null,0]
[null,null,null,null,null,null,null,null,null,null,null,null,0,null,0,null,0,null,0,null,0,null,0,null,0,null,0,null,0]
[null,null,null,null,null,null,null,null,null,null,null,null,0,null,0,null,0,null,0,null,0,null,0,null,0,null,0,null,0]
[null,null,null,null,null,null,null,null,null,null,null,null,0,null,0,null,0,null,0,null,0,null,0,null,0,null,0,null,0]
[null,null,null,null,null,null,null,null,null,null,null,null,0,null,0,null,0,null,0,null,0,null,0,null,0,null,0,null,0]
[null,null,null,null,null,null,null,null,null,null,null,null,0,null,0,null,0,null,0,null,0,null,0,null,0,null,0,null,0]
[null,null,null,null,null,null,null,null,null,null,null,null,0,null,0,null,0,null,0,null,0,null,0,null,0,null,0,null,0]
[null,null,null,null,null,null,null,null,null,null,null,null,0,null,0,null,0,null,0,null,0,null,0,null,0,null,0,null,0]
[null,null,null,null,null,null,null,null,null,null,null,null,0,null,0,null,0,null,0,null,0,null,0,null,0,null,0,null,0]
[null,null,null,null,null,null,null,null,null,null,null,null,0,null,0,null,0,null,0,null,0,null,0,null,0,null,0,null,0]
[null,null,null,null,null,null,null,null,null,null,null,null,0,null,0,null,0,null,0,null,0,null,0,null,0,null,0,null,0]
[null,null,null,null,null,null,null,null,null,null,null,null,0,null,0,null,0,null,0,null,0,null,0,null,0,null,0,null,0]
[null,null,null,null,null,null,null,null,null,null,null,null,0,null,0,null,0,null,0,null,0,null,0,null,0,null,0,null,0]
[null,null,null,null,null,null,null,null,null,null,null,null,0,null,0,null,0,null,0,null,0,null,0,null,0,null,0,null,0]
[null,null,null,null,null,null,null,null,null,null,null,null,{"$f":"IF(AD3525=\"Not eligible\", \"Not eligible\", AD3525)","v":0},null,0,null,0,null,0,null,0,null,0,null,0,null,0,null,0]
[null,null,null,null,null,null,null,null,null,null,null,null,0,null,0,null,0,null,0,null,0,null,0,null,0,null,0,null,0]
[null,null,null,null,null,null,null,null,null,null,null,null,0,null,0,null,0,null,0,null,0,null,0,null,0,null,0,null,0]
[null,null,null,null,null,null,null,null,null,null,null,null,0,null,0,null,0,null,0,null,0,null,0,null,0,null,0,null,0]
[null,null,null,null,null,null,null,null,null,null,null,null,0,null,0,null,0,null,0,null,0,null,0,null,0,null,0,null,0]
[null,null,null,null,null,null,null,null,null,null,null,null,0,null,0,null,0,null,0,null,0,null,0,null,0,null,0,null,0]
[null,null,null,null,null,null,null,null,null,null,null,null,0,null,0,null,0,null,0,null,0,null,0,null,0,null,0,null,0]
[null,null,null,null,null,null,null,null,null,null,null,null,0,null,0,null,0,null,0,null,0,null,0,null,0,null,0,null,0]
[null,null,null,null,null,null,null,null,null,null,null,null,0,null,0,null,0,null,0,null,0,null,0,null,0,null,0,null,0]
[null,null,null,null,null,null,null,null,null,null,null,null,0,null,0,null,0,null,0,null,0,null,0,null,0,null,0,null,0]
[null,null,null,null,null,null,null,null,null,null,null,null,0,null,0,null,0,null,0,null,0,null,0,null,0,null,0,null,0]
[null,null,null,null,null,null,null,null,null,null,null,null,0,null,0,null,0,null,0,null,0,null,0,null,0,null,0,null,0]
[null,null,null,null,null,null,null,null,null,null,null,null,0,null,0,null,0,null,0,null,0,null,0,null,0,null,0,null,0]
[null,null,null,null,null,null,null,null,null,null,null,null,0,null,0,null,0,null,0,null,0,null,0,null,0,null,0,null,0]
[null,null,null,null,null,null,null,null,null,null,null,null,0,null,0,null,0,null,0,null,0,null,0,null,0,null,0,null,0]
[null,null,null,null,null,null,null,null,null,null,null,null,0,null,0,null,0,null,0,null,0,null,0,null,0,null,0,null,0]
[null,null,null,null,null,null,null,null,null,null,null,null,0,null,0,null,0,null,0,null,0,null,0,null,0,null,0,null,0]
[null,null,null,null,null,null,null,null,null,null,null,null,0,null,0,null,0,null,0,null,0,null,0,null,0,null,0,null,0]
[null,null,null,null,null,null,null,null,null,null,null,null,0,null,0,null,0,null,0,null,0,null,0,null,0,null,0,null,0]
[null,null,null,null,null,null,null,null,null,null,null,null,0,null,0,null,0,null,0,null,0,null,0,null,0,null,0,null,0]
[null,null,null,null,null,null,null,null,null,null,null,null,0,null,0,null,0,null,0,null,0,null,0,null,0,null,0,null,0]
[null,null,null,null,null,null,null,null,null,null,null,null,0,null,0,null,0,null,0,null,0,null,0,null,0,null,0,null,0]
[null,null,null,null,null,null,null,null,null,null,null,null,0,null,0,null,0,null,0,null,0,null,{"$f":"IF(AI3587=\"Not eligible\", \"Not eligible\", AI3587)","v":0},null,0,null,0,null,0]
[null,null,null,null,null,null,null,null,null,null,null,null,0,null,0,null,0,null,{"$f":"IF(AG3588=\"Not eligible\", \"Not eligible\", AG3588)","v":0},null,{"$f":"IF(AH3588=\"Not eligible\", \"Not eligible\", AH3588)","v":0},null,0,null,{"$f":"IF(AJ3588=\"Not eligible\", \"Not eligible\", AJ3588)","v":0},null,{"$f":"IF(AK3588=\"Not eligible\", \"Not eligible\", AK3588)","v":0},null,{"$f":"IF(AL3588=\"Not eligible\", \"Not eligible\",AL3588)","v":0}]
[null,null,null,null,null,null,null,null,null,null,null,null,0,null,0,null,{"$f":"IF(AF3591=\"Not eligible\", \"Not eligible\", AF3591)","v":0},null,0,null,0,null,0,null,0,null,0,null,0]
[null,null,null,null,null,null,null,null,null,null,null,null,0,null,0,null,0,null,0,null,0,null,0,null,0,null,0,null,0]
[null,null,null,null,null,null,null,null,null,null,null,null,0,null,0,null,0,null,0,null,0,null,0,null,0,null,0,null,0]
[null,null,null,null,null,null,null,null,null,null,null,null,0,null,0,null,0,null,0,null,0,null,0,null,0,null,0,null,0]
[null,null,null,null,null,null,null,null,null,null,null,null,0,null,0,null,0,null,0,null,0,null,0,null,0,null,0,null,0]
[null,null,null,null,null,null,null,null,null,null,null,null,0,null,0,null,0,null,0,null,0,null,0,null,0,null,0,null,0]
[null,null,null,null,null,null,null,null,null,null,null,null,0,null,0,null,0,null,0,null,0,null,0,null,0,null,0,null,0]
[null,null,null,null,null,null,null,null,null,null,null,null,0,null,0,null,0,null,0,null,0,null,0,null,0,null,0,null,0]
[null,null,null,null,null,null,null,null,null,null,null,null,0,null,0,null,0,null,0,null,0,null,0,null,0,null,0,null,0]
[null,null,null,null,null,null,null,null,null,null,null,null,0,null,0,null,0,null,0,null,0,null,0,null,0,null,0,null,0]
[null,null,null,null,null,null,null,null,null,null,null,null,0,null,0,null,0,null,0,null,0,null,0,null,0,null,0,null,0]
[null,null,null,null,null,null,null,null,null,null,null,null,0,null,0,null,0,null,0,null,0,null,0,null,0,null,0,null,0]
[null,null,null,null,null,null,null,null,null,null,null,null,0,null,0,null,0,null,0,null,0,null,0,null,0,null,0,null,0]
[null,null,null,null,null,null,null,null,null,null,null,null,0,null,0,null,0,null,0,null,0,null,0,null,0,null,0,null,0]
[null,null,null,null,null,null,null,null,null,null,null,null,0,null,0,null,0,null,0,null,0,null,0,null,0,null,0,null,0]
[null,null,null,null,null,null,null,null,null,null,null,null,0,null,0,null,0,null,0,null,0,null,0,null,0,null,0,null,0]
[null,null,null,null,null,null,null,null,null,null,null,null,0,null,0,null,0,null,0,null,0,null,0,null,0,null,0,null,0]
[null,null,null,null,null,null,null,null,null,null,null,null,0,null,0,null,0,null,0,null,0,null,0,null,0,null,0,null,0]
[null,null,null,null,null,null,null,null,null,null,null,null,0,null,0,null,0,null,0,null,0,null,0,null,0,null,0,null,0]
[null,null,null,null,null,null,null,null,null,null,null,null,0,null,0,null,0,null,0,null,0,null,0,null,0,null,0,null,0]
[null,null,null,null,null,null,null,null,null,null,null,null,0,null,0,null,0,null,0,null,0,null,0,null,0,null,0,null,0]
[null,null,null,null,null,null,null,null,null,null,null,null,0,null,0,null,0,null,0,null,0,null,{"$f":"IF(AI3651=\"Not eligible\", \"Not eligible\", AI3651)","v":0},null,0,null,0,null,0]
[null,null,null,null,null,null,null,null,null,null,null,null,{"$f":"IF(AD3653=\"Not eligible\", \"Not eligible\", AD3653)","v":0},null,0,null,0,null,0,null,0,null,0,null,0,null,0,null,0]
[null,null,null,null,null,null,null,null,null,null,null,null,0,null,0,null,0,null,0,null,0,null,0,null,0,null,0,null,0]
[null,null,null,null,null,null,null,null,null,null,null,null,0,null,0,null,0,null,0,null,0,null,0,null,0,null,0,null,0]
[null,null,null,null,null,null,null,null,null,null,null,null,0,null,0,null,0,null,0,null,0,null,0,null,0,null,0,null,0]
[null,null,null,null,null,null,null,null,null,null,null,null,0,null,0,null,0,null,0,null,0,null,0,null,0,null,0,null,0]
[null,null,null,null,null,null,null,null,null,null,null,null,0,null,0,null,0,null,0,null,0,null,0,null,0,null,0,null,0]
[null,null,null,null,null,null,null,null,null,null,null,null,0,null,0,null,0,null,0,null,0,null,0,null,0,null,0,null,0]
[null,null,null,null,null,null,null,null,null,null,null,null,0,null,0,null,0,null,0,null,0,null,0,null,0,null,0,null,0]
[null,null,null,null,null,null,null,null,null,null,null,null,0,null,0,null,0,null,0,null,0,null,0,null,0,null,0,null,0]
[null,null,null,null,null,null,null,null,null,null,null,null,0,null,0,null,0,null,0,null,0,null,0,null,0,null,0,null,0]
[null,null,null,null,null,null,null,null,null,null,null,null,0,null,0,null,0,null,0,null,0,null,0,null,0,null,0,null,0]
[null,null,null,null,null,null,null,null,null,null,null,null,0,null,0,null,0,null,0,null,0,null,0,null,0,null,0,null,0]
[null,null,null,null,null,null,null,null,null,null,null,null,0,null,0,null,0,null,0,null,0,null,0,null,0,null,0,null,0]
[null,null,null,null,null,null,null,null,null,null,null,null,0,null,0,null,0,null,0,null,0,null,0,null,0,null,0,null,0]
[null,null,null,null,null,null,null,null,null,null,null,null,0,null,0,null,0,null,0,null,0,null,0,null,0,null,0,null,0]
[null,null,null,null,null,null,null,null,null,null,null,null,0,null,0,null,0,null,0,null,0,null,0,null,0,null,0,null,0]
[null,null,null,null,null,null,null,null,null,null,null,null,0,null,0,null,0,null,0,null,0,null,0,null,0,null,0,null,0]
[null,null,null,null,null,null,null,null,null,null,null,null,0,null,0,null,0,null,0,null,0,null,0,null,0,null,0,null,0]
[null,null,null,null,null,null,null,null,null,null,null,null,0,null,0,null,0,null,0,null,0,null,0,null,0,null,0,null,0]
[null,null,null,null,null,null,null,null,null,null,null,null,0,null,0,null,0,null,0,null,0,null,0,null,0,null,0,null,0]
[null,null,null,null,null,null,null,null,null,null,null,null,0,null,0,null,0,null,0,null,0,null,0,null,0,null,0,null,0]
[null,null,null,null,null,null,null,null,null,null,null,null,0,null,0,null,0,null,0,null,0,null,0,null,0,null,0,null,0]
[null,null,null,null,null,null,null,null,null,null,null,null,0,null,0,null,0,null,0,null,0,null,0,null,0,null,0,null,0]
[null,null,null,null,null,null,null,null,null,null,null,null,0,null,0,null,0,null,0,null,0,null,{"$f":"IF(AI3715=\"Not eligible\", \"Not eligible\", AI3715)","v":0},null,0,null,0,null,0]
[null,null,null,null,null,null,null,null,null,null,null,null,0,null,0,null,{"$f":"IF(AF3719=\"Not eligible\", \"Not eligible\", AF3719)","v":0},null,0,null,0,null,0,null,0,null,0,null,0]
[null,null,null,null,null,null,null,null,null,null,null,null,0,null,0,null,0,null,0,null,0,null,0,null,0,null,0,null,0]
[null,null,null,null,null,null,null,null,null,null,null,null,0,null,0,null,0,null,0,null,0,null,0,null,0,null,0,null,0]
[null,null,null,null,null,null,null,null,null,null,null,null,0,null,0,null,0,null,0,null,0,null,0,null,0,null,0,null,0]
[null,null,null,null,null,null,null,null,null,null,null,null,0,null,0,null,0,null,0,null,0,null,0,null,0,null,0,null,0]
[null,null,null,null,null,null,null,null,null,null,null,null,0,null,0,null,0,null,0,null,0,null,0,null,0,null,0,null,0]
[null,null,null,null,null,null,null,null,null,null,null,null,0,null,0,null,0,null,0,null,0,null,0,null,0,null,0,null,0]
[null,null,null,null,null,null,null,null,null,null,null,null,0,null,0,null,0,null,0,null,0,null,0,null,0,null,0,null,0]
[null,null,null,null,null,null,null,null,null,null,null,null,0,null,0,null,0,null,0,null,0,null,0,null,0,null,0,null,0]
[null,null,null,null,null,null,null,null,null,null,null,null,0,null,0,null,0,null,0,null,0,null,0,null,0,null,0,null,0]
[null,null,null,null,null,null,null,null,null,null,null,null,0,null,0,null,0,null,0,null,0,null,0,null,0,null,0,null,0]
[null,null,null,null,null,null,null,null,null,null,null,null,0,null,0,null,0,null,0,null,0,null,0,null,0,null,0,null,0]
[null,null,null,null,null,null,null,null,null,null,null,null,0,null,0,null,0,null,0,null,0,null,0,null,0,null,0,null,0]
[null,null,null,null,null,null,null,null,null,null,null,null,0,null,0,null,0,null,0,null,0,null,0,null,0,null,0,null,0]
[null,null,null,null,null,null,null,null,null,null,null,null,0,null,0,null,0,null,0,null,0,null,0,null,0,null,0,null,0]
[null,null,null,null,null,null,null,null,null,null,null,null,0,null,0,null,0,null,0,null,0,null,0,null,0,null,0,null,0]
[null,null,null,null,null,null,null,null,null,null,null,null,0,null,0,null,0,null,0,null,0,null,0,null,0,null,0,null,0]
[null,null,null,null,null,null,null,null,null,null,null,null,0,null,0,null,0,null,0,null,0,null,0,null,0,null,0,null,0]
[null,null,null,null,null,null,null,null,null,null,null,null,0,null,0,null,0,null,0,null,0,null,0,null,0,null,0,null,0]
[null,null,null,null,null,null,null,null,null,null,null,null,0,null,0,null,0,null,0,null,0,null,0,null,0,null,0,null,0]
[null,null,null,null,null,null,null,null,null,null,null,null,0,null,0,null,0,null,0,null,0,null,0,null,0,null,0,null,0]
[null,null,null,null,null,null,null,null,null,null,null,null,0,null,0,null,0,null,0,null,0,null,0,null,0,null,0,null,0]
[null,null,null,null,null,null,null,null,null,null,null,null,0,null,0,null,0,null,0,null,0,null,0,null,0,null,0,null,0]
[null,null,null,null,null,null,null,null,null,null,null,null,0,null,0,null,0,null,0,null,0,null,0,null,0,null,0,null,0]
[null,null,null,null,null,null,null,null,null,null,null,null,0,null,0,null,0,null,0,null,0,null,0,null,0,null,0,null,0]
[null,null,null,null,null,null,null,null,null,null,null,null,0,null,0,null,0,null,0,null,0,null,0,null,0,null,0,null,0]
[null,null,null,null,null,null,null,null,null,null,null,null,0,null,0,null,0,null,0,null,0,null,0,null,0,null,0,null,0]
[null,null,null,null,null,null,null,null,null,null,null,null,0,null,0,null,0,null,0,null,0,null,0,null,0,null,0,null,0]
[null,null,null,null,null,null,null,null,null,null,null,null,0,null,0,null,0,null,0,null,0,null,0,null,0,null,0,null,0]
[null,null,null,null,null,null,null,null,null,null,null,null,0,null,0,null,0,null,0,null,0,null,0,null,0,null,0,null,0]
[null,null,null,null,null,null,null,null,null,null,null,null,0,null,0,null,0,null,0,null,0,null,0,null,0,null,0,null,0]
[null,null,null,null,null,null,null,null,null,null,null,null,0,null,0,null,0,null,0,null,0,null,0,null,0,null,0,null,0]
[null,null,null,null,null,null,null,null,null,null,null,null,0,null,0,null,0,null,0,null,0,null,0,null,0,null,0,null,0]
[null,null,null,null,null,null,null,null,null,null,null,null,0,null,0,null,0,null,0,null,0,null,0,null,0,null,0,null,0]
[null,null,null,null,null,null,null,null,null,null,null,null,0,null,0,null,0,null,0,null,0,null,0,null,0,null,0,null,0]
[null,null,null,null,null,null,null,null,null,null,null,null,0,null,0,null,0,null,0,null,0,null,0,null,0,null,0,null,0]
[null,null,null,null,null,null,null,null,null,null,null,null,0,null,0,null,0,null,0,null,0,null,0,null,0,null,0,null,0]
[null,null,null,null,null,null,null,null,null,null,null,null,0,null,0,null,0,null,0,null,0,null,0,null,0,null,0,null,0]
[null,null,null,null,null,null,null,null,null,null,null,null,0,null,0,null,0,null,0,null,0,null,0,null,0,null,0,null,0]
[null,null,null,null,null,null,null,null,null,null,null,null,0,null,0,null,0,null,0,null,0,null,0,null,0,null,0,null,0]
[null,null,null,null,null,null,null,null,null,null,null,null,0,null,0,null,0,null,0,null,0,null,{"$f":"IF(AI3779=\"Not eligible\", \"Not eligible\", AI3779)","v":0},null,0,null,0,null,0]
[null,null,null,null,null,null,null,null,null,null,null,null,0,null,0,null,0,null,{"$f":"IF(AG3780=\"Not eligible\", \"Not eligible\", AG3780)","v":0},null,{"$f":"IF(AH3780=\"Not eligible\", \"Not eligible\", AH3780)","v":0},null,0,null,{"$f":"IF(AJ3780=\"Not eligible\", \"Not eligible\", AJ3780)","v":0},null,{"$f":"IF(AK3780=\"Not eligible\", \"Not eligible\", AK3780)","v":0},null,{"$f":"IF(AL3780=\"Not eligible\", \"Not eligible\",AL3780)","v":0}]
[null,null,null,null,null,null,null,null,null,null,null,null,{"$f":"IF(AD3781=\"Not eligible\", \"Not eligible\", AD3781)","v":0},null,0,null,0,null,0,null,0,null,0,null,0,null,0,null,0]
[null,null,null,null,null,null,null,null,null,null,null,null,0,null,0,null,0,null,0,null,0,null,0,null,0,null,0,null,0]
[null,null,null,null,null,null,null,null,null,null,null,null,0,null,0,null,{"$f":"IF(AF3783=\"Not eligible\", \"Not eligible\", AF3783)","v":0},null,0,null,0,null,0,null,0,null,0,null,0]
[null,null,null,null,null,null,null,null,null,null,null,null,0,null,0,null,0,null,0,null,0,null,0,null,0,null,0,null,0]
[null,null,null,null,null,null,null,null,null,null,null,null,0,null,0,null,0,null,0,null,0,null,0,null,0,null,0,null,0]
[null,null,null,null,null,null,null,null,null,null,null,null,0,null,{"$f":"IF(AE3786=\"Not eligible\", \"Not eligible\", AE3786)","v":0},null,0,null,0,null,0,null,0,null,0,null,0,null,0]
[null,null,null,null,null,null,null,null,null,null,null,null,0,null,0,null,0,null,0,null,0,null,0,null,0,null,0,null,0]
[null,null,null,null,null,null,null,null,null,null,null,null,0,null,0,null,0,null,0,null,0,null,0,null,0,null,0,null,0]
[null,null,null,null,null,null,null,null,null,null,null,null,0,null,0,null,0,null,0,null,0,null,0,null,0,null,0,null,0]
[null,null,null,null,null,null,null,null,null,null,null,null,0,null,0,null,0,null,0,null,0,null,0,null,0,null,0,null,0]
[null,null,null,null,null,null,null,null,null,null,null,null,0,null,0,null,0,null,0,null,0,null,0,null,0,null,0,null,0]
[null,null,null,null,null,null,null,null,null,null,null,null,0,null,0,null,0,null,0,null,0,null,0,null,0,null,0,null,0]
[null,null,null,null,null,null,null,null,null,null,null,null,0,null,0,null,0,null,0,null,0,null,0,null,0,null,0,null,0]
[null,null,null,null,null,null,null,null,null,null,null,null,0,null,0,null,0,null,0,null,0,null,0,null,0,null,0,null,0]
[null,null,null,null,null,null,null,null,null,null,null,null,0,null,0,null,0,null,0,null,0,null,0,null,0,null,0,null,0]
[null,null,null,null,null,null,null,null,null,null,null,null,0,null,0,null,0,null,0,null,0,null,0,null,0,null,0,null,0]
[null,null,null,null,null,null,null,null,null,null,null,null,0,null,0,null,0,null,0,null,0,null,0,null,0,null,0,null,0]
[null,null,null,null,null,null,null,null,null,null,null,null,0,null,0,null,0,null,0,null,0,null,0,null,0,null,0,null,0]
[null,null,null,null,null,null,null,null,null,null,null,null,0,null,0,null,0,null,0,null,0,null,0,null,0,null,0,null,0]
[null,null,null,null,null,null,null,null,null,null,null,null,0,null,0,null,0,null,0,null,0,null,0,null,0,null,0,null,0]
[null,null,null,null,null,null,null,null,null,null,null,null,0,null,0,null,0,null,0,null,0,null,0,null,0,null,0,null,0]
[null,null,null,null,null,null,null,null,null,null,null,null,0,null,0,null,0,null,0,null,0,null,0,null,0,null,0,null,0]
[null,null,null,null,null,null,null,null,null,null,null,null,0,null,0,null,0,null,0,null,0,null,0,null,0,null,0,null,0]
[null,null,null,null,null,null,null,null,null,null,null,null,0,null,0,null,0,null,0,null,0,null,0,null,0,null,0,null,0]
[null,null,null,null,null,null,null,null,null,null,null,null,0,null,0,null,0,null,0,null,0,null,0,null,0,null,0,null,0]
[null,null,null,null,null,null,null,null,null,null,null,null,0,null,0,null,0,null,0,null,0,null,0,null,0,null,0,null,0]
[null,null,null,null,null,null,null,null,null,null,null,null,0,null,0,null,0,null,0,null,0,null,0,null,0,null,0,null,0]
[null,null,null,null,null,null,null,null,null,null,null,null,0,null,0,null,0,null,0,null,0,null,0,null,0,null,0,null,0]
[null,null,null,null,null,null,null,null,null,null,null,null,0,null,0,null,0,null,0,null,0,null,0,null,0,null,0,null,0]
[null,null,null,null,null,null,null,null,null,null,null,null,0,null,0,null,0,null,0,null,0,null,0,null,0,null,0,null,0]
[null,null,null,null,null,null,null,null,null,null,null,null,0,null,0,null,0,null,0,null,0,null,0,null,0,null,0,null,0]
[null,null,null,null,null,null,null,null,null,null,null,null,0,null,0,null,0,null,0,null,0,null,0,null,0,null,0,null,0]
[null,null,null,null,null,null,null,null,null,null,null,null,0,null,0,null,0,null,0,null,0,null,0,null,0,null,0,null,0]
[null,null,null,null,null,null,null,null,null,null,null,null,0,null,0,null,0,null,0,null,0,null,0,null,0,null,0,null,0]
[null,null,null,null,null,null,null,null,null,null,null,null,0,null,0,null,0,null,0,null,0,null,0,null,0,null,0,null,0]
[null,null,null,null,null,null,null,null,null,null,null,null,0,null,0,null,0,null,0,null,0,null,0,null,0,null,0,null,0]
[null,null,null,null,null,null,null,null,null,null,null,null,0,null,0,null,0,null,0,null,0,null,0,null,0,null,0,null,0]
[null,null,null,null,null,null,null,null,null,null,null,null,0,null,0,null,0,null,0,null,0,null,0,null,0,null,0,null,0]
[null,null,null,null,null,null,null,null,null,null,null,null,0,null,0,null,0,null,0,null,0,null,0,null,0,null,0,null,0]
[null,null,null,null,null,null,null,null,null,null,null,null,0,null,0,null,0,null,0,null,0,null,0,null,0,null,0,null,0]
[null,null,null,null,null,null,null,null,null,null,null,null,0,null,0,null,0,null,0,null,0,null,0,null,0,null,0,null,0]
[null,null,null,null,null,null,null,null,null,null,null,null,0,null,0,null,0,null,0,null,0,null,0,null,0,null,0,null,0]
[null,null,null,null,null,null,null,null,null,null,null,null,0,null,0,null,0,null,0,null,0,null,0,null,0,null,0,null,0]
[null,null,null,null,null,null,null,null,null,null,null,null,0,null,0,null,0,null,0,null,0,null,0,null,0,null,0,null,0]
[null,null,null,null,null,null,null,null,null,null,null,null,0,null,0,null,0,null,0,null,0,null,0,null,0,null,0,null,0]
[null,null,null,null,null,null,null,null,null,null,null,null,0,null,0,null,0,null,0,null,0,null,0,null,0,null,0,null,0]
[null,null,null,null,null,null,null,null,null,null,null,null,0,null,0,null,0,null,0,null,0,null,0,null,0,null,0,null,0]
[null,null,null,null,null,null,null,null,null,null,null,null,0,null,0,null,0,null,0,null,0,null,0,null,0,null,0,null,0]
[null,null,null,null,null,null,null,null,null,null,null,null,0,null,0,null,0,null,0,null,0,null,0,null,0,null,0,null,0]
[null,null,null,null,null,null,null,null,null,null,null,null,0,null,0,null,0,null,0,null,0,null,0,null,0,null,0,null,0]
[null,null,null,null,null,null,null,null,null,null,null,null,0,null,0,null,0,null,0,null,0,null,0,null,0,null,0,null,0]
[null,null,null,null,null,null,null,null,null,null,null,null,0,null,0,null,0,null,0,null,0,null,0,null,0,null,0,null,0]
[null,null,null,null,null,null,null,null,null,null,null,null,0,null,0,null,0,null,0,null,0,null,0,null,0,null,0,null,0]
[null,null,null,null,null,null,null,null,null,null,null,null,0,null,0,null,0,null,0,null,0,null,0,null,0,null,0,null,0]
[null,null,null,null,null,null,null,null,null,null,null,null,0,null,0,null,0,null,0,null,0,null,0,null,0,null,0,null,0]
[null,null,null,null,null,null,null,null,null,null,null,null,0,null,0,null,0,null,0,null,0,null,0,null,0,null,0,null,0]
[null,null,null,null,null,null,null,null,null,null,null,null,0,null,0,null,0,null,0,null,0,null,0,null,0,null,0,null,0]
[null,null,null,null,null,null,null,null,null,null,null,null,0,null,0,null,0,null,0,null,0,null,0,null,0,null,0,null,0]
[null,null,null,null,null,null,null,null,null,null,null,null,0,null,0,null,0,null,0,null,0,null,0,null,0,null,0,null,0]
[null,null,null,null,null,null,null,null,null,null,null,null,0,null,0,null,0,null,0,null,0,null,0,null,0,null,0,null,0]
[null,null,null,null,null,null,null,null,null,null,null,null,0,null,0,null,0,null,0,null,0,null,0,null,0,null,0,null,0]
[null,null,null,null,null,null,null,null,null,null,null,null,0,null,0,null,0,null,0,null,0,null,0,null,0,null,0,null,0]
[null,null,null,null,null,null,null,null,null,null,null,null,0,null,0,null,0,null,0,null,0,null,{"$f":"IF(AI3843=\"Not eligible\", \"Not eligible\", AI3843)","v":0},null,0,null,0,null,0]
[null,null,null,null,null,null,null,null,null,null,null,null,0,null,0,null,0,null,{"$f":"IF(AG3844=\"Not eligible\", \"Not eligible\", AG3844)","v":0},null,{"$f":"IF(AH3844=\"Not eligible\", \"Not eligible\", AH3844)","v":0},null,0,null,{"$f":"IF(AJ3844=\"Not eligible\", \"Not eligible\", AJ3844)","v":0},null,{"$f":"IF(AK3844=\"Not eligible\", \"Not eligible\", AK3844)","v":0},null,{"$f":"IF(AL3844=\"Not eligible\", \"Not eligible\",AL3844)","v":0}]
[null,null,null,null,null,null,null,null,null,null,null,null,{"$f":"IF(AD3845=\"Not eligible\", \"Not eligible\", AD3845)","v":0},null,0,null,0,null,0,null,0,null,0,null,0,null,0,null,0]
[null,null,null,null,null,null,null,null,null,null,null,null,0,null,0,null,0,null,0,null,0,null,0,null,0,null,0,null,0]
[null,null,null,null,null,null,null,null,null,null,null,null,0,null,0,null,{"$f":"IF(AF3847=\"Not eligible\", \"Not eligible\", AF3847)","v":0},null,0,null,0,null,0,null,0,null,0,null,0]
[null,null,null,null,null,null,null,null,null,null,null,null,0,null,0,null,0,null,0,null,0,null,0,null,0,null,0,null,0]
[null,null,null,null,null,null,null,null,null,null,null,null,0,null,0,null,0,null,0,null,0,null,0,null,0,null,0,null,0]
[null,null,null,null,null,null,null,null,null,null,null,null,0,null,{"$f":"IF(AE3850=\"Not eligible\", \"Not eligible\", AE3850)","v":0},null,0,null,0,null,0,null,0,null,0,null,0,null,0]
[null,null,null,null,null,null,null,null,null,null,null,null,0,null,0,null,0,null,0,null,0,null,0,null,0,null,0,null,0]
[null,null,null,null,null,null,null,null,null,null,null,null,0,null,0,null,0,null,0,null,0,null,0,null,0,null,0,null,0]
[null,null,null,null,null,null,null,null,null,null,null,null,0,null,0,null,0,null,0,null,0,null,0,null,0,null,0,null,0]
[null,null,null,null,null,null,null,null,null,null,null,null,0,null,0,null,0,null,0,null,0,null,0,null,0,null,0,null,0]
[null,null,null,null,null,null,null,null,null,null,null,null,0,null,0,null,0,null,0,null,0,null,0,null,0,null,0,null,0]
[null,null,null,null,null,null,null,null,null,null,null,null,0,null,0,null,0,null,0,null,0,null,0,null,0,null,0,null,0]
[null,null,null,null,null,null,null,null,null,null,null,null,0,null,0,null,0,null,0,null,0,null,0,null,0,null,0,null,0]
[null,null,null,null,null,null,null,null,null,null,null,null,0,null,0,null,0,null,0,null,0,null,0,null,0,null,0,null,0]
[null,null,null,null,null,null,null,null,null,null,null,null,0,null,0,null,0,null,0,null,0,null,0,null,0,null,0,null,0]
[null,null,null,null,null,null,null,null,null,null,null,null,0,null,0,null,0,null,0,null,0,null,0,null,0,null,0,null,0]
[null,null,null,null,null,null,null,null,null,null,null,null,0,null,0,null,0,null,0,null,0,null,0,null,0,null,0,null,0]
[null,null,null,null,null,null,null,null,null,null,null,null,0,null,0,null,0,null,0,null,0,null,0,null,0,null,0,null,0]
[null,null,null,null,null,null,null,null,null,null,null,null,0,null,0,null,0,null,0,null,0,null,0,null,0,null,0,null,0]
[null,null,null,null,null,null,null,null,null,null,null,null,0,null,0,null,0,null,0,null,0,null,0,null,0,null,0,null,0]
[null,null,null,null,null,null,null,null,null,null,null,null,0,null,0,null,0,null,0,null,0,null,0,null,0,null,0,null,0]
[null,null,null,null,null,null,null,null,null,null,null,null,0,null,0,null,0,null,0,null,0,null,0,null,0,null,0,null,0]
[null,null,null,null,null,null,null,null,null,null,null,null,0,null,0,null,0,null,0,null,0,null,0,null,0,null,0,null,0]
[null,null,null,null,null,null,null,null,null,null,null,null,0,null,0,null,0,null,0,null,0,null,0,null,0,null,0,null,0]
[null,null,null,null,null,null,null,null,null,null,null,null,0,null,0,null,0,null,0,null,0,null,0,null,0,null,0,null,0]
[null,null,null,null,null,null,null,null,null,null,null,null,0,null,0,null,0,null,0,null,0,null,0,null,0,null,0,null,0]
[null,null,null,null,null,null,null,null,null,null,null,null,0,null,0,null,0,null,0,null,0,null,0,null,0,null,0,null,0]
[null,null,null,null,null,null,null,null,null,null,null,null,0,null,0,null,0,null,0,null,0,null,0,null,0,null,0,null,0]
[null,null,null,null,null,null,null,null,null,null,null,null,0,null,0,null,0,null,0,null,0,null,0,null,0,null,0,null,0]
[null,null,null,null,null,null,null,null,null,null,null,null,0,null,0,null,0,null,0,null,0,null,0,null,0,null,0,null,0]
[null,null,null,null,null,null,null,null,null,null,null,null,0,null,0,null,0,null,0,null,0,null,0,null,0,null,0,null,0]
[null,null,null,null,null,null,null,null,null,null,null,null,0,null,0,null,0,null,0,null,0,null,0,null,0,null,0,null,0]
[null,null,null,null,null,null,null,null,null,null,null,null,0,null,0,null,0,null,0,null,0,null,0,null,0,null,0,null,0]
[null,null,null,null,null,null,null,null,null,null,null,null,0,null,0,null,0,null,0,null,0,null,0,null,0,null,0,null,0]
[null,null,null,null,null,null,null,null,null,null,null,null,0,null,0,null,0,null,0,null,0,null,0,null,0,null,0,null,0]
[null,null,null,null,null,null,null,null,null,null,null,null,0,null,0,null,0,null,0,null,0,null,0,null,0,null,0,null,0]
[null,null,null,null,null,null,null,null,null,null,null,null,0,null,0,null,0,null,0,null,0,null,0,null,0,null,0,null,0]
[null,null,null,null,null,null,null,null,null,null,null,null,0,null,0,null,0,null,0,null,0,null,0,null,0,null,0,null,0]
[null,null,null,null,null,null,null,null,null,null,null,null,0,null,0,null,0,null,0,null,0,null,0,null,0,null,0,null,0]
[null,null,null,null,null,null,null,null,null,null,null,null,0,null,0,null,0,null,0,null,0,null,0,null,0,null,0,null,0]
[null,null,null,null,null,null,null,null,null,null,null,null,0,null,0,null,0,null,0,null,0,null,0,null,0,null,0,null,0]
[null,null,null,null,null,null,null,null,null,null,null,null,0,null,0,null,0,null,0,null,0,null,0,null,0,null,0,null,0]
[null,null,null,null,null,null,null,null,null,null,null,null,0,null,0,null,0,null,0,null,0,null,0,null,0,null,0,null,0]
[null,null,null,null,null,null,null,null,null,null,null,null,0,null,0,null,0,null,0,null,0,null,0,null,0,null,0,null,0]
[null,null,null,null,null,null,null,null,null,null,null,null,0,null,0,null,0,null,0,null,0,null,0,null,0,null,0,null,0]
[null,null,null,null,null,null,null,null,null,null,null,null,0,null,0,null,0,null,0,null,0,null,0,null,0,null,0,null,0]
[null,null,null,null,null,null,null,null,null,null,null,null,0,null,0,null,0,null,0,null,0,null,0,null,0,null,0,null,0]
[null,null,null,null,null,null,null,null,null,null,null,null,0,null,0,null,0,null,0,null,0,null,0,null,0,null,0,null,0]
[null,null,null,null,null,null,null,null,null,null,null,null,0,null,0,null,0,null,0,null,0,null,0,null,0,null,0,null,0]
[null,null,null,null,null,null,null,null,null,null,null,null,0,null,0,null,0,null,0,null,0,null,0,null,0,null,0,null,0]
[null,null,null,null,null,null,null,null,null,null,null,null,0,null,0,null,0,null,0,null,0,null,0,null,0,null,0,null,0]
[null,null,null,null,null,null,null,null,null,null,null,null,0,null,0,null,0,null,0,null,0,null,0,null,0,null,0,null,0]
[null,null,null,null,null,null,null,null,null,null,null,null,0,null,0,null,0,null,0,null,0,null,0,null,0,null,0,null,0]
[null,null,null,null,null,null,null,null,null,null,null,null,0,null,0,null,0,null,0,null,0,null,0,null,0,null,0,null,0]
[null,null,null,null,null,null,null,null,null,null,null,null,0,null,0,null,0,null,0,null,0,null,0,null,0,null,0,null,0]
[null,null,null,null,null,null,null,null,null,null,null,null,0,null,0,null,0,null,0,null,0,null,0,null,0,null,0,null,0]
[null,null,null,null,null,null,null,null,null,null,null,null,0,null,0,null,0,null,0,null,0,null,0,null,0,null,0,null,0]
[null,null,null,null,null,null,null,null,null,null,null,null,0,null,0,null,0,null,0,null,0,null,0,null,0,null,0,null,0]
[null,null,null,null,null,null,null,null,null,null,null,null,0,null,0,null,0,null,0,null,0,null,0,null,0,null,0,null,0]
[null,null,null,null,null,null,null,null,null,null,null,null,0,null,0,null,0,null,0,null,0,null,0,null,0,null,0,null,0]
[null,null,null,null,null,null,null,null,null,null,null,null,0,null,0,null,0,null,0,null,0,null,0,null,0,null,0,null,0]
[null,null,null,null,null,null,null,null,null,null,null,null,0,null,0,null,0,null,0,null,0,null,0,null,0,null,0,null,0]
[null,null,null,null,null,null,null,null,null,null,null,null,0,null,0,null,0,null,0,null,0,null,{"$f":"IF(AI3907=\"Not eligible\", \"Not eligible\", AI3907)","v":0},null,0,null,0,null,0]
[null,null,null,null,null,null,null,null,null,null,null,null,0,null,0,null,0,null,{"$f":"IF(AG3908=\"Not eligible\", \"Not eligible\", AG3908)","v":0},null,{"$f":"IF(AH3908=\"Not eligible\", \"Not eligible\", AH3908)","v":0},null,0,null,{"$f":"IF(AJ3908=\"Not eligible\", \"Not eligible\", AJ3908)","v":0},null,{"$f":"IF(AK3908=\"Not eligible\", \"Not eligible\", AK3908)","v":0},null,{"$f":"IF(AL3908=\"Not eligible\", \"Not eligible\",AL3908)","v":0}]
[null,null,null,null,null,null,null,null,null,null,null,null,{"$f":"IF(AD3909=\"Not eligible\", \"Not eligible\", AD3909)","v":0},null,0,null,0,null,0,null,0,null,0,null,0,null,0,null,0]
[null,null,null,null,null,null,null,null,null,null,null,null,0,null,0,null,0,null,0,null,0,null,0,null,0,null,0,null,0]
[null,null,null,null,null,null,null,null,null,null,null,null,0,null,0,null,{"$f":"IF(AF3911=\"Not eligible\", \"Not eligible\", AF3911)","v":0},null,0,null,0,null,0,null,0,null,0,null,0]
[null,null,null,null,null,null,null,null,null,null,null,null,0,null,0,null,0,null,0,null,0,null,0,null,0,null,0,null,0]
[null,null,null,null,null,null,null,null,null,null,null,null,0,null,0,null,0,null,0,null,0,null,0,null,0,null,0,null,0]
[null,null,null,null,null,null,null,null,null,null,null,null,0,null,{"$f":"IF(AE3914=\"Not eligible\", \"Not eligible\", AE3914)","v":0},null,0,null,0,null,0,null,0,null,0,null,0,null,0]
[null,null,null,null,null,null,null,null,null,null,null,null,0,null,0,null,0,null,0,null,0,null,0,null,0,null,0,null,0]
[null,null,null,null,null,null,null,null,null,null,null,null,0,null,0,null,0,null,0,null,0,null,0,null,0,null,0,null,0]
[null,null,null,null,null,null,null,null,null,null,null,null,0,null,0,null,0,null,0,null,0,null,0,null,0,null,0,null,0]
[null,null,null,null,null,null,null,null,null,null,null,null,0,null,0,null,0,null,0,null,0,null,0,null,0,null,0,null,0]
[null,null,null,null,null,null,null,null,null,null,null,null,0,null,0,null,0,null,0,null,0,null,0,null,0,null,0,null,0]
[null,null,null,null,null,null,null,null,null,null,null,null,0,null,0,null,0,null,0,null,0,null,0,null,0,null,0,null,0]
[null,null,null,null,null,null,null,null,null,null,null,null,0,null,0,null,0,null,0,null,0,null,0,null,0,null,0,null,0]
[null,null,null,null,null,null,null,null,null,null,null,null,0,null,0,null,0,null,0,null,0,null,0,null,0,null,0,null,0]
[null,null,null,null,null,null,null,null,null,null,null,null,0,null,0,null,0,null,0,null,0,null,0,null,0,null,0,null,0]
[null,null,null,null,null,null,null,null,null,null,null,null,0,null,0,null,0,null,0,null,0,null,0,null,0,null,0,null,0]
[null,null,null,null,null,null,null,null,null,null,null,null,0,null,0,null,0,null,0,null,0,null,0,null,0,null,0,null,0]
[null,null,null,null,null,null,null,null,null,null,null,null,0,null,0,null,0,null,0,null,0,null,0,null,0,null,0,null,0]
[null,null,null,null,null,null,null,null,null,null,null,null,0,null,0,null,0,null,0,null,0,null,0,null,0,null,0,null,0]
[null,null,null,null,null,null,null,null,null,null,null,null,0,null,0,null,0,null,0,null,0,null,0,null,0,null,0,null,0]
[null,null,null,null,null,null,null,null,null,null,null,null,0,null,0,null,0,null,0,null,0,null,0,null,0,null,0,null,0]
[null,null,null,null,null,null,null,null,null,null,null,null,0,null,0,null,0,null,0,null,0,null,0,null,0,null,0,null,0]
[null,null,null,null,null,null,null,null,null,null,null,null,0,null,0,null,0,null,0,null,0,null,0,null,0,null,0,null,0]
[null,null,null,null,null,null,null,null,null,null,null,null,0,null,0,null,0,null,0,null,0,null,0,null,0,null,0,null,0]
[null,null,null,null,null,null,null,null,null,null,null,null,0,null,0,null,0,null,0,null,0,null,0,null,0,null,0,null,0]
[null,null,null,null,null,null,null,null,null,null,null,null,0,null,0,null,0,null,0,null,0,null,0,null,0,null,0,null,0]
[null,null,null,null,null,null,null,null,null,null,null,null,0,null,0,null,0,null,0,null,0,null,0,null,0,null,0,null,0]
[null,null,null,null,null,null,null,null,null,null,null,null,0,null,0,null,0,null,0,null,0,null,0,null,0,null,0,null,0]
[null,null,null,null,null,null,null,null,null,null,null,null,0,null,0,null,0,null,0,null,0,null,0,null,0,null,0,null,0]
[null,null,null,null,null,null,null,null,null,null,null,null,0,null,0,null,0,null,0,null,0,null,0,null,0,null,0,null,0]
[null,null,null,null,null,null,null,null,null,null,null,null,0,null,0,null,0,null,0,null,0,null,0,null,0,null,0,null,0]
[null,null,null,null,null,null,null,null,null,null,null,null,0,null,0,null,0,null,0,null,0,null,0,null,0,null,0,null,0]
[null,null,null,null,null,null,null,null,null,null,null,null,0,null,0,null,0,null,0,null,0,null,0,null,0,null,0,null,0]
[null,null,null,null,null,null,null,null,null,null,null,null,0,null,0,null,0,null,0,null,0,null,0,null,0,null,0,null,0]
[null,null,null,null,null,null,null,null,null,null,null,null,0,null,0,null,0,null,0,null,0,null,0,null,0,null,0,null,0]
[null,null,null,null,null,null,null,null,null,null,null,null,0,null,0,null,0,null,0,null,0,null,0,null,0,null,0,null,0]
[null,null,null,null,null,null,null,null,null,null,null,null,0,null,0,null,0,null,0,null,0,null,0,null,0,null,0,null,0]
[null,null,null,null,null,null,null,null,null,null,null,null,0,null,0,null,0,null,0,null,0,null,0,null,0,null,0,null,0]
[null,null,null,null,null,null,null,null,null,null,null,null,0,null,0,null,0,null,0,null,0,null,0,null,0,null,0,null,0]
[null,null,null,null,null,null,null,null,null,null,null,null,0,null,0,null,0,null,0,null,0,null,0,null,0,null,0,null,0]
[null,null,null,null,null,null,null,null,null,null,null,null,0,null,0,null,0,null,0,null,0,null,0,null,0,null,0,null,0]
[null,null,null,null,null,null,null,null,null,null,null,null,0,null,0,null,0,null,0,null,0,null,0,null,0,null,0,null,0]
[null,null,null,null,null,null,null,null,null,null,null,null,0,null,0,null,0,null,0,null,0,null,0,null,0,null,0,null,0]
[null,null,null,null,null,null,null,null,null,null,null,null,0,null,0,null,0,null,0,null,0,null,0,null,0,null,0,null,0]
[null,null,null,null,null,null,null,null,null,null,null,null,0,null,0,null,0,null,0,null,0,null,0,null,0,null,0,null,0]
[null,null,null,null,null,null,null,null,null,null,null,null,0,null,0,null,0,null,0,null,0,null,0,null,0,null,0,null,0]
[null,null,null,null,null,null,null,null,null,null,null,null,0,null,0,null,0,null,0,null,0,null,0,null,0,null,0,null,0]
[null,null,null,null,null,null,null,null,null,null,null,null,0,null,0,null,0,null,0,null,0,null,0,null,0,null,0,null,0]
[null,null,null,null,null,null,null,null,null,null,null,null,0,null,0,null,0,null,0,null,0,null,0,null,0,null,0,null,0]
[null,null,null,null,null,null,null,null,null,null,null,null,0,null,0,null,0,null,0,null,0,null,0,null,0,null,0,null,0]
[null,null,null,null,null,null,null,null,null,null,null,null,0,null,0,null,0,null,0,null,0,null,0,null,0,null,0,null,0]
[null,null,null,null,null,null,null,null,null,null,null,null,0,null,0,null,0,null,0,null,0,null,0,null,0,null,0,null,0]
[null,null,null,null,null,null,null,null,null,null,null,null,0,null,0,null,0,null,0,null,0,null,0,null,0,null,0,null,0]
[null,null,null,null,null,null,null,null,null,null,null,null,0,null,0,null,0,null,0,null,0,null,0,null,0,null,0,null,0]
[null,null,null,null,null,null,null,null,null,null,null,null,0,null,0,null,0,null,0,null,0,null,0,null,0,null,0,null,0]
[null,null,null,null,null,null,null,null,null,null,null,null,0,null,0,null,0,null,0,null,0,null,0,null,0,null,0,null,0]
[null,null,null,null,null,null,null,null,null,null,null,null,0,null,0,null,0,null,0,null,0,null,0,null,0,null,0,null,0]
[null,null,null,null,null,null,null,null,null,null,null,null,0,null,0,null,0,null,0,null,0,null,0,null,0,null,0,null,0]
[null,null,null,null,null,null,null,null,null,null,null,null,0,null,0,null,0,null,0,null,0,null,0,null,0,null,0,null,0]
[null,null,null,null,null,null,null,null,null,null,null,null,0,null,0,null,0,null,0,null,0,null,0,null,0,null,0,null,0]
[null,null,null,null,null,null,null,null,null,null,null,null,0,null,0,null,0,null,0,null,0,null,0,null,0,null,0,null,0]
[null,null,null,null,null,null,null,null,null,null,null,null,0,null,0,null,0,null,0,null,0,null,0,null,0,null,0,null,0]
[null,null,null,null,null,null,null,null,null,null,null,null,0,null,0,null,0,null,0,null,0,null,{"$f":"IF(AI3971=\"Not eligible\", \"Not eligible\", AI3971)","v":0},null,0,null,0,null,0]
[null,null,null,null,null,null,null,null,null,null,null,null,0,null,0,null,0,null,{"$f":"IF(AG3972=\"Not eligible\", \"Not eligible\", AG3972)","v":0},null,{"$f":"IF(AH3972=\"Not eligible\", \"Not eligible\", AH3972)","v":0},null,0,null,{"$f":"IF(AJ3972=\"Not eligible\", \"Not eligible\", AJ3972)","v":0},null,{"$f":"IF(AK3972=\"Not eligible\", \"Not eligible\", AK3972)","v":0},null,{"$f":"IF(AL3972=\"Not eligible\", \"Not eligible\",AL3972)","v":0}]
[null,null,null,null,null,null,null,null,null,null,null,null,{"$f":"IF(AD3973=\"Not eligible\", \"Not eligible\", AD3973)","v":0},null,0,null,0,null,0,null,0,null,0,null,0,null,0,null,0]
[null,null,null,null,null,null,null,null,null,null,null,null,0,null,0,null,0,null,0,null,0,null,0,null,0,null,0,null,0]
[null,null,null,null,null,null,null,null,null,null,null,null,0,null,0,null,{"$f":"IF(AF3975=\"Not eligible\", \"Not eligible\", AF3975)","v":0},null,0,null,0,null,0,null,0,null,0,null,0]
[null,null,null,null,null,null,null,null,null,null,null,null,0,null,0,null,0,null,0,null,0,null,0,null,0,null,0,null,0]
[null,null,null,null,null,null,null,null,null,null,null,null,0,null,0,null,0,null,0,null,0,null,0,null,0,null,0,null,0]
[null,null,null,null,null,null,null,null,null,null,null,null,0,null,{"$f":"IF(AE3978=\"Not eligible\", \"Not eligible\", AE3978)","v":0},null,0,null,0,null,0,null,0,null,0,null,0,null,0]
[null,null,null,null,null,null,null,null,null,null,null,null,0,null,0,null,0,null,0,null,0,null,0,null,0,null,0,null,0]
[null,null,null,null,null,null,null,null,null,null,null,null,0,null,0,null,0,null,0,null,0,null,0,null,0,null,0,null,0]
[null,null,null,null,null,null,null,null,null,null,null,null,0,null,0,null,0,null,0,null,0,null,0,null,0,null,0,null,0]
[null,null,null,null,null,null,null,null,null,null,null,null,0,null,0,null,0,null,0,null,0,null,0,null,0,null,0,null,0]
[null,null,null,null,null,null,null,null,null,null,null,null,0,null,0,null,0,null,0,null,0,null,0,null,0,null,0,null,0]
[null,null,null,null,null,null,null,null,null,null,null,null,0,null,0,null,0,null,0,null,0,null,0,null,0,null,0,null,0]
[null,null,null,null,null,null,null,null,null,null,null,null,0,null,0,null,0,null,0,null,0,null,0,null,0,null,0,null,0]
[null,null,null,null,null,null,null,null,null,null,null,null,0,null,0,null,0,null,0,null,0,null,0,null,0,null,0,null,0]
[null,null,null,null,null,null,null,null,null,null,null,null,0,null,0,null,0,null,0,null,0,null,0,null,0,null,0,null,0]
[null,null,null,null,null,null,null,null,null,null,null,null,0,null,0,null,0,null,0,null,0,null,0,null,0,null,0,null,0]
[null,null,null,null,null,null,null,null,null,null,null,null,0,null,0,null,0,null,0,null,0,null,0,null,0,null,0,null,0]
[null,null,null,null,null,null,null,null,null,null,null,null,0,null,0,null,0,null,0,null,0,null,0,null,0,null,0,null,0]
[null,null,null,null,null,null,null,null,null,null,null,null,0,null,0,null,0,null,0,null,0,null,0,null,0,null,0,null,0]
[null,null,null,null,null,null,null,null,null,null,null,null,0,null,0,null,0,null,0,null,0,null,0,null,0,null,0,null,0]
[null,null,null,null,null,null,null,null,null,null,null,null,0,null,0,null,0,null,0,null,0,null,0,null,0,null,0,null,0]
[null,null,null,null,null,null,null,null,null,null,null,null,0,null,0,null,0,null,0,null,0,null,0,null,0,null,0,null,0]
[null,null,null,null,null,null,null,null,null,null,null,null,0,null,0,null,0,null,0,null,0,null,0,null,0,null,0,null,0]
[null,null,null,null,null,null,null,null,null,null,null,null,0,null,0,null,0,null,0,null,0,null,0,null,0,null,0,null,0]
[null,null,null,null,null,null,null,null,null,null,null,null,0,null,0,null,0,null,0,null,0,null,0,null,0,null,0,null,0]
[null,null,null,null,null,null,null,null,null,null,null,null,0,null,0,null,0,null,0,null,0,null,0,null,0,null,0,null,0]
[null,null,null,null,null,null,null,null,null,null,null,null,0,null,0,null,0,null,0,null,0,null,0,null,0,null,0,null,0]
[null,null,null,null,null,null,null,null,null,null,null,null,0,null,{"$f":"IF(AE4000=\"Not eligible\", \"Not eligible\", AE4000)","v":0},null,{"$f":"IF(AF4000=\"Not eligible\", \"Not eligible\", AF4000)","v":0},null,0,null,0,null,0,null,0,null,0,null,0]

{"sheet":"Other Payments","index":1,"n_rows":1,"n_cols":10,"rows_kept":1,"cut":false,"hidden":false,"merged":[]}
["Pay Number","Surname","Forename","Position","Effective Date","Payment Type","Hours/Sessions to be paid","Pay Rate","Amount","Reason"]

{"sheet":"Guidance for Timesheet","index":2,"n_rows":23,"n_cols":2,"rows_kept":23,"cut":false,"hidden":false,"merged":[]}
[]
[null,"Guidance Notes for Timesheet Completion"]
["Column","Guidance"]
["A to J","these columns are 'fixed' and cannot be changed"]
["K","Enter last date of claim or last date of month that is being processed in format dd.mm.yyyy"]
["L","Enter additional hours worked Monday to Friday for part-time employee that is working less than 36 hours a week. Any hours over 36 hours a week worked Monday to Friday should be entered in column 'R'. \nMonday to Friday hours for Casual workers should be entered here.\nHours should be entered in the format of hours worked followed by minutes worked to the nearest quarter hour e.g hh.25 (15 minutes), hh.50 (30 minutes), hh.75 (45 minutes)."]
["M","Do not use"]
["N","Enter additional hours worked Saturday for part-time employee that is working less than 36 hours a week. Any hours over 36 hours a week worked Saturday should be entered in column 'R'.\nSaturday hours for Casual workers should be entered here.\nHours should be entered in the same format as at L."]
["O","Do not use"]
["P","Enter additional hours worked Sunday for part-time employee that is working less than 36 hours a week. Any hours over 36 hours a week worked Sunday should be entered in column 'T'.\nSunday hours for Casual workers should be entered here.\nHours should be entered in the same format as at L."]
["Q","Do not use"]
["R","Enter overtime hours worked Monday to Saturday over 36 hours a week.\nHours should be entered in the same format as at L."]
["S","Do not use"]
["T","Enter overtime hours worked Sunday over 36 hours a week.\nHours should be entered in the same format as at L."]
["U","Do not use"]
["V","Enter overtime hours worked on a Public Holiday\nHours should be entered in the same format as at L."]
["W","Do not use"]
["X","Enter Site Manager overtime to be paid at Lower rate. (Opening and closing for letting and doing basic tasks).\nHours should be entered in the same format as at L."]
["Y","Do not use"]
["Z","Enter Site Manager overtime to be paid at Higher rate. (Includes other duties undertaken over and above those paid at Lower rate e.g. DIY or Decorating)."]
["AA","Do not use"]
["AB","Enter hours worked between 8pm and 6am for hours included in column 'R' or 'T'\nHours should be entered in the same format as at L."]
["AC","Do not use"]

{"sheet":"Guidance for Other Payments","index":3,"n_rows":17,"n_cols":3,"rows_kept":17,"cut":false,"hidden":false,"merged":[[3,1,3,2],[4,1,4,2],[1,1,1,2]]}
[]
[null,"Guidance Notes for Other Payments Completion"]
[]
[null,"This sheet is for you to add any other payments that are not listed on the timesheet tab. E.g. IR35 payments"]
[]
[null,"Column","Guidance"]
[null,"Column","Guidance"]
[null,"A","Enter employee Pay number"]
[null,"B","Enter employee Surname"]
[null,"C","Enter employee Forename"]
[null,"D","Enter employee Position details (Job title)"]
[null,"E","Enter last date of claim or last date of month that is being processed"]
[null,"F","Enter Payment type"]
[null,"G","Enter number of hours to be paid\nHours should be entered in the format of hours worked followed by minutes worked to the nearest quarter hour e.g hh.25 (15 minutes), hh.50 (30 minutes), hh.75 (45 minutes)."]
[null,"H","Enter rate of pay for payment to be made"]
[null,"I","Enter total amount to be paid"]
[null,"J","Enter reason for payment e.g. Acting up payment, lunch duty, etc"]

{"sheet":"Formulas","index":4,"n_rows":302,"n_cols":39,"rows_kept":302,"cut":false,"hidden":true,"merged":[[0,37,0,38],[0,0,0,3],[0,4,0,7],[0,8,0,11],[0,12,0,15],[0,16,0,19],[0,20,0,23],[0,24,0,27],[0,28,0,31],[0,32,0,35]]}
["Hours up to full-time - Monday to Friday",null,null,null,"Hours up to full-time - Saturday",null,null,null,"Hours up to full-time - Sunday",null,null,null,"Overtime - Monday to Saturday",null,null,null,"Overtime - Sunday",null,null,null,"Overtime - Public Holiday",null,null,null,"Site Manager  - O/T Lower rate @ 1",null,null,null,"Site Manager - O/T Lower Rate @ 1.5",null,null,null,"UNSOCIAL HOURS",null,null,null,null,"Do not delete"]
[null,null,null,null,null,null,null,null,null,null,null,null,null,null,null,null,null,null,null,null,null,null,null,null,null,null,null,null,null,null,null,null,null,null,null,null,null,3165,3165]
[{"$f":"IF(Timesheet!L3>0,Timesheet!G3,\"\")","v":""},{"$f":"IF(Timesheet!L3>0,Timesheet!J3,\"\")","v":""},{"$f":"B3","v":""},{"$f":"IFERROR(VLOOKUP(C3,IF(C3=3165,AL$2:AM$2,ESG!A$2:C$54),IF(C3=3165,2,3),0),0)","v":0},{"$f":"IF(Timesheet!N3>0,Timesheet!G3,\"\")","v":""},{"$f":"IF(Timesheet!N3>0,Timesheet!J3,\"\")","v":""},{"$f":"F3","v":""},{"$f":"IFERROR(VLOOKUP(G3,IF(G3=3165,AL$2:AM$2,ESG!A$2:D$54),IF(G3=3165,2,4),0),0)","v":0},{"$f":"IF(Timesheet!P3>0,Timesheet!G3,\"\")","v":""},{"$f":"IF(Timesheet!P3>0,Timesheet!J3,\"\")","v":""},{"$f":"J3","v":""},{"$f":"IFERROR(VLOOKUP(K3,IF(K3=3165,AL$2:AM$2,ESG!A$2:E$54),IF(K3=3165,2,5),0),0)","v":0},{"$f":"IF(Timesheet!R3>0,Timesheet!G3,\"\")","v":""},{"$f":"IF(Timesheet!R3>0,Timesheet!J3,\"\")","v":""},{"$f":"IFERROR(VLOOKUP(M3,ESG!M$2:N$13,2,FALSE),N3)","v":""},{"$f":"IFERROR(VLOOKUP(O3,IF(O3=3165,AL$2:AM$2,ESG!A$2:F$54),IF(O3=3165,2,6),0),0)","v":0},{"$f":"IF(Timesheet!T3>0,Timesheet!G3,\"\")","v":""},{"$f":"IF(Timesheet!T3>0,Timesheet!J3,\"\")","v":""},{"$f":"IFERROR(VLOOKUP(Q3,ESG!M$2:N$13,2,FALSE),R3)","v":""},{"$f":"IFERROR(VLOOKUP(S3,IF(S3=3165,AL$2:AM$2,ESG!A$2:G$54),IF(S3=3165,2,7),0),0)","v":0},{"$f":"IF(Timesheet!V3>0,Timesheet!G3,\"\")","v":""},{"$f":"IF(Timesheet!V3>0,Timesheet!J3,\"\")","v":""},{"$f":"IFERROR(VLOOKUP(U3,ESG!M$2:N$13,2,FALSE),V3)","v":""},{"$f":"IFERROR(VLOOKUP(W3,IF(W3=3165,AL$2:AM$2,ESG!A$2:H$54),IF(W3=3165,2,8),0),0)","v":0},{"$f":"IF(Timesheet!X3>0,Timesheet!G3,\"\")","v":""},{"$f":"IF(Timesheet!X3>0,Timesheet!J3,\"\")","v":""},{"$f":"Z3","v":""},{"$f":"IFERROR(VLOOKUP(AA3,IF(AA3=3165,AL$2:AM$2,ESG!A$2:I$54),IF(AA3=3165,2,9),0),0)","v":0},{"$f":"IF(Timesheet!Z3>0,Timesheet!G3,\"\")","v":""},{"$f":"IF(Timesheet!Z3>0,Timesheet!J3,\"\")","v":""},{"$f":"AD3","v":""},{"$f":"IFERROR(VLOOKUP(AE3,IF(AE3=3165,AL$2:AM$2,ESG!A$2:J$54),IF(AE3=3165,2,10),0),0)","v":0},{"$f":"IF(Timesheet!AB3>0,Timesheet!G3,\"\")","v":""},{"$f":"IF(Timesheet!AB3>0,Timesheet!J3,\"\")","v":""},{"$f":"AH3","v":""},{"$f":"IFERROR(VLOOKUP(AI3,IF(AI3=3165,AL$2:AM$2,ESG!A$2:K$54),IF(AI3=3165,2,11),0),0)","v":0},null,10000]
[{"$f":"IF(Timesheet!L4>0,Timesheet!G4,\"\")","v":""},{"$f":"IF(Timesheet!L4>0,Timesheet!J4,\"\")","v":""},{"$f":"B4","v":""},{"$f":"IFERROR(VLOOKUP(C4,IF(C4=3165,AL$2:AM$2,ESG!A$2:C$54),IF(C4=3165,2,3),0),0)","v":0},{"$f":"IF(Timesheet!N4>0,Timesheet!G4,\"\")","v":""},{"$f":"IF(Timesheet!N4>0,Timesheet!J4,\"\")","v":""},{"$f":"F4","v":""},{"$f":"IFERROR(VLOOKUP(G4,IF(G4=3165,AL$2:AM$2,ESG!A$2:D$54),IF(G4=3165,2,4),0),0)","v":0},{"$f":"IF(Timesheet!P4>0,Timesheet!G4,\"\")","v":""},{"$f":"IF(Timesheet!P4>0,Timesheet!J4,\"\")","v":""},{"$f":"J4","v":""},{"$f":"IFERROR(VLOOKUP(K4,IF(K4=3165,AL$2:AM$2,ESG!A$2:E$54),IF(K4=3165,2,5),0),0)","v":0},{"$f":"IF(Timesheet!R4>0,Timesheet!G4,\"\")","v":""},{"$f":"IF(Timesheet!R4>0,Timesheet!J4,\"\")","v":""},{"$f":"IFERROR(VLOOKUP(M4,ESG!M$2:N$13,2,FALSE),N4)","v":""},{"$f":"IFERROR(VLOOKUP(O4,IF(O4=3165,AL$2:AM$2,ESG!A$2:F$54),IF(O4=3165,2,6),0),0)","v":0},{"$f":"IF(Timesheet!T4>0,Timesheet!G4,\"\")","v":""},{"$f":"IF(Timesheet!T4>0,Timesheet!J4,\"\")","v":""},{"$f":"IFERROR(VLOOKUP(Q4,ESG!M$2:N$13,2,FALSE),R4)","v":""},{"$f":"IFERROR(VLOOKUP(S4,IF(S4=3165,AL$2:AM$2,ESG!A$2:G$54),IF(S4=3165,2,7),0),0)","v":0},{"$f":"IF(Timesheet!V4>0,Timesheet!G4,\"\")","v":""},{"$f":"IF(Timesheet!V4>0,Timesheet!J4,\"\")","v":""},{"$f":"IFERROR(VLOOKUP(U4,ESG!M$2:N$13,2,FALSE),V4)","v":""},{"$f":"IFERROR(VLOOKUP(W4,IF(W4=3165,AL$2:AM$2,ESG!A$2:H$54),IF(W4=3165,2,8),0),0)","v":0},{"$f":"IF(Timesheet!X4>0,Timesheet!G4,\"\")","v":""},{"$f":"IF(Timesheet!X4>0,Timesheet!J4,\"\")","v":""},{"$f":"Z4","v":""},{"$f":"IFERROR(VLOOKUP(AA4,IF(AA4=3165,AL$2:AM$2,ESG!A$2:I$54),IF(AA4=3165,2,9),0),0)","v":0},{"$f":"IF(Timesheet!Z4>0,Timesheet!G4,\"\")","v":""},{"$f":"IF(Timesheet!Z4>0,Timesheet!J4,\"\")","v":""},{"$f":"AD4","v":""},{"$f":"IFERROR(VLOOKUP(AE4,IF(AE4=3165,AL$2:AM$2,ESG!A$2:J$54),IF(AE4=3165,2,10),0),0)","v":0},{"$f":"IF(Timesheet!AB4>0,Timesheet!G4,\"\")","v":""},{"$f":"IF(Timesheet!AB4>0,Timesheet!J4,\"\")","v":""},{"$f":"AH4","v":""},{"$f":"IFERROR(VLOOKUP(AI4,IF(AI4=3165,AL$2:AM$2,ESG!A$2:K$54),IF(AI4=3165,2,11),0),0)","v":0}]
[{"$f":"IF(Timesheet!L5>0,Timesheet!G5,\"\")","v":""},{"$f":"IF(Timesheet!L5>0,Timesheet!J5,\"\")","v":""},"",{"$f":"IFERROR(VLOOKUP(C5,IF(C5=3165,AL$2:AM$2,ESG!A$2:C$54),IF(C5=3165,2,3),0),0)","v":0},{"$f":"IF(Timesheet!N5>0,Timesheet!G5,\"\")","v":""},{"$f":"IF(Timesheet!N5>0,Timesheet!J5,\"\")","v":""},"",{"$f":"IFERROR(VLOOKUP(G5,IF(G5=3165,AL$2:AM$2,ESG!A$2:D$54),IF(G5=3165,2,4),0),0)","v":0},{"$f":"IF(Timesheet!P5>0,Timesheet!G5,\"\")","v":""},{"$f":"IF(Timesheet!P5>0,Timesheet!J5,\"\")","v":""},"",{"$f":"IFERROR(VLOOKUP(K5,IF(K5=3165,AL$2:AM$2,ESG!A$2:E$54),IF(K5=3165,2,5),0),0)","v":0},{"$f":"IF(Timesheet!R5>0,Timesheet!G5,\"\")","v":""},{"$f":"IF(Timesheet!R5>0,Timesheet!J5,\"\")","v":""},{"$f":"IFERROR(VLOOKUP(M5,ESG!M$2:N$13,2,FALSE),N5)","v":""},{"$f":"IFERROR(VLOOKUP(O5,IF(O5=3165,AL$2:AM$2,ESG!A$2:F$54),IF(O5=3165,2,6),0),0)","v":0},{"$f":"IF(Timesheet!T5>0,Timesheet!G5,\"\")","v":""},{"$f":"IF(Timesheet!T5>0,Timesheet!J5,\"\")","v":""},{"$f":"IFERROR(VLOOKUP(Q5,ESG!M$2:N$13,2,FALSE),R5)","v":""},{"$f":"IFERROR(VLOOKUP(S5,IF(S5=3165,AL$2:AM$2,ESG!A$2:G$54),IF(S5=3165,2,7),0),0)","v":0},{"$f":"IF(Timesheet!V5>0,Timesheet!G5,\"\")","v":""},{"$f":"IF(Timesheet!V5>0,Timesheet!J5,\"\")","v":""},{"$f":"IFERROR(VLOOKUP(U5,ESG!M$2:N$13,2,FALSE),V5)","v":""},{"$f":"IFERROR(VLOOKUP(W5,IF(W5=3165,AL$2:AM$2,ESG!A$2:H$54),IF(W5=3165,2,8),0),0)","v":0},{"$f":"IF(Timesheet!X5>0,Timesheet!G5,\"\")","v":""},{"$f":"IF(Timesheet!X5>0,Timesheet!J5,\"\")","v":""},"",{"$f":"IFERROR(VLOOKUP(AA5,IF(AA5=3165,AL$2:AM$2,ESG!A$2:I$54),IF(AA5=3165,2,9),0),0)","v":0},{"$f":"IF(Timesheet!Z5>0,Timesheet!G5,\"\")","v":""},{"$f":"IF(Timesheet!Z5>0,Timesheet!J5,\"\")","v":""},"",{"$f":"IFERROR(VLOOKUP(AE5,IF(AE5=3165,AL$2:AM$2,ESG!A$2:J$54),IF(AE5=3165,2,10),0),0)","v":0},{"$f":"IF(Timesheet!AB5>0,Timesheet!G5,\"\")","v":""},{"$f":"IF(Timesheet!AB5>0,Timesheet!J5,\"\")","v":""},"",{"$f":"IFERROR(VLOOKUP(AI5,IF(AI5=3165,AL$2:AM$2,ESG!A$2:K$54),IF(AI5=3165,2,11),0),0)","v":0}]
[{"$f":"IF(Timesheet!L6>0,Timesheet!G6,\"\")","v":""},{"$f":"IF(Timesheet!L6>0,Timesheet!J6,\"\")","v":""},"",{"$f":"IFERROR(VLOOKUP(C6,IF(C6=3165,AL$2:AM$2,ESG!A$2:C$54),IF(C6=3165,2,3),0),0)","v":0},{"$f":"IF(Timesheet!N6>0,Timesheet!G6,\"\")","v":""},{"$f":"IF(Timesheet!N6>0,Timesheet!J6,\"\")","v":""},"",{"$f":"IFERROR(VLOOKUP(G6,IF(G6=3165,AL$2:AM$2,ESG!A$2:D$54),IF(G6=3165,2,4),0),0)","v":0},{"$f":"IF(Timesheet!P6>0,Timesheet!G6,\"\")","v":""},{"$f":"IF(Timesheet!P6>0,Timesheet!J6,\"\")","v":""},"",{"$f":"IFERROR(VLOOKUP(K6,IF(K6=3165,AL$2:AM$2,ESG!A$2:E$54),IF(K6=3165,2,5),0),0)","v":0},{"$f":"IF(Timesheet!R6>0,Timesheet!G6,\"\")","v":""},{"$f":"IF(Timesheet!R6>0,Timesheet!J6,\"\")","v":""},{"$f":"IFERROR(VLOOKUP(M6,ESG!M$2:N$13,2,FALSE),N6)","v":""},{"$f":"IFERROR(VLOOKUP(O6,IF(O6=3165,AL$2:AM$2,ESG!A$2:F$54),IF(O6=3165,2,6),0),0)","v":0},{"$f":"IF(Timesheet!T6>0,Timesheet!G6,\"\")","v":""},{"$f":"IF(Timesheet!T6>0,Timesheet!J6,\"\")","v":""},{"$f":"IFERROR(VLOOKUP(Q6,ESG!M$2:N$13,2,FALSE),R6)","v":""},{"$f":"IFERROR(VLOOKUP(S6,IF(S6=3165,AL$2:AM$2,ESG!A$2:G$54),IF(S6=3165,2,7),0),0)","v":0},{"$f":"IF(Timesheet!V6>0,Timesheet!G6,\"\")","v":""},{"$f":"IF(Timesheet!V6>0,Timesheet!J6,\"\")","v":""},{"$f":"IFERROR(VLOOKUP(U6,ESG!M$2:N$13,2,FALSE),V6)","v":""},{"$f":"IFERROR(VLOOKUP(W6,IF(W6=3165,AL$2:AM$2,ESG!A$2:H$54),IF(W6=3165,2,8),0),0)","v":0},{"$f":"IF(Timesheet!X6>0,Timesheet!G6,\"\")","v":""},{"$f":"IF(Timesheet!X6>0,Timesheet!J6,\"\")","v":""},"",{"$f":"IFERROR(VLOOKUP(AA6,IF(AA6=3165,AL$2:AM$2,ESG!A$2:I$54),IF(AA6=3165,2,9),0),0)","v":0},{"$f":"IF(Timesheet!Z6>0,Timesheet!G6,\"\")","v":""},{"$f":"IF(Timesheet!Z6>0,Timesheet!J6,\"\")","v":""},"",{"$f":"IFERROR(VLOOKUP(AE6,IF(AE6=3165,AL$2:AM$2,ESG!A$2:J$54),IF(AE6=3165,2,10),0),0)","v":0},{"$f":"IF(Timesheet!AB6>0,Timesheet!G6,\"\")","v":""},{"$f":"IF(Timesheet!AB6>0,Timesheet!J6,\"\")","v":""},"",{"$f":"IFERROR(VLOOKUP(AI6,IF(AI6=3165,AL$2:AM$2,ESG!A$2:K$54),IF(AI6=3165,2,11),0),0)","v":0}]
[{"$f":"IF(Timesheet!L7>0,Timesheet!G7,\"\")","v":""},{"$f":"IF(Timesheet!L7>0,Timesheet!J7,\"\")","v":""},"",{"$f":"IFERROR(VLOOKUP(C7,IF(C7=3165,AL$2:AM$2,ESG!A$2:C$54),IF(C7=3165,2,3),0),0)","v":0},{"$f":"IF(Timesheet!N7>0,Timesheet!G7,\"\")","v":""},{"$f":"IF(Timesheet!N7>0,Timesheet!J7,\"\")","v":""},"",{"$f":"IFERROR(VLOOKUP(G7,IF(G7=3165,AL$2:AM$2,ESG!A$2:D$54),IF(G7=3165,2,4),0),0)","v":0},{"$f":"IF(Timesheet!P7>0,Timesheet!G7,\"\")","v":""},{"$f":"IF(Timesheet!P7>0,Timesheet!J7,\"\")","v":""},"",{"$f":"IFERROR(VLOOKUP(K7,IF(K7=3165,AL$2:AM$2,ESG!A$2:E$54),IF(K7=3165,2,5),0),0)","v":0},{"$f":"IF(Timesheet!R7>0,Timesheet!G7,\"\")","v":""},{"$f":"IF(Timesheet!R7>0,Timesheet!J7,\"\")","v":""},{"$f":"IFERROR(VLOOKUP(M7,ESG!M$2:N$13,2,FALSE),N7)","v":""},{"$f":"IFERROR(VLOOKUP(O7,IF(O7=3165,AL$2:AM$2,ESG!A$2:F$54),IF(O7=3165,2,6),0),0)","v":0},{"$f":"IF(Timesheet!T7>0,Timesheet!G7,\"\")","v":""},{"$f":"IF(Timesheet!T7>0,Timesheet!J7,\"\")","v":""},{"$f":"IFERROR(VLOOKUP(Q7,ESG!M$2:N$13,2,FALSE),R7)","v":""},{"$f":"IFERROR(VLOOKUP(S7,IF(S7=3165,AL$2:AM$2,ESG!A$2:G$54),IF(S7=3165,2,7),0),0)","v":0},{"$f":"IF(Timesheet!V7>0,Timesheet!G7,\"\")","v":""},{"$f":"IF(Timesheet!V7>0,Timesheet!J7,\"\")","v":""},{"$f":"IFERROR(VLOOKUP(U7,ESG!M$2:N$13,2,FALSE),V7)","v":""},{"$f":"IFERROR(VLOOKUP(W7,IF(W7=3165,AL$2:AM$2,ESG!A$2:H$54),IF(W7=3165,2,8),0),0)","v":0},{"$f":"IF(Timesheet!X7>0,Timesheet!G7,\"\")","v":""},{"$f":"IF(Timesheet!X7>0,Timesheet!J7,\"\")","v":""},"",{"$f":"IFERROR(VLOOKUP(AA7,IF(AA7=3165,AL$2:AM$2,ESG!A$2:I$54),IF(AA7=3165,2,9),0),0)","v":0},{"$f":"IF(Timesheet!Z7>0,Timesheet!G7,\"\")","v":""},{"$f":"IF(Timesheet!Z7>0,Timesheet!J7,\"\")","v":""},"",{"$f":"IFERROR(VLOOKUP(AE7,IF(AE7=3165,AL$2:AM$2,ESG!A$2:J$54),IF(AE7=3165,2,10),0),0)","v":0},{"$f":"IF(Timesheet!AB7>0,Timesheet!G7,\"\")","v":""},{"$f":"IF(Timesheet!AB7>0,Timesheet!J7,\"\")","v":""},"",{"$f":"IFERROR(VLOOKUP(AI7,IF(AI7=3165,AL$2:AM$2,ESG!A$2:K$54),IF(AI7=3165,2,11),0),0)","v":0}]
[{"$f":"IF(Timesheet!L8>0,Timesheet!G8,\"\")","v":""},{"$f":"IF(Timesheet!L8>0,Timesheet!J8,\"\")","v":""},"",{"$f":"IFERROR(VLOOKUP(C8,IF(C8=3165,AL$2:AM$2,ESG!A$2:C$54),IF(C8=3165,2,3),0),0)","v":0},{"$f":"IF(Timesheet!N8>0,Timesheet!G8,\"\")","v":""},{"$f":"IF(Timesheet!N8>0,Timesheet!J8,\"\")","v":""},"",{"$f":"IFERROR(VLOOKUP(G8,IF(G8=3165,AL$2:AM$2,ESG!A$2:D$54),IF(G8=3165,2,4),0),0)","v":0},{"$f":"IF(Timesheet!P8>0,Timesheet!G8,\"\")","v":""},{"$f":"IF(Timesheet!P8>0,Timesheet!J8,\"\")","v":""},"",{"$f":"IFERROR(VLOOKUP(K8,IF(K8=3165,AL$2:AM$2,ESG!A$2:E$54),IF(K8=3165,2,5),0),0)","v":0},{"$f":"IF(Timesheet!R8>0,Timesheet!G8,\"\")","v":""},{"$f":"IF(Timesheet!R8>0,Timesheet!J8,\"\")","v":""},{"$f":"IFERROR(VLOOKUP(M8,ESG!M$2:N$13,2,FALSE),N8)","v":""},{"$f":"IFERROR(VLOOKUP(O8,IF(O8=3165,AL$2:AM$2,ESG!A$2:F$54),IF(O8=3165,2,6),0),0)","v":0},{"$f":"IF(Timesheet!T8>0,Timesheet!G8,\"\")","v":""},{"$f":"IF(Timesheet!T8>0,Timesheet!J8,\"\")","v":""},{"$f":"IFERROR(VLOOKUP(Q8,ESG!M$2:N$13,2,FALSE),R8)","v":""},{"$f":"IFERROR(VLOOKUP(S8,IF(S8=3165,AL$2:AM$2,ESG!A$2:G$54),IF(S8=3165,2,7),0),0)","v":0},{"$f":"IF(Timesheet!V8>0,Timesheet!G8,\"\")","v":""},{"$f":"IF(Timesheet!V8>0,Timesheet!J8,\"\")","v":""},{"$f":"IFERROR(VLOOKUP(U8,ESG!M$2:N$13,2,FALSE),V8)","v":""},{"$f":"IFERROR(VLOOKUP(W8,IF(W8=3165,AL$2:AM$2,ESG!A$2:H$54),IF(W8=3165,2,8),0),0)","v":0},{"$f":"IF(Timesheet!X8>0,Timesheet!G8,\"\")","v":""},{"$f":"IF(Timesheet!X8>0,Timesheet!J8,\"\")","v":""},"",{"$f":"IFERROR(VLOOKUP(AA8,IF(AA8=3165,AL$2:AM$2,ESG!A$2:I$54),IF(AA8=3165,2,9),0),0)","v":0},{"$f":"IF(Timesheet!Z8>0,Timesheet!G8,\"\")","v":""},{"$f":"IF(Timesheet!Z8>0,Timesheet!J8,\"\")","v":""},"",{"$f":"IFERROR(VLOOKUP(AE8,IF(AE8=3165,AL$2:AM$2,ESG!A$2:J$54),IF(AE8=3165,2,10),0),0)","v":0},{"$f":"IF(Timesheet!AB8>0,Timesheet!G8,\"\")","v":""},{"$f":"IF(Timesheet!AB8>0,Timesheet!J8,\"\")","v":""},"",{"$f":"IFERROR(VLOOKUP(AI8,IF(AI8=3165,AL$2:AM$2,ESG!A$2:K$54),IF(AI8=3165,2,11),0),0)","v":0}]
[{"$f":"IF(Timesheet!L9>0,Timesheet!G9,\"\")","v":""},{"$f":"IF(Timesheet!L9>0,Timesheet!J9,\"\")","v":""},"",{"$f":"IFERROR(VLOOKUP(C9,IF(C9=3165,AL$2:AM$2,ESG!A$2:C$54),IF(C9=3165,2,3),0),0)","v":0},{"$f":"IF(Timesheet!N9>0,Timesheet!G9,\"\")","v":""},{"$f":"IF(Timesheet!N9>0,Timesheet!J9,\"\")","v":""},"",{"$f":"IFERROR(VLOOKUP(G9,IF(G9=3165,AL$2:AM$2,ESG!A$2:D$54),IF(G9=3165,2,4),0),0)","v":0},{"$f":"IF(Timesheet!P9>0,Timesheet!G9,\"\")","v":""},{"$f":"IF(Timesheet!P9>0,Timesheet!J9,\"\")","v":""},"",{"$f":"IFERROR(VLOOKUP(K9,IF(K9=3165,AL$2:AM$2,ESG!A$2:E$54),IF(K9=3165,2,5),0),0)","v":0},{"$f":"IF(Timesheet!R9>0,Timesheet!G9,\"\")","v":""},{"$f":"IF(Timesheet!R9>0,Timesheet!J9,\"\")","v":""},{"$f":"IFERROR(VLOOKUP(M9,ESG!M$2:N$13,2,FALSE),N9)","v":""},{"$f":"IFERROR(VLOOKUP(O9,IF(O9=3165,AL$2:AM$2,ESG!A$2:F$54),IF(O9=3165,2,6),0),0)","v":0},{"$f":"IF(Timesheet!T9>0,Timesheet!G9,\"\")","v":""},{"$f":"IF(Timesheet!T9>0,Timesheet!J9,\"\")","v":""},{"$f":"IFERROR(VLOOKUP(Q9,ESG!M$2:N$13,2,FALSE),R9)","v":""},{"$f":"IFERROR(VLOOKUP(S9,IF(S9=3165,AL$2:AM$2,ESG!A$2:G$54),IF(S9=3165,2,7),0),0)","v":0},{"$f":"IF(Timesheet!V9>0,Timesheet!G9,\"\")","v":""},{"$f":"IF(Timesheet!V9>0,Timesheet!J9,\"\")","v":""},{"$f":"IFERROR(VLOOKUP(U9,ESG!M$2:N$13,2,FALSE),V9)","v":""},{"$f":"IFERROR(VLOOKUP(W9,IF(W9=3165,AL$2:AM$2,ESG!A$2:H$54),IF(W9=3165,2,8),0),0)","v":0},{"$f":"IF(Timesheet!X9>0,Timesheet!G9,\"\")","v":""},{"$f":"IF(Timesheet!X9>0,Timesheet!J9,\"\")","v":""},"",{"$f":"IFERROR(VLOOKUP(AA9,IF(AA9=3165,AL$2:AM$2,ESG!A$2:I$54),IF(AA9=3165,2,9),0),0)","v":0},{"$f":"IF(Timesheet!Z9>0,Timesheet!G9,\"\")","v":""},{"$f":"IF(Timesheet!Z9>0,Timesheet!J9,\"\")","v":""},"",{"$f":"IFERROR(VLOOKUP(AE9,IF(AE9=3165,AL$2:AM$2,ESG!A$2:J$54),IF(AE9=3165,2,10),0),0)","v":0},{"$f":"IF(Timesheet!AB9>0,Timesheet!G9,\"\")","v":""},{"$f":"IF(Timesheet!AB9>0,Timesheet!J9,\"\")","v":""},"",{"$f":"IFERROR(VLOOKUP(AI9,IF(AI9=3165,AL$2:AM$2,ESG!A$2:K$54),IF(AI9=3165,2,11),0),0)","v":0}]
[{"$f":"IF(Timesheet!L10>0,Timesheet!G10,\"\")","v":""},{"$f":"IF(Timesheet!L10>0,Timesheet!J10,\"\")","v":""},"",{"$f":"IFERROR(VLOOKUP(C10,IF(C10=3165,AL$2:AM$2,ESG!A$2:C$54),IF(C10=3165,2,3),0),0)","v":0},{"$f":"IF(Timesheet!N10>0,Timesheet!G10,\"\")","v":""},{"$f":"IF(Timesheet!N10>0,Timesheet!J10,\"\")","v":""},"",{"$f":"IFERROR(VLOOKUP(G10,IF(G10=3165,AL$2:AM$2,ESG!A$2:D$54),IF(G10=3165,2,4),0),0)","v":0},{"$f":"IF(Timesheet!P10>0,Timesheet!G10,\"\")","v":""},{"$f":"IF(Timesheet!P10>0,Timesheet!J10,\"\")","v":""},"",{"$f":"IFERROR(VLOOKUP(K10,IF(K10=3165,AL$2:AM$2,ESG!A$2:E$54),IF(K10=3165,2,5),0),0)","v":0},{"$f":"IF(Timesheet!R10>0,Timesheet!G10,\"\")","v":""},{"$f":"IF(Timesheet!R10>0,Timesheet!J10,\"\")","v":""},{"$f":"IFERROR(VLOOKUP(M10,ESG!M$2:N$13,2,FALSE),N10)","v":""},{"$f":"IFERROR(VLOOKUP(O10,IF(O10=3165,AL$2:AM$2,ESG!A$2:F$54),IF(O10=3165,2,6),0),0)","v":0},{"$f":"IF(Timesheet!T10>0,Timesheet!G10,\"\")","v":""},{"$f":"IF(Timesheet!T10>0,Timesheet!J10,\"\")","v":""},{"$f":"IFERROR(VLOOKUP(Q10,ESG!M$2:N$13,2,FALSE),R10)","v":""},{"$f":"IFERROR(VLOOKUP(S10,IF(S10=3165,AL$2:AM$2,ESG!A$2:G$54),IF(S10=3165,2,7),0),0)","v":0},{"$f":"IF(Timesheet!V10>0,Timesheet!G10,\"\")","v":""},{"$f":"IF(Timesheet!V10>0,Timesheet!J10,\"\")","v":""},{"$f":"IFERROR(VLOOKUP(U10,ESG!M$2:N$13,2,FALSE),V10)","v":""},{"$f":"IFERROR(VLOOKUP(W10,IF(W10=3165,AL$2:AM$2,ESG!A$2:H$54),IF(W10=3165,2,8),0),0)","v":0},{"$f":"IF(Timesheet!X10>0,Timesheet!G10,\"\")","v":""},{"$f":"IF(Timesheet!X10>0,Timesheet!J10,\"\")","v":""},"",{"$f":"IFERROR(VLOOKUP(AA10,IF(AA10=3165,AL$2:AM$2,ESG!A$2:I$54),IF(AA10=3165,2,9),0),0)","v":0},{"$f":"IF(Timesheet!Z10>0,Timesheet!G10,\"\")","v":""},{"$f":"IF(Timesheet!Z10>0,Timesheet!J10,\"\")","v":""},"",{"$f":"IFERROR(VLOOKUP(AE10,IF(AE10=3165,AL$2:AM$2,ESG!A$2:J$54),IF(AE10=3165,2,10),0),0)","v":0},{"$f":"IF(Timesheet!AB10>0,Timesheet!G10,\"\")","v":""},{"$f":"IF(Timesheet!AB10>0,Timesheet!J10,\"\")","v":""},"",{"$f":"IFERROR(VLOOKUP(AI10,IF(AI10=3165,AL$2:AM$2,ESG!A$2:K$54),IF(AI10=3165,2,11),0),0)","v":0}]
[{"$f":"IF(Timesheet!L11>0,Timesheet!G11,\"\")","v":""},{"$f":"IF(Timesheet!L11>0,Timesheet!J11,\"\")","v":""},"",{"$f":"IFERROR(VLOOKUP(C11,IF(C11=3165,AL$2:AM$2,ESG!A$2:C$54),IF(C11=3165,2,3),0),0)","v":0},{"$f":"IF(Timesheet!N11>0,Timesheet!G11,\"\")","v":""},{"$f":"IF(Timesheet!N11>0,Timesheet!J11,\"\")","v":""},"",{"$f":"IFERROR(VLOOKUP(G11,IF(G11=3165,AL$2:AM$2,ESG!A$2:D$54),IF(G11=3165,2,4),0),0)","v":0},{"$f":"IF(Timesheet!P11>0,Timesheet!G11,\"\")","v":""},{"$f":"IF(Timesheet!P11>0,Timesheet!J11,\"\")","v":""},"",{"$f":"IFERROR(VLOOKUP(K11,IF(K11=3165,AL$2:AM$2,ESG!A$2:E$54),IF(K11=3165,2,5),0),0)","v":0},{"$f":"IF(Timesheet!R11>0,Timesheet!G11,\"\")","v":""},{"$f":"IF(Timesheet!R11>0,Timesheet!J11,\"\")","v":""},{"$f":"IFERROR(VLOOKUP(M11,ESG!M$2:N$13,2,FALSE),N11)","v":""},{"$f":"IFERROR(VLOOKUP(O11,IF(O11=3165,AL$2:AM$2,ESG!A$2:F$54),IF(O11=3165,2,6),0),0)","v":0},{"$f":"IF(Timesheet!T11>0,Timesheet!G11,\"\")","v":""},{"$f":"IF(Timesheet!T11>0,Timesheet!J11,\"\")","v":""},{"$f":"IFERROR(VLOOKUP(Q11,ESG!M$2:N$13,2,FALSE),R11)","v":""},{"$f":"IFERROR(VLOOKUP(S11,IF(S11=3165,AL$2:AM$2,ESG!A$2:G$54),IF(S11=3165,2,7),0),0)","v":0},{"$f":"IF(Timesheet!V11>0,Timesheet!G11,\"\")","v":""},{"$f":"IF(Timesheet!V11>0,Timesheet!J11,\"\")","v":""},{"$f":"IFERROR(VLOOKUP(U11,ESG!M$2:N$13,2,FALSE),V11)","v":""},{"$f":"IFERROR(VLOOKUP(W11,IF(W11=3165,AL$2:AM$2,ESG!A$2:H$54),IF(W11=3165,2,8),0),0)","v":0},{"$f":"IF(Timesheet!X11>0,Timesheet!G11,\"\")","v":""},{"$f":"IF(Timesheet!X11>0,Timesheet!J11,\"\")","v":""},"",{"$f":"IFERROR(VLOOKUP(AA11,IF(AA11=3165,AL$2:AM$2,ESG!A$2:I$54),IF(AA11=3165,2,9),0),0)","v":0},{"$f":"IF(Timesheet!Z11>0,Timesheet!G11,\"\")","v":""},{"$f":"IF(Timesheet!Z11>0,Timesheet!J11,\"\")","v":""},"",{"$f":"IFERROR(VLOOKUP(AE11,IF(AE11=3165,AL$2:AM$2,ESG!A$2:J$54),IF(AE11=3165,2,10),0),0)","v":0},{"$f":"IF(Timesheet!AB11>0,Timesheet!G11,\"\")","v":""},{"$f":"IF(Timesheet!AB11>0,Timesheet!J11,\"\")","v":""},"",{"$f":"IFERROR(VLOOKUP(AI11,IF(AI11=3165,AL$2:AM$2,ESG!A$2:K$54),IF(AI11=3165,2,11),0),0)","v":0}]
[{"$f":"IF(Timesheet!L12>0,Timesheet!G12,\"\")","v":""},{"$f":"IF(Timesheet!L12>0,Timesheet!J12,\"\")","v":""},"",{"$f":"IFERROR(VLOOKUP(C12,IF(C12=3165,AL$2:AM$2,ESG!A$2:C$54),IF(C12=3165,2,3),0),0)","v":0},{"$f":"IF(Timesheet!N12>0,Timesheet!G12,\"\")","v":""},{"$f":"IF(Timesheet!N12>0,Timesheet!J12,\"\")","v":""},"",{"$f":"IFERROR(VLOOKUP(G12,IF(G12=3165,AL$2:AM$2,ESG!A$2:D$54),IF(G12=3165,2,4),0),0)","v":0},{"$f":"IF(Timesheet!P12>0,Timesheet!G12,\"\")","v":""},{"$f":"IF(Timesheet!P12>0,Timesheet!J12,\"\")","v":""},"",{"$f":"IFERROR(VLOOKUP(K12,IF(K12=3165,AL$2:AM$2,ESG!A$2:E$54),IF(K12=3165,2,5),0),0)","v":0},{"$f":"IF(Timesheet!R12>0,Timesheet!G12,\"\")","v":""},{"$f":"IF(Timesheet!R12>0,Timesheet!J12,\"\")","v":""},{"$f":"IFERROR(VLOOKUP(M12,ESG!M$2:N$13,2,FALSE),N12)","v":""},{"$f":"IFERROR(VLOOKUP(O12,IF(O12=3165,AL$2:AM$2,ESG!A$2:F$54),IF(O12=3165,2,6),0),0)","v":0},{"$f":"IF(Timesheet!T12>0,Timesheet!G12,\"\")","v":""},{"$f":"IF(Timesheet!T12>0,Timesheet!J12,\"\")","v":""},{"$f":"IFERROR(VLOOKUP(Q12,ESG!M$2:N$13,2,FALSE),R12)","v":""},{"$f":"IFERROR(VLOOKUP(S12,IF(S12=3165,AL$2:AM$2,ESG!A$2:G$54),IF(S12=3165,2,7),0),0)","v":0},{"$f":"IF(Timesheet!V12>0,Timesheet!G12,\"\")","v":""},{"$f":"IF(Timesheet!V12>0,Timesheet!J12,\"\")","v":""},{"$f":"IFERROR(VLOOKUP(U12,ESG!M$2:N$13,2,FALSE),V12)","v":""},{"$f":"IFERROR(VLOOKUP(W12,IF(W12=3165,AL$2:AM$2,ESG!A$2:H$54),IF(W12=3165,2,8),0),0)","v":0},{"$f":"IF(Timesheet!X12>0,Timesheet!G12,\"\")","v":""},{"$f":"IF(Timesheet!X12>0,Timesheet!J12,\"\")","v":""},"",{"$f":"IFERROR(VLOOKUP(AA12,IF(AA12=3165,AL$2:AM$2,ESG!A$2:I$54),IF(AA12=3165,2,9),0),0)","v":0},{"$f":"IF(Timesheet!Z12>0,Timesheet!G12,\"\")","v":""},{"$f":"IF(Timesheet!Z12>0,Timesheet!J12,\"\")","v":""},"",{"$f":"IFERROR(VLOOKUP(AE12,IF(AE12=3165,AL$2:AM$2,ESG!A$2:J$54),IF(AE12=3165,2,10),0),0)","v":0},{"$f":"IF(Timesheet!AB12>0,Timesheet!G12,\"\")","v":""},{"$f":"IF(Timesheet!AB12>0,Timesheet!J12,\"\")","v":""},"",{"$f":"IFERROR(VLOOKUP(AI12,IF(AI12=3165,AL$2:AM$2,ESG!A$2:K$54),IF(AI12=3165,2,11),0),0)","v":0}]
[{"$f":"IF(Timesheet!L13>0,Timesheet!G13,\"\")","v":""},{"$f":"IF(Timesheet!L13>0,Timesheet!J13,\"\")","v":""},"",{"$f":"IFERROR(VLOOKUP(C13,IF(C13=3165,AL$2:AM$2,ESG!A$2:C$54),IF(C13=3165,2,3),0),0)","v":0},{"$f":"IF(Timesheet!N13>0,Timesheet!G13,\"\")","v":""},{"$f":"IF(Timesheet!N13>0,Timesheet!J13,\"\")","v":""},"",{"$f":"IFERROR(VLOOKUP(G13,IF(G13=3165,AL$2:AM$2,ESG!A$2:D$54),IF(G13=3165,2,4),0),0)","v":0},{"$f":"IF(Timesheet!P13>0,Timesheet!G13,\"\")","v":""},{"$f":"IF(Timesheet!P13>0,Timesheet!J13,\"\")","v":""},"",{"$f":"IFERROR(VLOOKUP(K13,IF(K13=3165,AL$2:AM$2,ESG!A$2:E$54),IF(K13=3165,2,5),0),0)","v":0},{"$f":"IF(Timesheet!R13>0,Timesheet!G13,\"\")","v":""},{"$f":"IF(Timesheet!R13>0,Timesheet!J13,\"\")","v":""},{"$f":"IFERROR(VLOOKUP(M13,ESG!M$2:N$13,2,FALSE),N13)","v":""},{"$f":"IFERROR(VLOOKUP(O13,IF(O13=3165,AL$2:AM$2,ESG!A$2:F$54),IF(O13=3165,2,6),0),0)","v":0},{"$f":"IF(Timesheet!T13>0,Timesheet!G13,\"\")","v":""},{"$f":"IF(Timesheet!T13>0,Timesheet!J13,\"\")","v":""},{"$f":"IFERROR(VLOOKUP(Q13,ESG!M$2:N$13,2,FALSE),R13)","v":""},{"$f":"IFERROR(VLOOKUP(S13,IF(S13=3165,AL$2:AM$2,ESG!A$2:G$54),IF(S13=3165,2,7),0),0)","v":0},{"$f":"IF(Timesheet!V13>0,Timesheet!G13,\"\")","v":""},{"$f":"IF(Timesheet!V13>0,Timesheet!J13,\"\")","v":""},{"$f":"IFERROR(VLOOKUP(U13,ESG!M$2:N$13,2,FALSE),V13)","v":""},{"$f":"IFERROR(VLOOKUP(W13,IF(W13=3165,AL$2:AM$2,ESG!A$2:H$54),IF(W13=3165,2,8),0),0)","v":0},{"$f":"IF(Timesheet!X13>0,Timesheet!G13,\"\")","v":""},{"$f":"IF(Timesheet!X13>0,Timesheet!J13,\"\")","v":""},"",{"$f":"IFERROR(VLOOKUP(AA13,IF(AA13=3165,AL$2:AM$2,ESG!A$2:I$54),IF(AA13=3165,2,9),0),0)","v":0},{"$f":"IF(Timesheet!Z13>0,Timesheet!G13,\"\")","v":""},{"$f":"IF(Timesheet!Z13>0,Timesheet!J13,\"\")","v":""},"",{"$f":"IFERROR(VLOOKUP(AE13,IF(AE13=3165,AL$2:AM$2,ESG!A$2:J$54),IF(AE13=3165,2,10),0),0)","v":0},{"$f":"IF(Timesheet!AB13>0,Timesheet!G13,\"\")","v":""},{"$f":"IF(Timesheet!AB13>0,Timesheet!J13,\"\")","v":""},"",{"$f":"IFERROR(VLOOKUP(AI13,IF(AI13=3165,AL$2:AM$2,ESG!A$2:K$54),IF(AI13=3165,2,11),0),0)","v":0}]
[{"$f":"IF(Timesheet!L14>0,Timesheet!G14,\"\")","v":""},{"$f":"IF(Timesheet!L14>0,Timesheet!J14,\"\")","v":""},"",{"$f":"IFERROR(VLOOKUP(C14,IF(C14=3165,AL$2:AM$2,ESG!A$2:C$54),IF(C14=3165,2,3),0),0)","v":0},{"$f":"IF(Timesheet!N14>0,Timesheet!G14,\"\")","v":""},{"$f":"IF(Timesheet!N14>0,Timesheet!J14,\"\")","v":""},"",{"$f":"IFERROR(VLOOKUP(G14,IF(G14=3165,AL$2:AM$2,ESG!A$2:D$54),IF(G14=3165,2,4),0),0)","v":0},{"$f":"IF(Timesheet!P14>0,Timesheet!G14,\"\")","v":""},{"$f":"IF(Timesheet!P14>0,Timesheet!J14,\"\")","v":""},"",{"$f":"IFERROR(VLOOKUP(K14,IF(K14=3165,AL$2:AM$2,ESG!A$2:E$54),IF(K14=3165,2,5),0),0)","v":0},{"$f":"IF(Timesheet!R14>0,Timesheet!G14,\"\")","v":""},{"$f":"IF(Timesheet!R14>0,Timesheet!J14,\"\")","v":""},{"$f":"IFERROR(VLOOKUP(M14,ESG!M$2:N$13,2,FALSE),N14)","v":""},{"$f":"IFERROR(VLOOKUP(O14,IF(O14=3165,AL$2:AM$2,ESG!A$2:F$54),IF(O14=3165,2,6),0),0)","v":0},{"$f":"IF(Timesheet!T14>0,Timesheet!G14,\"\")","v":""},{"$f":"IF(Timesheet!T14>0,Timesheet!J14,\"\")","v":""},{"$f":"IFERROR(VLOOKUP(Q14,ESG!M$2:N$13,2,FALSE),R14)","v":""},{"$f":"IFERROR(VLOOKUP(S14,IF(S14=3165,AL$2:AM$2,ESG!A$2:G$54),IF(S14=3165,2,7),0),0)","v":0},{"$f":"IF(Timesheet!V14>0,Timesheet!G14,\"\")","v":""},{"$f":"IF(Timesheet!V14>0,Timesheet!J14,\"\")","v":""},{"$f":"IFERROR(VLOOKUP(U14,ESG!M$2:N$13,2,FALSE),V14)","v":""},{"$f":"IFERROR(VLOOKUP(W14,IF(W14=3165,AL$2:AM$2,ESG!A$2:H$54),IF(W14=3165,2,8),0),0)","v":0},{"$f":"IF(Timesheet!X14>0,Timesheet!G14,\"\")","v":""},{"$f":"IF(Timesheet!X14>0,Timesheet!J14,\"\")","v":""},"",{"$f":"IFERROR(VLOOKUP(AA14,IF(AA14=3165,AL$2:AM$2,ESG!A$2:I$54),IF(AA14=3165,2,9),0),0)","v":0},{"$f":"IF(Timesheet!Z14>0,Timesheet!G14,\"\")","v":""},{"$f":"IF(Timesheet!Z14>0,Timesheet!J14,\"\")","v":""},"",{"$f":"IFERROR(VLOOKUP(AE14,IF(AE14=3165,AL$2:AM$2,ESG!A$2:J$54),IF(AE14=3165,2,10),0),0)","v":0},{"$f":"IF(Timesheet!AB14>0,Timesheet!G14,\"\")","v":""},{"$f":"IF(Timesheet!AB14>0,Timesheet!J14,\"\")","v":""},"",{"$f":"IFERROR(VLOOKUP(AI14,IF(AI14=3165,AL$2:AM$2,ESG!A$2:K$54),IF(AI14=3165,2,11),0),0)","v":0}]
[{"$f":"IF(Timesheet!L15>0,Timesheet!G15,\"\")","v":""},{"$f":"IF(Timesheet!L15>0,Timesheet!J15,\"\")","v":""},"",{"$f":"IFERROR(VLOOKUP(C15,IF(C15=3165,AL$2:AM$2,ESG!A$2:C$54),IF(C15=3165,2,3),0),0)","v":0},{"$f":"IF(Timesheet!N15>0,Timesheet!G15,\"\")","v":""},{"$f":"IF(Timesheet!N15>0,Timesheet!J15,\"\")","v":""},"",{"$f":"IFERROR(VLOOKUP(G15,IF(G15=3165,AL$2:AM$2,ESG!A$2:D$54),IF(G15=3165,2,4),0),0)","v":0},{"$f":"IF(Timesheet!P15>0,Timesheet!G15,\"\")","v":""},{"$f":"IF(Timesheet!P15>0,Timesheet!J15,\"\")","v":""},"",{"$f":"IFERROR(VLOOKUP(K15,IF(K15=3165,AL$2:AM$2,ESG!A$2:E$54),IF(K15=3165,2,5),0),0)","v":0},{"$f":"IF(Timesheet!R15>0,Timesheet!G15,\"\")","v":""},{"$f":"IF(Timesheet!R15>0,Timesheet!J15,\"\")","v":""},{"$f":"IFERROR(VLOOKUP(M15,ESG!M$2:N$13,2,FALSE),N15)","v":""},{"$f":"IFERROR(VLOOKUP(O15,IF(O15=3165,AL$2:AM$2,ESG!A$2:F$54),IF(O15=3165,2,6),0),0)","v":0},{"$f":"IF(Timesheet!T15>0,Timesheet!G15,\"\")","v":""},{"$f":"IF(Timesheet!T15>0,Timesheet!J15,\"\")","v":""},{"$f":"IFERROR(VLOOKUP(Q15,ESG!M$2:N$13,2,FALSE),R15)","v":""},{"$f":"IFERROR(VLOOKUP(S15,IF(S15=3165,AL$2:AM$2,ESG!A$2:G$54),IF(S15=3165,2,7),0),0)","v":0},{"$f":"IF(Timesheet!V15>0,Timesheet!G15,\"\")","v":""},{"$f":"IF(Timesheet!V15>0,Timesheet!J15,\"\")","v":""},{"$f":"IFERROR(VLOOKUP(U15,ESG!M$2:N$13,2,FALSE),V15)","v":""},{"$f":"IFERROR(VLOOKUP(W15,IF(W15=3165,AL$2:AM$2,ESG!A$2:H$54),IF(W15=3165,2,8),0),0)","v":0},{"$f":"IF(Timesheet!X15>0,Timesheet!G15,\"\")","v":""},{"$f":"IF(Timesheet!X15>0,Timesheet!J15,\"\")","v":""},"",{"$f":"IFERROR(VLOOKUP(AA15,IF(AA15=3165,AL$2:AM$2,ESG!A$2:I$54),IF(AA15=3165,2,9),0),0)","v":0},{"$f":"IF(Timesheet!Z15>0,Timesheet!G15,\"\")","v":""},{"$f":"IF(Timesheet!Z15>0,Timesheet!J15,\"\")","v":""},"",{"$f":"IFERROR(VLOOKUP(AE15,IF(AE15=3165,AL$2:AM$2,ESG!A$2:J$54),IF(AE15=3165,2,10),0),0)","v":0},{"$f":"IF(Timesheet!AB15>0,Timesheet!G15,\"\")","v":""},{"$f":"IF(Timesheet!AB15>0,Timesheet!J15,\"\")","v":""},"",{"$f":"IFERROR(VLOOKUP(AI15,IF(AI15=3165,AL$2:AM$2,ESG!A$2:K$54),IF(AI15=3165,2,11),0),0)","v":0}]
[{"$f":"IF(Timesheet!L16>0,Timesheet!G16,\"\")","v":""},{"$f":"IF(Timesheet!L16>0,Timesheet!J16,\"\")","v":""},"",{"$f":"IFERROR(VLOOKUP(C16,IF(C16=3165,AL$2:AM$2,ESG!A$2:C$54),IF(C16=3165,2,3),0),0)","v":0},{"$f":"IF(Timesheet!N16>0,Timesheet!G16,\"\")","v":""},{"$f":"IF(Timesheet!N16>0,Timesheet!J16,\"\")","v":""},"",{"$f":"IFERROR(VLOOKUP(G16,IF(G16=3165,AL$2:AM$2,ESG!A$2:D$54),IF(G16=3165,2,4),0),0)","v":0},{"$f":"IF(Timesheet!P16>0,Timesheet!G16,\"\")","v":""},{"$f":"IF(Timesheet!P16>0,Timesheet!J16,\"\")","v":""},"",{"$f":"IFERROR(VLOOKUP(K16,IF(K16=3165,AL$2:AM$2,ESG!A$2:E$54),IF(K16=3165,2,5),0),0)","v":0},{"$f":"IF(Timesheet!R16>0,Timesheet!G16,\"\")","v":""},{"$f":"IF(Timesheet!R16>0,Timesheet!J16,\"\")","v":""},{"$f":"IFERROR(VLOOKUP(M16,ESG!M$2:N$13,2,FALSE),N16)","v":""},{"$f":"IFERROR(VLOOKUP(O16,IF(O16=3165,AL$2:AM$2,ESG!A$2:F$54),IF(O16=3165,2,6),0),0)","v":0},{"$f":"IF(Timesheet!T16>0,Timesheet!G16,\"\")","v":""},{"$f":"IF(Timesheet!T16>0,Timesheet!J16,\"\")","v":""},{"$f":"IFERROR(VLOOKUP(Q16,ESG!M$2:N$13,2,FALSE),R16)","v":""},{"$f":"IFERROR(VLOOKUP(S16,IF(S16=3165,AL$2:AM$2,ESG!A$2:G$54),IF(S16=3165,2,7),0),0)","v":0},{"$f":"IF(Timesheet!V16>0,Timesheet!G16,\"\")","v":""},{"$f":"IF(Timesheet!V16>0,Timesheet!J16,\"\")","v":""},{"$f":"IFERROR(VLOOKUP(U16,ESG!M$2:N$13,2,FALSE),V16)","v":""},{"$f":"IFERROR(VLOOKUP(W16,IF(W16=3165,AL$2:AM$2,ESG!A$2:H$54),IF(W16=3165,2,8),0),0)","v":0},{"$f":"IF(Timesheet!X16>0,Timesheet!G16,\"\")","v":""},{"$f":"IF(Timesheet!X16>0,Timesheet!J16,\"\")","v":""},"",{"$f":"IFERROR(VLOOKUP(AA16,IF(AA16=3165,AL$2:AM$2,ESG!A$2:I$54),IF(AA16=3165,2,9),0),0)","v":0},{"$f":"IF(Timesheet!Z16>0,Timesheet!G16,\"\")","v":""},{"$f":"IF(Timesheet!Z16>0,Timesheet!J16,\"\")","v":""},"",{"$f":"IFERROR(VLOOKUP(AE16,IF(AE16=3165,AL$2:AM$2,ESG!A$2:J$54),IF(AE16=3165,2,10),0),0)","v":0},{"$f":"IF(Timesheet!AB16>0,Timesheet!G16,\"\")","v":""},{"$f":"IF(Timesheet!AB16>0,Timesheet!J16,\"\")","v":""},"",{"$f":"IFERROR(VLOOKUP(AI16,IF(AI16=3165,AL$2:AM$2,ESG!A$2:K$54),IF(AI16=3165,2,11),0),0)","v":0}]
[{"$f":"IF(Timesheet!L17>0,Timesheet!G17,\"\")","v":""},{"$f":"IF(Timesheet!L17>0,Timesheet!J17,\"\")","v":""},"",{"$f":"IFERROR(VLOOKUP(C17,IF(C17=3165,AL$2:AM$2,ESG!A$2:C$54),IF(C17=3165,2,3),0),0)","v":0},{"$f":"IF(Timesheet!N17>0,Timesheet!G17,\"\")","v":""},{"$f":"IF(Timesheet!N17>0,Timesheet!J17,\"\")","v":""},"",{"$f":"IFERROR(VLOOKUP(G17,IF(G17=3165,AL$2:AM$2,ESG!A$2:D$54),IF(G17=3165,2,4),0),0)","v":0},{"$f":"IF(Timesheet!P17>0,Timesheet!G17,\"\")","v":""},{"$f":"IF(Timesheet!P17>0,Timesheet!J17,\"\")","v":""},"",{"$f":"IFERROR(VLOOKUP(K17,IF(K17=3165,AL$2:AM$2,ESG!A$2:E$54),IF(K17=3165,2,5),0),0)","v":0},{"$f":"IF(Timesheet!R17>0,Timesheet!G17,\"\")","v":""},{"$f":"IF(Timesheet!R17>0,Timesheet!J17,\"\")","v":""},{"$f":"IFERROR(VLOOKUP(M17,ESG!M$2:N$13,2,FALSE),N17)","v":""},{"$f":"IFERROR(VLOOKUP(O17,IF(O17=3165,AL$2:AM$2,ESG!A$2:F$54),IF(O17=3165,2,6),0),0)","v":0},{"$f":"IF(Timesheet!T17>0,Timesheet!G17,\"\")","v":""},{"$f":"IF(Timesheet!T17>0,Timesheet!J17,\"\")","v":""},{"$f":"IFERROR(VLOOKUP(Q17,ESG!M$2:N$13,2,FALSE),R17)","v":""},{"$f":"IFERROR(VLOOKUP(S17,IF(S17=3165,AL$2:AM$2,ESG!A$2:G$54),IF(S17=3165,2,7),0),0)","v":0},{"$f":"IF(Timesheet!V17>0,Timesheet!G17,\"\")","v":""},{"$f":"IF(Timesheet!V17>0,Timesheet!J17,\"\")","v":""},{"$f":"IFERROR(VLOOKUP(U17,ESG!M$2:N$13,2,FALSE),V17)","v":""},{"$f":"IFERROR(VLOOKUP(W17,IF(W17=3165,AL$2:AM$2,ESG!A$2:H$54),IF(W17=3165,2,8),0),0)","v":0},{"$f":"IF(Timesheet!X17>0,Timesheet!G17,\"\")","v":""},{"$f":"IF(Timesheet!X17>0,Timesheet!J17,\"\")","v":""},"",{"$f":"IFERROR(VLOOKUP(AA17,IF(AA17=3165,AL$2:AM$2,ESG!A$2:I$54),IF(AA17=3165,2,9),0),0)","v":0},{"$f":"IF(Timesheet!Z17>0,Timesheet!G17,\"\")","v":""},{"$f":"IF(Timesheet!Z17>0,Timesheet!J17,\"\")","v":""},"",{"$f":"IFERROR(VLOOKUP(AE17,IF(AE17=3165,AL$2:AM$2,ESG!A$2:J$54),IF(AE17=3165,2,10),0),0)","v":0},{"$f":"IF(Timesheet!AB17>0,Timesheet!G17,\"\")","v":""},{"$f":"IF(Timesheet!AB17>0,Timesheet!J17,\"\")","v":""},"",{"$f":"IFERROR(VLOOKUP(AI17,IF(AI17=3165,AL$2:AM$2,ESG!A$2:K$54),IF(AI17=3165,2,11),0),0)","v":0}]
[{"$f":"IF(Timesheet!L18>0,Timesheet!G18,\"\")","v":""},{"$f":"IF(Timesheet!L18>0,Timesheet!J18,\"\")","v":""},"",{"$f":"IFERROR(VLOOKUP(C18,IF(C18=3165,AL$2:AM$2,ESG!A$2:C$54),IF(C18=3165,2,3),0),0)","v":0},{"$f":"IF(Timesheet!N18>0,Timesheet!G18,\"\")","v":""},{"$f":"IF(Timesheet!N18>0,Timesheet!J18,\"\")","v":""},"",{"$f":"IFERROR(VLOOKUP(G18,IF(G18=3165,AL$2:AM$2,ESG!A$2:D$54),IF(G18=3165,2,4),0),0)","v":0},{"$f":"IF(Timesheet!P18>0,Timesheet!G18,\"\")","v":""},{"$f":"IF(Timesheet!P18>0,Timesheet!J18,\"\")","v":""},"",{"$f":"IFERROR(VLOOKUP(K18,IF(K18=3165,AL$2:AM$2,ESG!A$2:E$54),IF(K18=3165,2,5),0),0)","v":0},{"$f":"IF(Timesheet!R18>0,Timesheet!G18,\"\")","v":""},{"$f":"IF(Timesheet!R18>0,Timesheet!J18,\"\")","v":""},{"$f":"IFERROR(VLOOKUP(M18,ESG!M$2:N$13,2,FALSE),N18)","v":""},{"$f":"IFERROR(VLOOKUP(O18,IF(O18=3165,AL$2:AM$2,ESG!A$2:F$54),IF(O18=3165,2,6),0),0)","v":0},{"$f":"IF(Timesheet!T18>0,Timesheet!G18,\"\")","v":""},{"$f":"IF(Timesheet!T18>0,Timesheet!J18,\"\")","v":""},{"$f":"IFERROR(VLOOKUP(Q18,ESG!M$2:N$13,2,FALSE),R18)","v":""},{"$f":"IFERROR(VLOOKUP(S18,IF(S18=3165,AL$2:AM$2,ESG!A$2:G$54),IF(S18=3165,2,7),0),0)","v":0},{"$f":"IF(Timesheet!V18>0,Timesheet!G18,\"\")","v":""},{"$f":"IF(Timesheet!V18>0,Timesheet!J18,\"\")","v":""},{"$f":"IFERROR(VLOOKUP(U18,ESG!M$2:N$13,2,FALSE),V18)","v":""},{"$f":"IFERROR(VLOOKUP(W18,IF(W18=3165,AL$2:AM$2,ESG!A$2:H$54),IF(W18=3165,2,8),0),0)","v":0},{"$f":"IF(Timesheet!X18>0,Timesheet!G18,\"\")","v":""},{"$f":"IF(Timesheet!X18>0,Timesheet!J18,\"\")","v":""},"",{"$f":"IFERROR(VLOOKUP(AA18,IF(AA18=3165,AL$2:AM$2,ESG!A$2:I$54),IF(AA18=3165,2,9),0),0)","v":0},{"$f":"IF(Timesheet!Z18>0,Timesheet!G18,\"\")","v":""},{"$f":"IF(Timesheet!Z18>0,Timesheet!J18,\"\")","v":""},"",{"$f":"IFERROR(VLOOKUP(AE18,IF(AE18=3165,AL$2:AM$2,ESG!A$2:J$54),IF(AE18=3165,2,10),0),0)","v":0},{"$f":"IF(Timesheet!AB18>0,Timesheet!G18,\"\")","v":""},{"$f":"IF(Timesheet!AB18>0,Timesheet!J18,\"\")","v":""},"",{"$f":"IFERROR(VLOOKUP(AI18,IF(AI18=3165,AL$2:AM$2,ESG!A$2:K$54),IF(AI18=3165,2,11),0),0)","v":0}]
[{"$f":"IF(Timesheet!L19>0,Timesheet!G19,\"\")","v":""},{"$f":"IF(Timesheet!L19>0,Timesheet!J19,\"\")","v":""},"",{"$f":"IFERROR(VLOOKUP(C19,IF(C19=3165,AL$2:AM$2,ESG!A$2:C$54),IF(C19=3165,2,3),0),0)","v":0},{"$f":"IF(Timesheet!N19>0,Timesheet!G19,\"\")","v":""},{"$f":"IF(Timesheet!N19>0,Timesheet!J19,\"\")","v":""},"",{"$f":"IFERROR(VLOOKUP(G19,IF(G19=3165,AL$2:AM$2,ESG!A$2:D$54),IF(G19=3165,2,4),0),0)","v":0},{"$f":"IF(Timesheet!P19>0,Timesheet!G19,\"\")","v":""},{"$f":"IF(Timesheet!P19>0,Timesheet!J19,\"\")","v":""},"",{"$f":"IFERROR(VLOOKUP(K19,IF(K19=3165,AL$2:AM$2,ESG!A$2:E$54),IF(K19=3165,2,5),0),0)","v":0},{"$f":"IF(Timesheet!R19>0,Timesheet!G19,\"\")","v":""},{"$f":"IF(Timesheet!R19>0,Timesheet!J19,\"\")","v":""},{"$f":"IFERROR(VLOOKUP(M19,ESG!M$2:N$13,2,FALSE),N19)","v":""},{"$f":"IFERROR(VLOOKUP(O19,IF(O19=3165,AL$2:AM$2,ESG!A$2:F$54),IF(O19=3165,2,6),0),0)","v":0},{"$f":"IF(Timesheet!T19>0,Timesheet!G19,\"\")","v":""},{"$f":"IF(Timesheet!T19>0,Timesheet!J19,\"\")","v":""},{"$f":"IFERROR(VLOOKUP(Q19,ESG!M$2:N$13,2,FALSE),R19)","v":""},{"$f":"IFERROR(VLOOKUP(S19,IF(S19=3165,AL$2:AM$2,ESG!A$2:G$54),IF(S19=3165,2,7),0),0)","v":0},{"$f":"IF(Timesheet!V19>0,Timesheet!G19,\"\")","v":""},{"$f":"IF(Timesheet!V19>0,Timesheet!J19,\"\")","v":""},{"$f":"IFERROR(VLOOKUP(U19,ESG!M$2:N$13,2,FALSE),V19)","v":""},{"$f":"IFERROR(VLOOKUP(W19,IF(W19=3165,AL$2:AM$2,ESG!A$2:H$54),IF(W19=3165,2,8),0),0)","v":0},{"$f":"IF(Timesheet!X19>0,Timesheet!G19,\"\")","v":""},{"$f":"IF(Timesheet!X19>0,Timesheet!J19,\"\")","v":""},"",{"$f":"IFERROR(VLOOKUP(AA19,IF(AA19=3165,AL$2:AM$2,ESG!A$2:I$54),IF(AA19=3165,2,9),0),0)","v":0},{"$f":"IF(Timesheet!Z19>0,Timesheet!G19,\"\")","v":""},{"$f":"IF(Timesheet!Z19>0,Timesheet!J19,\"\")","v":""},"",{"$f":"IFERROR(VLOOKUP(AE19,IF(AE19=3165,AL$2:AM$2,ESG!A$2:J$54),IF(AE19=3165,2,10),0),0)","v":0},{"$f":"IF(Timesheet!AB19>0,Timesheet!G19,\"\")","v":""},{"$f":"IF(Timesheet!AB19>0,Timesheet!J19,\"\")","v":""},"",{"$f":"IFERROR(VLOOKUP(AI19,IF(AI19=3165,AL$2:AM$2,ESG!A$2:K$54),IF(AI19=3165,2,11),0),0)","v":0}]
[{"$f":"IF(Timesheet!L20>0,Timesheet!G20,\"\")","v":""},{"$f":"IF(Timesheet!L20>0,Timesheet!J20,\"\")","v":""},"",{"$f":"IFERROR(VLOOKUP(C20,IF(C20=3165,AL$2:AM$2,ESG!A$2:C$54),IF(C20=3165,2,3),0),0)","v":0},{"$f":"IF(Timesheet!N20>0,Timesheet!G20,\"\")","v":""},{"$f":"IF(Timesheet!N20>0,Timesheet!J20,\"\")","v":""},"",{"$f":"IFERROR(VLOOKUP(G20,IF(G20=3165,AL$2:AM$2,ESG!A$2:D$54),IF(G20=3165,2,4),0),0)","v":0},{"$f":"IF(Timesheet!P20>0,Timesheet!G20,\"\")","v":""},{"$f":"IF(Timesheet!P20>0,Timesheet!J20,\"\")","v":""},"",{"$f":"IFERROR(VLOOKUP(K20,IF(K20=3165,AL$2:AM$2,ESG!A$2:E$54),IF(K20=3165,2,5),0),0)","v":0},{"$f":"IF(Timesheet!R20>0,Timesheet!G20,\"\")","v":""},{"$f":"IF(Timesheet!R20>0,Timesheet!J20,\"\")","v":""},{"$f":"IFERROR(VLOOKUP(M20,ESG!M$2:N$13,2,FALSE),N20)","v":""},{"$f":"IFERROR(VLOOKUP(O20,IF(O20=3165,AL$2:AM$2,ESG!A$2:F$54),IF(O20=3165,2,6),0),0)","v":0},{"$f":"IF(Timesheet!T20>0,Timesheet!G20,\"\")","v":""},{"$f":"IF(Timesheet!T20>0,Timesheet!J20,\"\")","v":""},{"$f":"IFERROR(VLOOKUP(Q20,ESG!M$2:N$13,2,FALSE),R20)","v":""},{"$f":"IFERROR(VLOOKUP(S20,IF(S20=3165,AL$2:AM$2,ESG!A$2:G$54),IF(S20=3165,2,7),0),0)","v":0},{"$f":"IF(Timesheet!V20>0,Timesheet!G20,\"\")","v":""},{"$f":"IF(Timesheet!V20>0,Timesheet!J20,\"\")","v":""},{"$f":"IFERROR(VLOOKUP(U20,ESG!M$2:N$13,2,FALSE),V20)","v":""},{"$f":"IFERROR(VLOOKUP(W20,IF(W20=3165,AL$2:AM$2,ESG!A$2:H$54),IF(W20=3165,2,8),0),0)","v":0},{"$f":"IF(Timesheet!X20>0,Timesheet!G20,\"\")","v":""},{"$f":"IF(Timesheet!X20>0,Timesheet!J20,\"\")","v":""},"",{"$f":"IFERROR(VLOOKUP(AA20,IF(AA20=3165,AL$2:AM$2,ESG!A$2:I$54),IF(AA20=3165,2,9),0),0)","v":0},{"$f":"IF(Timesheet!Z20>0,Timesheet!G20,\"\")","v":""},{"$f":"IF(Timesheet!Z20>0,Timesheet!J20,\"\")","v":""},"",{"$f":"IFERROR(VLOOKUP(AE20,IF(AE20=3165,AL$2:AM$2,ESG!A$2:J$54),IF(AE20=3165,2,10),0),0)","v":0},{"$f":"IF(Timesheet!AB20>0,Timesheet!G20,\"\")","v":""},{"$f":"IF(Timesheet!AB20>0,Timesheet!J20,\"\")","v":""},"",{"$f":"IFERROR(VLOOKUP(AI20,IF(AI20=3165,AL$2:AM$2,ESG!A$2:K$54),IF(AI20=3165,2,11),0),0)","v":0}]
[{"$f":"IF(Timesheet!L21>0,Timesheet!G21,\"\")","v":""},{"$f":"IF(Timesheet!L21>0,Timesheet!J21,\"\")","v":""},"",{"$f":"IFERROR(VLOOKUP(C21,IF(C21=3165,AL$2:AM$2,ESG!A$2:C$54),IF(C21=3165,2,3),0),0)","v":0},{"$f":"IF(Timesheet!N21>0,Timesheet!G21,\"\")","v":""},{"$f":"IF(Timesheet!N21>0,Timesheet!J21,\"\")","v":""},"",{"$f":"IFERROR(VLOOKUP(G21,IF(G21=3165,AL$2:AM$2,ESG!A$2:D$54),IF(G21=3165,2,4),0),0)","v":0},{"$f":"IF(Timesheet!P21>0,Timesheet!G21,\"\")","v":""},{"$f":"IF(Timesheet!P21>0,Timesheet!J21,\"\")","v":""},"",{"$f":"IFERROR(VLOOKUP(K21,IF(K21=3165,AL$2:AM$2,ESG!A$2:E$54),IF(K21=3165,2,5),0),0)","v":0},{"$f":"IF(Timesheet!R21>0,Timesheet!G21,\"\")","v":""},{"$f":"IF(Timesheet!R21>0,Timesheet!J21,\"\")","v":""},{"$f":"IFERROR(VLOOKUP(M21,ESG!M$2:N$13,2,FALSE),N21)","v":""},{"$f":"IFERROR(VLOOKUP(O21,IF(O21=3165,AL$2:AM$2,ESG!A$2:F$54),IF(O21=3165,2,6),0),0)","v":0},{"$f":"IF(Timesheet!T21>0,Timesheet!G21,\"\")","v":""},{"$f":"IF(Timesheet!T21>0,Timesheet!J21,\"\")","v":""},{"$f":"IFERROR(VLOOKUP(Q21,ESG!M$2:N$13,2,FALSE),R21)","v":""},{"$f":"IFERROR(VLOOKUP(S21,IF(S21=3165,AL$2:AM$2,ESG!A$2:G$54),IF(S21=3165,2,7),0),0)","v":0},{"$f":"IF(Timesheet!V21>0,Timesheet!G21,\"\")","v":""},{"$f":"IF(Timesheet!V21>0,Timesheet!J21,\"\")","v":""},{"$f":"IFERROR(VLOOKUP(U21,ESG!M$2:N$13,2,FALSE),V21)","v":""},{"$f":"IFERROR(VLOOKUP(W21,IF(W21=3165,AL$2:AM$2,ESG!A$2:H$54),IF(W21=3165,2,8),0),0)","v":0},{"$f":"IF(Timesheet!X21>0,Timesheet!G21,\"\")","v":""},{"$f":"IF(Timesheet!X21>0,Timesheet!J21,\"\")","v":""},"",{"$f":"IFERROR(VLOOKUP(AA21,IF(AA21=3165,AL$2:AM$2,ESG!A$2:I$54),IF(AA21=3165,2,9),0),0)","v":0},{"$f":"IF(Timesheet!Z21>0,Timesheet!G21,\"\")","v":""},{"$f":"IF(Timesheet!Z21>0,Timesheet!J21,\"\")","v":""},"",{"$f":"IFERROR(VLOOKUP(AE21,IF(AE21=3165,AL$2:AM$2,ESG!A$2:J$54),IF(AE21=3165,2,10),0),0)","v":0},{"$f":"IF(Timesheet!AB21>0,Timesheet!G21,\"\")","v":""},{"$f":"IF(Timesheet!AB21>0,Timesheet!J21,\"\")","v":""},"",{"$f":"IFERROR(VLOOKUP(AI21,IF(AI21=3165,AL$2:AM$2,ESG!A$2:K$54),IF(AI21=3165,2,11),0),0)","v":0}]
[{"$f":"IF(Timesheet!L22>0,Timesheet!G22,\"\")","v":""},{"$f":"IF(Timesheet!L22>0,Timesheet!J22,\"\")","v":""},"",{"$f":"IFERROR(VLOOKUP(C22,IF(C22=3165,AL$2:AM$2,ESG!A$2:C$54),IF(C22=3165,2,3),0),0)","v":0},{"$f":"IF(Timesheet!N22>0,Timesheet!G22,\"\")","v":""},{"$f":"IF(Timesheet!N22>0,Timesheet!J22,\"\")","v":""},"",{"$f":"IFERROR(VLOOKUP(G22,IF(G22=3165,AL$2:AM$2,ESG!A$2:D$54),IF(G22=3165,2,4),0),0)","v":0},{"$f":"IF(Timesheet!P22>0,Timesheet!G22,\"\")","v":""},{"$f":"IF(Timesheet!P22>0,Timesheet!J22,\"\")","v":""},"",{"$f":"IFERROR(VLOOKUP(K22,IF(K22=3165,AL$2:AM$2,ESG!A$2:E$54),IF(K22=3165,2,5),0),0)","v":0},{"$f":"IF(Timesheet!R22>0,Timesheet!G22,\"\")","v":""},{"$f":"IF(Timesheet!R22>0,Timesheet!J22,\"\")","v":""},{"$f":"IFERROR(VLOOKUP(M22,ESG!M$2:N$13,2,FALSE),N22)","v":""},{"$f":"IFERROR(VLOOKUP(O22,IF(O22=3165,AL$2:AM$2,ESG!A$2:F$54),IF(O22=3165,2,6),0),0)","v":0},{"$f":"IF(Timesheet!T22>0,Timesheet!G22,\"\")","v":""},{"$f":"IF(Timesheet!T22>0,Timesheet!J22,\"\")","v":""},{"$f":"IFERROR(VLOOKUP(Q22,ESG!M$2:N$13,2,FALSE),R22)","v":""},{"$f":"IFERROR(VLOOKUP(S22,IF(S22=3165,AL$2:AM$2,ESG!A$2:G$54),IF(S22=3165,2,7),0),0)","v":0},{"$f":"IF(Timesheet!V22>0,Timesheet!G22,\"\")","v":""},{"$f":"IF(Timesheet!V22>0,Timesheet!J22,\"\")","v":""},{"$f":"IFERROR(VLOOKUP(U22,ESG!M$2:N$13,2,FALSE),V22)","v":""},{"$f":"IFERROR(VLOOKUP(W22,IF(W22=3165,AL$2:AM$2,ESG!A$2:H$54),IF(W22=3165,2,8),0),0)","v":0},{"$f":"IF(Timesheet!X22>0,Timesheet!G22,\"\")","v":""},{"$f":"IF(Timesheet!X22>0,Timesheet!J22,\"\")","v":""},"",{"$f":"IFERROR(VLOOKUP(AA22,IF(AA22=3165,AL$2:AM$2,ESG!A$2:I$54),IF(AA22=3165,2,9),0),0)","v":0},{"$f":"IF(Timesheet!Z22>0,Timesheet!G22,\"\")","v":""},{"$f":"IF(Timesheet!Z22>0,Timesheet!J22,\"\")","v":""},"",{"$f":"IFERROR(VLOOKUP(AE22,IF(AE22=3165,AL$2:AM$2,ESG!A$2:J$54),IF(AE22=3165,2,10),0),0)","v":0},{"$f":"IF(Timesheet!AB22>0,Timesheet!G22,\"\")","v":""},{"$f":"IF(Timesheet!AB22>0,Timesheet!J22,\"\")","v":""},"",{"$f":"IFERROR(VLOOKUP(AI22,IF(AI22=3165,AL$2:AM$2,ESG!A$2:K$54),IF(AI22=3165,2,11),0),0)","v":0}]
[{"$f":"IF(Timesheet!L23>0,Timesheet!G23,\"\")","v":""},{"$f":"IF(Timesheet!L23>0,Timesheet!J23,\"\")","v":""},"",{"$f":"IFERROR(VLOOKUP(C23,IF(C23=3165,AL$2:AM$2,ESG!A$2:C$54),IF(C23=3165,2,3),0),0)","v":0},{"$f":"IF(Timesheet!N23>0,Timesheet!G23,\"\")","v":""},{"$f":"IF(Timesheet!N23>0,Timesheet!J23,\"\")","v":""},"",{"$f":"IFERROR(VLOOKUP(G23,IF(G23=3165,AL$2:AM$2,ESG!A$2:D$54),IF(G23=3165,2,4),0),0)","v":0},{"$f":"IF(Timesheet!P23>0,Timesheet!G23,\"\")","v":""},{"$f":"IF(Timesheet!P23>0,Timesheet!J23,\"\")","v":""},"",{"$f":"IFERROR(VLOOKUP(K23,IF(K23=3165,AL$2:AM$2,ESG!A$2:E$54),IF(K23=3165,2,5),0),0)","v":0},{"$f":"IF(Timesheet!R23>0,Timesheet!G23,\"\")","v":""},{"$f":"IF(Timesheet!R23>0,Timesheet!J23,\"\")","v":""},{"$f":"IFERROR(VLOOKUP(M23,ESG!M$2:N$13,2,FALSE),N23)","v":""},{"$f":"IFERROR(VLOOKUP(O23,IF(O23=3165,AL$2:AM$2,ESG!A$2:F$54),IF(O23=3165,2,6),0),0)","v":0},{"$f":"IF(Timesheet!T23>0,Timesheet!G23,\"\")","v":""},{"$f":"IF(Timesheet!T23>0,Timesheet!J23,\"\")","v":""},{"$f":"IFERROR(VLOOKUP(Q23,ESG!M$2:N$13,2,FALSE),R23)","v":""},{"$f":"IFERROR(VLOOKUP(S23,IF(S23=3165,AL$2:AM$2,ESG!A$2:G$54),IF(S23=3165,2,7),0),0)","v":0},{"$f":"IF(Timesheet!V23>0,Timesheet!G23,\"\")","v":""},{"$f":"IF(Timesheet!V23>0,Timesheet!J23,\"\")","v":""},{"$f":"IFERROR(VLOOKUP(U23,ESG!M$2:N$13,2,FALSE),V23)","v":""},{"$f":"IFERROR(VLOOKUP(W23,IF(W23=3165,AL$2:AM$2,ESG!A$2:H$54),IF(W23=3165,2,8),0),0)","v":0},{"$f":"IF(Timesheet!X23>0,Timesheet!G23,\"\")","v":""},{"$f":"IF(Timesheet!X23>0,Timesheet!J23,\"\")","v":""},"",{"$f":"IFERROR(VLOOKUP(AA23,IF(AA23=3165,AL$2:AM$2,ESG!A$2:I$54),IF(AA23=3165,2,9),0),0)","v":0},{"$f":"IF(Timesheet!Z23>0,Timesheet!G23,\"\")","v":""},{"$f":"IF(Timesheet!Z23>0,Timesheet!J23,\"\")","v":""},"",{"$f":"IFERROR(VLOOKUP(AE23,IF(AE23=3165,AL$2:AM$2,ESG!A$2:J$54),IF(AE23=3165,2,10),0),0)","v":0},{"$f":"IF(Timesheet!AB23>0,Timesheet!G23,\"\")","v":""},{"$f":"IF(Timesheet!AB23>0,Timesheet!J23,\"\")","v":""},"",{"$f":"IFERROR(VLOOKUP(AI23,IF(AI23=3165,AL$2:AM$2,ESG!A$2:K$54),IF(AI23=3165,2,11),0),0)","v":0}]
[{"$f":"IF(Timesheet!L24>0,Timesheet!G24,\"\")","v":""},{"$f":"IF(Timesheet!L24>0,Timesheet!J24,\"\")","v":""},"",{"$f":"IFERROR(VLOOKUP(C24,IF(C24=3165,AL$2:AM$2,ESG!A$2:C$54),IF(C24=3165,2,3),0),0)","v":0},{"$f":"IF(Timesheet!N24>0,Timesheet!G24,\"\")","v":""},{"$f":"IF(Timesheet!N24>0,Timesheet!J24,\"\")","v":""},"",{"$f":"IFERROR(VLOOKUP(G24,IF(G24=3165,AL$2:AM$2,ESG!A$2:D$54),IF(G24=3165,2,4),0),0)","v":0},{"$f":"IF(Timesheet!P24>0,Timesheet!G24,\"\")","v":""},{"$f":"IF(Timesheet!P24>0,Timesheet!J24,\"\")","v":""},"",{"$f":"IFERROR(VLOOKUP(K24,IF(K24=3165,AL$2:AM$2,ESG!A$2:E$54),IF(K24=3165,2,5),0),0)","v":0},{"$f":"IF(Timesheet!R24>0,Timesheet!G24,\"\")","v":""},{"$f":"IF(Timesheet!R24>0,Timesheet!J24,\"\")","v":""},{"$f":"IFERROR(VLOOKUP(M24,ESG!M$2:N$13,2,FALSE),N24)","v":""},{"$f":"IFERROR(VLOOKUP(O24,IF(O24=3165,AL$2:AM$2,ESG!A$2:F$54),IF(O24=3165,2,6),0),0)","v":0},{"$f":"IF(Timesheet!T24>0,Timesheet!G24,\"\")","v":""},{"$f":"IF(Timesheet!T24>0,Timesheet!J24,\"\")","v":""},{"$f":"IFERROR(VLOOKUP(Q24,ESG!M$2:N$13,2,FALSE),R24)","v":""},{"$f":"IFERROR(VLOOKUP(S24,IF(S24=3165,AL$2:AM$2,ESG!A$2:G$54),IF(S24=3165,2,7),0),0)","v":0},{"$f":"IF(Timesheet!V24>0,Timesheet!G24,\"\")","v":""},{"$f":"IF(Timesheet!V24>0,Timesheet!J24,\"\")","v":""},{"$f":"IFERROR(VLOOKUP(U24,ESG!M$2:N$13,2,FALSE),V24)","v":""},{"$f":"IFERROR(VLOOKUP(W24,IF(W24=3165,AL$2:AM$2,ESG!A$2:H$54),IF(W24=3165,2,8),0),0)","v":0},{"$f":"IF(Timesheet!X24>0,Timesheet!G24,\"\")","v":""},{"$f":"IF(Timesheet!X24>0,Timesheet!J24,\"\")","v":""},"",{"$f":"IFERROR(VLOOKUP(AA24,IF(AA24=3165,AL$2:AM$2,ESG!A$2:I$54),IF(AA24=3165,2,9),0),0)","v":0},{"$f":"IF(Timesheet!Z24>0,Timesheet!G24,\"\")","v":""},{"$f":"IF(Timesheet!Z24>0,Timesheet!J24,\"\")","v":""},"",{"$f":"IFERROR(VLOOKUP(AE24,IF(AE24=3165,AL$2:AM$2,ESG!A$2:J$54),IF(AE24=3165,2,10),0),0)","v":0},{"$f":"IF(Timesheet!AB24>0,Timesheet!G24,\"\")","v":""},{"$f":"IF(Timesheet!AB24>0,Timesheet!J24,\"\")","v":""},"",{"$f":"IFERROR(VLOOKUP(AI24,IF(AI24=3165,AL$2:AM$2,ESG!A$2:K$54),IF(AI24=3165,2,11),0),0)","v":0}]
[{"$f":"IF(Timesheet!L25>0,Timesheet!G25,\"\")","v":""},{"$f":"IF(Timesheet!L25>0,Timesheet!J25,\"\")","v":""},"",{"$f":"IFERROR(VLOOKUP(C25,IF(C25=3165,AL$2:AM$2,ESG!A$2:C$54),IF(C25=3165,2,3),0),0)","v":0},{"$f":"IF(Timesheet!N25>0,Timesheet!G25,\"\")","v":""},{"$f":"IF(Timesheet!N25>0,Timesheet!J25,\"\")","v":""},"",{"$f":"IFERROR(VLOOKUP(G25,IF(G25=3165,AL$2:AM$2,ESG!A$2:D$54),IF(G25=3165,2,4),0),0)","v":0},{"$f":"IF(Timesheet!P25>0,Timesheet!G25,\"\")","v":""},{"$f":"IF(Timesheet!P25>0,Timesheet!J25,\"\")","v":""},"",{"$f":"IFERROR(VLOOKUP(K25,IF(K25=3165,AL$2:AM$2,ESG!A$2:E$54),IF(K25=3165,2,5),0),0)","v":0},{"$f":"IF(Timesheet!R25>0,Timesheet!G25,\"\")","v":""},{"$f":"IF(Timesheet!R25>0,Timesheet!J25,\"\")","v":""},{"$f":"IFERROR(VLOOKUP(M25,ESG!M$2:N$13,2,FALSE),N25)","v":""},{"$f":"IFERROR(VLOOKUP(O25,IF(O25=3165,AL$2:AM$2,ESG!A$2:F$54),IF(O25=3165,2,6),0),0)","v":0},{"$f":"IF(Timesheet!T25>0,Timesheet!G25,\"\")","v":""},{"$f":"IF(Timesheet!T25>0,Timesheet!J25,\"\")","v":""},{"$f":"IFERROR(VLOOKUP(Q25,ESG!M$2:N$13,2,FALSE),R25)","v":""},{"$f":"IFERROR(VLOOKUP(S25,IF(S25=3165,AL$2:AM$2,ESG!A$2:G$54),IF(S25=3165,2,7),0),0)","v":0},{"$f":"IF(Timesheet!V25>0,Timesheet!G25,\"\")","v":""},{"$f":"IF(Timesheet!V25>0,Timesheet!J25,\"\")","v":""},{"$f":"IFERROR(VLOOKUP(U25,ESG!M$2:N$13,2,FALSE),V25)","v":""},{"$f":"IFERROR(VLOOKUP(W25,IF(W25=3165,AL$2:AM$2,ESG!A$2:H$54),IF(W25=3165,2,8),0),0)","v":0},{"$f":"IF(Timesheet!X25>0,Timesheet!G25,\"\")","v":""},{"$f":"IF(Timesheet!X25>0,Timesheet!J25,\"\")","v":""},"",{"$f":"IFERROR(VLOOKUP(AA25,IF(AA25=3165,AL$2:AM$2,ESG!A$2:I$54),IF(AA25=3165,2,9),0),0)","v":0},{"$f":"IF(Timesheet!Z25>0,Timesheet!G25,\"\")","v":""},{"$f":"IF(Timesheet!Z25>0,Timesheet!J25,\"\")","v":""},"",{"$f":"IFERROR(VLOOKUP(AE25,IF(AE25=3165,AL$2:AM$2,ESG!A$2:J$54),IF(AE25=3165,2,10),0),0)","v":0},{"$f":"IF(Timesheet!AB25>0,Timesheet!G25,\"\")","v":""},{"$f":"IF(Timesheet!AB25>0,Timesheet!J25,\"\")","v":""},"",{"$f":"IFERROR(VLOOKUP(AI25,IF(AI25=3165,AL$2:AM$2,ESG!A$2:K$54),IF(AI25=3165,2,11),0),0)","v":0}]
[{"$f":"IF(Timesheet!L26>0,Timesheet!G26,\"\")","v":""},{"$f":"IF(Timesheet!L26>0,Timesheet!J26,\"\")","v":""},"",{"$f":"IFERROR(VLOOKUP(C26,IF(C26=3165,AL$2:AM$2,ESG!A$2:C$54),IF(C26=3165,2,3),0),0)","v":0},{"$f":"IF(Timesheet!N26>0,Timesheet!G26,\"\")","v":""},{"$f":"IF(Timesheet!N26>0,Timesheet!J26,\"\")","v":""},"",{"$f":"IFERROR(VLOOKUP(G26,IF(G26=3165,AL$2:AM$2,ESG!A$2:D$54),IF(G26=3165,2,4),0),0)","v":0},{"$f":"IF(Timesheet!P26>0,Timesheet!G26,\"\")","v":""},{"$f":"IF(Timesheet!P26>0,Timesheet!J26,\"\")","v":""},"",{"$f":"IFERROR(VLOOKUP(K26,IF(K26=3165,AL$2:AM$2,ESG!A$2:E$54),IF(K26=3165,2,5),0),0)","v":0},{"$f":"IF(Timesheet!R26>0,Timesheet!G26,\"\")","v":""},{"$f":"IF(Timesheet!R26>0,Timesheet!J26,\"\")","v":""},{"$f":"IFERROR(VLOOKUP(M26,ESG!M$2:N$13,2,FALSE),N26)","v":""},{"$f":"IFERROR(VLOOKUP(O26,IF(O26=3165,AL$2:AM$2,ESG!A$2:F$54),IF(O26=3165,2,6),0),0)","v":0},{"$f":"IF(Timesheet!T26>0,Timesheet!G26,\"\")","v":""},{"$f":"IF(Timesheet!T26>0,Timesheet!J26,\"\")","v":""},{"$f":"IFERROR(VLOOKUP(Q26,ESG!M$2:N$13,2,FALSE),R26)","v":""},{"$f":"IFERROR(VLOOKUP(S26,IF(S26=3165,AL$2:AM$2,ESG!A$2:G$54),IF(S26=3165,2,7),0),0)","v":0},{"$f":"IF(Timesheet!V26>0,Timesheet!G26,\"\")","v":""},{"$f":"IF(Timesheet!V26>0,Timesheet!J26,\"\")","v":""},{"$f":"IFERROR(VLOOKUP(U26,ESG!M$2:N$13,2,FALSE),V26)","v":""},{"$f":"IFERROR(VLOOKUP(W26,IF(W26=3165,AL$2:AM$2,ESG!A$2:H$54),IF(W26=3165,2,8),0),0)","v":0},{"$f":"IF(Timesheet!X26>0,Timesheet!G26,\"\")","v":""},{"$f":"IF(Timesheet!X26>0,Timesheet!J26,\"\")","v":""},"",{"$f":"IFERROR(VLOOKUP(AA26,IF(AA26=3165,AL$2:AM$2,ESG!A$2:I$54),IF(AA26=3165,2,9),0),0)","v":0},{"$f":"IF(Timesheet!Z26>0,Timesheet!G26,\"\")","v":""},{"$f":"IF(Timesheet!Z26>0,Timesheet!J26,\"\")","v":""},"",{"$f":"IFERROR(VLOOKUP(AE26,IF(AE26=3165,AL$2:AM$2,ESG!A$2:J$54),IF(AE26=3165,2,10),0),0)","v":0},{"$f":"IF(Timesheet!AB26>0,Timesheet!G26,\"\")","v":""},{"$f":"IF(Timesheet!AB26>0,Timesheet!J26,\"\")","v":""},"",{"$f":"IFERROR(VLOOKUP(AI26,IF(AI26=3165,AL$2:AM$2,ESG!A$2:K$54),IF(AI26=3165,2,11),0),0)","v":0}]
[{"$f":"IF(Timesheet!L27>0,Timesheet!G27,\"\")","v":""},{"$f":"IF(Timesheet!L27>0,Timesheet!J27,\"\")","v":""},"",{"$f":"IFERROR(VLOOKUP(C27,IF(C27=3165,AL$2:AM$2,ESG!A$2:C$54),IF(C27=3165,2,3),0),0)","v":0},{"$f":"IF(Timesheet!N27>0,Timesheet!G27,\"\")","v":""},{"$f":"IF(Timesheet!N27>0,Timesheet!J27,\"\")","v":""},"",{"$f":"IFERROR(VLOOKUP(G27,IF(G27=3165,AL$2:AM$2,ESG!A$2:D$54),IF(G27=3165,2,4),0),0)","v":0},{"$f":"IF(Timesheet!P27>0,Timesheet!G27,\"\")","v":""},{"$f":"IF(Timesheet!P27>0,Timesheet!J27,\"\")","v":""},"",{"$f":"IFERROR(VLOOKUP(K27,IF(K27=3165,AL$2:AM$2,ESG!A$2:E$54),IF(K27=3165,2,5),0),0)","v":0},{"$f":"IF(Timesheet!R27>0,Timesheet!G27,\"\")","v":""},{"$f":"IF(Timesheet!R27>0,Timesheet!J27,\"\")","v":""},{"$f":"IFERROR(VLOOKUP(M27,ESG!M$2:N$13,2,FALSE),N27)","v":""},{"$f":"IFERROR(VLOOKUP(O27,IF(O27=3165,AL$2:AM$2,ESG!A$2:F$54),IF(O27=3165,2,6),0),0)","v":0},{"$f":"IF(Timesheet!T27>0,Timesheet!G27,\"\")","v":""},{"$f":"IF(Timesheet!T27>0,Timesheet!J27,\"\")","v":""},{"$f":"IFERROR(VLOOKUP(Q27,ESG!M$2:N$13,2,FALSE),R27)","v":""},{"$f":"IFERROR(VLOOKUP(S27,IF(S27=3165,AL$2:AM$2,ESG!A$2:G$54),IF(S27=3165,2,7),0),0)","v":0},{"$f":"IF(Timesheet!V27>0,Timesheet!G27,\"\")","v":""},{"$f":"IF(Timesheet!V27>0,Timesheet!J27,\"\")","v":""},{"$f":"IFERROR(VLOOKUP(U27,ESG!M$2:N$13,2,FALSE),V27)","v":""},{"$f":"IFERROR(VLOOKUP(W27,IF(W27=3165,AL$2:AM$2,ESG!A$2:H$54),IF(W27=3165,2,8),0),0)","v":0},{"$f":"IF(Timesheet!X27>0,Timesheet!G27,\"\")","v":""},{"$f":"IF(Timesheet!X27>0,Timesheet!J27,\"\")","v":""},"",{"$f":"IFERROR(VLOOKUP(AA27,IF(AA27=3165,AL$2:AM$2,ESG!A$2:I$54),IF(AA27=3165,2,9),0),0)","v":0},{"$f":"IF(Timesheet!Z27>0,Timesheet!G27,\"\")","v":""},{"$f":"IF(Timesheet!Z27>0,Timesheet!J27,\"\")","v":""},"",{"$f":"IFERROR(VLOOKUP(AE27,IF(AE27=3165,AL$2:AM$2,ESG!A$2:J$54),IF(AE27=3165,2,10),0),0)","v":0},{"$f":"IF(Timesheet!AB27>0,Timesheet!G27,\"\")","v":""},{"$f":"IF(Timesheet!AB27>0,Timesheet!J27,\"\")","v":""},"",{"$f":"IFERROR(VLOOKUP(AI27,IF(AI27=3165,AL$2:AM$2,ESG!A$2:K$54),IF(AI27=3165,2,11),0),0)","v":0}]
[{"$f":"IF(Timesheet!L28>0,Timesheet!G28,\"\")","v":""},{"$f":"IF(Timesheet!L28>0,Timesheet!J28,\"\")","v":""},"",{"$f":"IFERROR(VLOOKUP(C28,IF(C28=3165,AL$2:AM$2,ESG!A$2:C$54),IF(C28=3165,2,3),0),0)","v":0},{"$f":"IF(Timesheet!N28>0,Timesheet!G28,\"\")","v":""},{"$f":"IF(Timesheet!N28>0,Timesheet!J28,\"\")","v":""},"",{"$f":"IFERROR(VLOOKUP(G28,IF(G28=3165,AL$2:AM$2,ESG!A$2:D$54),IF(G28=3165,2,4),0),0)","v":0},{"$f":"IF(Timesheet!P28>0,Timesheet!G28,\"\")","v":""},{"$f":"IF(Timesheet!P28>0,Timesheet!J28,\"\")","v":""},"",{"$f":"IFERROR(VLOOKUP(K28,IF(K28=3165,AL$2:AM$2,ESG!A$2:E$54),IF(K28=3165,2,5),0),0)","v":0},{"$f":"IF(Timesheet!R28>0,Timesheet!G28,\"\")","v":""},{"$f":"IF(Timesheet!R28>0,Timesheet!J28,\"\")","v":""},{"$f":"IFERROR(VLOOKUP(M28,ESG!M$2:N$13,2,FALSE),N28)","v":""},{"$f":"IFERROR(VLOOKUP(O28,IF(O28=3165,AL$2:AM$2,ESG!A$2:F$54),IF(O28=3165,2,6),0),0)","v":0},{"$f":"IF(Timesheet!T28>0,Timesheet!G28,\"\")","v":""},{"$f":"IF(Timesheet!T28>0,Timesheet!J28,\"\")","v":""},{"$f":"IFERROR(VLOOKUP(Q28,ESG!M$2:N$13,2,FALSE),R28)","v":""},{"$f":"IFERROR(VLOOKUP(S28,IF(S28=3165,AL$2:AM$2,ESG!A$2:G$54),IF(S28=3165,2,7),0),0)","v":0},{"$f":"IF(Timesheet!V28>0,Timesheet!G28,\"\")","v":""},{"$f":"IF(Timesheet!V28>0,Timesheet!J28,\"\")","v":""},{"$f":"IFERROR(VLOOKUP(U28,ESG!M$2:N$13,2,FALSE),V28)","v":""},{"$f":"IFERROR(VLOOKUP(W28,IF(W28=3165,AL$2:AM$2,ESG!A$2:H$54),IF(W28=3165,2,8),0),0)","v":0},{"$f":"IF(Timesheet!X28>0,Timesheet!G28,\"\")","v":""},{"$f":"IF(Timesheet!X28>0,Timesheet!J28,\"\")","v":""},"",{"$f":"IFERROR(VLOOKUP(AA28,IF(AA28=3165,AL$2:AM$2,ESG!A$2:I$54),IF(AA28=3165,2,9),0),0)","v":0},{"$f":"IF(Timesheet!Z28>0,Timesheet!G28,\"\")","v":""},{"$f":"IF(Timesheet!Z28>0,Timesheet!J28,\"\")","v":""},"",{"$f":"IFERROR(VLOOKUP(AE28,IF(AE28=3165,AL$2:AM$2,ESG!A$2:J$54),IF(AE28=3165,2,10),0),0)","v":0},{"$f":"IF(Timesheet!AB28>0,Timesheet!G28,\"\")","v":""},{"$f":"IF(Timesheet!AB28>0,Timesheet!J28,\"\")","v":""},"",{"$f":"IFERROR(VLOOKUP(AI28,IF(AI28=3165,AL$2:AM$2,ESG!A$2:K$54),IF(AI28=3165,2,11),0),0)","v":0}]
[{"$f":"IF(Timesheet!L29>0,Timesheet!G29,\"\")","v":""},{"$f":"IF(Timesheet!L29>0,Timesheet!J29,\"\")","v":""},"",{"$f":"IFERROR(VLOOKUP(C29,IF(C29=3165,AL$2:AM$2,ESG!A$2:C$54),IF(C29=3165,2,3),0),0)","v":0},{"$f":"IF(Timesheet!N29>0,Timesheet!G29,\"\")","v":""},{"$f":"IF(Timesheet!N29>0,Timesheet!J29,\"\")","v":""},"",{"$f":"IFERROR(VLOOKUP(G29,IF(G29=3165,AL$2:AM$2,ESG!A$2:D$54),IF(G29=3165,2,4),0),0)","v":0},{"$f":"IF(Timesheet!P29>0,Timesheet!G29,\"\")","v":""},{"$f":"IF(Timesheet!P29>0,Timesheet!J29,\"\")","v":""},"",{"$f":"IFERROR(VLOOKUP(K29,IF(K29=3165,AL$2:AM$2,ESG!A$2:E$54),IF(K29=3165,2,5),0),0)","v":0},{"$f":"IF(Timesheet!R29>0,Timesheet!G29,\"\")","v":""},{"$f":"IF(Timesheet!R29>0,Timesheet!J29,\"\")","v":""},{"$f":"IFERROR(VLOOKUP(M29,ESG!M$2:N$13,2,FALSE),N29)","v":""},{"$f":"IFERROR(VLOOKUP(O29,IF(O29=3165,AL$2:AM$2,ESG!A$2:F$54),IF(O29=3165,2,6),0),0)","v":0},{"$f":"IF(Timesheet!T29>0,Timesheet!G29,\"\")","v":""},{"$f":"IF(Timesheet!T29>0,Timesheet!J29,\"\")","v":""},{"$f":"IFERROR(VLOOKUP(Q29,ESG!M$2:N$13,2,FALSE),R29)","v":""},{"$f":"IFERROR(VLOOKUP(S29,IF(S29=3165,AL$2:AM$2,ESG!A$2:G$54),IF(S29=3165,2,7),0),0)","v":0},{"$f":"IF(Timesheet!V29>0,Timesheet!G29,\"\")","v":""},{"$f":"IF(Timesheet!V29>0,Timesheet!J29,\"\")","v":""},{"$f":"IFERROR(VLOOKUP(U29,ESG!M$2:N$13,2,FALSE),V29)","v":""},{"$f":"IFERROR(VLOOKUP(W29,IF(W29=3165,AL$2:AM$2,ESG!A$2:H$54),IF(W29=3165,2,8),0),0)","v":0},{"$f":"IF(Timesheet!X29>0,Timesheet!G29,\"\")","v":""},{"$f":"IF(Timesheet!X29>0,Timesheet!J29,\"\")","v":""},"",{"$f":"IFERROR(VLOOKUP(AA29,IF(AA29=3165,AL$2:AM$2,ESG!A$2:I$54),IF(AA29=3165,2,9),0),0)","v":0},{"$f":"IF(Timesheet!Z29>0,Timesheet!G29,\"\")","v":""},{"$f":"IF(Timesheet!Z29>0,Timesheet!J29,\"\")","v":""},"",{"$f":"IFERROR(VLOOKUP(AE29,IF(AE29=3165,AL$2:AM$2,ESG!A$2:J$54),IF(AE29=3165,2,10),0),0)","v":0},{"$f":"IF(Timesheet!AB29>0,Timesheet!G29,\"\")","v":""},{"$f":"IF(Timesheet!AB29>0,Timesheet!J29,\"\")","v":""},"",{"$f":"IFERROR(VLOOKUP(AI29,IF(AI29=3165,AL$2:AM$2,ESG!A$2:K$54),IF(AI29=3165,2,11),0),0)","v":0}]
[{"$f":"IF(Timesheet!L30>0,Timesheet!G30,\"\")","v":""},{"$f":"IF(Timesheet!L30>0,Timesheet!J30,\"\")","v":""},"",{"$f":"IFERROR(VLOOKUP(C30,IF(C30=3165,AL$2:AM$2,ESG!A$2:C$54),IF(C30=3165,2,3),0),0)","v":0},{"$f":"IF(Timesheet!N30>0,Timesheet!G30,\"\")","v":""},{"$f":"IF(Timesheet!N30>0,Timesheet!J30,\"\")","v":""},"",{"$f":"IFERROR(VLOOKUP(G30,IF(G30=3165,AL$2:AM$2,ESG!A$2:D$54),IF(G30=3165,2,4),0),0)","v":0},{"$f":"IF(Timesheet!P30>0,Timesheet!G30,\"\")","v":""},{"$f":"IF(Timesheet!P30>0,Timesheet!J30,\"\")","v":""},"",{"$f":"IFERROR(VLOOKUP(K30,IF(K30=3165,AL$2:AM$2,ESG!A$2:E$54),IF(K30=3165,2,5),0),0)","v":0},{"$f":"IF(Timesheet!R30>0,Timesheet!G30,\"\")","v":""},{"$f":"IF(Timesheet!R30>0,Timesheet!J30,\"\")","v":""},{"$f":"IFERROR(VLOOKUP(M30,ESG!M$2:N$13,2,FALSE),N30)","v":""},{"$f":"IFERROR(VLOOKUP(O30,IF(O30=3165,AL$2:AM$2,ESG!A$2:F$54),IF(O30=3165,2,6),0),0)","v":0},{"$f":"IF(Timesheet!T30>0,Timesheet!G30,\"\")","v":""},{"$f":"IF(Timesheet!T30>0,Timesheet!J30,\"\")","v":""},{"$f":"IFERROR(VLOOKUP(Q30,ESG!M$2:N$13,2,FALSE),R30)","v":""},{"$f":"IFERROR(VLOOKUP(S30,IF(S30=3165,AL$2:AM$2,ESG!A$2:G$54),IF(S30=3165,2,7),0),0)","v":0},{"$f":"IF(Timesheet!V30>0,Timesheet!G30,\"\")","v":""},{"$f":"IF(Timesheet!V30>0,Timesheet!J30,\"\")","v":""},{"$f":"IFERROR(VLOOKUP(U30,ESG!M$2:N$13,2,FALSE),V30)","v":""},{"$f":"IFERROR(VLOOKUP(W30,IF(W30=3165,AL$2:AM$2,ESG!A$2:H$54),IF(W30=3165,2,8),0),0)","v":0},{"$f":"IF(Timesheet!X30>0,Timesheet!G30,\"\")","v":""},{"$f":"IF(Timesheet!X30>0,Timesheet!J30,\"\")","v":""},"",{"$f":"IFERROR(VLOOKUP(AA30,IF(AA30=3165,AL$2:AM$2,ESG!A$2:I$54),IF(AA30=3165,2,9),0),0)","v":0},{"$f":"IF(Timesheet!Z30>0,Timesheet!G30,\"\")","v":""},{"$f":"IF(Timesheet!Z30>0,Timesheet!J30,\"\")","v":""},"",{"$f":"IFERROR(VLOOKUP(AE30,IF(AE30=3165,AL$2:AM$2,ESG!A$2:J$54),IF(AE30=3165,2,10),0),0)","v":0},{"$f":"IF(Timesheet!AB30>0,Timesheet!G30,\"\")","v":""},{"$f":"IF(Timesheet!AB30>0,Timesheet!J30,\"\")","v":""},"",{"$f":"IFERROR(VLOOKUP(AI30,IF(AI30=3165,AL$2:AM$2,ESG!A$2:K$54),IF(AI30=3165,2,11),0),0)","v":0}]
[{"$f":"IF(Timesheet!L31>0,Timesheet!G31,\"\")","v":""},{"$f":"IF(Timesheet!L31>0,Timesheet!J31,\"\")","v":""},"",{"$f":"IFERROR(VLOOKUP(C31,IF(C31=3165,AL$2:AM$2,ESG!A$2:C$54),IF(C31=3165,2,3),0),0)","v":0},{"$f":"IF(Timesheet!N31>0,Timesheet!G31,\"\")","v":""},{"$f":"IF(Timesheet!N31>0,Timesheet!J31,\"\")","v":""},"",{"$f":"IFERROR(VLOOKUP(G31,IF(G31=3165,AL$2:AM$2,ESG!A$2:D$54),IF(G31=3165,2,4),0),0)","v":0},{"$f":"IF(Timesheet!P31>0,Timesheet!G31,\"\")","v":""},{"$f":"IF(Timesheet!P31>0,Timesheet!J31,\"\")","v":""},"",{"$f":"IFERROR(VLOOKUP(K31,IF(K31=3165,AL$2:AM$2,ESG!A$2:E$54),IF(K31=3165,2,5),0),0)","v":0},{"$f":"IF(Timesheet!R31>0,Timesheet!G31,\"\")","v":""},{"$f":"IF(Timesheet!R31>0,Timesheet!J31,\"\")","v":""},{"$f":"IFERROR(VLOOKUP(M31,ESG!M$2:N$13,2,FALSE),N31)","v":""},{"$f":"IFERROR(VLOOKUP(O31,IF(O31=3165,AL$2:AM$2,ESG!A$2:F$54),IF(O31=3165,2,6),0),0)","v":0},{"$f":"IF(Timesheet!T31>0,Timesheet!G31,\"\")","v":""},{"$f":"IF(Timesheet!T31>0,Timesheet!J31,\"\")","v":""},{"$f":"IFERROR(VLOOKUP(Q31,ESG!M$2:N$13,2,FALSE),R31)","v":""},{"$f":"IFERROR(VLOOKUP(S31,IF(S31=3165,AL$2:AM$2,ESG!A$2:G$54),IF(S31=3165,2,7),0),0)","v":0},{"$f":"IF(Timesheet!V31>0,Timesheet!G31,\"\")","v":""},{"$f":"IF(Timesheet!V31>0,Timesheet!J31,\"\")","v":""},{"$f":"IFERROR(VLOOKUP(U31,ESG!M$2:N$13,2,FALSE),V31)","v":""},{"$f":"IFERROR(VLOOKUP(W31,IF(W31=3165,AL$2:AM$2,ESG!A$2:H$54),IF(W31=3165,2,8),0),0)","v":0},{"$f":"IF(Timesheet!X31>0,Timesheet!G31,\"\")","v":""},{"$f":"IF(Timesheet!X31>0,Timesheet!J31,\"\")","v":""},"",{"$f":"IFERROR(VLOOKUP(AA31,IF(AA31=3165,AL$2:AM$2,ESG!A$2:I$54),IF(AA31=3165,2,9),0),0)","v":0},{"$f":"IF(Timesheet!Z31>0,Timesheet!G31,\"\")","v":""},{"$f":"IF(Timesheet!Z31>0,Timesheet!J31,\"\")","v":""},"",{"$f":"IFERROR(VLOOKUP(AE31,IF(AE31=3165,AL$2:AM$2,ESG!A$2:J$54),IF(AE31=3165,2,10),0),0)","v":0},{"$f":"IF(Timesheet!AB31>0,Timesheet!G31,\"\")","v":""},{"$f":"IF(Timesheet!AB31>0,Timesheet!J31,\"\")","v":""},"",{"$f":"IFERROR(VLOOKUP(AI31,IF(AI31=3165,AL$2:AM$2,ESG!A$2:K$54),IF(AI31=3165,2,11),0),0)","v":0}]
[{"$f":"IF(Timesheet!L32>0,Timesheet!G32,\"\")","v":""},{"$f":"IF(Timesheet!L32>0,Timesheet!J32,\"\")","v":""},"",{"$f":"IFERROR(VLOOKUP(C32,IF(C32=3165,AL$2:AM$2,ESG!A$2:C$54),IF(C32=3165,2,3),0),0)","v":0},{"$f":"IF(Timesheet!N32>0,Timesheet!G32,\"\")","v":""},{"$f":"IF(Timesheet!N32>0,Timesheet!J32,\"\")","v":""},"",{"$f":"IFERROR(VLOOKUP(G32,IF(G32=3165,AL$2:AM$2,ESG!A$2:D$54),IF(G32=3165,2,4),0),0)","v":0},{"$f":"IF(Timesheet!P32>0,Timesheet!G32,\"\")","v":""},{"$f":"IF(Timesheet!P32>0,Timesheet!J32,\"\")","v":""},"",{"$f":"IFERROR(VLOOKUP(K32,IF(K32=3165,AL$2:AM$2,ESG!A$2:E$54),IF(K32=3165,2,5),0),0)","v":0},{"$f":"IF(Timesheet!R32>0,Timesheet!G32,\"\")","v":""},{"$f":"IF(Timesheet!R32>0,Timesheet!J32,\"\")","v":""},{"$f":"IFERROR(VLOOKUP(M32,ESG!M$2:N$13,2,FALSE),N32)","v":""},{"$f":"IFERROR(VLOOKUP(O32,IF(O32=3165,AL$2:AM$2,ESG!A$2:F$54),IF(O32=3165,2,6),0),0)","v":0},{"$f":"IF(Timesheet!T32>0,Timesheet!G32,\"\")","v":""},{"$f":"IF(Timesheet!T32>0,Timesheet!J32,\"\")","v":""},{"$f":"IFERROR(VLOOKUP(Q32,ESG!M$2:N$13,2,FALSE),R32)","v":""},{"$f":"IFERROR(VLOOKUP(S32,IF(S32=3165,AL$2:AM$2,ESG!A$2:G$54),IF(S32=3165,2,7),0),0)","v":0},{"$f":"IF(Timesheet!V32>0,Timesheet!G32,\"\")","v":""},{"$f":"IF(Timesheet!V32>0,Timesheet!J32,\"\")","v":""},{"$f":"IFERROR(VLOOKUP(U32,ESG!M$2:N$13,2,FALSE),V32)","v":""},{"$f":"IFERROR(VLOOKUP(W32,IF(W32=3165,AL$2:AM$2,ESG!A$2:H$54),IF(W32=3165,2,8),0),0)","v":0},{"$f":"IF(Timesheet!X32>0,Timesheet!G32,\"\")","v":""},{"$f":"IF(Timesheet!X32>0,Timesheet!J32,\"\")","v":""},"",{"$f":"IFERROR(VLOOKUP(AA32,IF(AA32=3165,AL$2:AM$2,ESG!A$2:I$54),IF(AA32=3165,2,9),0),0)","v":0},{"$f":"IF(Timesheet!Z32>0,Timesheet!G32,\"\")","v":""},{"$f":"IF(Timesheet!Z32>0,Timesheet!J32,\"\")","v":""},"",{"$f":"IFERROR(VLOOKUP(AE32,IF(AE32=3165,AL$2:AM$2,ESG!A$2:J$54),IF(AE32=3165,2,10),0),0)","v":0},{"$f":"IF(Timesheet!AB32>0,Timesheet!G32,\"\")","v":""},{"$f":"IF(Timesheet!AB32>0,Timesheet!J32,\"\")","v":""},"",{"$f":"IFERROR(VLOOKUP(AI32,IF(AI32=3165,AL$2:AM$2,ESG!A$2:K$54),IF(AI32=3165,2,11),0),0)","v":0}]
[{"$f":"IF(Timesheet!L33>0,Timesheet!G33,\"\")","v":""},{"$f":"IF(Timesheet!L33>0,Timesheet!J33,\"\")","v":""},"",{"$f":"IFERROR(VLOOKUP(C33,IF(C33=3165,AL$2:AM$2,ESG!A$2:C$54),IF(C33=3165,2,3),0),0)","v":0},{"$f":"IF(Timesheet!N33>0,Timesheet!G33,\"\")","v":""},{"$f":"IF(Timesheet!N33>0,Timesheet!J33,\"\")","v":""},"",{"$f":"IFERROR(VLOOKUP(G33,IF(G33=3165,AL$2:AM$2,ESG!A$2:D$54),IF(G33=3165,2,4),0),0)","v":0},{"$f":"IF(Timesheet!P33>0,Timesheet!G33,\"\")","v":""},{"$f":"IF(Timesheet!P33>0,Timesheet!J33,\"\")","v":""},"",{"$f":"IFERROR(VLOOKUP(K33,IF(K33=3165,AL$2:AM$2,ESG!A$2:E$54),IF(K33=3165,2,5),0),0)","v":0},{"$f":"IF(Timesheet!R33>0,Timesheet!G33,\"\")","v":""},{"$f":"IF(Timesheet!R33>0,Timesheet!J33,\"\")","v":""},{"$f":"IFERROR(VLOOKUP(M33,ESG!M$2:N$13,2,FALSE),N33)","v":""},{"$f":"IFERROR(VLOOKUP(O33,IF(O33=3165,AL$2:AM$2,ESG!A$2:F$54),IF(O33=3165,2,6),0),0)","v":0},{"$f":"IF(Timesheet!T33>0,Timesheet!G33,\"\")","v":""},{"$f":"IF(Timesheet!T33>0,Timesheet!J33,\"\")","v":""},{"$f":"IFERROR(VLOOKUP(Q33,ESG!M$2:N$13,2,FALSE),R33)","v":""},{"$f":"IFERROR(VLOOKUP(S33,IF(S33=3165,AL$2:AM$2,ESG!A$2:G$54),IF(S33=3165,2,7),0),0)","v":0},{"$f":"IF(Timesheet!V33>0,Timesheet!G33,\"\")","v":""},{"$f":"IF(Timesheet!V33>0,Timesheet!J33,\"\")","v":""},{"$f":"IFERROR(VLOOKUP(U33,ESG!M$2:N$13,2,FALSE),V33)","v":""},{"$f":"IFERROR(VLOOKUP(W33,IF(W33=3165,AL$2:AM$2,ESG!A$2:H$54),IF(W33=3165,2,8),0),0)","v":0},{"$f":"IF(Timesheet!X33>0,Timesheet!G33,\"\")","v":""},{"$f":"IF(Timesheet!X33>0,Timesheet!J33,\"\")","v":""},"",{"$f":"IFERROR(VLOOKUP(AA33,IF(AA33=3165,AL$2:AM$2,ESG!A$2:I$54),IF(AA33=3165,2,9),0),0)","v":0},{"$f":"IF(Timesheet!Z33>0,Timesheet!G33,\"\")","v":""},{"$f":"IF(Timesheet!Z33>0,Timesheet!J33,\"\")","v":""},"",{"$f":"IFERROR(VLOOKUP(AE33,IF(AE33=3165,AL$2:AM$2,ESG!A$2:J$54),IF(AE33=3165,2,10),0),0)","v":0},{"$f":"IF(Timesheet!AB33>0,Timesheet!G33,\"\")","v":""},{"$f":"IF(Timesheet!AB33>0,Timesheet!J33,\"\")","v":""},"",{"$f":"IFERROR(VLOOKUP(AI33,IF(AI33=3165,AL$2:AM$2,ESG!A$2:K$54),IF(AI33=3165,2,11),0),0)","v":0}]
[{"$f":"IF(Timesheet!L34>0,Timesheet!G34,\"\")","v":""},{"$f":"IF(Timesheet!L34>0,Timesheet!J34,\"\")","v":""},"",{"$f":"IFERROR(VLOOKUP(C34,IF(C34=3165,AL$2:AM$2,ESG!A$2:C$54),IF(C34=3165,2,3),0),0)","v":0},{"$f":"IF(Timesheet!N34>0,Timesheet!G34,\"\")","v":""},{"$f":"IF(Timesheet!N34>0,Timesheet!J34,\"\")","v":""},"",{"$f":"IFERROR(VLOOKUP(G34,IF(G34=3165,AL$2:AM$2,ESG!A$2:D$54),IF(G34=3165,2,4),0),0)","v":0},{"$f":"IF(Timesheet!P34>0,Timesheet!G34,\"\")","v":""},{"$f":"IF(Timesheet!P34>0,Timesheet!J34,\"\")","v":""},"",{"$f":"IFERROR(VLOOKUP(K34,IF(K34=3165,AL$2:AM$2,ESG!A$2:E$54),IF(K34=3165,2,5),0),0)","v":0},{"$f":"IF(Timesheet!R34>0,Timesheet!G34,\"\")","v":""},{"$f":"IF(Timesheet!R34>0,Timesheet!J34,\"\")","v":""},{"$f":"IFERROR(VLOOKUP(M34,ESG!M$2:N$13,2,FALSE),N34)","v":""},{"$f":"IFERROR(VLOOKUP(O34,IF(O34=3165,AL$2:AM$2,ESG!A$2:F$54),IF(O34=3165,2,6),0),0)","v":0},{"$f":"IF(Timesheet!T34>0,Timesheet!G34,\"\")","v":""},{"$f":"IF(Timesheet!T34>0,Timesheet!J34,\"\")","v":""},{"$f":"IFERROR(VLOOKUP(Q34,ESG!M$2:N$13,2,FALSE),R34)","v":""},{"$f":"IFERROR(VLOOKUP(S34,IF(S34=3165,AL$2:AM$2,ESG!A$2:G$54),IF(S34=3165,2,7),0),0)","v":0},{"$f":"IF(Timesheet!V34>0,Timesheet!G34,\"\")","v":""},{"$f":"IF(Timesheet!V34>0,Timesheet!J34,\"\")","v":""},{"$f":"IFERROR(VLOOKUP(U34,ESG!M$2:N$13,2,FALSE),V34)","v":""},{"$f":"IFERROR(VLOOKUP(W34,IF(W34=3165,AL$2:AM$2,ESG!A$2:H$54),IF(W34=3165,2,8),0),0)","v":0},{"$f":"IF(Timesheet!X34>0,Timesheet!G34,\"\")","v":""},{"$f":"IF(Timesheet!X34>0,Timesheet!J34,\"\")","v":""},"",{"$f":"IFERROR(VLOOKUP(AA34,IF(AA34=3165,AL$2:AM$2,ESG!A$2:I$54),IF(AA34=3165,2,9),0),0)","v":0},{"$f":"IF(Timesheet!Z34>0,Timesheet!G34,\"\")","v":""},{"$f":"IF(Timesheet!Z34>0,Timesheet!J34,\"\")","v":""},"",{"$f":"IFERROR(VLOOKUP(AE34,IF(AE34=3165,AL$2:AM$2,ESG!A$2:J$54),IF(AE34=3165,2,10),0),0)","v":0},{"$f":"IF(Timesheet!AB34>0,Timesheet!G34,\"\")","v":""},{"$f":"IF(Timesheet!AB34>0,Timesheet!J34,\"\")","v":""},"",{"$f":"IFERROR(VLOOKUP(AI34,IF(AI34=3165,AL$2:AM$2,ESG!A$2:K$54),IF(AI34=3165,2,11),0),0)","v":0}]
[{"$f":"IF(Timesheet!L35>0,Timesheet!G35,\"\")","v":""},{"$f":"IF(Timesheet!L35>0,Timesheet!J35,\"\")","v":""},"",{"$f":"IFERROR(VLOOKUP(C35,IF(C35=3165,AL$2:AM$2,ESG!A$2:C$54),IF(C35=3165,2,3),0),0)","v":0},{"$f":"IF(Timesheet!N35>0,Timesheet!G35,\"\")","v":""},{"$f":"IF(Timesheet!N35>0,Timesheet!J35,\"\")","v":""},"",{"$f":"IFERROR(VLOOKUP(G35,IF(G35=3165,AL$2:AM$2,ESG!A$2:D$54),IF(G35=3165,2,4),0),0)","v":0},{"$f":"IF(Timesheet!P35>0,Timesheet!G35,\"\")","v":""},{"$f":"IF(Timesheet!P35>0,Timesheet!J35,\"\")","v":""},"",{"$f":"IFERROR(VLOOKUP(K35,IF(K35=3165,AL$2:AM$2,ESG!A$2:E$54),IF(K35=3165,2,5),0),0)","v":0},{"$f":"IF(Timesheet!R35>0,Timesheet!G35,\"\")","v":""},{"$f":"IF(Timesheet!R35>0,Timesheet!J35,\"\")","v":""},{"$f":"IFERROR(VLOOKUP(M35,ESG!M$2:N$13,2,FALSE),N35)","v":""},{"$f":"IFERROR(VLOOKUP(O35,IF(O35=3165,AL$2:AM$2,ESG!A$2:F$54),IF(O35=3165,2,6),0),0)","v":0},{"$f":"IF(Timesheet!T35>0,Timesheet!G35,\"\")","v":""},{"$f":"IF(Timesheet!T35>0,Timesheet!J35,\"\")","v":""},{"$f":"IFERROR(VLOOKUP(Q35,ESG!M$2:N$13,2,FALSE),R35)","v":""},{"$f":"IFERROR(VLOOKUP(S35,IF(S35=3165,AL$2:AM$2,ESG!A$2:G$54),IF(S35=3165,2,7),0),0)","v":0},{"$f":"IF(Timesheet!V35>0,Timesheet!G35,\"\")","v":""},{"$f":"IF(Timesheet!V35>0,Timesheet!J35,\"\")","v":""},{"$f":"IFERROR(VLOOKUP(U35,ESG!M$2:N$13,2,FALSE),V35)","v":""},{"$f":"IFERROR(VLOOKUP(W35,IF(W35=3165,AL$2:AM$2,ESG!A$2:H$54),IF(W35=3165,2,8),0),0)","v":0},{"$f":"IF(Timesheet!X35>0,Timesheet!G35,\"\")","v":""},{"$f":"IF(Timesheet!X35>0,Timesheet!J35,\"\")","v":""},"",{"$f":"IFERROR(VLOOKUP(AA35,IF(AA35=3165,AL$2:AM$2,ESG!A$2:I$54),IF(AA35=3165,2,9),0),0)","v":0},{"$f":"IF(Timesheet!Z35>0,Timesheet!G35,\"\")","v":""},{"$f":"IF(Timesheet!Z35>0,Timesheet!J35,\"\")","v":""},"",{"$f":"IFERROR(VLOOKUP(AE35,IF(AE35=3165,AL$2:AM$2,ESG!A$2:J$54),IF(AE35=3165,2,10),0),0)","v":0},{"$f":"IF(Timesheet!AB35>0,Timesheet!G35,\"\")","v":""},{"$f":"IF(Timesheet!AB35>0,Timesheet!J35,\"\")","v":""},"",{"$f":"IFERROR(VLOOKUP(AI35,IF(AI35=3165,AL$2:AM$2,ESG!A$2:K$54),IF(AI35=3165,2,11),0),0)","v":0}]
[{"$f":"IF(Timesheet!L36>0,Timesheet!G36,\"\")","v":""},{"$f":"IF(Timesheet!L36>0,Timesheet!J36,\"\")","v":""},"",{"$f":"IFERROR(VLOOKUP(C36,IF(C36=3165,AL$2:AM$2,ESG!A$2:C$54),IF(C36=3165,2,3),0),0)","v":0},{"$f":"IF(Timesheet!N36>0,Timesheet!G36,\"\")","v":""},{"$f":"IF(Timesheet!N36>0,Timesheet!J36,\"\")","v":""},"",{"$f":"IFERROR(VLOOKUP(G36,IF(G36=3165,AL$2:AM$2,ESG!A$2:D$54),IF(G36=3165,2,4),0),0)","v":0},{"$f":"IF(Timesheet!P36>0,Timesheet!G36,\"\")","v":""},{"$f":"IF(Timesheet!P36>0,Timesheet!J36,\"\")","v":""},"",{"$f":"IFERROR(VLOOKUP(K36,IF(K36=3165,AL$2:AM$2,ESG!A$2:E$54),IF(K36=3165,2,5),0),0)","v":0},{"$f":"IF(Timesheet!R36>0,Timesheet!G36,\"\")","v":""},{"$f":"IF(Timesheet!R36>0,Timesheet!J36,\"\")","v":""},{"$f":"IFERROR(VLOOKUP(M36,ESG!M$2:N$13,2,FALSE),N36)","v":""},{"$f":"IFERROR(VLOOKUP(O36,IF(O36=3165,AL$2:AM$2,ESG!A$2:F$54),IF(O36=3165,2,6),0),0)","v":0},{"$f":"IF(Timesheet!T36>0,Timesheet!G36,\"\")","v":""},{"$f":"IF(Timesheet!T36>0,Timesheet!J36,\"\")","v":""},{"$f":"IFERROR(VLOOKUP(Q36,ESG!M$2:N$13,2,FALSE),R36)","v":""},{"$f":"IFERROR(VLOOKUP(S36,IF(S36=3165,AL$2:AM$2,ESG!A$2:G$54),IF(S36=3165,2,7),0),0)","v":0},{"$f":"IF(Timesheet!V36>0,Timesheet!G36,\"\")","v":""},{"$f":"IF(Timesheet!V36>0,Timesheet!J36,\"\")","v":""},{"$f":"IFERROR(VLOOKUP(U36,ESG!M$2:N$13,2,FALSE),V36)","v":""},{"$f":"IFERROR(VLOOKUP(W36,IF(W36=3165,AL$2:AM$2,ESG!A$2:H$54),IF(W36=3165,2,8),0),0)","v":0},{"$f":"IF(Timesheet!X36>0,Timesheet!G36,\"\")","v":""},{"$f":"IF(Timesheet!X36>0,Timesheet!J36,\"\")","v":""},"",{"$f":"IFERROR(VLOOKUP(AA36,IF(AA36=3165,AL$2:AM$2,ESG!A$2:I$54),IF(AA36=3165,2,9),0),0)","v":0},{"$f":"IF(Timesheet!Z36>0,Timesheet!G36,\"\")","v":""},{"$f":"IF(Timesheet!Z36>0,Timesheet!J36,\"\")","v":""},"",{"$f":"IFERROR(VLOOKUP(AE36,IF(AE36=3165,AL$2:AM$2,ESG!A$2:J$54),IF(AE36=3165,2,10),0),0)","v":0},{"$f":"IF(Timesheet!AB36>0,Timesheet!G36,\"\")","v":""},{"$f":"IF(Timesheet!AB36>0,Timesheet!J36,\"\")","v":""},"",{"$f":"IFERROR(VLOOKUP(AI36,IF(AI36=3165,AL$2:AM$2,ESG!A$2:K$54),IF(AI36=3165,2,11),0),0)","v":0}]
[{"$f":"IF(Timesheet!L37>0,Timesheet!G37,\"\")","v":""},{"$f":"IF(Timesheet!L37>0,Timesheet!J37,\"\")","v":""},"",{"$f":"IFERROR(VLOOKUP(C37,IF(C37=3165,AL$2:AM$2,ESG!A$2:C$54),IF(C37=3165,2,3),0),0)","v":0},{"$f":"IF(Timesheet!N37>0,Timesheet!G37,\"\")","v":""},{"$f":"IF(Timesheet!N37>0,Timesheet!J37,\"\")","v":""},"",{"$f":"IFERROR(VLOOKUP(G37,IF(G37=3165,AL$2:AM$2,ESG!A$2:D$54),IF(G37=3165,2,4),0),0)","v":0},{"$f":"IF(Timesheet!P37>0,Timesheet!G37,\"\")","v":""},{"$f":"IF(Timesheet!P37>0,Timesheet!J37,\"\")","v":""},"",{"$f":"IFERROR(VLOOKUP(K37,IF(K37=3165,AL$2:AM$2,ESG!A$2:E$54),IF(K37=3165,2,5),0),0)","v":0},{"$f":"IF(Timesheet!R37>0,Timesheet!G37,\"\")","v":""},{"$f":"IF(Timesheet!R37>0,Timesheet!J37,\"\")","v":""},{"$f":"IFERROR(VLOOKUP(M37,ESG!M$2:N$13,2,FALSE),N37)","v":""},{"$f":"IFERROR(VLOOKUP(O37,IF(O37=3165,AL$2:AM$2,ESG!A$2:F$54),IF(O37=3165,2,6),0),0)","v":0},{"$f":"IF(Timesheet!T37>0,Timesheet!G37,\"\")","v":""},{"$f":"IF(Timesheet!T37>0,Timesheet!J37,\"\")","v":""},{"$f":"IFERROR(VLOOKUP(Q37,ESG!M$2:N$13,2,FALSE),R37)","v":""},{"$f":"IFERROR(VLOOKUP(S37,IF(S37=3165,AL$2:AM$2,ESG!A$2:G$54),IF(S37=3165,2,7),0),0)","v":0},{"$f":"IF(Timesheet!V37>0,Timesheet!G37,\"\")","v":""},{"$f":"IF(Timesheet!V37>0,Timesheet!J37,\"\")","v":""},{"$f":"IFERROR(VLOOKUP(U37,ESG!M$2:N$13,2,FALSE),V37)","v":""},{"$f":"IFERROR(VLOOKUP(W37,IF(W37=3165,AL$2:AM$2,ESG!A$2:H$54),IF(W37=3165,2,8),0),0)","v":0},{"$f":"IF(Timesheet!X37>0,Timesheet!G37,\"\")","v":""},{"$f":"IF(Timesheet!X37>0,Timesheet!J37,\"\")","v":""},"",{"$f":"IFERROR(VLOOKUP(AA37,IF(AA37=3165,AL$2:AM$2,ESG!A$2:I$54),IF(AA37=3165,2,9),0),0)","v":0},{"$f":"IF(Timesheet!Z37>0,Timesheet!G37,\"\")","v":""},{"$f":"IF(Timesheet!Z37>0,Timesheet!J37,\"\")","v":""},"",{"$f":"IFERROR(VLOOKUP(AE37,IF(AE37=3165,AL$2:AM$2,ESG!A$2:J$54),IF(AE37=3165,2,10),0),0)","v":0},{"$f":"IF(Timesheet!AB37>0,Timesheet!G37,\"\")","v":""},{"$f":"IF(Timesheet!AB37>0,Timesheet!J37,\"\")","v":""},"",{"$f":"IFERROR(VLOOKUP(AI37,IF(AI37=3165,AL$2:AM$2,ESG!A$2:K$54),IF(AI37=3165,2,11),0),0)","v":0}]
[{"$f":"IF(Timesheet!L38>0,Timesheet!G38,\"\")","v":""},{"$f":"IF(Timesheet!L38>0,Timesheet!J38,\"\")","v":""},"",{"$f":"IFERROR(VLOOKUP(C38,IF(C38=3165,AL$2:AM$2,ESG!A$2:C$54),IF(C38=3165,2,3),0),0)","v":0},{"$f":"IF(Timesheet!N38>0,Timesheet!G38,\"\")","v":""},{"$f":"IF(Timesheet!N38>0,Timesheet!J38,\"\")","v":""},"",{"$f":"IFERROR(VLOOKUP(G38,IF(G38=3165,AL$2:AM$2,ESG!A$2:D$54),IF(G38=3165,2,4),0),0)","v":0},{"$f":"IF(Timesheet!P38>0,Timesheet!G38,\"\")","v":""},{"$f":"IF(Timesheet!P38>0,Timesheet!J38,\"\")","v":""},"",{"$f":"IFERROR(VLOOKUP(K38,IF(K38=3165,AL$2:AM$2,ESG!A$2:E$54),IF(K38=3165,2,5),0),0)","v":0},{"$f":"IF(Timesheet!R38>0,Timesheet!G38,\"\")","v":""},{"$f":"IF(Timesheet!R38>0,Timesheet!J38,\"\")","v":""},{"$f":"IFERROR(VLOOKUP(M38,ESG!M$2:N$13,2,FALSE),N38)","v":""},{"$f":"IFERROR(VLOOKUP(O38,IF(O38=3165,AL$2:AM$2,ESG!A$2:F$54),IF(O38=3165,2,6),0),0)","v":0},{"$f":"IF(Timesheet!T38>0,Timesheet!G38,\"\")","v":""},{"$f":"IF(Timesheet!T38>0,Timesheet!J38,\"\")","v":""},{"$f":"IFERROR(VLOOKUP(Q38,ESG!M$2:N$13,2,FALSE),R38)","v":""},{"$f":"IFERROR(VLOOKUP(S38,IF(S38=3165,AL$2:AM$2,ESG!A$2:G$54),IF(S38=3165,2,7),0),0)","v":0},{"$f":"IF(Timesheet!V38>0,Timesheet!G38,\"\")","v":""},{"$f":"IF(Timesheet!V38>0,Timesheet!J38,\"\")","v":""},{"$f":"IFERROR(VLOOKUP(U38,ESG!M$2:N$13,2,FALSE),V38)","v":""},{"$f":"IFERROR(VLOOKUP(W38,IF(W38=3165,AL$2:AM$2,ESG!A$2:H$54),IF(W38=3165,2,8),0),0)","v":0},{"$f":"IF(Timesheet!X38>0,Timesheet!G38,\"\")","v":""},{"$f":"IF(Timesheet!X38>0,Timesheet!J38,\"\")","v":""},"",{"$f":"IFERROR(VLOOKUP(AA38,IF(AA38=3165,AL$2:AM$2,ESG!A$2:I$54),IF(AA38=3165,2,9),0),0)","v":0},{"$f":"IF(Timesheet!Z38>0,Timesheet!G38,\"\")","v":""},{"$f":"IF(Timesheet!Z38>0,Timesheet!J38,\"\")","v":""},"",{"$f":"IFERROR(VLOOKUP(AE38,IF(AE38=3165,AL$2:AM$2,ESG!A$2:J$54),IF(AE38=3165,2,10),0),0)","v":0},{"$f":"IF(Timesheet!AB38>0,Timesheet!G38,\"\")","v":""},{"$f":"IF(Timesheet!AB38>0,Timesheet!J38,\"\")","v":""},"",{"$f":"IFERROR(VLOOKUP(AI38,IF(AI38=3165,AL$2:AM$2,ESG!A$2:K$54),IF(AI38=3165,2,11),0),0)","v":0}]
[{"$f":"IF(Timesheet!L39>0,Timesheet!G39,\"\")","v":""},{"$f":"IF(Timesheet!L39>0,Timesheet!J39,\"\")","v":""},"",{"$f":"IFERROR(VLOOKUP(C39,IF(C39=3165,AL$2:AM$2,ESG!A$2:C$54),IF(C39=3165,2,3),0),0)","v":0},{"$f":"IF(Timesheet!N39>0,Timesheet!G39,\"\")","v":""},{"$f":"IF(Timesheet!N39>0,Timesheet!J39,\"\")","v":""},"",{"$f":"IFERROR(VLOOKUP(G39,IF(G39=3165,AL$2:AM$2,ESG!A$2:D$54),IF(G39=3165,2,4),0),0)","v":0},{"$f":"IF(Timesheet!P39>0,Timesheet!G39,\"\")","v":""},{"$f":"IF(Timesheet!P39>0,Timesheet!J39,\"\")","v":""},"",{"$f":"IFERROR(VLOOKUP(K39,IF(K39=3165,AL$2:AM$2,ESG!A$2:E$54),IF(K39=3165,2,5),0),0)","v":0},{"$f":"IF(Timesheet!R39>0,Timesheet!G39,\"\")","v":""},{"$f":"IF(Timesheet!R39>0,Timesheet!J39,\"\")","v":""},{"$f":"IFERROR(VLOOKUP(M39,ESG!M$2:N$13,2,FALSE),N39)","v":""},{"$f":"IFERROR(VLOOKUP(O39,IF(O39=3165,AL$2:AM$2,ESG!A$2:F$54),IF(O39=3165,2,6),0),0)","v":0},{"$f":"IF(Timesheet!T39>0,Timesheet!G39,\"\")","v":""},{"$f":"IF(Timesheet!T39>0,Timesheet!J39,\"\")","v":""},{"$f":"IFERROR(VLOOKUP(Q39,ESG!M$2:N$13,2,FALSE),R39)","v":""},{"$f":"IFERROR(VLOOKUP(S39,IF(S39=3165,AL$2:AM$2,ESG!A$2:G$54),IF(S39=3165,2,7),0),0)","v":0},{"$f":"IF(Timesheet!V39>0,Timesheet!G39,\"\")","v":""},{"$f":"IF(Timesheet!V39>0,Timesheet!J39,\"\")","v":""},{"$f":"IFERROR(VLOOKUP(U39,ESG!M$2:N$13,2,FALSE),V39)","v":""},{"$f":"IFERROR(VLOOKUP(W39,IF(W39=3165,AL$2:AM$2,ESG!A$2:H$54),IF(W39=3165,2,8),0),0)","v":0},{"$f":"IF(Timesheet!X39>0,Timesheet!G39,\"\")","v":""},{"$f":"IF(Timesheet!X39>0,Timesheet!J39,\"\")","v":""},"",{"$f":"IFERROR(VLOOKUP(AA39,IF(AA39=3165,AL$2:AM$2,ESG!A$2:I$54),IF(AA39=3165,2,9),0),0)","v":0},{"$f":"IF(Timesheet!Z39>0,Timesheet!G39,\"\")","v":""},{"$f":"IF(Timesheet!Z39>0,Timesheet!J39,\"\")","v":""},"",{"$f":"IFERROR(VLOOKUP(AE39,IF(AE39=3165,AL$2:AM$2,ESG!A$2:J$54),IF(AE39=3165,2,10),0),0)","v":0},{"$f":"IF(Timesheet!AB39>0,Timesheet!G39,\"\")","v":""},{"$f":"IF(Timesheet!AB39>0,Timesheet!J39,\"\")","v":""},"",{"$f":"IFERROR(VLOOKUP(AI39,IF(AI39=3165,AL$2:AM$2,ESG!A$2:K$54),IF(AI39=3165,2,11),0),0)","v":0}]
[{"$f":"IF(Timesheet!L40>0,Timesheet!G40,\"\")","v":""},{"$f":"IF(Timesheet!L40>0,Timesheet!J40,\"\")","v":""},"",{"$f":"IFERROR(VLOOKUP(C40,IF(C40=3165,AL$2:AM$2,ESG!A$2:C$54),IF(C40=3165,2,3),0),0)","v":0},{"$f":"IF(Timesheet!N40>0,Timesheet!G40,\"\")","v":""},{"$f":"IF(Timesheet!N40>0,Timesheet!J40,\"\")","v":""},"",{"$f":"IFERROR(VLOOKUP(G40,IF(G40=3165,AL$2:AM$2,ESG!A$2:D$54),IF(G40=3165,2,4),0),0)","v":0},{"$f":"IF(Timesheet!P40>0,Timesheet!G40,\"\")","v":""},{"$f":"IF(Timesheet!P40>0,Timesheet!J40,\"\")","v":""},"",{"$f":"IFERROR(VLOOKUP(K40,IF(K40=3165,AL$2:AM$2,ESG!A$2:E$54),IF(K40=3165,2,5),0),0)","v":0},{"$f":"IF(Timesheet!R40>0,Timesheet!G40,\"\")","v":""},{"$f":"IF(Timesheet!R40>0,Timesheet!J40,\"\")","v":""},{"$f":"IFERROR(VLOOKUP(M40,ESG!M$2:N$13,2,FALSE),N40)","v":""},{"$f":"IFERROR(VLOOKUP(O40,IF(O40=3165,AL$2:AM$2,ESG!A$2:F$54),IF(O40=3165,2,6),0),0)","v":0},{"$f":"IF(Timesheet!T40>0,Timesheet!G40,\"\")","v":""},{"$f":"IF(Timesheet!T40>0,Timesheet!J40,\"\")","v":""},{"$f":"IFERROR(VLOOKUP(Q40,ESG!M$2:N$13,2,FALSE),R40)","v":""},{"$f":"IFERROR(VLOOKUP(S40,IF(S40=3165,AL$2:AM$2,ESG!A$2:G$54),IF(S40=3165,2,7),0),0)","v":0},{"$f":"IF(Timesheet!V40>0,Timesheet!G40,\"\")","v":""},{"$f":"IF(Timesheet!V40>0,Timesheet!J40,\"\")","v":""},{"$f":"IFERROR(VLOOKUP(U40,ESG!M$2:N$13,2,FALSE),V40)","v":""},{"$f":"IFERROR(VLOOKUP(W40,IF(W40=3165,AL$2:AM$2,ESG!A$2:H$54),IF(W40=3165,2,8),0),0)","v":0},{"$f":"IF(Timesheet!X40>0,Timesheet!G40,\"\")","v":""},{"$f":"IF(Timesheet!X40>0,Timesheet!J40,\"\")","v":""},"",{"$f":"IFERROR(VLOOKUP(AA40,IF(AA40=3165,AL$2:AM$2,ESG!A$2:I$54),IF(AA40=3165,2,9),0),0)","v":0},{"$f":"IF(Timesheet!Z40>0,Timesheet!G40,\"\")","v":""},{"$f":"IF(Timesheet!Z40>0,Timesheet!J40,\"\")","v":""},"",{"$f":"IFERROR(VLOOKUP(AE40,IF(AE40=3165,AL$2:AM$2,ESG!A$2:J$54),IF(AE40=3165,2,10),0),0)","v":0},{"$f":"IF(Timesheet!AB40>0,Timesheet!G40,\"\")","v":""},{"$f":"IF(Timesheet!AB40>0,Timesheet!J40,\"\")","v":""},"",{"$f":"IFERROR(VLOOKUP(AI40,IF(AI40=3165,AL$2:AM$2,ESG!A$2:K$54),IF(AI40=3165,2,11),0),0)","v":0}]
[{"$f":"IF(Timesheet!L41>0,Timesheet!G41,\"\")","v":""},{"$f":"IF(Timesheet!L41>0,Timesheet!J41,\"\")","v":""},"",{"$f":"IFERROR(VLOOKUP(C41,IF(C41=3165,AL$2:AM$2,ESG!A$2:C$54),IF(C41=3165,2,3),0),0)","v":0},{"$f":"IF(Timesheet!N41>0,Timesheet!G41,\"\")","v":""},{"$f":"IF(Timesheet!N41>0,Timesheet!J41,\"\")","v":""},"",{"$f":"IFERROR(VLOOKUP(G41,IF(G41=3165,AL$2:AM$2,ESG!A$2:D$54),IF(G41=3165,2,4),0),0)","v":0},{"$f":"IF(Timesheet!P41>0,Timesheet!G41,\"\")","v":""},{"$f":"IF(Timesheet!P41>0,Timesheet!J41,\"\")","v":""},"",{"$f":"IFERROR(VLOOKUP(K41,IF(K41=3165,AL$2:AM$2,ESG!A$2:E$54),IF(K41=3165,2,5),0),0)","v":0},{"$f":"IF(Timesheet!R41>0,Timesheet!G41,\"\")","v":""},{"$f":"IF(Timesheet!R41>0,Timesheet!J41,\"\")","v":""},{"$f":"IFERROR(VLOOKUP(M41,ESG!M$2:N$13,2,FALSE),N41)","v":""},{"$f":"IFERROR(VLOOKUP(O41,IF(O41=3165,AL$2:AM$2,ESG!A$2:F$54),IF(O41=3165,2,6),0),0)","v":0},{"$f":"IF(Timesheet!T41>0,Timesheet!G41,\"\")","v":""},{"$f":"IF(Timesheet!T41>0,Timesheet!J41,\"\")","v":""},{"$f":"IFERROR(VLOOKUP(Q41,ESG!M$2:N$13,2,FALSE),R41)","v":""},{"$f":"IFERROR(VLOOKUP(S41,IF(S41=3165,AL$2:AM$2,ESG!A$2:G$54),IF(S41=3165,2,7),0),0)","v":0},{"$f":"IF(Timesheet!V41>0,Timesheet!G41,\"\")","v":""},{"$f":"IF(Timesheet!V41>0,Timesheet!J41,\"\")","v":""},{"$f":"IFERROR(VLOOKUP(U41,ESG!M$2:N$13,2,FALSE),V41)","v":""},{"$f":"IFERROR(VLOOKUP(W41,IF(W41=3165,AL$2:AM$2,ESG!A$2:H$54),IF(W41=3165,2,8),0),0)","v":0},{"$f":"IF(Timesheet!X41>0,Timesheet!G41,\"\")","v":""},{"$f":"IF(Timesheet!X41>0,Timesheet!J41,\"\")","v":""},"",{"$f":"IFERROR(VLOOKUP(AA41,IF(AA41=3165,AL$2:AM$2,ESG!A$2:I$54),IF(AA41=3165,2,9),0),0)","v":0},{"$f":"IF(Timesheet!Z41>0,Timesheet!G41,\"\")","v":""},{"$f":"IF(Timesheet!Z41>0,Timesheet!J41,\"\")","v":""},"",{"$f":"IFERROR(VLOOKUP(AE41,IF(AE41=3165,AL$2:AM$2,ESG!A$2:J$54),IF(AE41=3165,2,10),0),0)","v":0},{"$f":"IF(Timesheet!AB41>0,Timesheet!G41,\"\")","v":""},{"$f":"IF(Timesheet!AB41>0,Timesheet!J41,\"\")","v":""},"",{"$f":"IFERROR(VLOOKUP(AI41,IF(AI41=3165,AL$2:AM$2,ESG!A$2:K$54),IF(AI41=3165,2,11),0),0)","v":0}]
[{"$f":"IF(Timesheet!L42>0,Timesheet!G42,\"\")","v":""},{"$f":"IF(Timesheet!L42>0,Timesheet!J42,\"\")","v":""},"",{"$f":"IFERROR(VLOOKUP(C42,IF(C42=3165,AL$2:AM$2,ESG!A$2:C$54),IF(C42=3165,2,3),0),0)","v":0},{"$f":"IF(Timesheet!N42>0,Timesheet!G42,\"\")","v":""},{"$f":"IF(Timesheet!N42>0,Timesheet!J42,\"\")","v":""},"",{"$f":"IFERROR(VLOOKUP(G42,IF(G42=3165,AL$2:AM$2,ESG!A$2:D$54),IF(G42=3165,2,4),0),0)","v":0},{"$f":"IF(Timesheet!P42>0,Timesheet!G42,\"\")","v":""},{"$f":"IF(Timesheet!P42>0,Timesheet!J42,\"\")","v":""},"",{"$f":"IFERROR(VLOOKUP(K42,IF(K42=3165,AL$2:AM$2,ESG!A$2:E$54),IF(K42=3165,2,5),0),0)","v":0},{"$f":"IF(Timesheet!R42>0,Timesheet!G42,\"\")","v":""},{"$f":"IF(Timesheet!R42>0,Timesheet!J42,\"\")","v":""},{"$f":"IFERROR(VLOOKUP(M42,ESG!M$2:N$13,2,FALSE),N42)","v":""},{"$f":"IFERROR(VLOOKUP(O42,IF(O42=3165,AL$2:AM$2,ESG!A$2:F$54),IF(O42=3165,2,6),0),0)","v":0},{"$f":"IF(Timesheet!T42>0,Timesheet!G42,\"\")","v":""},{"$f":"IF(Timesheet!T42>0,Timesheet!J42,\"\")","v":""},{"$f":"IFERROR(VLOOKUP(Q42,ESG!M$2:N$13,2,FALSE),R42)","v":""},{"$f":"IFERROR(VLOOKUP(S42,IF(S42=3165,AL$2:AM$2,ESG!A$2:G$54),IF(S42=3165,2,7),0),0)","v":0},{"$f":"IF(Timesheet!V42>0,Timesheet!G42,\"\")","v":""},{"$f":"IF(Timesheet!V42>0,Timesheet!J42,\"\")","v":""},{"$f":"IFERROR(VLOOKUP(U42,ESG!M$2:N$13,2,FALSE),V42)","v":""},{"$f":"IFERROR(VLOOKUP(W42,IF(W42=3165,AL$2:AM$2,ESG!A$2:H$54),IF(W42=3165,2,8),0),0)","v":0},{"$f":"IF(Timesheet!X42>0,Timesheet!G42,\"\")","v":""},{"$f":"IF(Timesheet!X42>0,Timesheet!J42,\"\")","v":""},"",{"$f":"IFERROR(VLOOKUP(AA42,IF(AA42=3165,AL$2:AM$2,ESG!A$2:I$54),IF(AA42=3165,2,9),0),0)","v":0},{"$f":"IF(Timesheet!Z42>0,Timesheet!G42,\"\")","v":""},{"$f":"IF(Timesheet!Z42>0,Timesheet!J42,\"\")","v":""},"",{"$f":"IFERROR(VLOOKUP(AE42,IF(AE42=3165,AL$2:AM$2,ESG!A$2:J$54),IF(AE42=3165,2,10),0),0)","v":0},{"$f":"IF(Timesheet!AB42>0,Timesheet!G42,\"\")","v":""},{"$f":"IF(Timesheet!AB42>0,Timesheet!J42,\"\")","v":""},"",{"$f":"IFERROR(VLOOKUP(AI42,IF(AI42=3165,AL$2:AM$2,ESG!A$2:K$54),IF(AI42=3165,2,11),0),0)","v":0}]
[{"$f":"IF(Timesheet!L43>0,Timesheet!G43,\"\")","v":""},{"$f":"IF(Timesheet!L43>0,Timesheet!J43,\"\")","v":""},"",{"$f":"IFERROR(VLOOKUP(C43,IF(C43=3165,AL$2:AM$2,ESG!A$2:C$54),IF(C43=3165,2,3),0),0)","v":0},{"$f":"IF(Timesheet!N43>0,Timesheet!G43,\"\")","v":""},{"$f":"IF(Timesheet!N43>0,Timesheet!J43,\"\")","v":""},"",{"$f":"IFERROR(VLOOKUP(G43,IF(G43=3165,AL$2:AM$2,ESG!A$2:D$54),IF(G43=3165,2,4),0),0)","v":0},{"$f":"IF(Timesheet!P43>0,Timesheet!G43,\"\")","v":""},{"$f":"IF(Timesheet!P43>0,Timesheet!J43,\"\")","v":""},"",{"$f":"IFERROR(VLOOKUP(K43,IF(K43=3165,AL$2:AM$2,ESG!A$2:E$54),IF(K43=3165,2,5),0),0)","v":0},{"$f":"IF(Timesheet!R43>0,Timesheet!G43,\"\")","v":""},{"$f":"IF(Timesheet!R43>0,Timesheet!J43,\"\")","v":""},{"$f":"IFERROR(VLOOKUP(M43,ESG!M$2:N$13,2,FALSE),N43)","v":""},{"$f":"IFERROR(VLOOKUP(O43,IF(O43=3165,AL$2:AM$2,ESG!A$2:F$54),IF(O43=3165,2,6),0),0)","v":0},{"$f":"IF(Timesheet!T43>0,Timesheet!G43,\"\")","v":""},{"$f":"IF(Timesheet!T43>0,Timesheet!J43,\"\")","v":""},{"$f":"IFERROR(VLOOKUP(Q43,ESG!M$2:N$13,2,FALSE),R43)","v":""},{"$f":"IFERROR(VLOOKUP(S43,IF(S43=3165,AL$2:AM$2,ESG!A$2:G$54),IF(S43=3165,2,7),0),0)","v":0},{"$f":"IF(Timesheet!V43>0,Timesheet!G43,\"\")","v":""},{"$f":"IF(Timesheet!V43>0,Timesheet!J43,\"\")","v":""},{"$f":"IFERROR(VLOOKUP(U43,ESG!M$2:N$13,2,FALSE),V43)","v":""},{"$f":"IFERROR(VLOOKUP(W43,IF(W43=3165,AL$2:AM$2,ESG!A$2:H$54),IF(W43=3165,2,8),0),0)","v":0},{"$f":"IF(Timesheet!X43>0,Timesheet!G43,\"\")","v":""},{"$f":"IF(Timesheet!X43>0,Timesheet!J43,\"\")","v":""},"",{"$f":"IFERROR(VLOOKUP(AA43,IF(AA43=3165,AL$2:AM$2,ESG!A$2:I$54),IF(AA43=3165,2,9),0),0)","v":0},{"$f":"IF(Timesheet!Z43>0,Timesheet!G43,\"\")","v":""},{"$f":"IF(Timesheet!Z43>0,Timesheet!J43,\"\")","v":""},"",{"$f":"IFERROR(VLOOKUP(AE43,IF(AE43=3165,AL$2:AM$2,ESG!A$2:J$54),IF(AE43=3165,2,10),0),0)","v":0},{"$f":"IF(Timesheet!AB43>0,Timesheet!G43,\"\")","v":""},{"$f":"IF(Timesheet!AB43>0,Timesheet!J43,\"\")","v":""},"",{"$f":"IFERROR(VLOOKUP(AI43,IF(AI43=3165,AL$2:AM$2,ESG!A$2:K$54),IF(AI43=3165,2,11),0),0)","v":0}]
[{"$f":"IF(Timesheet!L44>0,Timesheet!G44,\"\")","v":""},{"$f":"IF(Timesheet!L44>0,Timesheet!J44,\"\")","v":""},"",{"$f":"IFERROR(VLOOKUP(C44,IF(C44=3165,AL$2:AM$2,ESG!A$2:C$54),IF(C44=3165,2,3),0),0)","v":0},{"$f":"IF(Timesheet!N44>0,Timesheet!G44,\"\")","v":""},{"$f":"IF(Timesheet!N44>0,Timesheet!J44,\"\")","v":""},"",{"$f":"IFERROR(VLOOKUP(G44,IF(G44=3165,AL$2:AM$2,ESG!A$2:D$54),IF(G44=3165,2,4),0),0)","v":0},{"$f":"IF(Timesheet!P44>0,Timesheet!G44,\"\")","v":""},{"$f":"IF(Timesheet!P44>0,Timesheet!J44,\"\")","v":""},"",{"$f":"IFERROR(VLOOKUP(K44,IF(K44=3165,AL$2:AM$2,ESG!A$2:E$54),IF(K44=3165,2,5),0),0)","v":0},{"$f":"IF(Timesheet!R44>0,Timesheet!G44,\"\")","v":""},{"$f":"IF(Timesheet!R44>0,Timesheet!J44,\"\")","v":""},{"$f":"IFERROR(VLOOKUP(M44,ESG!M$2:N$13,2,FALSE),N44)","v":""},{"$f":"IFERROR(VLOOKUP(O44,IF(O44=3165,AL$2:AM$2,ESG!A$2:F$54),IF(O44=3165,2,6),0),0)","v":0},{"$f":"IF(Timesheet!T44>0,Timesheet!G44,\"\")","v":""},{"$f":"IF(Timesheet!T44>0,Timesheet!J44,\"\")","v":""},{"$f":"IFERROR(VLOOKUP(Q44,ESG!M$2:N$13,2,FALSE),R44)","v":""},{"$f":"IFERROR(VLOOKUP(S44,IF(S44=3165,AL$2:AM$2,ESG!A$2:G$54),IF(S44=3165,2,7),0),0)","v":0},{"$f":"IF(Timesheet!V44>0,Timesheet!G44,\"\")","v":""},{"$f":"IF(Timesheet!V44>0,Timesheet!J44,\"\")","v":""},{"$f":"IFERROR(VLOOKUP(U44,ESG!M$2:N$13,2,FALSE),V44)","v":""},{"$f":"IFERROR(VLOOKUP(W44,IF(W44=3165,AL$2:AM$2,ESG!A$2:H$54),IF(W44=3165,2,8),0),0)","v":0},{"$f":"IF(Timesheet!X44>0,Timesheet!G44,\"\")","v":""},{"$f":"IF(Timesheet!X44>0,Timesheet!J44,\"\")","v":""},"",{"$f":"IFERROR(VLOOKUP(AA44,IF(AA44=3165,AL$2:AM$2,ESG!A$2:I$54),IF(AA44=3165,2,9),0),0)","v":0},{"$f":"IF(Timesheet!Z44>0,Timesheet!G44,\"\")","v":""},{"$f":"IF(Timesheet!Z44>0,Timesheet!J44,\"\")","v":""},"",{"$f":"IFERROR(VLOOKUP(AE44,IF(AE44=3165,AL$2:AM$2,ESG!A$2:J$54),IF(AE44=3165,2,10),0),0)","v":0},{"$f":"IF(Timesheet!AB44>0,Timesheet!G44,\"\")","v":""},{"$f":"IF(Timesheet!AB44>0,Timesheet!J44,\"\")","v":""},"",{"$f":"IFERROR(VLOOKUP(AI44,IF(AI44=3165,AL$2:AM$2,ESG!A$2:K$54),IF(AI44=3165,2,11),0),0)","v":0}]
[{"$f":"IF(Timesheet!L45>0,Timesheet!G45,\"\")","v":""},{"$f":"IF(Timesheet!L45>0,Timesheet!J45,\"\")","v":""},"",{"$f":"IFERROR(VLOOKUP(C45,IF(C45=3165,AL$2:AM$2,ESG!A$2:C$54),IF(C45=3165,2,3),0),0)","v":0},{"$f":"IF(Timesheet!N45>0,Timesheet!G45,\"\")","v":""},{"$f":"IF(Timesheet!N45>0,Timesheet!J45,\"\")","v":""},"",{"$f":"IFERROR(VLOOKUP(G45,IF(G45=3165,AL$2:AM$2,ESG!A$2:D$54),IF(G45=3165,2,4),0),0)","v":0},{"$f":"IF(Timesheet!P45>0,Timesheet!G45,\"\")","v":""},{"$f":"IF(Timesheet!P45>0,Timesheet!J45,\"\")","v":""},"",{"$f":"IFERROR(VLOOKUP(K45,IF(K45=3165,AL$2:AM$2,ESG!A$2:E$54),IF(K45=3165,2,5),0),0)","v":0},{"$f":"IF(Timesheet!R45>0,Timesheet!G45,\"\")","v":""},{"$f":"IF(Timesheet!R45>0,Timesheet!J45,\"\")","v":""},{"$f":"IFERROR(VLOOKUP(M45,ESG!M$2:N$13,2,FALSE),N45)","v":""},{"$f":"IFERROR(VLOOKUP(O45,IF(O45=3165,AL$2:AM$2,ESG!A$2:F$54),IF(O45=3165,2,6),0),0)","v":0},{"$f":"IF(Timesheet!T45>0,Timesheet!G45,\"\")","v":""},{"$f":"IF(Timesheet!T45>0,Timesheet!J45,\"\")","v":""},{"$f":"IFERROR(VLOOKUP(Q45,ESG!M$2:N$13,2,FALSE),R45)","v":""},{"$f":"IFERROR(VLOOKUP(S45,IF(S45=3165,AL$2:AM$2,ESG!A$2:G$54),IF(S45=3165,2,7),0),0)","v":0},{"$f":"IF(Timesheet!V45>0,Timesheet!G45,\"\")","v":""},{"$f":"IF(Timesheet!V45>0,Timesheet!J45,\"\")","v":""},{"$f":"IFERROR(VLOOKUP(U45,ESG!M$2:N$13,2,FALSE),V45)","v":""},{"$f":"IFERROR(VLOOKUP(W45,IF(W45=3165,AL$2:AM$2,ESG!A$2:H$54),IF(W45=3165,2,8),0),0)","v":0},{"$f":"IF(Timesheet!X45>0,Timesheet!G45,\"\")","v":""},{"$f":"IF(Timesheet!X45>0,Timesheet!J45,\"\")","v":""},"",{"$f":"IFERROR(VLOOKUP(AA45,IF(AA45=3165,AL$2:AM$2,ESG!A$2:I$54),IF(AA45=3165,2,9),0),0)","v":0},{"$f":"IF(Timesheet!Z45>0,Timesheet!G45,\"\")","v":""},{"$f":"IF(Timesheet!Z45>0,Timesheet!J45,\"\")","v":""},"",{"$f":"IFERROR(VLOOKUP(AE45,IF(AE45=3165,AL$2:AM$2,ESG!A$2:J$54),IF(AE45=3165,2,10),0),0)","v":0},{"$f":"IF(Timesheet!AB45>0,Timesheet!G45,\"\")","v":""},{"$f":"IF(Timesheet!AB45>0,Timesheet!J45,\"\")","v":""},"",{"$f":"IFERROR(VLOOKUP(AI45,IF(AI45=3165,AL$2:AM$2,ESG!A$2:K$54),IF(AI45=3165,2,11),0),0)","v":0}]
[{"$f":"IF(Timesheet!L46>0,Timesheet!G46,\"\")","v":""},{"$f":"IF(Timesheet!L46>0,Timesheet!J46,\"\")","v":""},"",{"$f":"IFERROR(VLOOKUP(C46,IF(C46=3165,AL$2:AM$2,ESG!A$2:C$54),IF(C46=3165,2,3),0),0)","v":0},{"$f":"IF(Timesheet!N46>0,Timesheet!G46,\"\")","v":""},{"$f":"IF(Timesheet!N46>0,Timesheet!J46,\"\")","v":""},"",{"$f":"IFERROR(VLOOKUP(G46,IF(G46=3165,AL$2:AM$2,ESG!A$2:D$54),IF(G46=3165,2,4),0),0)","v":0},{"$f":"IF(Timesheet!P46>0,Timesheet!G46,\"\")","v":""},{"$f":"IF(Timesheet!P46>0,Timesheet!J46,\"\")","v":""},"",{"$f":"IFERROR(VLOOKUP(K46,IF(K46=3165,AL$2:AM$2,ESG!A$2:E$54),IF(K46=3165,2,5),0),0)","v":0},{"$f":"IF(Timesheet!R46>0,Timesheet!G46,\"\")","v":""},{"$f":"IF(Timesheet!R46>0,Timesheet!J46,\"\")","v":""},{"$f":"IFERROR(VLOOKUP(M46,ESG!M$2:N$13,2,FALSE),N46)","v":""},{"$f":"IFERROR(VLOOKUP(O46,IF(O46=3165,AL$2:AM$2,ESG!A$2:F$54),IF(O46=3165,2,6),0),0)","v":0},{"$f":"IF(Timesheet!T46>0,Timesheet!G46,\"\")","v":""},{"$f":"IF(Timesheet!T46>0,Timesheet!J46,\"\")","v":""},{"$f":"IFERROR(VLOOKUP(Q46,ESG!M$2:N$13,2,FALSE),R46)","v":""},{"$f":"IFERROR(VLOOKUP(S46,IF(S46=3165,AL$2:AM$2,ESG!A$2:G$54),IF(S46=3165,2,7),0),0)","v":0},{"$f":"IF(Timesheet!V46>0,Timesheet!G46,\"\")","v":""},{"$f":"IF(Timesheet!V46>0,Timesheet!J46,\"\")","v":""},{"$f":"IFERROR(VLOOKUP(U46,ESG!M$2:N$13,2,FALSE),V46)","v":""},{"$f":"IFERROR(VLOOKUP(W46,IF(W46=3165,AL$2:AM$2,ESG!A$2:H$54),IF(W46=3165,2,8),0),0)","v":0},{"$f":"IF(Timesheet!X46>0,Timesheet!G46,\"\")","v":""},{"$f":"IF(Timesheet!X46>0,Timesheet!J46,\"\")","v":""},"",{"$f":"IFERROR(VLOOKUP(AA46,IF(AA46=3165,AL$2:AM$2,ESG!A$2:I$54),IF(AA46=3165,2,9),0),0)","v":0},{"$f":"IF(Timesheet!Z46>0,Timesheet!G46,\"\")","v":""},{"$f":"IF(Timesheet!Z46>0,Timesheet!J46,\"\")","v":""},"",{"$f":"IFERROR(VLOOKUP(AE46,IF(AE46=3165,AL$2:AM$2,ESG!A$2:J$54),IF(AE46=3165,2,10),0),0)","v":0},{"$f":"IF(Timesheet!AB46>0,Timesheet!G46,\"\")","v":""},{"$f":"IF(Timesheet!AB46>0,Timesheet!J46,\"\")","v":""},"",{"$f":"IFERROR(VLOOKUP(AI46,IF(AI46=3165,AL$2:AM$2,ESG!A$2:K$54),IF(AI46=3165,2,11),0),0)","v":0}]
[{"$f":"IF(Timesheet!L47>0,Timesheet!G47,\"\")","v":""},{"$f":"IF(Timesheet!L47>0,Timesheet!J47,\"\")","v":""},"",{"$f":"IFERROR(VLOOKUP(C47,IF(C47=3165,AL$2:AM$2,ESG!A$2:C$54),IF(C47=3165,2,3),0),0)","v":0},{"$f":"IF(Timesheet!N47>0,Timesheet!G47,\"\")","v":""},{"$f":"IF(Timesheet!N47>0,Timesheet!J47,\"\")","v":""},"",{"$f":"IFERROR(VLOOKUP(G47,IF(G47=3165,AL$2:AM$2,ESG!A$2:D$54),IF(G47=3165,2,4),0),0)","v":0},{"$f":"IF(Timesheet!P47>0,Timesheet!G47,\"\")","v":""},{"$f":"IF(Timesheet!P47>0,Timesheet!J47,\"\")","v":""},"",{"$f":"IFERROR(VLOOKUP(K47,IF(K47=3165,AL$2:AM$2,ESG!A$2:E$54),IF(K47=3165,2,5),0),0)","v":0},{"$f":"IF(Timesheet!R47>0,Timesheet!G47,\"\")","v":"SC5"},{"$f":"IF(Timesheet!R47>0,Timesheet!J47,\"\")","v":"07"},{"$f":"IFERROR(VLOOKUP(M47,ESG!M$2:N$13,2,FALSE),N47)","v":"07"},{"$f":"IFERROR(VLOOKUP(O47,IF(O47=3165,AL$2:AM$2,ESG!A$2:F$54),IF(O47=3165,2,6),0),0)","v":3141},{"$f":"IF(Timesheet!T47>0,Timesheet!G47,\"\")","v":""},{"$f":"IF(Timesheet!T47>0,Timesheet!J47,\"\")","v":""},{"$f":"IFERROR(VLOOKUP(Q47,ESG!M$2:N$13,2,FALSE),R47)","v":""},{"$f":"IFERROR(VLOOKUP(S47,IF(S47=3165,AL$2:AM$2,ESG!A$2:G$54),IF(S47=3165,2,7),0),0)","v":0},{"$f":"IF(Timesheet!V47>0,Timesheet!G47,\"\")","v":""},{"$f":"IF(Timesheet!V47>0,Timesheet!J47,\"\")","v":""},{"$f":"IFERROR(VLOOKUP(U47,ESG!M$2:N$13,2,FALSE),V47)","v":""},{"$f":"IFERROR(VLOOKUP(W47,IF(W47=3165,AL$2:AM$2,ESG!A$2:H$54),IF(W47=3165,2,8),0),0)","v":0},{"$f":"IF(Timesheet!X47>0,Timesheet!G47,\"\")","v":""},{"$f":"IF(Timesheet!X47>0,Timesheet!J47,\"\")","v":""},"",{"$f":"IFERROR(VLOOKUP(AA47,IF(AA47=3165,AL$2:AM$2,ESG!A$2:I$54),IF(AA47=3165,2,9),0),0)","v":0},{"$f":"IF(Timesheet!Z47>0,Timesheet!G47,\"\")","v":""},{"$f":"IF(Timesheet!Z47>0,Timesheet!J47,\"\")","v":""},"",{"$f":"IFERROR(VLOOKUP(AE47,IF(AE47=3165,AL$2:AM$2,ESG!A$2:J$54),IF(AE47=3165,2,10),0),0)","v":0},{"$f":"IF(Timesheet!AB47>0,Timesheet!G47,\"\")","v":""},{"$f":"IF(Timesheet!AB47>0,Timesheet!J47,\"\")","v":""},"",{"$f":"IFERROR(VLOOKUP(AI47,IF(AI47=3165,AL$2:AM$2,ESG!A$2:K$54),IF(AI47=3165,2,11),0),0)","v":0}]
[{"$f":"IF(Timesheet!L48>0,Timesheet!G48,\"\")","v":""},{"$f":"IF(Timesheet!L48>0,Timesheet!J48,\"\")","v":""},"",{"$f":"IFERROR(VLOOKUP(C48,IF(C48=3165,AL$2:AM$2,ESG!A$2:C$54),IF(C48=3165,2,3),0),0)","v":0},{"$f":"IF(Timesheet!N48>0,Timesheet!G48,\"\")","v":""},{"$f":"IF(Timesheet!N48>0,Timesheet!J48,\"\")","v":""},"",{"$f":"IFERROR(VLOOKUP(G48,IF(G48=3165,AL$2:AM$2,ESG!A$2:D$54),IF(G48=3165,2,4),0),0)","v":0},{"$f":"IF(Timesheet!P48>0,Timesheet!G48,\"\")","v":""},{"$f":"IF(Timesheet!P48>0,Timesheet!J48,\"\")","v":""},"",{"$f":"IFERROR(VLOOKUP(K48,IF(K48=3165,AL$2:AM$2,ESG!A$2:E$54),IF(K48=3165,2,5),0),0)","v":0},{"$f":"IF(Timesheet!R48>0,Timesheet!G48,\"\")","v":""},{"$f":"IF(Timesheet!R48>0,Timesheet!J48,\"\")","v":""},{"$f":"IFERROR(VLOOKUP(M48,ESG!M$2:N$13,2,FALSE),N48)","v":""},{"$f":"IFERROR(VLOOKUP(O48,IF(O48=3165,AL$2:AM$2,ESG!A$2:F$54),IF(O48=3165,2,6),0),0)","v":0},{"$f":"IF(Timesheet!T48>0,Timesheet!G48,\"\")","v":""},{"$f":"IF(Timesheet!T48>0,Timesheet!J48,\"\")","v":""},{"$f":"IFERROR(VLOOKUP(Q48,ESG!M$2:N$13,2,FALSE),R48)","v":""},{"$f":"IFERROR(VLOOKUP(S48,IF(S48=3165,AL$2:AM$2,ESG!A$2:G$54),IF(S48=3165,2,7),0),0)","v":0},{"$f":"IF(Timesheet!V48>0,Timesheet!G48,\"\")","v":""},{"$f":"IF(Timesheet!V48>0,Timesheet!J48,\"\")","v":""},{"$f":"IFERROR(VLOOKUP(U48,ESG!M$2:N$13,2,FALSE),V48)","v":""},{"$f":"IFERROR(VLOOKUP(W48,IF(W48=3165,AL$2:AM$2,ESG!A$2:H$54),IF(W48=3165,2,8),0),0)","v":0},{"$f":"IF(Timesheet!X48>0,Timesheet!G48,\"\")","v":""},{"$f":"IF(Timesheet!X48>0,Timesheet!J48,\"\")","v":""},"",{"$f":"IFERROR(VLOOKUP(AA48,IF(AA48=3165,AL$2:AM$2,ESG!A$2:I$54),IF(AA48=3165,2,9),0),0)","v":0},{"$f":"IF(Timesheet!Z48>0,Timesheet!G48,\"\")","v":""},{"$f":"IF(Timesheet!Z48>0,Timesheet!J48,\"\")","v":""},"",{"$f":"IFERROR(VLOOKUP(AE48,IF(AE48=3165,AL$2:AM$2,ESG!A$2:J$54),IF(AE48=3165,2,10),0),0)","v":0},{"$f":"IF(Timesheet!AB48>0,Timesheet!G48,\"\")","v":""},{"$f":"IF(Timesheet!AB48>0,Timesheet!J48,\"\")","v":""},"",{"$f":"IFERROR(VLOOKUP(AI48,IF(AI48=3165,AL$2:AM$2,ESG!A$2:K$54),IF(AI48=3165,2,11),0),0)","v":0}]
[{"$f":"IF(Timesheet!L49>0,Timesheet!G49,\"\")","v":""},{"$f":"IF(Timesheet!L49>0,Timesheet!J49,\"\")","v":""},"",{"$f":"IFERROR(VLOOKUP(C49,IF(C49=3165,AL$2:AM$2,ESG!A$2:C$54),IF(C49=3165,2,3),0),0)","v":0},{"$f":"IF(Timesheet!N49>0,Timesheet!G49,\"\")","v":""},{"$f":"IF(Timesheet!N49>0,Timesheet!J49,\"\")","v":""},"",{"$f":"IFERROR(VLOOKUP(G49,IF(G49=3165,AL$2:AM$2,ESG!A$2:D$54),IF(G49=3165,2,4),0),0)","v":0},{"$f":"IF(Timesheet!P49>0,Timesheet!G49,\"\")","v":""},{"$f":"IF(Timesheet!P49>0,Timesheet!J49,\"\")","v":""},"",{"$f":"IFERROR(VLOOKUP(K49,IF(K49=3165,AL$2:AM$2,ESG!A$2:E$54),IF(K49=3165,2,5),0),0)","v":0},{"$f":"IF(Timesheet!R49>0,Timesheet!G49,\"\")","v":""},{"$f":"IF(Timesheet!R49>0,Timesheet!J49,\"\")","v":""},{"$f":"IFERROR(VLOOKUP(M49,ESG!M$2:N$13,2,FALSE),N49)","v":""},{"$f":"IFERROR(VLOOKUP(O49,IF(O49=3165,AL$2:AM$2,ESG!A$2:F$54),IF(O49=3165,2,6),0),0)","v":0},{"$f":"IF(Timesheet!T49>0,Timesheet!G49,\"\")","v":""},{"$f":"IF(Timesheet!T49>0,Timesheet!J49,\"\")","v":""},{"$f":"IFERROR(VLOOKUP(Q49,ESG!M$2:N$13,2,FALSE),R49)","v":""},{"$f":"IFERROR(VLOOKUP(S49,IF(S49=3165,AL$2:AM$2,ESG!A$2:G$54),IF(S49=3165,2,7),0),0)","v":0},{"$f":"IF(Timesheet!V49>0,Timesheet!G49,\"\")","v":""},{"$f":"IF(Timesheet!V49>0,Timesheet!J49,\"\")","v":""},{"$f":"IFERROR(VLOOKUP(U49,ESG!M$2:N$13,2,FALSE),V49)","v":""},{"$f":"IFERROR(VLOOKUP(W49,IF(W49=3165,AL$2:AM$2,ESG!A$2:H$54),IF(W49=3165,2,8),0),0)","v":0},{"$f":"IF(Timesheet!X49>0,Timesheet!G49,\"\")","v":""},{"$f":"IF(Timesheet!X49>0,Timesheet!J49,\"\")","v":""},"",{"$f":"IFERROR(VLOOKUP(AA49,IF(AA49=3165,AL$2:AM$2,ESG!A$2:I$54),IF(AA49=3165,2,9),0),0)","v":0},{"$f":"IF(Timesheet!Z49>0,Timesheet!G49,\"\")","v":""},{"$f":"IF(Timesheet!Z49>0,Timesheet!J49,\"\")","v":""},"",{"$f":"IFERROR(VLOOKUP(AE49,IF(AE49=3165,AL$2:AM$2,ESG!A$2:J$54),IF(AE49=3165,2,10),0),0)","v":0},{"$f":"IF(Timesheet!AB49>0,Timesheet!G49,\"\")","v":""},{"$f":"IF(Timesheet!AB49>0,Timesheet!J49,\"\")","v":""},"",{"$f":"IFERROR(VLOOKUP(AI49,IF(AI49=3165,AL$2:AM$2,ESG!A$2:K$54),IF(AI49=3165,2,11),0),0)","v":0}]
[{"$f":"IF(Timesheet!L50>0,Timesheet!G50,\"\")","v":""},{"$f":"IF(Timesheet!L50>0,Timesheet!J50,\"\")","v":""},"",{"$f":"IFERROR(VLOOKUP(C50,IF(C50=3165,AL$2:AM$2,ESG!A$2:C$54),IF(C50=3165,2,3),0),0)","v":0},{"$f":"IF(Timesheet!N50>0,Timesheet!G50,\"\")","v":""},{"$f":"IF(Timesheet!N50>0,Timesheet!J50,\"\")","v":""},"",{"$f":"IFERROR(VLOOKUP(G50,IF(G50=3165,AL$2:AM$2,ESG!A$2:D$54),IF(G50=3165,2,4),0),0)","v":0},{"$f":"IF(Timesheet!P50>0,Timesheet!G50,\"\")","v":""},{"$f":"IF(Timesheet!P50>0,Timesheet!J50,\"\")","v":""},"",{"$f":"IFERROR(VLOOKUP(K50,IF(K50=3165,AL$2:AM$2,ESG!A$2:E$54),IF(K50=3165,2,5),0),0)","v":0},{"$f":"IF(Timesheet!R50>0,Timesheet!G50,\"\")","v":""},{"$f":"IF(Timesheet!R50>0,Timesheet!J50,\"\")","v":""},{"$f":"IFERROR(VLOOKUP(M50,ESG!M$2:N$13,2,FALSE),N50)","v":""},{"$f":"IFERROR(VLOOKUP(O50,IF(O50=3165,AL$2:AM$2,ESG!A$2:F$54),IF(O50=3165,2,6),0),0)","v":0},{"$f":"IF(Timesheet!T50>0,Timesheet!G50,\"\")","v":""},{"$f":"IF(Timesheet!T50>0,Timesheet!J50,\"\")","v":""},{"$f":"IFERROR(VLOOKUP(Q50,ESG!M$2:N$13,2,FALSE),R50)","v":""},{"$f":"IFERROR(VLOOKUP(S50,IF(S50=3165,AL$2:AM$2,ESG!A$2:G$54),IF(S50=3165,2,7),0),0)","v":0},{"$f":"IF(Timesheet!V50>0,Timesheet!G50,\"\")","v":""},{"$f":"IF(Timesheet!V50>0,Timesheet!J50,\"\")","v":""},{"$f":"IFERROR(VLOOKUP(U50,ESG!M$2:N$13,2,FALSE),V50)","v":""},{"$f":"IFERROR(VLOOKUP(W50,IF(W50=3165,AL$2:AM$2,ESG!A$2:H$54),IF(W50=3165,2,8),0),0)","v":0},{"$f":"IF(Timesheet!X50>0,Timesheet!G50,\"\")","v":""},{"$f":"IF(Timesheet!X50>0,Timesheet!J50,\"\")","v":""},"",{"$f":"IFERROR(VLOOKUP(AA50,IF(AA50=3165,AL$2:AM$2,ESG!A$2:I$54),IF(AA50=3165,2,9),0),0)","v":0},{"$f":"IF(Timesheet!Z50>0,Timesheet!G50,\"\")","v":""},{"$f":"IF(Timesheet!Z50>0,Timesheet!J50,\"\")","v":""},"",{"$f":"IFERROR(VLOOKUP(AE50,IF(AE50=3165,AL$2:AM$2,ESG!A$2:J$54),IF(AE50=3165,2,10),0),0)","v":0},{"$f":"IF(Timesheet!AB50>0,Timesheet!G50,\"\")","v":""},{"$f":"IF(Timesheet!AB50>0,Timesheet!J50,\"\")","v":""},"",{"$f":"IFERROR(VLOOKUP(AI50,IF(AI50=3165,AL$2:AM$2,ESG!A$2:K$54),IF(AI50=3165,2,11),0),0)","v":0}]
[{"$f":"IF(Timesheet!L51>0,Timesheet!G51,\"\")","v":""},{"$f":"IF(Timesheet!L51>0,Timesheet!J51,\"\")","v":""},"",{"$f":"IFERROR(VLOOKUP(C51,IF(C51=3165,AL$2:AM$2,ESG!A$2:C$54),IF(C51=3165,2,3),0),0)","v":0},{"$f":"IF(Timesheet!N51>0,Timesheet!G51,\"\")","v":""},{"$f":"IF(Timesheet!N51>0,Timesheet!J51,\"\")","v":""},"",{"$f":"IFERROR(VLOOKUP(G51,IF(G51=3165,AL$2:AM$2,ESG!A$2:D$54),IF(G51=3165,2,4),0),0)","v":0},{"$f":"IF(Timesheet!P51>0,Timesheet!G51,\"\")","v":""},{"$f":"IF(Timesheet!P51>0,Timesheet!J51,\"\")","v":""},"",{"$f":"IFERROR(VLOOKUP(K51,IF(K51=3165,AL$2:AM$2,ESG!A$2:E$54),IF(K51=3165,2,5),0),0)","v":0},{"$f":"IF(Timesheet!R51>0,Timesheet!G51,\"\")","v":""},{"$f":"IF(Timesheet!R51>0,Timesheet!J51,\"\")","v":""},{"$f":"IFERROR(VLOOKUP(M51,ESG!M$2:N$13,2,FALSE),N51)","v":""},{"$f":"IFERROR(VLOOKUP(O51,IF(O51=3165,AL$2:AM$2,ESG!A$2:F$54),IF(O51=3165,2,6),0),0)","v":0},{"$f":"IF(Timesheet!T51>0,Timesheet!G51,\"\")","v":""},{"$f":"IF(Timesheet!T51>0,Timesheet!J51,\"\")","v":""},{"$f":"IFERROR(VLOOKUP(Q51,ESG!M$2:N$13,2,FALSE),R51)","v":""},{"$f":"IFERROR(VLOOKUP(S51,IF(S51=3165,AL$2:AM$2,ESG!A$2:G$54),IF(S51=3165,2,7),0),0)","v":0},{"$f":"IF(Timesheet!V51>0,Timesheet!G51,\"\")","v":""},{"$f":"IF(Timesheet!V51>0,Timesheet!J51,\"\")","v":""},{"$f":"IFERROR(VLOOKUP(U51,ESG!M$2:N$13,2,FALSE),V51)","v":""},{"$f":"IFERROR(VLOOKUP(W51,IF(W51=3165,AL$2:AM$2,ESG!A$2:H$54),IF(W51=3165,2,8),0),0)","v":0},{"$f":"IF(Timesheet!X51>0,Timesheet!G51,\"\")","v":""},{"$f":"IF(Timesheet!X51>0,Timesheet!J51,\"\")","v":""},"",{"$f":"IFERROR(VLOOKUP(AA51,IF(AA51=3165,AL$2:AM$2,ESG!A$2:I$54),IF(AA51=3165,2,9),0),0)","v":0},{"$f":"IF(Timesheet!Z51>0,Timesheet!G51,\"\")","v":""},{"$f":"IF(Timesheet!Z51>0,Timesheet!J51,\"\")","v":""},"",{"$f":"IFERROR(VLOOKUP(AE51,IF(AE51=3165,AL$2:AM$2,ESG!A$2:J$54),IF(AE51=3165,2,10),0),0)","v":0},{"$f":"IF(Timesheet!AB51>0,Timesheet!G51,\"\")","v":""},{"$f":"IF(Timesheet!AB51>0,Timesheet!J51,\"\")","v":""},"",{"$f":"IFERROR(VLOOKUP(AI51,IF(AI51=3165,AL$2:AM$2,ESG!A$2:K$54),IF(AI51=3165,2,11),0),0)","v":0}]
[{"$f":"IF(Timesheet!L52>0,Timesheet!G52,\"\")","v":""},{"$f":"IF(Timesheet!L52>0,Timesheet!J52,\"\")","v":""},"",{"$f":"IFERROR(VLOOKUP(C52,IF(C52=3165,AL$2:AM$2,ESG!A$2:C$54),IF(C52=3165,2,3),0),0)","v":0},{"$f":"IF(Timesheet!N52>0,Timesheet!G52,\"\")","v":""},{"$f":"IF(Timesheet!N52>0,Timesheet!J52,\"\")","v":""},"",{"$f":"IFERROR(VLOOKUP(G52,IF(G52=3165,AL$2:AM$2,ESG!A$2:D$54),IF(G52=3165,2,4),0),0)","v":0},{"$f":"IF(Timesheet!P52>0,Timesheet!G52,\"\")","v":""},{"$f":"IF(Timesheet!P52>0,Timesheet!J52,\"\")","v":""},"",{"$f":"IFERROR(VLOOKUP(K52,IF(K52=3165,AL$2:AM$2,ESG!A$2:E$54),IF(K52=3165,2,5),0),0)","v":0},{"$f":"IF(Timesheet!R52>0,Timesheet!G52,\"\")","v":""},{"$f":"IF(Timesheet!R52>0,Timesheet!J52,\"\")","v":""},{"$f":"IFERROR(VLOOKUP(M52,ESG!M$2:N$13,2,FALSE),N52)","v":""},{"$f":"IFERROR(VLOOKUP(O52,IF(O52=3165,AL$2:AM$2,ESG!A$2:F$54),IF(O52=3165,2,6),0),0)","v":0},{"$f":"IF(Timesheet!T52>0,Timesheet!G52,\"\")","v":""},{"$f":"IF(Timesheet!T52>0,Timesheet!J52,\"\")","v":""},{"$f":"IFERROR(VLOOKUP(Q52,ESG!M$2:N$13,2,FALSE),R52)","v":""},{"$f":"IFERROR(VLOOKUP(S52,IF(S52=3165,AL$2:AM$2,ESG!A$2:G$54),IF(S52=3165,2,7),0),0)","v":0},{"$f":"IF(Timesheet!V52>0,Timesheet!G52,\"\")","v":""},{"$f":"IF(Timesheet!V52>0,Timesheet!J52,\"\")","v":""},{"$f":"IFERROR(VLOOKUP(U52,ESG!M$2:N$13,2,FALSE),V52)","v":""},{"$f":"IFERROR(VLOOKUP(W52,IF(W52=3165,AL$2:AM$2,ESG!A$2:H$54),IF(W52=3165,2,8),0),0)","v":0},{"$f":"IF(Timesheet!X52>0,Timesheet!G52,\"\")","v":""},{"$f":"IF(Timesheet!X52>0,Timesheet!J52,\"\")","v":""},"",{"$f":"IFERROR(VLOOKUP(AA52,IF(AA52=3165,AL$2:AM$2,ESG!A$2:I$54),IF(AA52=3165,2,9),0),0)","v":0},{"$f":"IF(Timesheet!Z52>0,Timesheet!G52,\"\")","v":""},{"$f":"IF(Timesheet!Z52>0,Timesheet!J52,\"\")","v":""},"",{"$f":"IFERROR(VLOOKUP(AE52,IF(AE52=3165,AL$2:AM$2,ESG!A$2:J$54),IF(AE52=3165,2,10),0),0)","v":0},{"$f":"IF(Timesheet!AB52>0,Timesheet!G52,\"\")","v":""},{"$f":"IF(Timesheet!AB52>0,Timesheet!J52,\"\")","v":""},"",{"$f":"IFERROR(VLOOKUP(AI52,IF(AI52=3165,AL$2:AM$2,ESG!A$2:K$54),IF(AI52=3165,2,11),0),0)","v":0}]
[{"$f":"IF(Timesheet!L53>0,Timesheet!G53,\"\")","v":""},{"$f":"IF(Timesheet!L53>0,Timesheet!J53,\"\")","v":""},"",{"$f":"IFERROR(VLOOKUP(C53,IF(C53=3165,AL$2:AM$2,ESG!A$2:C$54),IF(C53=3165,2,3),0),0)","v":0},{"$f":"IF(Timesheet!N53>0,Timesheet!G53,\"\")","v":""},{"$f":"IF(Timesheet!N53>0,Timesheet!J53,\"\")","v":""},"",{"$f":"IFERROR(VLOOKUP(G53,IF(G53=3165,AL$2:AM$2,ESG!A$2:D$54),IF(G53=3165,2,4),0),0)","v":0},{"$f":"IF(Timesheet!P53>0,Timesheet!G53,\"\")","v":""},{"$f":"IF(Timesheet!P53>0,Timesheet!J53,\"\")","v":""},"",{"$f":"IFERROR(VLOOKUP(K53,IF(K53=3165,AL$2:AM$2,ESG!A$2:E$54),IF(K53=3165,2,5),0),0)","v":0},{"$f":"IF(Timesheet!R53>0,Timesheet!G53,\"\")","v":""},{"$f":"IF(Timesheet!R53>0,Timesheet!J53,\"\")","v":""},{"$f":"IFERROR(VLOOKUP(M53,ESG!M$2:N$13,2,FALSE),N53)","v":""},{"$f":"IFERROR(VLOOKUP(O53,IF(O53=3165,AL$2:AM$2,ESG!A$2:F$54),IF(O53=3165,2,6),0),0)","v":0},{"$f":"IF(Timesheet!T53>0,Timesheet!G53,\"\")","v":""},{"$f":"IF(Timesheet!T53>0,Timesheet!J53,\"\")","v":""},{"$f":"IFERROR(VLOOKUP(Q53,ESG!M$2:N$13,2,FALSE),R53)","v":""},{"$f":"IFERROR(VLOOKUP(S53,IF(S53=3165,AL$2:AM$2,ESG!A$2:G$54),IF(S53=3165,2,7),0),0)","v":0},{"$f":"IF(Timesheet!V53>0,Timesheet!G53,\"\")","v":""},{"$f":"IF(Timesheet!V53>0,Timesheet!J53,\"\")","v":""},{"$f":"IFERROR(VLOOKUP(U53,ESG!M$2:N$13,2,FALSE),V53)","v":""},{"$f":"IFERROR(VLOOKUP(W53,IF(W53=3165,AL$2:AM$2,ESG!A$2:H$54),IF(W53=3165,2,8),0),0)","v":0},{"$f":"IF(Timesheet!X53>0,Timesheet!G53,\"\")","v":""},{"$f":"IF(Timesheet!X53>0,Timesheet!J53,\"\")","v":""},"",{"$f":"IFERROR(VLOOKUP(AA53,IF(AA53=3165,AL$2:AM$2,ESG!A$2:I$54),IF(AA53=3165,2,9),0),0)","v":0},{"$f":"IF(Timesheet!Z53>0,Timesheet!G53,\"\")","v":""},{"$f":"IF(Timesheet!Z53>0,Timesheet!J53,\"\")","v":""},"",{"$f":"IFERROR(VLOOKUP(AE53,IF(AE53=3165,AL$2:AM$2,ESG!A$2:J$54),IF(AE53=3165,2,10),0),0)","v":0},{"$f":"IF(Timesheet!AB53>0,Timesheet!G53,\"\")","v":""},{"$f":"IF(Timesheet!AB53>0,Timesheet!J53,\"\")","v":""},"",{"$f":"IFERROR(VLOOKUP(AI53,IF(AI53=3165,AL$2:AM$2,ESG!A$2:K$54),IF(AI53=3165,2,11),0),0)","v":0}]
[{"$f":"IF(Timesheet!L54>0,Timesheet!G54,\"\")","v":""},{"$f":"IF(Timesheet!L54>0,Timesheet!J54,\"\")","v":""},"",{"$f":"IFERROR(VLOOKUP(C54,IF(C54=3165,AL$2:AM$2,ESG!A$2:C$54),IF(C54=3165,2,3),0),0)","v":0},{"$f":"IF(Timesheet!N54>0,Timesheet!G54,\"\")","v":""},{"$f":"IF(Timesheet!N54>0,Timesheet!J54,\"\")","v":""},"",{"$f":"IFERROR(VLOOKUP(G54,IF(G54=3165,AL$2:AM$2,ESG!A$2:D$54),IF(G54=3165,2,4),0),0)","v":0},{"$f":"IF(Timesheet!P54>0,Timesheet!G54,\"\")","v":""},{"$f":"IF(Timesheet!P54>0,Timesheet!J54,\"\")","v":""},"",{"$f":"IFERROR(VLOOKUP(K54,IF(K54=3165,AL$2:AM$2,ESG!A$2:E$54),IF(K54=3165,2,5),0),0)","v":0},{"$f":"IF(Timesheet!R54>0,Timesheet!G54,\"\")","v":""},{"$f":"IF(Timesheet!R54>0,Timesheet!J54,\"\")","v":""},{"$f":"IFERROR(VLOOKUP(M54,ESG!M$2:N$13,2,FALSE),N54)","v":""},{"$f":"IFERROR(VLOOKUP(O54,IF(O54=3165,AL$2:AM$2,ESG!A$2:F$54),IF(O54=3165,2,6),0),0)","v":0},{"$f":"IF(Timesheet!T54>0,Timesheet!G54,\"\")","v":""},{"$f":"IF(Timesheet!T54>0,Timesheet!J54,\"\")","v":""},{"$f":"IFERROR(VLOOKUP(Q54,ESG!M$2:N$13,2,FALSE),R54)","v":""},{"$f":"IFERROR(VLOOKUP(S54,IF(S54=3165,AL$2:AM$2,ESG!A$2:G$54),IF(S54=3165,2,7),0),0)","v":0},{"$f":"IF(Timesheet!V54>0,Timesheet!G54,\"\")","v":""},{"$f":"IF(Timesheet!V54>0,Timesheet!J54,\"\")","v":""},{"$f":"IFERROR(VLOOKUP(U54,ESG!M$2:N$13,2,FALSE),V54)","v":""},{"$f":"IFERROR(VLOOKUP(W54,IF(W54=3165,AL$2:AM$2,ESG!A$2:H$54),IF(W54=3165,2,8),0),0)","v":0},{"$f":"IF(Timesheet!X54>0,Timesheet!G54,\"\")","v":""},{"$f":"IF(Timesheet!X54>0,Timesheet!J54,\"\")","v":""},"",{"$f":"IFERROR(VLOOKUP(AA54,IF(AA54=3165,AL$2:AM$2,ESG!A$2:I$54),IF(AA54=3165,2,9),0),0)","v":0},{"$f":"IF(Timesheet!Z54>0,Timesheet!G54,\"\")","v":""},{"$f":"IF(Timesheet!Z54>0,Timesheet!J54,\"\")","v":""},"",{"$f":"IFERROR(VLOOKUP(AE54,IF(AE54=3165,AL$2:AM$2,ESG!A$2:J$54),IF(AE54=3165,2,10),0),0)","v":0},{"$f":"IF(Timesheet!AB54>0,Timesheet!G54,\"\")","v":""},{"$f":"IF(Timesheet!AB54>0,Timesheet!J54,\"\")","v":""},"",{"$f":"IFERROR(VLOOKUP(AI54,IF(AI54=3165,AL$2:AM$2,ESG!A$2:K$54),IF(AI54=3165,2,11),0),0)","v":0}]
[{"$f":"IF(Timesheet!L55>0,Timesheet!G55,\"\")","v":""},{"$f":"IF(Timesheet!L55>0,Timesheet!J55,\"\")","v":""},"",{"$f":"IFERROR(VLOOKUP(C55,IF(C55=3165,AL$2:AM$2,ESG!A$2:C$54),IF(C55=3165,2,3),0),0)","v":0},{"$f":"IF(Timesheet!N55>0,Timesheet!G55,\"\")","v":""},{"$f":"IF(Timesheet!N55>0,Timesheet!J55,\"\")","v":""},"",{"$f":"IFERROR(VLOOKUP(G55,IF(G55=3165,AL$2:AM$2,ESG!A$2:D$54),IF(G55=3165,2,4),0),0)","v":0},{"$f":"IF(Timesheet!P55>0,Timesheet!G55,\"\")","v":""},{"$f":"IF(Timesheet!P55>0,Timesheet!J55,\"\")","v":""},"",{"$f":"IFERROR(VLOOKUP(K55,IF(K55=3165,AL$2:AM$2,ESG!A$2:E$54),IF(K55=3165,2,5),0),0)","v":0},{"$f":"IF(Timesheet!R55>0,Timesheet!G55,\"\")","v":""},{"$f":"IF(Timesheet!R55>0,Timesheet!J55,\"\")","v":""},{"$f":"IFERROR(VLOOKUP(M55,ESG!M$2:N$13,2,FALSE),N55)","v":""},{"$f":"IFERROR(VLOOKUP(O55,IF(O55=3165,AL$2:AM$2,ESG!A$2:F$54),IF(O55=3165,2,6),0),0)","v":0},{"$f":"IF(Timesheet!T55>0,Timesheet!G55,\"\")","v":""},{"$f":"IF(Timesheet!T55>0,Timesheet!J55,\"\")","v":""},{"$f":"IFERROR(VLOOKUP(Q55,ESG!M$2:N$13,2,FALSE),R55)","v":""},{"$f":"IFERROR(VLOOKUP(S55,IF(S55=3165,AL$2:AM$2,ESG!A$2:G$54),IF(S55=3165,2,7),0),0)","v":0},{"$f":"IF(Timesheet!V55>0,Timesheet!G55,\"\")","v":""},{"$f":"IF(Timesheet!V55>0,Timesheet!J55,\"\")","v":""},{"$f":"IFERROR(VLOOKUP(U55,ESG!M$2:N$13,2,FALSE),V55)","v":""},{"$f":"IFERROR(VLOOKUP(W55,IF(W55=3165,AL$2:AM$2,ESG!A$2:H$54),IF(W55=3165,2,8),0),0)","v":0},{"$f":"IF(Timesheet!X55>0,Timesheet!G55,\"\")","v":""},{"$f":"IF(Timesheet!X55>0,Timesheet!J55,\"\")","v":""},"",{"$f":"IFERROR(VLOOKUP(AA55,IF(AA55=3165,AL$2:AM$2,ESG!A$2:I$54),IF(AA55=3165,2,9),0),0)","v":0},{"$f":"IF(Timesheet!Z55>0,Timesheet!G55,\"\")","v":""},{"$f":"IF(Timesheet!Z55>0,Timesheet!J55,\"\")","v":""},"",{"$f":"IFERROR(VLOOKUP(AE55,IF(AE55=3165,AL$2:AM$2,ESG!A$2:J$54),IF(AE55=3165,2,10),0),0)","v":0},{"$f":"IF(Timesheet!AB55>0,Timesheet!G55,\"\")","v":""},{"$f":"IF(Timesheet!AB55>0,Timesheet!J55,\"\")","v":""},"",{"$f":"IFERROR(VLOOKUP(AI55,IF(AI55=3165,AL$2:AM$2,ESG!A$2:K$54),IF(AI55=3165,2,11),0),0)","v":0}]
[{"$f":"IF(Timesheet!L56>0,Timesheet!G56,\"\")","v":""},{"$f":"IF(Timesheet!L56>0,Timesheet!J56,\"\")","v":""},"",{"$f":"IFERROR(VLOOKUP(C56,IF(C56=3165,AL$2:AM$2,ESG!A$2:C$54),IF(C56=3165,2,3),0),0)","v":0},{"$f":"IF(Timesheet!N56>0,Timesheet!G56,\"\")","v":""},{"$f":"IF(Timesheet!N56>0,Timesheet!J56,\"\")","v":""},"",{"$f":"IFERROR(VLOOKUP(G56,IF(G56=3165,AL$2:AM$2,ESG!A$2:D$54),IF(G56=3165,2,4),0),0)","v":0},{"$f":"IF(Timesheet!P56>0,Timesheet!G56,\"\")","v":""},{"$f":"IF(Timesheet!P56>0,Timesheet!J56,\"\")","v":""},"",{"$f":"IFERROR(VLOOKUP(K56,IF(K56=3165,AL$2:AM$2,ESG!A$2:E$54),IF(K56=3165,2,5),0),0)","v":0},{"$f":"IF(Timesheet!R56>0,Timesheet!G56,\"\")","v":""},{"$f":"IF(Timesheet!R56>0,Timesheet!J56,\"\")","v":""},{"$f":"IFERROR(VLOOKUP(M56,ESG!M$2:N$13,2,FALSE),N56)","v":""},{"$f":"IFERROR(VLOOKUP(O56,IF(O56=3165,AL$2:AM$2,ESG!A$2:F$54),IF(O56=3165,2,6),0),0)","v":0},{"$f":"IF(Timesheet!T56>0,Timesheet!G56,\"\")","v":""},{"$f":"IF(Timesheet!T56>0,Timesheet!J56,\"\")","v":""},{"$f":"IFERROR(VLOOKUP(Q56,ESG!M$2:N$13,2,FALSE),R56)","v":""},{"$f":"IFERROR(VLOOKUP(S56,IF(S56=3165,AL$2:AM$2,ESG!A$2:G$54),IF(S56=3165,2,7),0),0)","v":0},{"$f":"IF(Timesheet!V56>0,Timesheet!G56,\"\")","v":""},{"$f":"IF(Timesheet!V56>0,Timesheet!J56,\"\")","v":""},{"$f":"IFERROR(VLOOKUP(U56,ESG!M$2:N$13,2,FALSE),V56)","v":""},{"$f":"IFERROR(VLOOKUP(W56,IF(W56=3165,AL$2:AM$2,ESG!A$2:H$54),IF(W56=3165,2,8),0),0)","v":0},{"$f":"IF(Timesheet!X56>0,Timesheet!G56,\"\")","v":""},{"$f":"IF(Timesheet!X56>0,Timesheet!J56,\"\")","v":""},"",{"$f":"IFERROR(VLOOKUP(AA56,IF(AA56=3165,AL$2:AM$2,ESG!A$2:I$54),IF(AA56=3165,2,9),0),0)","v":0},{"$f":"IF(Timesheet!Z56>0,Timesheet!G56,\"\")","v":""},{"$f":"IF(Timesheet!Z56>0,Timesheet!J56,\"\")","v":""},"",{"$f":"IFERROR(VLOOKUP(AE56,IF(AE56=3165,AL$2:AM$2,ESG!A$2:J$54),IF(AE56=3165,2,10),0),0)","v":0},{"$f":"IF(Timesheet!AB56>0,Timesheet!G56,\"\")","v":""},{"$f":"IF(Timesheet!AB56>0,Timesheet!J56,\"\")","v":""},"",{"$f":"IFERROR(VLOOKUP(AI56,IF(AI56=3165,AL$2:AM$2,ESG!A$2:K$54),IF(AI56=3165,2,11),0),0)","v":0}]
[{"$f":"IF(Timesheet!L57>0,Timesheet!G57,\"\")","v":""},{"$f":"IF(Timesheet!L57>0,Timesheet!J57,\"\")","v":""},"",{"$f":"IFERROR(VLOOKUP(C57,IF(C57=3165,AL$2:AM$2,ESG!A$2:C$54),IF(C57=3165,2,3),0),0)","v":0},{"$f":"IF(Timesheet!N57>0,Timesheet!G57,\"\")","v":""},{"$f":"IF(Timesheet!N57>0,Timesheet!J57,\"\")","v":""},"",{"$f":"IFERROR(VLOOKUP(G57,IF(G57=3165,AL$2:AM$2,ESG!A$2:D$54),IF(G57=3165,2,4),0),0)","v":0},{"$f":"IF(Timesheet!P57>0,Timesheet!G57,\"\")","v":""},{"$f":"IF(Timesheet!P57>0,Timesheet!J57,\"\")","v":""},"",{"$f":"IFERROR(VLOOKUP(K57,IF(K57=3165,AL$2:AM$2,ESG!A$2:E$54),IF(K57=3165,2,5),0),0)","v":0},{"$f":"IF(Timesheet!R57>0,Timesheet!G57,\"\")","v":""},{"$f":"IF(Timesheet!R57>0,Timesheet!J57,\"\")","v":""},{"$f":"IFERROR(VLOOKUP(M57,ESG!M$2:N$13,2,FALSE),N57)","v":""},{"$f":"IFERROR(VLOOKUP(O57,IF(O57=3165,AL$2:AM$2,ESG!A$2:F$54),IF(O57=3165,2,6),0),0)","v":0},{"$f":"IF(Timesheet!T57>0,Timesheet!G57,\"\")","v":""},{"$f":"IF(Timesheet!T57>0,Timesheet!J57,\"\")","v":""},{"$f":"IFERROR(VLOOKUP(Q57,ESG!M$2:N$13,2,FALSE),R57)","v":""},{"$f":"IFERROR(VLOOKUP(S57,IF(S57=3165,AL$2:AM$2,ESG!A$2:G$54),IF(S57=3165,2,7),0),0)","v":0},{"$f":"IF(Timesheet!V57>0,Timesheet!G57,\"\")","v":""},{"$f":"IF(Timesheet!V57>0,Timesheet!J57,\"\")","v":""},{"$f":"IFERROR(VLOOKUP(U57,ESG!M$2:N$13,2,FALSE),V57)","v":""},{"$f":"IFERROR(VLOOKUP(W57,IF(W57=3165,AL$2:AM$2,ESG!A$2:H$54),IF(W57=3165,2,8),0),0)","v":0},{"$f":"IF(Timesheet!X57>0,Timesheet!G57,\"\")","v":""},{"$f":"IF(Timesheet!X57>0,Timesheet!J57,\"\")","v":""},"",{"$f":"IFERROR(VLOOKUP(AA57,IF(AA57=3165,AL$2:AM$2,ESG!A$2:I$54),IF(AA57=3165,2,9),0),0)","v":0},{"$f":"IF(Timesheet!Z57>0,Timesheet!G57,\"\")","v":""},{"$f":"IF(Timesheet!Z57>0,Timesheet!J57,\"\")","v":""},"",{"$f":"IFERROR(VLOOKUP(AE57,IF(AE57=3165,AL$2:AM$2,ESG!A$2:J$54),IF(AE57=3165,2,10),0),0)","v":0},{"$f":"IF(Timesheet!AB57>0,Timesheet!G57,\"\")","v":""},{"$f":"IF(Timesheet!AB57>0,Timesheet!J57,\"\")","v":""},"",{"$f":"IFERROR(VLOOKUP(AI57,IF(AI57=3165,AL$2:AM$2,ESG!A$2:K$54),IF(AI57=3165,2,11),0),0)","v":0}]
[{"$f":"IF(Timesheet!L58>0,Timesheet!G58,\"\")","v":""},{"$f":"IF(Timesheet!L58>0,Timesheet!J58,\"\")","v":""},"",{"$f":"IFERROR(VLOOKUP(C58,IF(C58=3165,AL$2:AM$2,ESG!A$2:C$54),IF(C58=3165,2,3),0),0)","v":0},{"$f":"IF(Timesheet!N58>0,Timesheet!G58,\"\")","v":""},{"$f":"IF(Timesheet!N58>0,Timesheet!J58,\"\")","v":""},"",{"$f":"IFERROR(VLOOKUP(G58,IF(G58=3165,AL$2:AM$2,ESG!A$2:D$54),IF(G58=3165,2,4),0),0)","v":0},{"$f":"IF(Timesheet!P58>0,Timesheet!G58,\"\")","v":""},{"$f":"IF(Timesheet!P58>0,Timesheet!J58,\"\")","v":""},"",{"$f":"IFERROR(VLOOKUP(K58,IF(K58=3165,AL$2:AM$2,ESG!A$2:E$54),IF(K58=3165,2,5),0),0)","v":0},{"$f":"IF(Timesheet!R58>0,Timesheet!G58,\"\")","v":""},{"$f":"IF(Timesheet!R58>0,Timesheet!J58,\"\")","v":""},{"$f":"IFERROR(VLOOKUP(M58,ESG!M$2:N$13,2,FALSE),N58)","v":""},{"$f":"IFERROR(VLOOKUP(O58,IF(O58=3165,AL$2:AM$2,ESG!A$2:F$54),IF(O58=3165,2,6),0),0)","v":0},{"$f":"IF(Timesheet!T58>0,Timesheet!G58,\"\")","v":""},{"$f":"IF(Timesheet!T58>0,Timesheet!J58,\"\")","v":""},{"$f":"IFERROR(VLOOKUP(Q58,ESG!M$2:N$13,2,FALSE),R58)","v":""},{"$f":"IFERROR(VLOOKUP(S58,IF(S58=3165,AL$2:AM$2,ESG!A$2:G$54),IF(S58=3165,2,7),0),0)","v":0},{"$f":"IF(Timesheet!V58>0,Timesheet!G58,\"\")","v":""},{"$f":"IF(Timesheet!V58>0,Timesheet!J58,\"\")","v":""},{"$f":"IFERROR(VLOOKUP(U58,ESG!M$2:N$13,2,FALSE),V58)","v":""},{"$f":"IFERROR(VLOOKUP(W58,IF(W58=3165,AL$2:AM$2,ESG!A$2:H$54),IF(W58=3165,2,8),0),0)","v":0},{"$f":"IF(Timesheet!X58>0,Timesheet!G58,\"\")","v":""},{"$f":"IF(Timesheet!X58>0,Timesheet!J58,\"\")","v":""},"",{"$f":"IFERROR(VLOOKUP(AA58,IF(AA58=3165,AL$2:AM$2,ESG!A$2:I$54),IF(AA58=3165,2,9),0),0)","v":0},{"$f":"IF(Timesheet!Z58>0,Timesheet!G58,\"\")","v":""},{"$f":"IF(Timesheet!Z58>0,Timesheet!J58,\"\")","v":""},"",{"$f":"IFERROR(VLOOKUP(AE58,IF(AE58=3165,AL$2:AM$2,ESG!A$2:J$54),IF(AE58=3165,2,10),0),0)","v":0},{"$f":"IF(Timesheet!AB58>0,Timesheet!G58,\"\")","v":""},{"$f":"IF(Timesheet!AB58>0,Timesheet!J58,\"\")","v":""},"",{"$f":"IFERROR(VLOOKUP(AI58,IF(AI58=3165,AL$2:AM$2,ESG!A$2:K$54),IF(AI58=3165,2,11),0),0)","v":0}]
[{"$f":"IF(Timesheet!L59>0,Timesheet!G59,\"\")","v":""},{"$f":"IF(Timesheet!L59>0,Timesheet!J59,\"\")","v":""},"",{"$f":"IFERROR(VLOOKUP(C59,IF(C59=3165,AL$2:AM$2,ESG!A$2:C$54),IF(C59=3165,2,3),0),0)","v":0},{"$f":"IF(Timesheet!N59>0,Timesheet!G59,\"\")","v":""},{"$f":"IF(Timesheet!N59>0,Timesheet!J59,\"\")","v":""},"",{"$f":"IFERROR(VLOOKUP(G59,IF(G59=3165,AL$2:AM$2,ESG!A$2:D$54),IF(G59=3165,2,4),0),0)","v":0},{"$f":"IF(Timesheet!P59>0,Timesheet!G59,\"\")","v":""},{"$f":"IF(Timesheet!P59>0,Timesheet!J59,\"\")","v":""},"",{"$f":"IFERROR(VLOOKUP(K59,IF(K59=3165,AL$2:AM$2,ESG!A$2:E$54),IF(K59=3165,2,5),0),0)","v":0},{"$f":"IF(Timesheet!R59>0,Timesheet!G59,\"\")","v":""},{"$f":"IF(Timesheet!R59>0,Timesheet!J59,\"\")","v":""},{"$f":"IFERROR(VLOOKUP(M59,ESG!M$2:N$13,2,FALSE),N59)","v":""},{"$f":"IFERROR(VLOOKUP(O59,IF(O59=3165,AL$2:AM$2,ESG!A$2:F$54),IF(O59=3165,2,6),0),0)","v":0},{"$f":"IF(Timesheet!T59>0,Timesheet!G59,\"\")","v":""},{"$f":"IF(Timesheet!T59>0,Timesheet!J59,\"\")","v":""},{"$f":"IFERROR(VLOOKUP(Q59,ESG!M$2:N$13,2,FALSE),R59)","v":""},{"$f":"IFERROR(VLOOKUP(S59,IF(S59=3165,AL$2:AM$2,ESG!A$2:G$54),IF(S59=3165,2,7),0),0)","v":0},{"$f":"IF(Timesheet!V59>0,Timesheet!G59,\"\")","v":""},{"$f":"IF(Timesheet!V59>0,Timesheet!J59,\"\")","v":""},{"$f":"IFERROR(VLOOKUP(U59,ESG!M$2:N$13,2,FALSE),V59)","v":""},{"$f":"IFERROR(VLOOKUP(W59,IF(W59=3165,AL$2:AM$2,ESG!A$2:H$54),IF(W59=3165,2,8),0),0)","v":0},{"$f":"IF(Timesheet!X59>0,Timesheet!G59,\"\")","v":""},{"$f":"IF(Timesheet!X59>0,Timesheet!J59,\"\")","v":""},"",{"$f":"IFERROR(VLOOKUP(AA59,IF(AA59=3165,AL$2:AM$2,ESG!A$2:I$54),IF(AA59=3165,2,9),0),0)","v":0},{"$f":"IF(Timesheet!Z59>0,Timesheet!G59,\"\")","v":""},{"$f":"IF(Timesheet!Z59>0,Timesheet!J59,\"\")","v":""},"",{"$f":"IFERROR(VLOOKUP(AE59,IF(AE59=3165,AL$2:AM$2,ESG!A$2:J$54),IF(AE59=3165,2,10),0),0)","v":0},{"$f":"IF(Timesheet!AB59>0,Timesheet!G59,\"\")","v":""},{"$f":"IF(Timesheet!AB59>0,Timesheet!J59,\"\")","v":""},"",{"$f":"IFERROR(VLOOKUP(AI59,IF(AI59=3165,AL$2:AM$2,ESG!A$2:K$54),IF(AI59=3165,2,11),0),0)","v":0}]
[{"$f":"IF(Timesheet!L60>0,Timesheet!G60,\"\")","v":""},{"$f":"IF(Timesheet!L60>0,Timesheet!J60,\"\")","v":""},"",{"$f":"IFERROR(VLOOKUP(C60,IF(C60=3165,AL$2:AM$2,ESG!A$2:C$54),IF(C60=3165,2,3),0),0)","v":0},{"$f":"IF(Timesheet!N60>0,Timesheet!G60,\"\")","v":""},{"$f":"IF(Timesheet!N60>0,Timesheet!J60,\"\")","v":""},"",{"$f":"IFERROR(VLOOKUP(G60,IF(G60=3165,AL$2:AM$2,ESG!A$2:D$54),IF(G60=3165,2,4),0),0)","v":0},{"$f":"IF(Timesheet!P60>0,Timesheet!G60,\"\")","v":""},{"$f":"IF(Timesheet!P60>0,Timesheet!J60,\"\")","v":""},"",{"$f":"IFERROR(VLOOKUP(K60,IF(K60=3165,AL$2:AM$2,ESG!A$2:E$54),IF(K60=3165,2,5),0),0)","v":0},{"$f":"IF(Timesheet!R60>0,Timesheet!G60,\"\")","v":""},{"$f":"IF(Timesheet!R60>0,Timesheet!J60,\"\")","v":""},{"$f":"IFERROR(VLOOKUP(M60,ESG!M$2:N$13,2,FALSE),N60)","v":""},{"$f":"IFERROR(VLOOKUP(O60,IF(O60=3165,AL$2:AM$2,ESG!A$2:F$54),IF(O60=3165,2,6),0),0)","v":0},{"$f":"IF(Timesheet!T60>0,Timesheet!G60,\"\")","v":""},{"$f":"IF(Timesheet!T60>0,Timesheet!J60,\"\")","v":""},{"$f":"IFERROR(VLOOKUP(Q60,ESG!M$2:N$13,2,FALSE),R60)","v":""},{"$f":"IFERROR(VLOOKUP(S60,IF(S60=3165,AL$2:AM$2,ESG!A$2:G$54),IF(S60=3165,2,7),0),0)","v":0},{"$f":"IF(Timesheet!V60>0,Timesheet!G60,\"\")","v":""},{"$f":"IF(Timesheet!V60>0,Timesheet!J60,\"\")","v":""},{"$f":"IFERROR(VLOOKUP(U60,ESG!M$2:N$13,2,FALSE),V60)","v":""},{"$f":"IFERROR(VLOOKUP(W60,IF(W60=3165,AL$2:AM$2,ESG!A$2:H$54),IF(W60=3165,2,8),0),0)","v":0},{"$f":"IF(Timesheet!X60>0,Timesheet!G60,\"\")","v":""},{"$f":"IF(Timesheet!X60>0,Timesheet!J60,\"\")","v":""},"",{"$f":"IFERROR(VLOOKUP(AA60,IF(AA60=3165,AL$2:AM$2,ESG!A$2:I$54),IF(AA60=3165,2,9),0),0)","v":0},{"$f":"IF(Timesheet!Z60>0,Timesheet!G60,\"\")","v":""},{"$f":"IF(Timesheet!Z60>0,Timesheet!J60,\"\")","v":""},"",{"$f":"IFERROR(VLOOKUP(AE60,IF(AE60=3165,AL$2:AM$2,ESG!A$2:J$54),IF(AE60=3165,2,10),0),0)","v":0},{"$f":"IF(Timesheet!AB60>0,Timesheet!G60,\"\")","v":""},{"$f":"IF(Timesheet!AB60>0,Timesheet!J60,\"\")","v":""},"",{"$f":"IFERROR(VLOOKUP(AI60,IF(AI60=3165,AL$2:AM$2,ESG!A$2:K$54),IF(AI60=3165,2,11),0),0)","v":0}]
[{"$f":"IF(Timesheet!L61>0,Timesheet!G61,\"\")","v":""},{"$f":"IF(Timesheet!L61>0,Timesheet!J61,\"\")","v":""},"",{"$f":"IFERROR(VLOOKUP(C61,IF(C61=3165,AL$2:AM$2,ESG!A$2:C$54),IF(C61=3165,2,3),0),0)","v":0},{"$f":"IF(Timesheet!N61>0,Timesheet!G61,\"\")","v":""},{"$f":"IF(Timesheet!N61>0,Timesheet!J61,\"\")","v":""},"",{"$f":"IFERROR(VLOOKUP(G61,IF(G61=3165,AL$2:AM$2,ESG!A$2:D$54),IF(G61=3165,2,4),0),0)","v":0},{"$f":"IF(Timesheet!P61>0,Timesheet!G61,\"\")","v":""},{"$f":"IF(Timesheet!P61>0,Timesheet!J61,\"\")","v":""},"",{"$f":"IFERROR(VLOOKUP(K61,IF(K61=3165,AL$2:AM$2,ESG!A$2:E$54),IF(K61=3165,2,5),0),0)","v":0},{"$f":"IF(Timesheet!R61>0,Timesheet!G61,\"\")","v":""},{"$f":"IF(Timesheet!R61>0,Timesheet!J61,\"\")","v":""},{"$f":"IFERROR(VLOOKUP(M61,ESG!M$2:N$13,2,FALSE),N61)","v":""},{"$f":"IFERROR(VLOOKUP(O61,IF(O61=3165,AL$2:AM$2,ESG!A$2:F$54),IF(O61=3165,2,6),0),0)","v":0},{"$f":"IF(Timesheet!T61>0,Timesheet!G61,\"\")","v":""},{"$f":"IF(Timesheet!T61>0,Timesheet!J61,\"\")","v":""},{"$f":"IFERROR(VLOOKUP(Q61,ESG!M$2:N$13,2,FALSE),R61)","v":""},{"$f":"IFERROR(VLOOKUP(S61,IF(S61=3165,AL$2:AM$2,ESG!A$2:G$54),IF(S61=3165,2,7),0),0)","v":0},{"$f":"IF(Timesheet!V61>0,Timesheet!G61,\"\")","v":""},{"$f":"IF(Timesheet!V61>0,Timesheet!J61,\"\")","v":""},{"$f":"IFERROR(VLOOKUP(U61,ESG!M$2:N$13,2,FALSE),V61)","v":""},{"$f":"IFERROR(VLOOKUP(W61,IF(W61=3165,AL$2:AM$2,ESG!A$2:H$54),IF(W61=3165,2,8),0),0)","v":0},{"$f":"IF(Timesheet!X61>0,Timesheet!G61,\"\")","v":""},{"$f":"IF(Timesheet!X61>0,Timesheet!J61,\"\")","v":""},"",{"$f":"IFERROR(VLOOKUP(AA61,IF(AA61=3165,AL$2:AM$2,ESG!A$2:I$54),IF(AA61=3165,2,9),0),0)","v":0},{"$f":"IF(Timesheet!Z61>0,Timesheet!G61,\"\")","v":""},{"$f":"IF(Timesheet!Z61>0,Timesheet!J61,\"\")","v":""},"",{"$f":"IFERROR(VLOOKUP(AE61,IF(AE61=3165,AL$2:AM$2,ESG!A$2:J$54),IF(AE61=3165,2,10),0),0)","v":0},{"$f":"IF(Timesheet!AB61>0,Timesheet!G61,\"\")","v":""},{"$f":"IF(Timesheet!AB61>0,Timesheet!J61,\"\")","v":""},"",{"$f":"IFERROR(VLOOKUP(AI61,IF(AI61=3165,AL$2:AM$2,ESG!A$2:K$54),IF(AI61=3165,2,11),0),0)","v":0}]
[{"$f":"IF(Timesheet!L62>0,Timesheet!G62,\"\")","v":""},{"$f":"IF(Timesheet!L62>0,Timesheet!J62,\"\")","v":""},"",{"$f":"IFERROR(VLOOKUP(C62,IF(C62=3165,AL$2:AM$2,ESG!A$2:C$54),IF(C62=3165,2,3),0),0)","v":0},{"$f":"IF(Timesheet!N62>0,Timesheet!G62,\"\")","v":""},{"$f":"IF(Timesheet!N62>0,Timesheet!J62,\"\")","v":""},"",{"$f":"IFERROR(VLOOKUP(G62,IF(G62=3165,AL$2:AM$2,ESG!A$2:D$54),IF(G62=3165,2,4),0),0)","v":0},{"$f":"IF(Timesheet!P62>0,Timesheet!G62,\"\")","v":""},{"$f":"IF(Timesheet!P62>0,Timesheet!J62,\"\")","v":""},"",{"$f":"IFERROR(VLOOKUP(K62,IF(K62=3165,AL$2:AM$2,ESG!A$2:E$54),IF(K62=3165,2,5),0),0)","v":0},{"$f":"IF(Timesheet!R62>0,Timesheet!G62,\"\")","v":""},{"$f":"IF(Timesheet!R62>0,Timesheet!J62,\"\")","v":""},{"$f":"IFERROR(VLOOKUP(M62,ESG!M$2:N$13,2,FALSE),N62)","v":""},{"$f":"IFERROR(VLOOKUP(O62,IF(O62=3165,AL$2:AM$2,ESG!A$2:F$54),IF(O62=3165,2,6),0),0)","v":0},{"$f":"IF(Timesheet!T62>0,Timesheet!G62,\"\")","v":""},{"$f":"IF(Timesheet!T62>0,Timesheet!J62,\"\")","v":""},{"$f":"IFERROR(VLOOKUP(Q62,ESG!M$2:N$13,2,FALSE),R62)","v":""},{"$f":"IFERROR(VLOOKUP(S62,IF(S62=3165,AL$2:AM$2,ESG!A$2:G$54),IF(S62=3165,2,7),0),0)","v":0},{"$f":"IF(Timesheet!V62>0,Timesheet!G62,\"\")","v":""},{"$f":"IF(Timesheet!V62>0,Timesheet!J62,\"\")","v":""},{"$f":"IFERROR(VLOOKUP(U62,ESG!M$2:N$13,2,FALSE),V62)","v":""},{"$f":"IFERROR(VLOOKUP(W62,IF(W62=3165,AL$2:AM$2,ESG!A$2:H$54),IF(W62=3165,2,8),0),0)","v":0},{"$f":"IF(Timesheet!X62>0,Timesheet!G62,\"\")","v":""},{"$f":"IF(Timesheet!X62>0,Timesheet!J62,\"\")","v":""},"",{"$f":"IFERROR(VLOOKUP(AA62,IF(AA62=3165,AL$2:AM$2,ESG!A$2:I$54),IF(AA62=3165,2,9),0),0)","v":0},{"$f":"IF(Timesheet!Z62>0,Timesheet!G62,\"\")","v":""},{"$f":"IF(Timesheet!Z62>0,Timesheet!J62,\"\")","v":""},"",{"$f":"IFERROR(VLOOKUP(AE62,IF(AE62=3165,AL$2:AM$2,ESG!A$2:J$54),IF(AE62=3165,2,10),0),0)","v":0},{"$f":"IF(Timesheet!AB62>0,Timesheet!G62,\"\")","v":""},{"$f":"IF(Timesheet!AB62>0,Timesheet!J62,\"\")","v":""},"",{"$f":"IFERROR(VLOOKUP(AI62,IF(AI62=3165,AL$2:AM$2,ESG!A$2:K$54),IF(AI62=3165,2,11),0),0)","v":0}]
[{"$f":"IF(Timesheet!L63>0,Timesheet!G63,\"\")","v":""},{"$f":"IF(Timesheet!L63>0,Timesheet!J63,\"\")","v":""},"",{"$f":"IFERROR(VLOOKUP(C63,IF(C63=3165,AL$2:AM$2,ESG!A$2:C$54),IF(C63=3165,2,3),0),0)","v":0},{"$f":"IF(Timesheet!N63>0,Timesheet!G63,\"\")","v":""},{"$f":"IF(Timesheet!N63>0,Timesheet!J63,\"\")","v":""},"",{"$f":"IFERROR(VLOOKUP(G63,IF(G63=3165,AL$2:AM$2,ESG!A$2:D$54),IF(G63=3165,2,4),0),0)","v":0},{"$f":"IF(Timesheet!P63>0,Timesheet!G63,\"\")","v":""},{"$f":"IF(Timesheet!P63>0,Timesheet!J63,\"\")","v":""},"",{"$f":"IFERROR(VLOOKUP(K63,IF(K63=3165,AL$2:AM$2,ESG!A$2:E$54),IF(K63=3165,2,5),0),0)","v":0},{"$f":"IF(Timesheet!R63>0,Timesheet!G63,\"\")","v":""},{"$f":"IF(Timesheet!R63>0,Timesheet!J63,\"\")","v":""},{"$f":"IFERROR(VLOOKUP(M63,ESG!M$2:N$13,2,FALSE),N63)","v":""},{"$f":"IFERROR(VLOOKUP(O63,IF(O63=3165,AL$2:AM$2,ESG!A$2:F$54),IF(O63=3165,2,6),0),0)","v":0},{"$f":"IF(Timesheet!T63>0,Timesheet!G63,\"\")","v":""},{"$f":"IF(Timesheet!T63>0,Timesheet!J63,\"\")","v":""},{"$f":"IFERROR(VLOOKUP(Q63,ESG!M$2:N$13,2,FALSE),R63)","v":""},{"$f":"IFERROR(VLOOKUP(S63,IF(S63=3165,AL$2:AM$2,ESG!A$2:G$54),IF(S63=3165,2,7),0),0)","v":0},{"$f":"IF(Timesheet!V63>0,Timesheet!G63,\"\")","v":""},{"$f":"IF(Timesheet!V63>0,Timesheet!J63,\"\")","v":""},{"$f":"IFERROR(VLOOKUP(U63,ESG!M$2:N$13,2,FALSE),V63)","v":""},{"$f":"IFERROR(VLOOKUP(W63,IF(W63=3165,AL$2:AM$2,ESG!A$2:H$54),IF(W63=3165,2,8),0),0)","v":0},{"$f":"IF(Timesheet!X63>0,Timesheet!G63,\"\")","v":""},{"$f":"IF(Timesheet!X63>0,Timesheet!J63,\"\")","v":""},"",{"$f":"IFERROR(VLOOKUP(AA63,IF(AA63=3165,AL$2:AM$2,ESG!A$2:I$54),IF(AA63=3165,2,9),0),0)","v":0},{"$f":"IF(Timesheet!Z63>0,Timesheet!G63,\"\")","v":""},{"$f":"IF(Timesheet!Z63>0,Timesheet!J63,\"\")","v":""},"",{"$f":"IFERROR(VLOOKUP(AE63,IF(AE63=3165,AL$2:AM$2,ESG!A$2:J$54),IF(AE63=3165,2,10),0),0)","v":0},{"$f":"IF(Timesheet!AB63>0,Timesheet!G63,\"\")","v":""},{"$f":"IF(Timesheet!AB63>0,Timesheet!J63,\"\")","v":""},"",{"$f":"IFERROR(VLOOKUP(AI63,IF(AI63=3165,AL$2:AM$2,ESG!A$2:K$54),IF(AI63=3165,2,11),0),0)","v":0}]
[{"$f":"IF(Timesheet!L64>0,Timesheet!G64,\"\")","v":""},{"$f":"IF(Timesheet!L64>0,Timesheet!J64,\"\")","v":""},"",{"$f":"IFERROR(VLOOKUP(C64,IF(C64=3165,AL$2:AM$2,ESG!A$2:C$54),IF(C64=3165,2,3),0),0)","v":0},{"$f":"IF(Timesheet!N64>0,Timesheet!G64,\"\")","v":""},{"$f":"IF(Timesheet!N64>0,Timesheet!J64,\"\")","v":""},"",{"$f":"IFERROR(VLOOKUP(G64,IF(G64=3165,AL$2:AM$2,ESG!A$2:D$54),IF(G64=3165,2,4),0),0)","v":0},{"$f":"IF(Timesheet!P64>0,Timesheet!G64,\"\")","v":""},{"$f":"IF(Timesheet!P64>0,Timesheet!J64,\"\")","v":""},"",{"$f":"IFERROR(VLOOKUP(K64,IF(K64=3165,AL$2:AM$2,ESG!A$2:E$54),IF(K64=3165,2,5),0),0)","v":0},{"$f":"IF(Timesheet!R64>0,Timesheet!G64,\"\")","v":""},{"$f":"IF(Timesheet!R64>0,Timesheet!J64,\"\")","v":""},{"$f":"IFERROR(VLOOKUP(M64,ESG!M$2:N$13,2,FALSE),N64)","v":""},{"$f":"IFERROR(VLOOKUP(O64,IF(O64=3165,AL$2:AM$2,ESG!A$2:F$54),IF(O64=3165,2,6),0),0)","v":0},{"$f":"IF(Timesheet!T64>0,Timesheet!G64,\"\")","v":""},{"$f":"IF(Timesheet!T64>0,Timesheet!J64,\"\")","v":""},{"$f":"IFERROR(VLOOKUP(Q64,ESG!M$2:N$13,2,FALSE),R64)","v":""},{"$f":"IFERROR(VLOOKUP(S64,IF(S64=3165,AL$2:AM$2,ESG!A$2:G$54),IF(S64=3165,2,7),0),0)","v":0},{"$f":"IF(Timesheet!V64>0,Timesheet!G64,\"\")","v":""},{"$f":"IF(Timesheet!V64>0,Timesheet!J64,\"\")","v":""},{"$f":"IFERROR(VLOOKUP(U64,ESG!M$2:N$13,2,FALSE),V64)","v":""},{"$f":"IFERROR(VLOOKUP(W64,IF(W64=3165,AL$2:AM$2,ESG!A$2:H$54),IF(W64=3165,2,8),0),0)","v":0},{"$f":"IF(Timesheet!X64>0,Timesheet!G64,\"\")","v":""},{"$f":"IF(Timesheet!X64>0,Timesheet!J64,\"\")","v":""},"",{"$f":"IFERROR(VLOOKUP(AA64,IF(AA64=3165,AL$2:AM$2,ESG!A$2:I$54),IF(AA64=3165,2,9),0),0)","v":0},{"$f":"IF(Timesheet!Z64>0,Timesheet!G64,\"\")","v":""},{"$f":"IF(Timesheet!Z64>0,Timesheet!J64,\"\")","v":""},"",{"$f":"IFERROR(VLOOKUP(AE64,IF(AE64=3165,AL$2:AM$2,ESG!A$2:J$54),IF(AE64=3165,2,10),0),0)","v":0},{"$f":"IF(Timesheet!AB64>0,Timesheet!G64,\"\")","v":""},{"$f":"IF(Timesheet!AB64>0,Timesheet!J64,\"\")","v":""},"",{"$f":"IFERROR(VLOOKUP(AI64,IF(AI64=3165,AL$2:AM$2,ESG!A$2:K$54),IF(AI64=3165,2,11),0),0)","v":0}]
[{"$f":"IF(Timesheet!L65>0,Timesheet!G65,\"\")","v":""},{"$f":"IF(Timesheet!L65>0,Timesheet!J65,\"\")","v":""},"",{"$f":"IFERROR(VLOOKUP(C65,IF(C65=3165,AL$2:AM$2,ESG!A$2:C$54),IF(C65=3165,2,3),0),0)","v":0},{"$f":"IF(Timesheet!N65>0,Timesheet!G65,\"\")","v":""},{"$f":"IF(Timesheet!N65>0,Timesheet!J65,\"\")","v":""},"",{"$f":"IFERROR(VLOOKUP(G65,IF(G65=3165,AL$2:AM$2,ESG!A$2:D$54),IF(G65=3165,2,4),0),0)","v":0},{"$f":"IF(Timesheet!P65>0,Timesheet!G65,\"\")","v":""},{"$f":"IF(Timesheet!P65>0,Timesheet!J65,\"\")","v":""},"",{"$f":"IFERROR(VLOOKUP(K65,IF(K65=3165,AL$2:AM$2,ESG!A$2:E$54),IF(K65=3165,2,5),0),0)","v":0},{"$f":"IF(Timesheet!R65>0,Timesheet!G65,\"\")","v":""},{"$f":"IF(Timesheet!R65>0,Timesheet!J65,\"\")","v":""},{"$f":"IFERROR(VLOOKUP(M65,ESG!M$2:N$13,2,FALSE),N65)","v":""},{"$f":"IFERROR(VLOOKUP(O65,IF(O65=3165,AL$2:AM$2,ESG!A$2:F$54),IF(O65=3165,2,6),0),0)","v":0},{"$f":"IF(Timesheet!T65>0,Timesheet!G65,\"\")","v":""},{"$f":"IF(Timesheet!T65>0,Timesheet!J65,\"\")","v":""},{"$f":"IFERROR(VLOOKUP(Q65,ESG!M$2:N$13,2,FALSE),R65)","v":""},{"$f":"IFERROR(VLOOKUP(S65,IF(S65=3165,AL$2:AM$2,ESG!A$2:G$54),IF(S65=3165,2,7),0),0)","v":0},{"$f":"IF(Timesheet!V65>0,Timesheet!G65,\"\")","v":""},{"$f":"IF(Timesheet!V65>0,Timesheet!J65,\"\")","v":""},{"$f":"IFERROR(VLOOKUP(U65,ESG!M$2:N$13,2,FALSE),V65)","v":""},{"$f":"IFERROR(VLOOKUP(W65,IF(W65=3165,AL$2:AM$2,ESG!A$2:H$54),IF(W65=3165,2,8),0),0)","v":0},{"$f":"IF(Timesheet!X65>0,Timesheet!G65,\"\")","v":""},{"$f":"IF(Timesheet!X65>0,Timesheet!J65,\"\")","v":""},"",{"$f":"IFERROR(VLOOKUP(AA65,IF(AA65=3165,AL$2:AM$2,ESG!A$2:I$54),IF(AA65=3165,2,9),0),0)","v":0},{"$f":"IF(Timesheet!Z65>0,Timesheet!G65,\"\")","v":""},{"$f":"IF(Timesheet!Z65>0,Timesheet!J65,\"\")","v":""},"",{"$f":"IFERROR(VLOOKUP(AE65,IF(AE65=3165,AL$2:AM$2,ESG!A$2:J$54),IF(AE65=3165,2,10),0),0)","v":0},{"$f":"IF(Timesheet!AB65>0,Timesheet!G65,\"\")","v":""},{"$f":"IF(Timesheet!AB65>0,Timesheet!J65,\"\")","v":""},"",{"$f":"IFERROR(VLOOKUP(AI65,IF(AI65=3165,AL$2:AM$2,ESG!A$2:K$54),IF(AI65=3165,2,11),0),0)","v":0}]
[{"$f":"IF(Timesheet!L66>0,Timesheet!G66,\"\")","v":""},{"$f":"IF(Timesheet!L66>0,Timesheet!J66,\"\")","v":""},"",{"$f":"IFERROR(VLOOKUP(C66,IF(C66=3165,AL$2:AM$2,ESG!A$2:C$54),IF(C66=3165,2,3),0),0)","v":0},{"$f":"IF(Timesheet!N66>0,Timesheet!G66,\"\")","v":""},{"$f":"IF(Timesheet!N66>0,Timesheet!J66,\"\")","v":""},"",{"$f":"IFERROR(VLOOKUP(G66,IF(G66=3165,AL$2:AM$2,ESG!A$2:D$54),IF(G66=3165,2,4),0),0)","v":0},{"$f":"IF(Timesheet!P66>0,Timesheet!G66,\"\")","v":""},{"$f":"IF(Timesheet!P66>0,Timesheet!J66,\"\")","v":""},"",{"$f":"IFERROR(VLOOKUP(K66,IF(K66=3165,AL$2:AM$2,ESG!A$2:E$54),IF(K66=3165,2,5),0),0)","v":0},{"$f":"IF(Timesheet!R66>0,Timesheet!G66,\"\")","v":""},{"$f":"IF(Timesheet!R66>0,Timesheet!J66,\"\")","v":""},{"$f":"IFERROR(VLOOKUP(M66,ESG!M$2:N$13,2,FALSE),N66)","v":""},{"$f":"IFERROR(VLOOKUP(O66,IF(O66=3165,AL$2:AM$2,ESG!A$2:F$54),IF(O66=3165,2,6),0),0)","v":0},{"$f":"IF(Timesheet!T66>0,Timesheet!G66,\"\")","v":""},{"$f":"IF(Timesheet!T66>0,Timesheet!J66,\"\")","v":""},{"$f":"IFERROR(VLOOKUP(Q66,ESG!M$2:N$13,2,FALSE),R66)","v":""},{"$f":"IFERROR(VLOOKUP(S66,IF(S66=3165,AL$2:AM$2,ESG!A$2:G$54),IF(S66=3165,2,7),0),0)","v":0},{"$f":"IF(Timesheet!V66>0,Timesheet!G66,\"\")","v":""},{"$f":"IF(Timesheet!V66>0,Timesheet!J66,\"\")","v":""},{"$f":"IFERROR(VLOOKUP(U66,ESG!M$2:N$13,2,FALSE),V66)","v":""},{"$f":"IFERROR(VLOOKUP(W66,IF(W66=3165,AL$2:AM$2,ESG!A$2:H$54),IF(W66=3165,2,8),0),0)","v":0},{"$f":"IF(Timesheet!X66>0,Timesheet!G66,\"\")","v":""},{"$f":"IF(Timesheet!X66>0,Timesheet!J66,\"\")","v":""},"",{"$f":"IFERROR(VLOOKUP(AA66,IF(AA66=3165,AL$2:AM$2,ESG!A$2:I$54),IF(AA66=3165,2,9),0),0)","v":0},{"$f":"IF(Timesheet!Z66>0,Timesheet!G66,\"\")","v":""},{"$f":"IF(Timesheet!Z66>0,Timesheet!J66,\"\")","v":""},"",{"$f":"IFERROR(VLOOKUP(AE66,IF(AE66=3165,AL$2:AM$2,ESG!A$2:J$54),IF(AE66=3165,2,10),0),0)","v":0},{"$f":"IF(Timesheet!AB66>0,Timesheet!G66,\"\")","v":""},{"$f":"IF(Timesheet!AB66>0,Timesheet!J66,\"\")","v":""},"",{"$f":"IFERROR(VLOOKUP(AI66,IF(AI66=3165,AL$2:AM$2,ESG!A$2:K$54),IF(AI66=3165,2,11),0),0)","v":0}]
[{"$f":"IF(Timesheet!L67>0,Timesheet!G67,\"\")","v":""},{"$f":"IF(Timesheet!L67>0,Timesheet!J67,\"\")","v":""},"",{"$f":"IFERROR(VLOOKUP(C67,IF(C67=3165,AL$2:AM$2,ESG!A$2:C$54),IF(C67=3165,2,3),0),0)","v":0},{"$f":"IF(Timesheet!N67>0,Timesheet!G67,\"\")","v":""},{"$f":"IF(Timesheet!N67>0,Timesheet!J67,\"\")","v":""},"",{"$f":"IFERROR(VLOOKUP(G67,IF(G67=3165,AL$2:AM$2,ESG!A$2:D$54),IF(G67=3165,2,4),0),0)","v":0},{"$f":"IF(Timesheet!P67>0,Timesheet!G67,\"\")","v":""},{"$f":"IF(Timesheet!P67>0,Timesheet!J67,\"\")","v":""},"",{"$f":"IFERROR(VLOOKUP(K67,IF(K67=3165,AL$2:AM$2,ESG!A$2:E$54),IF(K67=3165,2,5),0),0)","v":0},{"$f":"IF(Timesheet!R67>0,Timesheet!G67,\"\")","v":""},{"$f":"IF(Timesheet!R67>0,Timesheet!J67,\"\")","v":""},{"$f":"IFERROR(VLOOKUP(M67,ESG!M$2:N$13,2,FALSE),N67)","v":""},{"$f":"IFERROR(VLOOKUP(O67,IF(O67=3165,AL$2:AM$2,ESG!A$2:F$54),IF(O67=3165,2,6),0),0)","v":0},{"$f":"IF(Timesheet!T67>0,Timesheet!G67,\"\")","v":""},{"$f":"IF(Timesheet!T67>0,Timesheet!J67,\"\")","v":""},{"$f":"IFERROR(VLOOKUP(Q67,ESG!M$2:N$13,2,FALSE),R67)","v":""},{"$f":"IFERROR(VLOOKUP(S67,IF(S67=3165,AL$2:AM$2,ESG!A$2:G$54),IF(S67=3165,2,7),0),0)","v":0},{"$f":"IF(Timesheet!V67>0,Timesheet!G67,\"\")","v":""},{"$f":"IF(Timesheet!V67>0,Timesheet!J67,\"\")","v":""},{"$f":"IFERROR(VLOOKUP(U67,ESG!M$2:N$13,2,FALSE),V67)","v":""},{"$f":"IFERROR(VLOOKUP(W67,IF(W67=3165,AL$2:AM$2,ESG!A$2:H$54),IF(W67=3165,2,8),0),0)","v":0},{"$f":"IF(Timesheet!X67>0,Timesheet!G67,\"\")","v":""},{"$f":"IF(Timesheet!X67>0,Timesheet!J67,\"\")","v":""},"",{"$f":"IFERROR(VLOOKUP(AA67,IF(AA67=3165,AL$2:AM$2,ESG!A$2:I$54),IF(AA67=3165,2,9),0),0)","v":0},{"$f":"IF(Timesheet!Z67>0,Timesheet!G67,\"\")","v":""},{"$f":"IF(Timesheet!Z67>0,Timesheet!J67,\"\")","v":""},"",{"$f":"IFERROR(VLOOKUP(AE67,IF(AE67=3165,AL$2:AM$2,ESG!A$2:J$54),IF(AE67=3165,2,10),0),0)","v":0},{"$f":"IF(Timesheet!AB67>0,Timesheet!G67,\"\")","v":""},{"$f":"IF(Timesheet!AB67>0,Timesheet!J67,\"\")","v":""},"",{"$f":"IFERROR(VLOOKUP(AI67,IF(AI67=3165,AL$2:AM$2,ESG!A$2:K$54),IF(AI67=3165,2,11),0),0)","v":0}]
[{"$f":"IF(Timesheet!L68>0,Timesheet!G68,\"\")","v":""},{"$f":"IF(Timesheet!L68>0,Timesheet!J68,\"\")","v":""},{"$f":"B68","v":""},{"$f":"IFERROR(VLOOKUP(C68,IF(C68=3165,AL$2:AM$2,ESG!A$2:C$54),IF(C68=3165,2,3),0),0)","v":0},{"$f":"IF(Timesheet!N68>0,Timesheet!G68,\"\")","v":""},{"$f":"IF(Timesheet!N68>0,Timesheet!J68,\"\")","v":""},{"$f":"F68","v":""},{"$f":"IFERROR(VLOOKUP(G68,IF(G68=3165,AL$2:AM$2,ESG!A$2:D$54),IF(G68=3165,2,4),0),0)","v":0},{"$f":"IF(Timesheet!P68>0,Timesheet!G68,\"\")","v":""},{"$f":"IF(Timesheet!P68>0,Timesheet!J68,\"\")","v":""},{"$f":"J68","v":""},{"$f":"IFERROR(VLOOKUP(K68,IF(K68=3165,AL$2:AM$2,ESG!A$2:E$54),IF(K68=3165,2,5),0),0)","v":0},{"$f":"IF(Timesheet!R68>0,Timesheet!G68,\"\")","v":""},{"$f":"IF(Timesheet!R68>0,Timesheet!J68,\"\")","v":""},{"$f":"IFERROR(VLOOKUP(M68,ESG!M$2:N$13,2,FALSE),N68)","v":""},{"$f":"IFERROR(VLOOKUP(O68,IF(O68=3165,AL$2:AM$2,ESG!A$2:F$54),IF(O68=3165,2,6),0),0)","v":0},{"$f":"IF(Timesheet!T68>0,Timesheet!G68,\"\")","v":""},{"$f":"IF(Timesheet!T68>0,Timesheet!J68,\"\")","v":""},{"$f":"IFERROR(VLOOKUP(Q68,ESG!M$2:N$13,2,FALSE),R68)","v":""},{"$f":"IFERROR(VLOOKUP(S68,IF(S68=3165,AL$2:AM$2,ESG!A$2:G$54),IF(S68=3165,2,7),0),0)","v":0},{"$f":"IF(Timesheet!V68>0,Timesheet!G68,\"\")","v":""},{"$f":"IF(Timesheet!V68>0,Timesheet!J68,\"\")","v":""},{"$f":"IFERROR(VLOOKUP(U68,ESG!M$2:N$13,2,FALSE),V68)","v":""},{"$f":"IFERROR(VLOOKUP(W68,IF(W68=3165,AL$2:AM$2,ESG!A$2:H$54),IF(W68=3165,2,8),0),0)","v":0},{"$f":"IF(Timesheet!X68>0,Timesheet!G68,\"\")","v":""},{"$f":"IF(Timesheet!X68>0,Timesheet!J68,\"\")","v":""},{"$f":"Z68","v":""},{"$f":"IFERROR(VLOOKUP(AA68,IF(AA68=3165,AL$2:AM$2,ESG!A$2:I$54),IF(AA68=3165,2,9),0),0)","v":0},{"$f":"IF(Timesheet!Z68>0,Timesheet!G68,\"\")","v":""},{"$f":"IF(Timesheet!Z68>0,Timesheet!J68,\"\")","v":""},{"$f":"AD68","v":""},{"$f":"IFERROR(VLOOKUP(AE68,IF(AE68=3165,AL$2:AM$2,ESG!A$2:J$54),IF(AE68=3165,2,10),0),0)","v":0},{"$f":"IF(Timesheet!AB68>0,Timesheet!G68,\"\")","v":""},{"$f":"IF(Timesheet!AB68>0,Timesheet!J68,\"\")","v":""},{"$f":"AH68","v":""},{"$f":"IFERROR(VLOOKUP(AI68,IF(AI68=3165,AL$2:AM$2,ESG!A$2:K$54),IF(AI68=3165,2,11),0),0)","v":0}]
[{"$f":"IF(Timesheet!L69>0,Timesheet!G69,\"\")","v":""},{"$f":"IF(Timesheet!L69>0,Timesheet!J69,\"\")","v":""},"",{"$f":"IFERROR(VLOOKUP(C69,IF(C69=3165,AL$2:AM$2,ESG!A$2:C$54),IF(C69=3165,2,3),0),0)","v":0},{"$f":"IF(Timesheet!N69>0,Timesheet!G69,\"\")","v":""},{"$f":"IF(Timesheet!N69>0,Timesheet!J69,\"\")","v":""},"",{"$f":"IFERROR(VLOOKUP(G69,IF(G69=3165,AL$2:AM$2,ESG!A$2:D$54),IF(G69=3165,2,4),0),0)","v":0},{"$f":"IF(Timesheet!P69>0,Timesheet!G69,\"\")","v":""},{"$f":"IF(Timesheet!P69>0,Timesheet!J69,\"\")","v":""},"",{"$f":"IFERROR(VLOOKUP(K69,IF(K69=3165,AL$2:AM$2,ESG!A$2:E$54),IF(K69=3165,2,5),0),0)","v":0},{"$f":"IF(Timesheet!R69>0,Timesheet!G69,\"\")","v":""},{"$f":"IF(Timesheet!R69>0,Timesheet!J69,\"\")","v":""},{"$f":"IFERROR(VLOOKUP(M69,ESG!M$2:N$13,2,FALSE),N69)","v":""},{"$f":"IFERROR(VLOOKUP(O69,IF(O69=3165,AL$2:AM$2,ESG!A$2:F$54),IF(O69=3165,2,6),0),0)","v":0},{"$f":"IF(Timesheet!T69>0,Timesheet!G69,\"\")","v":""},{"$f":"IF(Timesheet!T69>0,Timesheet!J69,\"\")","v":""},{"$f":"IFERROR(VLOOKUP(Q69,ESG!M$2:N$13,2,FALSE),R69)","v":""},{"$f":"IFERROR(VLOOKUP(S69,IF(S69=3165,AL$2:AM$2,ESG!A$2:G$54),IF(S69=3165,2,7),0),0)","v":0},{"$f":"IF(Timesheet!V69>0,Timesheet!G69,\"\")","v":""},{"$f":"IF(Timesheet!V69>0,Timesheet!J69,\"\")","v":""},{"$f":"IFERROR(VLOOKUP(U69,ESG!M$2:N$13,2,FALSE),V69)","v":""},{"$f":"IFERROR(VLOOKUP(W69,IF(W69=3165,AL$2:AM$2,ESG!A$2:H$54),IF(W69=3165,2,8),0),0)","v":0},{"$f":"IF(Timesheet!X69>0,Timesheet!G69,\"\")","v":""},{"$f":"IF(Timesheet!X69>0,Timesheet!J69,\"\")","v":""},"",{"$f":"IFERROR(VLOOKUP(AA69,IF(AA69=3165,AL$2:AM$2,ESG!A$2:I$54),IF(AA69=3165,2,9),0),0)","v":0},{"$f":"IF(Timesheet!Z69>0,Timesheet!G69,\"\")","v":""},{"$f":"IF(Timesheet!Z69>0,Timesheet!J69,\"\")","v":""},"",{"$f":"IFERROR(VLOOKUP(AE69,IF(AE69=3165,AL$2:AM$2,ESG!A$2:J$54),IF(AE69=3165,2,10),0),0)","v":0},{"$f":"IF(Timesheet!AB69>0,Timesheet!G69,\"\")","v":""},{"$f":"IF(Timesheet!AB69>0,Timesheet!J69,\"\")","v":""},"",{"$f":"IFERROR(VLOOKUP(AI69,IF(AI69=3165,AL$2:AM$2,ESG!A$2:K$54),IF(AI69=3165,2,11),0),0)","v":0}]
[{"$f":"IF(Timesheet!L70>0,Timesheet!G70,\"\")","v":""},{"$f":"IF(Timesheet!L70>0,Timesheet!J70,\"\")","v":""},"",{"$f":"IFERROR(VLOOKUP(C70,IF(C70=3165,AL$2:AM$2,ESG!A$2:C$54),IF(C70=3165,2,3),0),0)","v":0},{"$f":"IF(Timesheet!N70>0,Timesheet!G70,\"\")","v":""},{"$f":"IF(Timesheet!N70>0,Timesheet!J70,\"\")","v":""},"",{"$f":"IFERROR(VLOOKUP(G70,IF(G70=3165,AL$2:AM$2,ESG!A$2:D$54),IF(G70=3165,2,4),0),0)","v":0},{"$f":"IF(Timesheet!P70>0,Timesheet!G70,\"\")","v":""},{"$f":"IF(Timesheet!P70>0,Timesheet!J70,\"\")","v":""},"",{"$f":"IFERROR(VLOOKUP(K70,IF(K70=3165,AL$2:AM$2,ESG!A$2:E$54),IF(K70=3165,2,5),0),0)","v":0},{"$f":"IF(Timesheet!R70>0,Timesheet!G70,\"\")","v":""},{"$f":"IF(Timesheet!R70>0,Timesheet!J70,\"\")","v":""},{"$f":"IFERROR(VLOOKUP(M70,ESG!M$2:N$13,2,FALSE),N70)","v":""},{"$f":"IFERROR(VLOOKUP(O70,IF(O70=3165,AL$2:AM$2,ESG!A$2:F$54),IF(O70=3165,2,6),0),0)","v":0},{"$f":"IF(Timesheet!T70>0,Timesheet!G70,\"\")","v":""},{"$f":"IF(Timesheet!T70>0,Timesheet!J70,\"\")","v":""},{"$f":"IFERROR(VLOOKUP(Q70,ESG!M$2:N$13,2,FALSE),R70)","v":""},{"$f":"IFERROR(VLOOKUP(S70,IF(S70=3165,AL$2:AM$2,ESG!A$2:G$54),IF(S70=3165,2,7),0),0)","v":0},{"$f":"IF(Timesheet!V70>0,Timesheet!G70,\"\")","v":""},{"$f":"IF(Timesheet!V70>0,Timesheet!J70,\"\")","v":""},{"$f":"IFERROR(VLOOKUP(U70,ESG!M$2:N$13,2,FALSE),V70)","v":""},{"$f":"IFERROR(VLOOKUP(W70,IF(W70=3165,AL$2:AM$2,ESG!A$2:H$54),IF(W70=3165,2,8),0),0)","v":0},{"$f":"IF(Timesheet!X70>0,Timesheet!G70,\"\")","v":""},{"$f":"IF(Timesheet!X70>0,Timesheet!J70,\"\")","v":""},"",{"$f":"IFERROR(VLOOKUP(AA70,IF(AA70=3165,AL$2:AM$2,ESG!A$2:I$54),IF(AA70=3165,2,9),0),0)","v":0},{"$f":"IF(Timesheet!Z70>0,Timesheet!G70,\"\")","v":""},{"$f":"IF(Timesheet!Z70>0,Timesheet!J70,\"\")","v":""},"",{"$f":"IFERROR(VLOOKUP(AE70,IF(AE70=3165,AL$2:AM$2,ESG!A$2:J$54),IF(AE70=3165,2,10),0),0)","v":0},{"$f":"IF(Timesheet!AB70>0,Timesheet!G70,\"\")","v":""},{"$f":"IF(Timesheet!AB70>0,Timesheet!J70,\"\")","v":""},"",{"$f":"IFERROR(VLOOKUP(AI70,IF(AI70=3165,AL$2:AM$2,ESG!A$2:K$54),IF(AI70=3165,2,11),0),0)","v":0}]
[{"$f":"IF(Timesheet!L71>0,Timesheet!G71,\"\")","v":""},{"$f":"IF(Timesheet!L71>0,Timesheet!J71,\"\")","v":""},"",{"$f":"IFERROR(VLOOKUP(C71,IF(C71=3165,AL$2:AM$2,ESG!A$2:C$54),IF(C71=3165,2,3),0),0)","v":0},{"$f":"IF(Timesheet!N71>0,Timesheet!G71,\"\")","v":""},{"$f":"IF(Timesheet!N71>0,Timesheet!J71,\"\")","v":""},"",{"$f":"IFERROR(VLOOKUP(G71,IF(G71=3165,AL$2:AM$2,ESG!A$2:D$54),IF(G71=3165,2,4),0),0)","v":0},{"$f":"IF(Timesheet!P71>0,Timesheet!G71,\"\")","v":""},{"$f":"IF(Timesheet!P71>0,Timesheet!J71,\"\")","v":""},"",{"$f":"IFERROR(VLOOKUP(K71,IF(K71=3165,AL$2:AM$2,ESG!A$2:E$54),IF(K71=3165,2,5),0),0)","v":0},{"$f":"IF(Timesheet!R71>0,Timesheet!G71,\"\")","v":""},{"$f":"IF(Timesheet!R71>0,Timesheet!J71,\"\")","v":""},{"$f":"IFERROR(VLOOKUP(M71,ESG!M$2:N$13,2,FALSE),N71)","v":""},{"$f":"IFERROR(VLOOKUP(O71,IF(O71=3165,AL$2:AM$2,ESG!A$2:F$54),IF(O71=3165,2,6),0),0)","v":0},{"$f":"IF(Timesheet!T71>0,Timesheet!G71,\"\")","v":""},{"$f":"IF(Timesheet!T71>0,Timesheet!J71,\"\")","v":""},{"$f":"IFERROR(VLOOKUP(Q71,ESG!M$2:N$13,2,FALSE),R71)","v":""},{"$f":"IFERROR(VLOOKUP(S71,IF(S71=3165,AL$2:AM$2,ESG!A$2:G$54),IF(S71=3165,2,7),0),0)","v":0},{"$f":"IF(Timesheet!V71>0,Timesheet!G71,\"\")","v":""},{"$f":"IF(Timesheet!V71>0,Timesheet!J71,\"\")","v":""},{"$f":"IFERROR(VLOOKUP(U71,ESG!M$2:N$13,2,FALSE),V71)","v":""},{"$f":"IFERROR(VLOOKUP(W71,IF(W71=3165,AL$2:AM$2,ESG!A$2:H$54),IF(W71=3165,2,8),0),0)","v":0},{"$f":"IF(Timesheet!X71>0,Timesheet!G71,\"\")","v":""},{"$f":"IF(Timesheet!X71>0,Timesheet!J71,\"\")","v":""},"",{"$f":"IFERROR(VLOOKUP(AA71,IF(AA71=3165,AL$2:AM$2,ESG!A$2:I$54),IF(AA71=3165,2,9),0),0)","v":0},{"$f":"IF(Timesheet!Z71>0,Timesheet!G71,\"\")","v":""},{"$f":"IF(Timesheet!Z71>0,Timesheet!J71,\"\")","v":""},"",{"$f":"IFERROR(VLOOKUP(AE71,IF(AE71=3165,AL$2:AM$2,ESG!A$2:J$54),IF(AE71=3165,2,10),0),0)","v":0},{"$f":"IF(Timesheet!AB71>0,Timesheet!G71,\"\")","v":""},{"$f":"IF(Timesheet!AB71>0,Timesheet!J71,\"\")","v":""},"",{"$f":"IFERROR(VLOOKUP(AI71,IF(AI71=3165,AL$2:AM$2,ESG!A$2:K$54),IF(AI71=3165,2,11),0),0)","v":0}]
[{"$f":"IF(Timesheet!L72>0,Timesheet!G72,\"\")","v":""},{"$f":"IF(Timesheet!L72>0,Timesheet!J72,\"\")","v":""},"",{"$f":"IFERROR(VLOOKUP(C72,IF(C72=3165,AL$2:AM$2,ESG!A$2:C$54),IF(C72=3165,2,3),0),0)","v":0},{"$f":"IF(Timesheet!N72>0,Timesheet!G72,\"\")","v":""},{"$f":"IF(Timesheet!N72>0,Timesheet!J72,\"\")","v":""},"",{"$f":"IFERROR(VLOOKUP(G72,IF(G72=3165,AL$2:AM$2,ESG!A$2:D$54),IF(G72=3165,2,4),0),0)","v":0},{"$f":"IF(Timesheet!P72>0,Timesheet!G72,\"\")","v":""},{"$f":"IF(Timesheet!P72>0,Timesheet!J72,\"\")","v":""},"",{"$f":"IFERROR(VLOOKUP(K72,IF(K72=3165,AL$2:AM$2,ESG!A$2:E$54),IF(K72=3165,2,5),0),0)","v":0},{"$f":"IF(Timesheet!R72>0,Timesheet!G72,\"\")","v":""},{"$f":"IF(Timesheet!R72>0,Timesheet!J72,\"\")","v":""},{"$f":"IFERROR(VLOOKUP(M72,ESG!M$2:N$13,2,FALSE),N72)","v":""},{"$f":"IFERROR(VLOOKUP(O72,IF(O72=3165,AL$2:AM$2,ESG!A$2:F$54),IF(O72=3165,2,6),0),0)","v":0},{"$f":"IF(Timesheet!T72>0,Timesheet!G72,\"\")","v":""},{"$f":"IF(Timesheet!T72>0,Timesheet!J72,\"\")","v":""},{"$f":"IFERROR(VLOOKUP(Q72,ESG!M$2:N$13,2,FALSE),R72)","v":""},{"$f":"IFERROR(VLOOKUP(S72,IF(S72=3165,AL$2:AM$2,ESG!A$2:G$54),IF(S72=3165,2,7),0),0)","v":0},{"$f":"IF(Timesheet!V72>0,Timesheet!G72,\"\")","v":""},{"$f":"IF(Timesheet!V72>0,Timesheet!J72,\"\")","v":""},{"$f":"IFERROR(VLOOKUP(U72,ESG!M$2:N$13,2,FALSE),V72)","v":""},{"$f":"IFERROR(VLOOKUP(W72,IF(W72=3165,AL$2:AM$2,ESG!A$2:H$54),IF(W72=3165,2,8),0),0)","v":0},{"$f":"IF(Timesheet!X72>0,Timesheet!G72,\"\")","v":""},{"$f":"IF(Timesheet!X72>0,Timesheet!J72,\"\")","v":""},"",{"$f":"IFERROR(VLOOKUP(AA72,IF(AA72=3165,AL$2:AM$2,ESG!A$2:I$54),IF(AA72=3165,2,9),0),0)","v":0},{"$f":"IF(Timesheet!Z72>0,Timesheet!G72,\"\")","v":""},{"$f":"IF(Timesheet!Z72>0,Timesheet!J72,\"\")","v":""},"",{"$f":"IFERROR(VLOOKUP(AE72,IF(AE72=3165,AL$2:AM$2,ESG!A$2:J$54),IF(AE72=3165,2,10),0),0)","v":0},{"$f":"IF(Timesheet!AB72>0,Timesheet!G72,\"\")","v":""},{"$f":"IF(Timesheet!AB72>0,Timesheet!J72,\"\")","v":""},"",{"$f":"IFERROR(VLOOKUP(AI72,IF(AI72=3165,AL$2:AM$2,ESG!A$2:K$54),IF(AI72=3165,2,11),0),0)","v":0}]
[{"$f":"IF(Timesheet!L73>0,Timesheet!G73,\"\")","v":""},{"$f":"IF(Timesheet!L73>0,Timesheet!J73,\"\")","v":""},"",{"$f":"IFERROR(VLOOKUP(C73,IF(C73=3165,AL$2:AM$2,ESG!A$2:C$54),IF(C73=3165,2,3),0),0)","v":0},{"$f":"IF(Timesheet!N73>0,Timesheet!G73,\"\")","v":""},{"$f":"IF(Timesheet!N73>0,Timesheet!J73,\"\")","v":""},"",{"$f":"IFERROR(VLOOKUP(G73,IF(G73=3165,AL$2:AM$2,ESG!A$2:D$54),IF(G73=3165,2,4),0),0)","v":0},{"$f":"IF(Timesheet!P73>0,Timesheet!G73,\"\")","v":""},{"$f":"IF(Timesheet!P73>0,Timesheet!J73,\"\")","v":""},"",{"$f":"IFERROR(VLOOKUP(K73,IF(K73=3165,AL$2:AM$2,ESG!A$2:E$54),IF(K73=3165,2,5),0),0)","v":0},{"$f":"IF(Timesheet!R73>0,Timesheet!G73,\"\")","v":""},{"$f":"IF(Timesheet!R73>0,Timesheet!J73,\"\")","v":""},{"$f":"IFERROR(VLOOKUP(M73,ESG!M$2:N$13,2,FALSE),N73)","v":""},{"$f":"IFERROR(VLOOKUP(O73,IF(O73=3165,AL$2:AM$2,ESG!A$2:F$54),IF(O73=3165,2,6),0),0)","v":0},{"$f":"IF(Timesheet!T73>0,Timesheet!G73,\"\")","v":""},{"$f":"IF(Timesheet!T73>0,Timesheet!J73,\"\")","v":""},{"$f":"IFERROR(VLOOKUP(Q73,ESG!M$2:N$13,2,FALSE),R73)","v":""},{"$f":"IFERROR(VLOOKUP(S73,IF(S73=3165,AL$2:AM$2,ESG!A$2:G$54),IF(S73=3165,2,7),0),0)","v":0},{"$f":"IF(Timesheet!V73>0,Timesheet!G73,\"\")","v":""},{"$f":"IF(Timesheet!V73>0,Timesheet!J73,\"\")","v":""},{"$f":"IFERROR(VLOOKUP(U73,ESG!M$2:N$13,2,FALSE),V73)","v":""},{"$f":"IFERROR(VLOOKUP(W73,IF(W73=3165,AL$2:AM$2,ESG!A$2:H$54),IF(W73=3165,2,8),0),0)","v":0},{"$f":"IF(Timesheet!X73>0,Timesheet!G73,\"\")","v":""},{"$f":"IF(Timesheet!X73>0,Timesheet!J73,\"\")","v":""},"",{"$f":"IFERROR(VLOOKUP(AA73,IF(AA73=3165,AL$2:AM$2,ESG!A$2:I$54),IF(AA73=3165,2,9),0),0)","v":0},{"$f":"IF(Timesheet!Z73>0,Timesheet!G73,\"\")","v":""},{"$f":"IF(Timesheet!Z73>0,Timesheet!J73,\"\")","v":""},"",{"$f":"IFERROR(VLOOKUP(AE73,IF(AE73=3165,AL$2:AM$2,ESG!A$2:J$54),IF(AE73=3165,2,10),0),0)","v":0},{"$f":"IF(Timesheet!AB73>0,Timesheet!G73,\"\")","v":""},{"$f":"IF(Timesheet!AB73>0,Timesheet!J73,\"\")","v":""},"",{"$f":"IFERROR(VLOOKUP(AI73,IF(AI73=3165,AL$2:AM$2,ESG!A$2:K$54),IF(AI73=3165,2,11),0),0)","v":0}]
[{"$f":"IF(Timesheet!L74>0,Timesheet!G74,\"\")","v":""},{"$f":"IF(Timesheet!L74>0,Timesheet!J74,\"\")","v":""},"",{"$f":"IFERROR(VLOOKUP(C74,IF(C74=3165,AL$2:AM$2,ESG!A$2:C$54),IF(C74=3165,2,3),0),0)","v":0},{"$f":"IF(Timesheet!N74>0,Timesheet!G74,\"\")","v":""},{"$f":"IF(Timesheet!N74>0,Timesheet!J74,\"\")","v":""},"",{"$f":"IFERROR(VLOOKUP(G74,IF(G74=3165,AL$2:AM$2,ESG!A$2:D$54),IF(G74=3165,2,4),0),0)","v":0},{"$f":"IF(Timesheet!P74>0,Timesheet!G74,\"\")","v":""},{"$f":"IF(Timesheet!P74>0,Timesheet!J74,\"\")","v":""},"",{"$f":"IFERROR(VLOOKUP(K74,IF(K74=3165,AL$2:AM$2,ESG!A$2:E$54),IF(K74=3165,2,5),0),0)","v":0},{"$f":"IF(Timesheet!R74>0,Timesheet!G74,\"\")","v":""},{"$f":"IF(Timesheet!R74>0,Timesheet!J74,\"\")","v":""},{"$f":"IFERROR(VLOOKUP(M74,ESG!M$2:N$13,2,FALSE),N74)","v":""},{"$f":"IFERROR(VLOOKUP(O74,IF(O74=3165,AL$2:AM$2,ESG!A$2:F$54),IF(O74=3165,2,6),0),0)","v":0},{"$f":"IF(Timesheet!T74>0,Timesheet!G74,\"\")","v":""},{"$f":"IF(Timesheet!T74>0,Timesheet!J74,\"\")","v":""},{"$f":"IFERROR(VLOOKUP(Q74,ESG!M$2:N$13,2,FALSE),R74)","v":""},{"$f":"IFERROR(VLOOKUP(S74,IF(S74=3165,AL$2:AM$2,ESG!A$2:G$54),IF(S74=3165,2,7),0),0)","v":0},{"$f":"IF(Timesheet!V74>0,Timesheet!G74,\"\")","v":""},{"$f":"IF(Timesheet!V74>0,Timesheet!J74,\"\")","v":""},{"$f":"IFERROR(VLOOKUP(U74,ESG!M$2:N$13,2,FALSE),V74)","v":""},{"$f":"IFERROR(VLOOKUP(W74,IF(W74=3165,AL$2:AM$2,ESG!A$2:H$54),IF(W74=3165,2,8),0),0)","v":0},{"$f":"IF(Timesheet!X74>0,Timesheet!G74,\"\")","v":""},{"$f":"IF(Timesheet!X74>0,Timesheet!J74,\"\")","v":""},"",{"$f":"IFERROR(VLOOKUP(AA74,IF(AA74=3165,AL$2:AM$2,ESG!A$2:I$54),IF(AA74=3165,2,9),0),0)","v":0},{"$f":"IF(Timesheet!Z74>0,Timesheet!G74,\"\")","v":""},{"$f":"IF(Timesheet!Z74>0,Timesheet!J74,\"\")","v":""},"",{"$f":"IFERROR(VLOOKUP(AE74,IF(AE74=3165,AL$2:AM$2,ESG!A$2:J$54),IF(AE74=3165,2,10),0),0)","v":0},{"$f":"IF(Timesheet!AB74>0,Timesheet!G74,\"\")","v":""},{"$f":"IF(Timesheet!AB74>0,Timesheet!J74,\"\")","v":""},"",{"$f":"IFERROR(VLOOKUP(AI74,IF(AI74=3165,AL$2:AM$2,ESG!A$2:K$54),IF(AI74=3165,2,11),0),0)","v":0}]
[{"$f":"IF(Timesheet!L75>0,Timesheet!G75,\"\")","v":""},{"$f":"IF(Timesheet!L75>0,Timesheet!J75,\"\")","v":""},"",{"$f":"IFERROR(VLOOKUP(C75,IF(C75=3165,AL$2:AM$2,ESG!A$2:C$54),IF(C75=3165,2,3),0),0)","v":0},{"$f":"IF(Timesheet!N75>0,Timesheet!G75,\"\")","v":""},{"$f":"IF(Timesheet!N75>0,Timesheet!J75,\"\")","v":""},"",{"$f":"IFERROR(VLOOKUP(G75,IF(G75=3165,AL$2:AM$2,ESG!A$2:D$54),IF(G75=3165,2,4),0),0)","v":0},{"$f":"IF(Timesheet!P75>0,Timesheet!G75,\"\")","v":""},{"$f":"IF(Timesheet!P75>0,Timesheet!J75,\"\")","v":""},"",{"$f":"IFERROR(VLOOKUP(K75,IF(K75=3165,AL$2:AM$2,ESG!A$2:E$54),IF(K75=3165,2,5),0),0)","v":0},{"$f":"IF(Timesheet!R75>0,Timesheet!G75,\"\")","v":""},{"$f":"IF(Timesheet!R75>0,Timesheet!J75,\"\")","v":""},{"$f":"IFERROR(VLOOKUP(M75,ESG!M$2:N$13,2,FALSE),N75)","v":""},{"$f":"IFERROR(VLOOKUP(O75,IF(O75=3165,AL$2:AM$2,ESG!A$2:F$54),IF(O75=3165,2,6),0),0)","v":0},{"$f":"IF(Timesheet!T75>0,Timesheet!G75,\"\")","v":""},{"$f":"IF(Timesheet!T75>0,Timesheet!J75,\"\")","v":""},{"$f":"IFERROR(VLOOKUP(Q75,ESG!M$2:N$13,2,FALSE),R75)","v":""},{"$f":"IFERROR(VLOOKUP(S75,IF(S75=3165,AL$2:AM$2,ESG!A$2:G$54),IF(S75=3165,2,7),0),0)","v":0},{"$f":"IF(Timesheet!V75>0,Timesheet!G75,\"\")","v":""},{"$f":"IF(Timesheet!V75>0,Timesheet!J75,\"\")","v":""},{"$f":"IFERROR(VLOOKUP(U75,ESG!M$2:N$13,2,FALSE),V75)","v":""},{"$f":"IFERROR(VLOOKUP(W75,IF(W75=3165,AL$2:AM$2,ESG!A$2:H$54),IF(W75=3165,2,8),0),0)","v":0},{"$f":"IF(Timesheet!X75>0,Timesheet!G75,\"\")","v":""},{"$f":"IF(Timesheet!X75>0,Timesheet!J75,\"\")","v":""},"",{"$f":"IFERROR(VLOOKUP(AA75,IF(AA75=3165,AL$2:AM$2,ESG!A$2:I$54),IF(AA75=3165,2,9),0),0)","v":0},{"$f":"IF(Timesheet!Z75>0,Timesheet!G75,\"\")","v":""},{"$f":"IF(Timesheet!Z75>0,Timesheet!J75,\"\")","v":""},"",{"$f":"IFERROR(VLOOKUP(AE75,IF(AE75=3165,AL$2:AM$2,ESG!A$2:J$54),IF(AE75=3165,2,10),0),0)","v":0},{"$f":"IF(Timesheet!AB75>0,Timesheet!G75,\"\")","v":""},{"$f":"IF(Timesheet!AB75>0,Timesheet!J75,\"\")","v":""},"",{"$f":"IFERROR(VLOOKUP(AI75,IF(AI75=3165,AL$2:AM$2,ESG!A$2:K$54),IF(AI75=3165,2,11),0),0)","v":0}]
[{"$f":"IF(Timesheet!L76>0,Timesheet!G76,\"\")","v":""},{"$f":"IF(Timesheet!L76>0,Timesheet!J76,\"\")","v":""},"",{"$f":"IFERROR(VLOOKUP(C76,IF(C76=3165,AL$2:AM$2,ESG!A$2:C$54),IF(C76=3165,2,3),0),0)","v":0},{"$f":"IF(Timesheet!N76>0,Timesheet!G76,\"\")","v":""},{"$f":"IF(Timesheet!N76>0,Timesheet!J76,\"\")","v":""},"",{"$f":"IFERROR(VLOOKUP(G76,IF(G76=3165,AL$2:AM$2,ESG!A$2:D$54),IF(G76=3165,2,4),0),0)","v":0},{"$f":"IF(Timesheet!P76>0,Timesheet!G76,\"\")","v":""},{"$f":"IF(Timesheet!P76>0,Timesheet!J76,\"\")","v":""},"",{"$f":"IFERROR(VLOOKUP(K76,IF(K76=3165,AL$2:AM$2,ESG!A$2:E$54),IF(K76=3165,2,5),0),0)","v":0},{"$f":"IF(Timesheet!R76>0,Timesheet!G76,\"\")","v":""},{"$f":"IF(Timesheet!R76>0,Timesheet!J76,\"\")","v":""},{"$f":"IFERROR(VLOOKUP(M76,ESG!M$2:N$13,2,FALSE),N76)","v":""},{"$f":"IFERROR(VLOOKUP(O76,IF(O76=3165,AL$2:AM$2,ESG!A$2:F$54),IF(O76=3165,2,6),0),0)","v":0},{"$f":"IF(Timesheet!T76>0,Timesheet!G76,\"\")","v":""},{"$f":"IF(Timesheet!T76>0,Timesheet!J76,\"\")","v":""},{"$f":"IFERROR(VLOOKUP(Q76,ESG!M$2:N$13,2,FALSE),R76)","v":""},{"$f":"IFERROR(VLOOKUP(S76,IF(S76=3165,AL$2:AM$2,ESG!A$2:G$54),IF(S76=3165,2,7),0),0)","v":0},{"$f":"IF(Timesheet!V76>0,Timesheet!G76,\"\")","v":""},{"$f":"IF(Timesheet!V76>0,Timesheet!J76,\"\")","v":""},{"$f":"IFERROR(VLOOKUP(U76,ESG!M$2:N$13,2,FALSE),V76)","v":""},{"$f":"IFERROR(VLOOKUP(W76,IF(W76=3165,AL$2:AM$2,ESG!A$2:H$54),IF(W76=3165,2,8),0),0)","v":0},{"$f":"IF(Timesheet!X76>0,Timesheet!G76,\"\")","v":""},{"$f":"IF(Timesheet!X76>0,Timesheet!J76,\"\")","v":""},"",{"$f":"IFERROR(VLOOKUP(AA76,IF(AA76=3165,AL$2:AM$2,ESG!A$2:I$54),IF(AA76=3165,2,9),0),0)","v":0},{"$f":"IF(Timesheet!Z76>0,Timesheet!G76,\"\")","v":""},{"$f":"IF(Timesheet!Z76>0,Timesheet!J76,\"\")","v":""},"",{"$f":"IFERROR(VLOOKUP(AE76,IF(AE76=3165,AL$2:AM$2,ESG!A$2:J$54),IF(AE76=3165,2,10),0),0)","v":0},{"$f":"IF(Timesheet!AB76>0,Timesheet!G76,\"\")","v":""},{"$f":"IF(Timesheet!AB76>0,Timesheet!J76,\"\")","v":""},"",{"$f":"IFERROR(VLOOKUP(AI76,IF(AI76=3165,AL$2:AM$2,ESG!A$2:K$54),IF(AI76=3165,2,11),0),0)","v":0}]
[{"$f":"IF(Timesheet!L77>0,Timesheet!G77,\"\")","v":""},{"$f":"IF(Timesheet!L77>0,Timesheet!J77,\"\")","v":""},"",{"$f":"IFERROR(VLOOKUP(C77,IF(C77=3165,AL$2:AM$2,ESG!A$2:C$54),IF(C77=3165,2,3),0),0)","v":0},{"$f":"IF(Timesheet!N77>0,Timesheet!G77,\"\")","v":""},{"$f":"IF(Timesheet!N77>0,Timesheet!J77,\"\")","v":""},"",{"$f":"IFERROR(VLOOKUP(G77,IF(G77=3165,AL$2:AM$2,ESG!A$2:D$54),IF(G77=3165,2,4),0),0)","v":0},{"$f":"IF(Timesheet!P77>0,Timesheet!G77,\"\")","v":""},{"$f":"IF(Timesheet!P77>0,Timesheet!J77,\"\")","v":""},"",{"$f":"IFERROR(VLOOKUP(K77,IF(K77=3165,AL$2:AM$2,ESG!A$2:E$54),IF(K77=3165,2,5),0),0)","v":0},{"$f":"IF(Timesheet!R77>0,Timesheet!G77,\"\")","v":""},{"$f":"IF(Timesheet!R77>0,Timesheet!J77,\"\")","v":""},{"$f":"IFERROR(VLOOKUP(M77,ESG!M$2:N$13,2,FALSE),N77)","v":""},{"$f":"IFERROR(VLOOKUP(O77,IF(O77=3165,AL$2:AM$2,ESG!A$2:F$54),IF(O77=3165,2,6),0),0)","v":0},{"$f":"IF(Timesheet!T77>0,Timesheet!G77,\"\")","v":""},{"$f":"IF(Timesheet!T77>0,Timesheet!J77,\"\")","v":""},{"$f":"IFERROR(VLOOKUP(Q77,ESG!M$2:N$13,2,FALSE),R77)","v":""},{"$f":"IFERROR(VLOOKUP(S77,IF(S77=3165,AL$2:AM$2,ESG!A$2:G$54),IF(S77=3165,2,7),0),0)","v":0},{"$f":"IF(Timesheet!V77>0,Timesheet!G77,\"\")","v":""},{"$f":"IF(Timesheet!V77>0,Timesheet!J77,\"\")","v":""},{"$f":"IFERROR(VLOOKUP(U77,ESG!M$2:N$13,2,FALSE),V77)","v":""},{"$f":"IFERROR(VLOOKUP(W77,IF(W77=3165,AL$2:AM$2,ESG!A$2:H$54),IF(W77=3165,2,8),0),0)","v":0},{"$f":"IF(Timesheet!X77>0,Timesheet!G77,\"\")","v":""},{"$f":"IF(Timesheet!X77>0,Timesheet!J77,\"\")","v":""},"",{"$f":"IFERROR(VLOOKUP(AA77,IF(AA77=3165,AL$2:AM$2,ESG!A$2:I$54),IF(AA77=3165,2,9),0),0)","v":0},{"$f":"IF(Timesheet!Z77>0,Timesheet!G77,\"\")","v":""},{"$f":"IF(Timesheet!Z77>0,Timesheet!J77,\"\")","v":""},"",{"$f":"IFERROR(VLOOKUP(AE77,IF(AE77=3165,AL$2:AM$2,ESG!A$2:J$54),IF(AE77=3165,2,10),0),0)","v":0},{"$f":"IF(Timesheet!AB77>0,Timesheet!G77,\"\")","v":""},{"$f":"IF(Timesheet!AB77>0,Timesheet!J77,\"\")","v":""},"",{"$f":"IFERROR(VLOOKUP(AI77,IF(AI77=3165,AL$2:AM$2,ESG!A$2:K$54),IF(AI77=3165,2,11),0),0)","v":0}]
[{"$f":"IF(Timesheet!L78>0,Timesheet!G78,\"\")","v":""},{"$f":"IF(Timesheet!L78>0,Timesheet!J78,\"\")","v":""},"",{"$f":"IFERROR(VLOOKUP(C78,IF(C78=3165,AL$2:AM$2,ESG!A$2:C$54),IF(C78=3165,2,3),0),0)","v":0},{"$f":"IF(Timesheet!N78>0,Timesheet!G78,\"\")","v":""},{"$f":"IF(Timesheet!N78>0,Timesheet!J78,\"\")","v":""},"",{"$f":"IFERROR(VLOOKUP(G78,IF(G78=3165,AL$2:AM$2,ESG!A$2:D$54),IF(G78=3165,2,4),0),0)","v":0},{"$f":"IF(Timesheet!P78>0,Timesheet!G78,\"\")","v":""},{"$f":"IF(Timesheet!P78>0,Timesheet!J78,\"\")","v":""},"",{"$f":"IFERROR(VLOOKUP(K78,IF(K78=3165,AL$2:AM$2,ESG!A$2:E$54),IF(K78=3165,2,5),0),0)","v":0},{"$f":"IF(Timesheet!R78>0,Timesheet!G78,\"\")","v":""},{"$f":"IF(Timesheet!R78>0,Timesheet!J78,\"\")","v":""},{"$f":"IFERROR(VLOOKUP(M78,ESG!M$2:N$13,2,FALSE),N78)","v":""},{"$f":"IFERROR(VLOOKUP(O78,IF(O78=3165,AL$2:AM$2,ESG!A$2:F$54),IF(O78=3165,2,6),0),0)","v":0},{"$f":"IF(Timesheet!T78>0,Timesheet!G78,\"\")","v":""},{"$f":"IF(Timesheet!T78>0,Timesheet!J78,\"\")","v":""},{"$f":"IFERROR(VLOOKUP(Q78,ESG!M$2:N$13,2,FALSE),R78)","v":""},{"$f":"IFERROR(VLOOKUP(S78,IF(S78=3165,AL$2:AM$2,ESG!A$2:G$54),IF(S78=3165,2,7),0),0)","v":0},{"$f":"IF(Timesheet!V78>0,Timesheet!G78,\"\")","v":""},{"$f":"IF(Timesheet!V78>0,Timesheet!J78,\"\")","v":""},{"$f":"IFERROR(VLOOKUP(U78,ESG!M$2:N$13,2,FALSE),V78)","v":""},{"$f":"IFERROR(VLOOKUP(W78,IF(W78=3165,AL$2:AM$2,ESG!A$2:H$54),IF(W78=3165,2,8),0),0)","v":0},{"$f":"IF(Timesheet!X78>0,Timesheet!G78,\"\")","v":""},{"$f":"IF(Timesheet!X78>0,Timesheet!J78,\"\")","v":""},"",{"$f":"IFERROR(VLOOKUP(AA78,IF(AA78=3165,AL$2:AM$2,ESG!A$2:I$54),IF(AA78=3165,2,9),0),0)","v":0},{"$f":"IF(Timesheet!Z78>0,Timesheet!G78,\"\")","v":""},{"$f":"IF(Timesheet!Z78>0,Timesheet!J78,\"\")","v":""},"",{"$f":"IFERROR(VLOOKUP(AE78,IF(AE78=3165,AL$2:AM$2,ESG!A$2:J$54),IF(AE78=3165,2,10),0),0)","v":0},{"$f":"IF(Timesheet!AB78>0,Timesheet!G78,\"\")","v":""},{"$f":"IF(Timesheet!AB78>0,Timesheet!J78,\"\")","v":""},"",{"$f":"IFERROR(VLOOKUP(AI78,IF(AI78=3165,AL$2:AM$2,ESG!A$2:K$54),IF(AI78=3165,2,11),0),0)","v":0}]
[{"$f":"IF(Timesheet!L79>0,Timesheet!G79,\"\")","v":""},{"$f":"IF(Timesheet!L79>0,Timesheet!J79,\"\")","v":""},"",{"$f":"IFERROR(VLOOKUP(C79,IF(C79=3165,AL$2:AM$2,ESG!A$2:C$54),IF(C79=3165,2,3),0),0)","v":0},{"$f":"IF(Timesheet!N79>0,Timesheet!G79,\"\")","v":""},{"$f":"IF(Timesheet!N79>0,Timesheet!J79,\"\")","v":""},"",{"$f":"IFERROR(VLOOKUP(G79,IF(G79=3165,AL$2:AM$2,ESG!A$2:D$54),IF(G79=3165,2,4),0),0)","v":0},{"$f":"IF(Timesheet!P79>0,Timesheet!G79,\"\")","v":""},{"$f":"IF(Timesheet!P79>0,Timesheet!J79,\"\")","v":""},"",{"$f":"IFERROR(VLOOKUP(K79,IF(K79=3165,AL$2:AM$2,ESG!A$2:E$54),IF(K79=3165,2,5),0),0)","v":0},{"$f":"IF(Timesheet!R79>0,Timesheet!G79,\"\")","v":""},{"$f":"IF(Timesheet!R79>0,Timesheet!J79,\"\")","v":""},{"$f":"IFERROR(VLOOKUP(M79,ESG!M$2:N$13,2,FALSE),N79)","v":""},{"$f":"IFERROR(VLOOKUP(O79,IF(O79=3165,AL$2:AM$2,ESG!A$2:F$54),IF(O79=3165,2,6),0),0)","v":0},{"$f":"IF(Timesheet!T79>0,Timesheet!G79,\"\")","v":""},{"$f":"IF(Timesheet!T79>0,Timesheet!J79,\"\")","v":""},{"$f":"IFERROR(VLOOKUP(Q79,ESG!M$2:N$13,2,FALSE),R79)","v":""},{"$f":"IFERROR(VLOOKUP(S79,IF(S79=3165,AL$2:AM$2,ESG!A$2:G$54),IF(S79=3165,2,7),0),0)","v":0},{"$f":"IF(Timesheet!V79>0,Timesheet!G79,\"\")","v":""},{"$f":"IF(Timesheet!V79>0,Timesheet!J79,\"\")","v":""},{"$f":"IFERROR(VLOOKUP(U79,ESG!M$2:N$13,2,FALSE),V79)","v":""},{"$f":"IFERROR(VLOOKUP(W79,IF(W79=3165,AL$2:AM$2,ESG!A$2:H$54),IF(W79=3165,2,8),0),0)","v":0},{"$f":"IF(Timesheet!X79>0,Timesheet!G79,\"\")","v":""},{"$f":"IF(Timesheet!X79>0,Timesheet!J79,\"\")","v":""},"",{"$f":"IFERROR(VLOOKUP(AA79,IF(AA79=3165,AL$2:AM$2,ESG!A$2:I$54),IF(AA79=3165,2,9),0),0)","v":0},{"$f":"IF(Timesheet!Z79>0,Timesheet!G79,\"\")","v":""},{"$f":"IF(Timesheet!Z79>0,Timesheet!J79,\"\")","v":""},"",{"$f":"IFERROR(VLOOKUP(AE79,IF(AE79=3165,AL$2:AM$2,ESG!A$2:J$54),IF(AE79=3165,2,10),0),0)","v":0},{"$f":"IF(Timesheet!AB79>0,Timesheet!G79,\"\")","v":""},{"$f":"IF(Timesheet!AB79>0,Timesheet!J79,\"\")","v":""},"",{"$f":"IFERROR(VLOOKUP(AI79,IF(AI79=3165,AL$2:AM$2,ESG!A$2:K$54),IF(AI79=3165,2,11),0),0)","v":0}]
[{"$f":"IF(Timesheet!L80>0,Timesheet!G80,\"\")","v":""},{"$f":"IF(Timesheet!L80>0,Timesheet!J80,\"\")","v":""},"",{"$f":"IFERROR(VLOOKUP(C80,IF(C80=3165,AL$2:AM$2,ESG!A$2:C$54),IF(C80=3165,2,3),0),0)","v":0},{"$f":"IF(Timesheet!N80>0,Timesheet!G80,\"\")","v":""},{"$f":"IF(Timesheet!N80>0,Timesheet!J80,\"\")","v":""},"",{"$f":"IFERROR(VLOOKUP(G80,IF(G80=3165,AL$2:AM$2,ESG!A$2:D$54),IF(G80=3165,2,4),0),0)","v":0},{"$f":"IF(Timesheet!P80>0,Timesheet!G80,\"\")","v":""},{"$f":"IF(Timesheet!P80>0,Timesheet!J80,\"\")","v":""},"",{"$f":"IFERROR(VLOOKUP(K80,IF(K80=3165,AL$2:AM$2,ESG!A$2:E$54),IF(K80=3165,2,5),0),0)","v":0},{"$f":"IF(Timesheet!R80>0,Timesheet!G80,\"\")","v":""},{"$f":"IF(Timesheet!R80>0,Timesheet!J80,\"\")","v":""},{"$f":"IFERROR(VLOOKUP(M80,ESG!M$2:N$13,2,FALSE),N80)","v":""},{"$f":"IFERROR(VLOOKUP(O80,IF(O80=3165,AL$2:AM$2,ESG!A$2:F$54),IF(O80=3165,2,6),0),0)","v":0},{"$f":"IF(Timesheet!T80>0,Timesheet!G80,\"\")","v":""},{"$f":"IF(Timesheet!T80>0,Timesheet!J80,\"\")","v":""},{"$f":"IFERROR(VLOOKUP(Q80,ESG!M$2:N$13,2,FALSE),R80)","v":""},{"$f":"IFERROR(VLOOKUP(S80,IF(S80=3165,AL$2:AM$2,ESG!A$2:G$54),IF(S80=3165,2,7),0),0)","v":0},{"$f":"IF(Timesheet!V80>0,Timesheet!G80,\"\")","v":""},{"$f":"IF(Timesheet!V80>0,Timesheet!J80,\"\")","v":""},{"$f":"IFERROR(VLOOKUP(U80,ESG!M$2:N$13,2,FALSE),V80)","v":""},{"$f":"IFERROR(VLOOKUP(W80,IF(W80=3165,AL$2:AM$2,ESG!A$2:H$54),IF(W80=3165,2,8),0),0)","v":0},{"$f":"IF(Timesheet!X80>0,Timesheet!G80,\"\")","v":""},{"$f":"IF(Timesheet!X80>0,Timesheet!J80,\"\")","v":""},"",{"$f":"IFERROR(VLOOKUP(AA80,IF(AA80=3165,AL$2:AM$2,ESG!A$2:I$54),IF(AA80=3165,2,9),0),0)","v":0},{"$f":"IF(Timesheet!Z80>0,Timesheet!G80,\"\")","v":""},{"$f":"IF(Timesheet!Z80>0,Timesheet!J80,\"\")","v":""},"",{"$f":"IFERROR(VLOOKUP(AE80,IF(AE80=3165,AL$2:AM$2,ESG!A$2:J$54),IF(AE80=3165,2,10),0),0)","v":0},{"$f":"IF(Timesheet!AB80>0,Timesheet!G80,\"\")","v":""},{"$f":"IF(Timesheet!AB80>0,Timesheet!J80,\"\")","v":""},"",{"$f":"IFERROR(VLOOKUP(AI80,IF(AI80=3165,AL$2:AM$2,ESG!A$2:K$54),IF(AI80=3165,2,11),0),0)","v":0}]
[{"$f":"IF(Timesheet!L81>0,Timesheet!G81,\"\")","v":""},{"$f":"IF(Timesheet!L81>0,Timesheet!J81,\"\")","v":""},"",{"$f":"IFERROR(VLOOKUP(C81,IF(C81=3165,AL$2:AM$2,ESG!A$2:C$54),IF(C81=3165,2,3),0),0)","v":0},{"$f":"IF(Timesheet!N81>0,Timesheet!G81,\"\")","v":""},{"$f":"IF(Timesheet!N81>0,Timesheet!J81,\"\")","v":""},"",{"$f":"IFERROR(VLOOKUP(G81,IF(G81=3165,AL$2:AM$2,ESG!A$2:D$54),IF(G81=3165,2,4),0),0)","v":0},{"$f":"IF(Timesheet!P81>0,Timesheet!G81,\"\")","v":""},{"$f":"IF(Timesheet!P81>0,Timesheet!J81,\"\")","v":""},"",{"$f":"IFERROR(VLOOKUP(K81,IF(K81=3165,AL$2:AM$2,ESG!A$2:E$54),IF(K81=3165,2,5),0),0)","v":0},{"$f":"IF(Timesheet!R81>0,Timesheet!G81,\"\")","v":""},{"$f":"IF(Timesheet!R81>0,Timesheet!J81,\"\")","v":""},{"$f":"IFERROR(VLOOKUP(M81,ESG!M$2:N$13,2,FALSE),N81)","v":""},{"$f":"IFERROR(VLOOKUP(O81,IF(O81=3165,AL$2:AM$2,ESG!A$2:F$54),IF(O81=3165,2,6),0),0)","v":0},{"$f":"IF(Timesheet!T81>0,Timesheet!G81,\"\")","v":""},{"$f":"IF(Timesheet!T81>0,Timesheet!J81,\"\")","v":""},{"$f":"IFERROR(VLOOKUP(Q81,ESG!M$2:N$13,2,FALSE),R81)","v":""},{"$f":"IFERROR(VLOOKUP(S81,IF(S81=3165,AL$2:AM$2,ESG!A$2:G$54),IF(S81=3165,2,7),0),0)","v":0},{"$f":"IF(Timesheet!V81>0,Timesheet!G81,\"\")","v":""},{"$f":"IF(Timesheet!V81>0,Timesheet!J81,\"\")","v":""},{"$f":"IFERROR(VLOOKUP(U81,ESG!M$2:N$13,2,FALSE),V81)","v":""},{"$f":"IFERROR(VLOOKUP(W81,IF(W81=3165,AL$2:AM$2,ESG!A$2:H$54),IF(W81=3165,2,8),0),0)","v":0},{"$f":"IF(Timesheet!X81>0,Timesheet!G81,\"\")","v":""},{"$f":"IF(Timesheet!X81>0,Timesheet!J81,\"\")","v":""},"",{"$f":"IFERROR(VLOOKUP(AA81,IF(AA81=3165,AL$2:AM$2,ESG!A$2:I$54),IF(AA81=3165,2,9),0),0)","v":0},{"$f":"IF(Timesheet!Z81>0,Timesheet!G81,\"\")","v":""},{"$f":"IF(Timesheet!Z81>0,Timesheet!J81,\"\")","v":""},"",{"$f":"IFERROR(VLOOKUP(AE81,IF(AE81=3165,AL$2:AM$2,ESG!A$2:J$54),IF(AE81=3165,2,10),0),0)","v":0},{"$f":"IF(Timesheet!AB81>0,Timesheet!G81,\"\")","v":""},{"$f":"IF(Timesheet!AB81>0,Timesheet!J81,\"\")","v":""},"",{"$f":"IFERROR(VLOOKUP(AI81,IF(AI81=3165,AL$2:AM$2,ESG!A$2:K$54),IF(AI81=3165,2,11),0),0)","v":0}]
[{"$f":"IF(Timesheet!L82>0,Timesheet!G82,\"\")","v":""},{"$f":"IF(Timesheet!L82>0,Timesheet!J82,\"\")","v":""},"",{"$f":"IFERROR(VLOOKUP(C82,IF(C82=3165,AL$2:AM$2,ESG!A$2:C$54),IF(C82=3165,2,3),0),0)","v":0},{"$f":"IF(Timesheet!N82>0,Timesheet!G82,\"\")","v":""},{"$f":"IF(Timesheet!N82>0,Timesheet!J82,\"\")","v":""},"",{"$f":"IFERROR(VLOOKUP(G82,IF(G82=3165,AL$2:AM$2,ESG!A$2:D$54),IF(G82=3165,2,4),0),0)","v":0},{"$f":"IF(Timesheet!P82>0,Timesheet!G82,\"\")","v":""},{"$f":"IF(Timesheet!P82>0,Timesheet!J82,\"\")","v":""},"",{"$f":"IFERROR(VLOOKUP(K82,IF(K82=3165,AL$2:AM$2,ESG!A$2:E$54),IF(K82=3165,2,5),0),0)","v":0},{"$f":"IF(Timesheet!R82>0,Timesheet!G82,\"\")","v":""},{"$f":"IF(Timesheet!R82>0,Timesheet!J82,\"\")","v":""},{"$f":"IFERROR(VLOOKUP(M82,ESG!M$2:N$13,2,FALSE),N82)","v":""},{"$f":"IFERROR(VLOOKUP(O82,IF(O82=3165,AL$2:AM$2,ESG!A$2:F$54),IF(O82=3165,2,6),0),0)","v":0},{"$f":"IF(Timesheet!T82>0,Timesheet!G82,\"\")","v":""},{"$f":"IF(Timesheet!T82>0,Timesheet!J82,\"\")","v":""},{"$f":"IFERROR(VLOOKUP(Q82,ESG!M$2:N$13,2,FALSE),R82)","v":""},{"$f":"IFERROR(VLOOKUP(S82,IF(S82=3165,AL$2:AM$2,ESG!A$2:G$54),IF(S82=3165,2,7),0),0)","v":0},{"$f":"IF(Timesheet!V82>0,Timesheet!G82,\"\")","v":""},{"$f":"IF(Timesheet!V82>0,Timesheet!J82,\"\")","v":""},{"$f":"IFERROR(VLOOKUP(U82,ESG!M$2:N$13,2,FALSE),V82)","v":""},{"$f":"IFERROR(VLOOKUP(W82,IF(W82=3165,AL$2:AM$2,ESG!A$2:H$54),IF(W82=3165,2,8),0),0)","v":0},{"$f":"IF(Timesheet!X82>0,Timesheet!G82,\"\")","v":""},{"$f":"IF(Timesheet!X82>0,Timesheet!J82,\"\")","v":""},"",{"$f":"IFERROR(VLOOKUP(AA82,IF(AA82=3165,AL$2:AM$2,ESG!A$2:I$54),IF(AA82=3165,2,9),0),0)","v":0},{"$f":"IF(Timesheet!Z82>0,Timesheet!G82,\"\")","v":""},{"$f":"IF(Timesheet!Z82>0,Timesheet!J82,\"\")","v":""},"",{"$f":"IFERROR(VLOOKUP(AE82,IF(AE82=3165,AL$2:AM$2,ESG!A$2:J$54),IF(AE82=3165,2,10),0),0)","v":0},{"$f":"IF(Timesheet!AB82>0,Timesheet!G82,\"\")","v":""},{"$f":"IF(Timesheet!AB82>0,Timesheet!J82,\"\")","v":""},"",{"$f":"IFERROR(VLOOKUP(AI82,IF(AI82=3165,AL$2:AM$2,ESG!A$2:K$54),IF(AI82=3165,2,11),0),0)","v":0}]
[{"$f":"IF(Timesheet!L83>0,Timesheet!G83,\"\")","v":""},{"$f":"IF(Timesheet!L83>0,Timesheet!J83,\"\")","v":""},"",{"$f":"IFERROR(VLOOKUP(C83,IF(C83=3165,AL$2:AM$2,ESG!A$2:C$54),IF(C83=3165,2,3),0),0)","v":0},{"$f":"IF(Timesheet!N83>0,Timesheet!G83,\"\")","v":""},{"$f":"IF(Timesheet!N83>0,Timesheet!J83,\"\")","v":""},"",{"$f":"IFERROR(VLOOKUP(G83,IF(G83=3165,AL$2:AM$2,ESG!A$2:D$54),IF(G83=3165,2,4),0),0)","v":0},{"$f":"IF(Timesheet!P83>0,Timesheet!G83,\"\")","v":""},{"$f":"IF(Timesheet!P83>0,Timesheet!J83,\"\")","v":""},"",{"$f":"IFERROR(VLOOKUP(K83,IF(K83=3165,AL$2:AM$2,ESG!A$2:E$54),IF(K83=3165,2,5),0),0)","v":0},{"$f":"IF(Timesheet!R83>0,Timesheet!G83,\"\")","v":""},{"$f":"IF(Timesheet!R83>0,Timesheet!J83,\"\")","v":""},{"$f":"IFERROR(VLOOKUP(M83,ESG!M$2:N$13,2,FALSE),N83)","v":""},{"$f":"IFERROR(VLOOKUP(O83,IF(O83=3165,AL$2:AM$2,ESG!A$2:F$54),IF(O83=3165,2,6),0),0)","v":0},{"$f":"IF(Timesheet!T83>0,Timesheet!G83,\"\")","v":""},{"$f":"IF(Timesheet!T83>0,Timesheet!J83,\"\")","v":""},{"$f":"IFERROR(VLOOKUP(Q83,ESG!M$2:N$13,2,FALSE),R83)","v":""},{"$f":"IFERROR(VLOOKUP(S83,IF(S83=3165,AL$2:AM$2,ESG!A$2:G$54),IF(S83=3165,2,7),0),0)","v":0},{"$f":"IF(Timesheet!V83>0,Timesheet!G83,\"\")","v":""},{"$f":"IF(Timesheet!V83>0,Timesheet!J83,\"\")","v":""},{"$f":"IFERROR(VLOOKUP(U83,ESG!M$2:N$13,2,FALSE),V83)","v":""},{"$f":"IFERROR(VLOOKUP(W83,IF(W83=3165,AL$2:AM$2,ESG!A$2:H$54),IF(W83=3165,2,8),0),0)","v":0},{"$f":"IF(Timesheet!X83>0,Timesheet!G83,\"\")","v":""},{"$f":"IF(Timesheet!X83>0,Timesheet!J83,\"\")","v":""},"",{"$f":"IFERROR(VLOOKUP(AA83,IF(AA83=3165,AL$2:AM$2,ESG!A$2:I$54),IF(AA83=3165,2,9),0),0)","v":0},{"$f":"IF(Timesheet!Z83>0,Timesheet!G83,\"\")","v":""},{"$f":"IF(Timesheet!Z83>0,Timesheet!J83,\"\")","v":""},"",{"$f":"IFERROR(VLOOKUP(AE83,IF(AE83=3165,AL$2:AM$2,ESG!A$2:J$54),IF(AE83=3165,2,10),0),0)","v":0},{"$f":"IF(Timesheet!AB83>0,Timesheet!G83,\"\")","v":""},{"$f":"IF(Timesheet!AB83>0,Timesheet!J83,\"\")","v":""},"",{"$f":"IFERROR(VLOOKUP(AI83,IF(AI83=3165,AL$2:AM$2,ESG!A$2:K$54),IF(AI83=3165,2,11),0),0)","v":0}]
[{"$f":"IF(Timesheet!L84>0,Timesheet!G84,\"\")","v":""},{"$f":"IF(Timesheet!L84>0,Timesheet!J84,\"\")","v":""},"",{"$f":"IFERROR(VLOOKUP(C84,IF(C84=3165,AL$2:AM$2,ESG!A$2:C$54),IF(C84=3165,2,3),0),0)","v":0},{"$f":"IF(Timesheet!N84>0,Timesheet!G84,\"\")","v":""},{"$f":"IF(Timesheet!N84>0,Timesheet!J84,\"\")","v":""},"",{"$f":"IFERROR(VLOOKUP(G84,IF(G84=3165,AL$2:AM$2,ESG!A$2:D$54),IF(G84=3165,2,4),0),0)","v":0},{"$f":"IF(Timesheet!P84>0,Timesheet!G84,\"\")","v":""},{"$f":"IF(Timesheet!P84>0,Timesheet!J84,\"\")","v":""},"",{"$f":"IFERROR(VLOOKUP(K84,IF(K84=3165,AL$2:AM$2,ESG!A$2:E$54),IF(K84=3165,2,5),0),0)","v":0},{"$f":"IF(Timesheet!R84>0,Timesheet!G84,\"\")","v":""},{"$f":"IF(Timesheet!R84>0,Timesheet!J84,\"\")","v":""},{"$f":"IFERROR(VLOOKUP(M84,ESG!M$2:N$13,2,FALSE),N84)","v":""},{"$f":"IFERROR(VLOOKUP(O84,IF(O84=3165,AL$2:AM$2,ESG!A$2:F$54),IF(O84=3165,2,6),0),0)","v":0},{"$f":"IF(Timesheet!T84>0,Timesheet!G84,\"\")","v":""},{"$f":"IF(Timesheet!T84>0,Timesheet!J84,\"\")","v":""},{"$f":"IFERROR(VLOOKUP(Q84,ESG!M$2:N$13,2,FALSE),R84)","v":""},{"$f":"IFERROR(VLOOKUP(S84,IF(S84=3165,AL$2:AM$2,ESG!A$2:G$54),IF(S84=3165,2,7),0),0)","v":0},{"$f":"IF(Timesheet!V84>0,Timesheet!G84,\"\")","v":""},{"$f":"IF(Timesheet!V84>0,Timesheet!J84,\"\")","v":""},{"$f":"IFERROR(VLOOKUP(U84,ESG!M$2:N$13,2,FALSE),V84)","v":""},{"$f":"IFERROR(VLOOKUP(W84,IF(W84=3165,AL$2:AM$2,ESG!A$2:H$54),IF(W84=3165,2,8),0),0)","v":0},{"$f":"IF(Timesheet!X84>0,Timesheet!G84,\"\")","v":""},{"$f":"IF(Timesheet!X84>0,Timesheet!J84,\"\")","v":""},"",{"$f":"IFERROR(VLOOKUP(AA84,IF(AA84=3165,AL$2:AM$2,ESG!A$2:I$54),IF(AA84=3165,2,9),0),0)","v":0},{"$f":"IF(Timesheet!Z84>0,Timesheet!G84,\"\")","v":""},{"$f":"IF(Timesheet!Z84>0,Timesheet!J84,\"\")","v":""},"",{"$f":"IFERROR(VLOOKUP(AE84,IF(AE84=3165,AL$2:AM$2,ESG!A$2:J$54),IF(AE84=3165,2,10),0),0)","v":0},{"$f":"IF(Timesheet!AB84>0,Timesheet!G84,\"\")","v":""},{"$f":"IF(Timesheet!AB84>0,Timesheet!J84,\"\")","v":""},"",{"$f":"IFERROR(VLOOKUP(AI84,IF(AI84=3165,AL$2:AM$2,ESG!A$2:K$54),IF(AI84=3165,2,11),0),0)","v":0}]
[{"$f":"IF(Timesheet!L85>0,Timesheet!G85,\"\")","v":""},{"$f":"IF(Timesheet!L85>0,Timesheet!J85,\"\")","v":""},"",{"$f":"IFERROR(VLOOKUP(C85,IF(C85=3165,AL$2:AM$2,ESG!A$2:C$54),IF(C85=3165,2,3),0),0)","v":0},{"$f":"IF(Timesheet!N85>0,Timesheet!G85,\"\")","v":""},{"$f":"IF(Timesheet!N85>0,Timesheet!J85,\"\")","v":""},"",{"$f":"IFERROR(VLOOKUP(G85,IF(G85=3165,AL$2:AM$2,ESG!A$2:D$54),IF(G85=3165,2,4),0),0)","v":0},{"$f":"IF(Timesheet!P85>0,Timesheet!G85,\"\")","v":""},{"$f":"IF(Timesheet!P85>0,Timesheet!J85,\"\")","v":""},"",{"$f":"IFERROR(VLOOKUP(K85,IF(K85=3165,AL$2:AM$2,ESG!A$2:E$54),IF(K85=3165,2,5),0),0)","v":0},{"$f":"IF(Timesheet!R85>0,Timesheet!G85,\"\")","v":""},{"$f":"IF(Timesheet!R85>0,Timesheet!J85,\"\")","v":""},{"$f":"IFERROR(VLOOKUP(M85,ESG!M$2:N$13,2,FALSE),N85)","v":""},{"$f":"IFERROR(VLOOKUP(O85,IF(O85=3165,AL$2:AM$2,ESG!A$2:F$54),IF(O85=3165,2,6),0),0)","v":0},{"$f":"IF(Timesheet!T85>0,Timesheet!G85,\"\")","v":""},{"$f":"IF(Timesheet!T85>0,Timesheet!J85,\"\")","v":""},{"$f":"IFERROR(VLOOKUP(Q85,ESG!M$2:N$13,2,FALSE),R85)","v":""},{"$f":"IFERROR(VLOOKUP(S85,IF(S85=3165,AL$2:AM$2,ESG!A$2:G$54),IF(S85=3165,2,7),0),0)","v":0},{"$f":"IF(Timesheet!V85>0,Timesheet!G85,\"\")","v":""},{"$f":"IF(Timesheet!V85>0,Timesheet!J85,\"\")","v":""},{"$f":"IFERROR(VLOOKUP(U85,ESG!M$2:N$13,2,FALSE),V85)","v":""},{"$f":"IFERROR(VLOOKUP(W85,IF(W85=3165,AL$2:AM$2,ESG!A$2:H$54),IF(W85=3165,2,8),0),0)","v":0},{"$f":"IF(Timesheet!X85>0,Timesheet!G85,\"\")","v":""},{"$f":"IF(Timesheet!X85>0,Timesheet!J85,\"\")","v":""},"",{"$f":"IFERROR(VLOOKUP(AA85,IF(AA85=3165,AL$2:AM$2,ESG!A$2:I$54),IF(AA85=3165,2,9),0),0)","v":0},{"$f":"IF(Timesheet!Z85>0,Timesheet!G85,\"\")","v":""},{"$f":"IF(Timesheet!Z85>0,Timesheet!J85,\"\")","v":""},"",{"$f":"IFERROR(VLOOKUP(AE85,IF(AE85=3165,AL$2:AM$2,ESG!A$2:J$54),IF(AE85=3165,2,10),0),0)","v":0},{"$f":"IF(Timesheet!AB85>0,Timesheet!G85,\"\")","v":""},{"$f":"IF(Timesheet!AB85>0,Timesheet!J85,\"\")","v":""},"",{"$f":"IFERROR(VLOOKUP(AI85,IF(AI85=3165,AL$2:AM$2,ESG!A$2:K$54),IF(AI85=3165,2,11),0),0)","v":0}]
[{"$f":"IF(Timesheet!L86>0,Timesheet!G86,\"\")","v":""},{"$f":"IF(Timesheet!L86>0,Timesheet!J86,\"\")","v":""},"",{"$f":"IFERROR(VLOOKUP(C86,IF(C86=3165,AL$2:AM$2,ESG!A$2:C$54),IF(C86=3165,2,3),0),0)","v":0},{"$f":"IF(Timesheet!N86>0,Timesheet!G86,\"\")","v":""},{"$f":"IF(Timesheet!N86>0,Timesheet!J86,\"\")","v":""},"",{"$f":"IFERROR(VLOOKUP(G86,IF(G86=3165,AL$2:AM$2,ESG!A$2:D$54),IF(G86=3165,2,4),0),0)","v":0},{"$f":"IF(Timesheet!P86>0,Timesheet!G86,\"\")","v":""},{"$f":"IF(Timesheet!P86>0,Timesheet!J86,\"\")","v":""},"",{"$f":"IFERROR(VLOOKUP(K86,IF(K86=3165,AL$2:AM$2,ESG!A$2:E$54),IF(K86=3165,2,5),0),0)","v":0},{"$f":"IF(Timesheet!R86>0,Timesheet!G86,\"\")","v":""},{"$f":"IF(Timesheet!R86>0,Timesheet!J86,\"\")","v":""},{"$f":"IFERROR(VLOOKUP(M86,ESG!M$2:N$13,2,FALSE),N86)","v":""},{"$f":"IFERROR(VLOOKUP(O86,IF(O86=3165,AL$2:AM$2,ESG!A$2:F$54),IF(O86=3165,2,6),0),0)","v":0},{"$f":"IF(Timesheet!T86>0,Timesheet!G86,\"\")","v":""},{"$f":"IF(Timesheet!T86>0,Timesheet!J86,\"\")","v":""},{"$f":"IFERROR(VLOOKUP(Q86,ESG!M$2:N$13,2,FALSE),R86)","v":""},{"$f":"IFERROR(VLOOKUP(S86,IF(S86=3165,AL$2:AM$2,ESG!A$2:G$54),IF(S86=3165,2,7),0),0)","v":0},{"$f":"IF(Timesheet!V86>0,Timesheet!G86,\"\")","v":""},{"$f":"IF(Timesheet!V86>0,Timesheet!J86,\"\")","v":""},{"$f":"IFERROR(VLOOKUP(U86,ESG!M$2:N$13,2,FALSE),V86)","v":""},{"$f":"IFERROR(VLOOKUP(W86,IF(W86=3165,AL$2:AM$2,ESG!A$2:H$54),IF(W86=3165,2,8),0),0)","v":0},{"$f":"IF(Timesheet!X86>0,Timesheet!G86,\"\")","v":""},{"$f":"IF(Timesheet!X86>0,Timesheet!J86,\"\")","v":""},"",{"$f":"IFERROR(VLOOKUP(AA86,IF(AA86=3165,AL$2:AM$2,ESG!A$2:I$54),IF(AA86=3165,2,9),0),0)","v":0},{"$f":"IF(Timesheet!Z86>0,Timesheet!G86,\"\")","v":""},{"$f":"IF(Timesheet!Z86>0,Timesheet!J86,\"\")","v":""},"",{"$f":"IFERROR(VLOOKUP(AE86,IF(AE86=3165,AL$2:AM$2,ESG!A$2:J$54),IF(AE86=3165,2,10),0),0)","v":0},{"$f":"IF(Timesheet!AB86>0,Timesheet!G86,\"\")","v":""},{"$f":"IF(Timesheet!AB86>0,Timesheet!J86,\"\")","v":""},"",{"$f":"IFERROR(VLOOKUP(AI86,IF(AI86=3165,AL$2:AM$2,ESG!A$2:K$54),IF(AI86=3165,2,11),0),0)","v":0}]
[{"$f":"IF(Timesheet!L87>0,Timesheet!G87,\"\")","v":""},{"$f":"IF(Timesheet!L87>0,Timesheet!J87,\"\")","v":""},"",{"$f":"IFERROR(VLOOKUP(C87,IF(C87=3165,AL$2:AM$2,ESG!A$2:C$54),IF(C87=3165,2,3),0),0)","v":0},{"$f":"IF(Timesheet!N87>0,Timesheet!G87,\"\")","v":""},{"$f":"IF(Timesheet!N87>0,Timesheet!J87,\"\")","v":""},"",{"$f":"IFERROR(VLOOKUP(G87,IF(G87=3165,AL$2:AM$2,ESG!A$2:D$54),IF(G87=3165,2,4),0),0)","v":0},{"$f":"IF(Timesheet!P87>0,Timesheet!G87,\"\")","v":""},{"$f":"IF(Timesheet!P87>0,Timesheet!J87,\"\")","v":""},"",{"$f":"IFERROR(VLOOKUP(K87,IF(K87=3165,AL$2:AM$2,ESG!A$2:E$54),IF(K87=3165,2,5),0),0)","v":0},{"$f":"IF(Timesheet!R87>0,Timesheet!G87,\"\")","v":""},{"$f":"IF(Timesheet!R87>0,Timesheet!J87,\"\")","v":""},{"$f":"IFERROR(VLOOKUP(M87,ESG!M$2:N$13,2,FALSE),N87)","v":""},{"$f":"IFERROR(VLOOKUP(O87,IF(O87=3165,AL$2:AM$2,ESG!A$2:F$54),IF(O87=3165,2,6),0),0)","v":0},{"$f":"IF(Timesheet!T87>0,Timesheet!G87,\"\")","v":""},{"$f":"IF(Timesheet!T87>0,Timesheet!J87,\"\")","v":""},{"$f":"IFERROR(VLOOKUP(Q87,ESG!M$2:N$13,2,FALSE),R87)","v":""},{"$f":"IFERROR(VLOOKUP(S87,IF(S87=3165,AL$2:AM$2,ESG!A$2:G$54),IF(S87=3165,2,7),0),0)","v":0},{"$f":"IF(Timesheet!V87>0,Timesheet!G87,\"\")","v":""},{"$f":"IF(Timesheet!V87>0,Timesheet!J87,\"\")","v":""},{"$f":"IFERROR(VLOOKUP(U87,ESG!M$2:N$13,2,FALSE),V87)","v":""},{"$f":"IFERROR(VLOOKUP(W87,IF(W87=3165,AL$2:AM$2,ESG!A$2:H$54),IF(W87=3165,2,8),0),0)","v":0},{"$f":"IF(Timesheet!X87>0,Timesheet!G87,\"\")","v":""},{"$f":"IF(Timesheet!X87>0,Timesheet!J87,\"\")","v":""},"",{"$f":"IFERROR(VLOOKUP(AA87,IF(AA87=3165,AL$2:AM$2,ESG!A$2:I$54),IF(AA87=3165,2,9),0),0)","v":0},{"$f":"IF(Timesheet!Z87>0,Timesheet!G87,\"\")","v":""},{"$f":"IF(Timesheet!Z87>0,Timesheet!J87,\"\")","v":""},"",{"$f":"IFERROR(VLOOKUP(AE87,IF(AE87=3165,AL$2:AM$2,ESG!A$2:J$54),IF(AE87=3165,2,10),0),0)","v":0},{"$f":"IF(Timesheet!AB87>0,Timesheet!G87,\"\")","v":""},{"$f":"IF(Timesheet!AB87>0,Timesheet!J87,\"\")","v":""},"",{"$f":"IFERROR(VLOOKUP(AI87,IF(AI87=3165,AL$2:AM$2,ESG!A$2:K$54),IF(AI87=3165,2,11),0),0)","v":0}]
[{"$f":"IF(Timesheet!L88>0,Timesheet!G88,\"\")","v":""},{"$f":"IF(Timesheet!L88>0,Timesheet!J88,\"\")","v":""},"",{"$f":"IFERROR(VLOOKUP(C88,IF(C88=3165,AL$2:AM$2,ESG!A$2:C$54),IF(C88=3165,2,3),0),0)","v":0},{"$f":"IF(Timesheet!N88>0,Timesheet!G88,\"\")","v":""},{"$f":"IF(Timesheet!N88>0,Timesheet!J88,\"\")","v":""},"",{"$f":"IFERROR(VLOOKUP(G88,IF(G88=3165,AL$2:AM$2,ESG!A$2:D$54),IF(G88=3165,2,4),0),0)","v":0},{"$f":"IF(Timesheet!P88>0,Timesheet!G88,\"\")","v":""},{"$f":"IF(Timesheet!P88>0,Timesheet!J88,\"\")","v":""},"",{"$f":"IFERROR(VLOOKUP(K88,IF(K88=3165,AL$2:AM$2,ESG!A$2:E$54),IF(K88=3165,2,5),0),0)","v":0},{"$f":"IF(Timesheet!R88>0,Timesheet!G88,\"\")","v":""},{"$f":"IF(Timesheet!R88>0,Timesheet!J88,\"\")","v":""},{"$f":"IFERROR(VLOOKUP(M88,ESG!M$2:N$13,2,FALSE),N88)","v":""},{"$f":"IFERROR(VLOOKUP(O88,IF(O88=3165,AL$2:AM$2,ESG!A$2:F$54),IF(O88=3165,2,6),0),0)","v":0},{"$f":"IF(Timesheet!T88>0,Timesheet!G88,\"\")","v":""},{"$f":"IF(Timesheet!T88>0,Timesheet!J88,\"\")","v":""},{"$f":"IFERROR(VLOOKUP(Q88,ESG!M$2:N$13,2,FALSE),R88)","v":""},{"$f":"IFERROR(VLOOKUP(S88,IF(S88=3165,AL$2:AM$2,ESG!A$2:G$54),IF(S88=3165,2,7),0),0)","v":0},{"$f":"IF(Timesheet!V88>0,Timesheet!G88,\"\")","v":""},{"$f":"IF(Timesheet!V88>0,Timesheet!J88,\"\")","v":""},{"$f":"IFERROR(VLOOKUP(U88,ESG!M$2:N$13,2,FALSE),V88)","v":""},{"$f":"IFERROR(VLOOKUP(W88,IF(W88=3165,AL$2:AM$2,ESG!A$2:H$54),IF(W88=3165,2,8),0),0)","v":0},{"$f":"IF(Timesheet!X88>0,Timesheet!G88,\"\")","v":""},{"$f":"IF(Timesheet!X88>0,Timesheet!J88,\"\")","v":""},"",{"$f":"IFERROR(VLOOKUP(AA88,IF(AA88=3165,AL$2:AM$2,ESG!A$2:I$54),IF(AA88=3165,2,9),0),0)","v":0},{"$f":"IF(Timesheet!Z88>0,Timesheet!G88,\"\")","v":""},{"$f":"IF(Timesheet!Z88>0,Timesheet!J88,\"\")","v":""},"",{"$f":"IFERROR(VLOOKUP(AE88,IF(AE88=3165,AL$2:AM$2,ESG!A$2:J$54),IF(AE88=3165,2,10),0),0)","v":0},{"$f":"IF(Timesheet!AB88>0,Timesheet!G88,\"\")","v":""},{"$f":"IF(Timesheet!AB88>0,Timesheet!J88,\"\")","v":""},"",{"$f":"IFERROR(VLOOKUP(AI88,IF(AI88=3165,AL$2:AM$2,ESG!A$2:K$54),IF(AI88=3165,2,11),0),0)","v":0}]
[{"$f":"IF(Timesheet!L89>0,Timesheet!G89,\"\")","v":""},{"$f":"IF(Timesheet!L89>0,Timesheet!J89,\"\")","v":""},"",{"$f":"IFERROR(VLOOKUP(C89,IF(C89=3165,AL$2:AM$2,ESG!A$2:C$54),IF(C89=3165,2,3),0),0)","v":0},{"$f":"IF(Timesheet!N89>0,Timesheet!G89,\"\")","v":""},{"$f":"IF(Timesheet!N89>0,Timesheet!J89,\"\")","v":""},"",{"$f":"IFERROR(VLOOKUP(G89,IF(G89=3165,AL$2:AM$2,ESG!A$2:D$54),IF(G89=3165,2,4),0),0)","v":0},{"$f":"IF(Timesheet!P89>0,Timesheet!G89,\"\")","v":""},{"$f":"IF(Timesheet!P89>0,Timesheet!J89,\"\")","v":""},"",{"$f":"IFERROR(VLOOKUP(K89,IF(K89=3165,AL$2:AM$2,ESG!A$2:E$54),IF(K89=3165,2,5),0),0)","v":0},{"$f":"IF(Timesheet!R89>0,Timesheet!G89,\"\")","v":""},{"$f":"IF(Timesheet!R89>0,Timesheet!J89,\"\")","v":""},{"$f":"IFERROR(VLOOKUP(M89,ESG!M$2:N$13,2,FALSE),N89)","v":""},{"$f":"IFERROR(VLOOKUP(O89,IF(O89=3165,AL$2:AM$2,ESG!A$2:F$54),IF(O89=3165,2,6),0),0)","v":0},{"$f":"IF(Timesheet!T89>0,Timesheet!G89,\"\")","v":""},{"$f":"IF(Timesheet!T89>0,Timesheet!J89,\"\")","v":""},{"$f":"IFERROR(VLOOKUP(Q89,ESG!M$2:N$13,2,FALSE),R89)","v":""},{"$f":"IFERROR(VLOOKUP(S89,IF(S89=3165,AL$2:AM$2,ESG!A$2:G$54),IF(S89=3165,2,7),0),0)","v":0},{"$f":"IF(Timesheet!V89>0,Timesheet!G89,\"\")","v":""},{"$f":"IF(Timesheet!V89>0,Timesheet!J89,\"\")","v":""},{"$f":"IFERROR(VLOOKUP(U89,ESG!M$2:N$13,2,FALSE),V89)","v":""},{"$f":"IFERROR(VLOOKUP(W89,IF(W89=3165,AL$2:AM$2,ESG!A$2:H$54),IF(W89=3165,2,8),0),0)","v":0},{"$f":"IF(Timesheet!X89>0,Timesheet!G89,\"\")","v":""},{"$f":"IF(Timesheet!X89>0,Timesheet!J89,\"\")","v":""},"",{"$f":"IFERROR(VLOOKUP(AA89,IF(AA89=3165,AL$2:AM$2,ESG!A$2:I$54),IF(AA89=3165,2,9),0),0)","v":0},{"$f":"IF(Timesheet!Z89>0,Timesheet!G89,\"\")","v":""},{"$f":"IF(Timesheet!Z89>0,Timesheet!J89,\"\")","v":""},"",{"$f":"IFERROR(VLOOKUP(AE89,IF(AE89=3165,AL$2:AM$2,ESG!A$2:J$54),IF(AE89=3165,2,10),0),0)","v":0},{"$f":"IF(Timesheet!AB89>0,Timesheet!G89,\"\")","v":""},{"$f":"IF(Timesheet!AB89>0,Timesheet!J89,\"\")","v":""},"",{"$f":"IFERROR(VLOOKUP(AI89,IF(AI89=3165,AL$2:AM$2,ESG!A$2:K$54),IF(AI89=3165,2,11),0),0)","v":0}]
[{"$f":"IF(Timesheet!L90>0,Timesheet!G90,\"\")","v":""},{"$f":"IF(Timesheet!L90>0,Timesheet!J90,\"\")","v":""},"",{"$f":"IFERROR(VLOOKUP(C90,IF(C90=3165,AL$2:AM$2,ESG!A$2:C$54),IF(C90=3165,2,3),0),0)","v":0},{"$f":"IF(Timesheet!N90>0,Timesheet!G90,\"\")","v":""},{"$f":"IF(Timesheet!N90>0,Timesheet!J90,\"\")","v":""},"",{"$f":"IFERROR(VLOOKUP(G90,IF(G90=3165,AL$2:AM$2,ESG!A$2:D$54),IF(G90=3165,2,4),0),0)","v":0},{"$f":"IF(Timesheet!P90>0,Timesheet!G90,\"\")","v":""},{"$f":"IF(Timesheet!P90>0,Timesheet!J90,\"\")","v":""},"",{"$f":"IFERROR(VLOOKUP(K90,IF(K90=3165,AL$2:AM$2,ESG!A$2:E$54),IF(K90=3165,2,5),0),0)","v":0},{"$f":"IF(Timesheet!R90>0,Timesheet!G90,\"\")","v":""},{"$f":"IF(Timesheet!R90>0,Timesheet!J90,\"\")","v":""},{"$f":"IFERROR(VLOOKUP(M90,ESG!M$2:N$13,2,FALSE),N90)","v":""},{"$f":"IFERROR(VLOOKUP(O90,IF(O90=3165,AL$2:AM$2,ESG!A$2:F$54),IF(O90=3165,2,6),0),0)","v":0},{"$f":"IF(Timesheet!T90>0,Timesheet!G90,\"\")","v":""},{"$f":"IF(Timesheet!T90>0,Timesheet!J90,\"\")","v":""},{"$f":"IFERROR(VLOOKUP(Q90,ESG!M$2:N$13,2,FALSE),R90)","v":""},{"$f":"IFERROR(VLOOKUP(S90,IF(S90=3165,AL$2:AM$2,ESG!A$2:G$54),IF(S90=3165,2,7),0),0)","v":0},{"$f":"IF(Timesheet!V90>0,Timesheet!G90,\"\")","v":""},{"$f":"IF(Timesheet!V90>0,Timesheet!J90,\"\")","v":""},{"$f":"IFERROR(VLOOKUP(U90,ESG!M$2:N$13,2,FALSE),V90)","v":""},{"$f":"IFERROR(VLOOKUP(W90,IF(W90=3165,AL$2:AM$2,ESG!A$2:H$54),IF(W90=3165,2,8),0),0)","v":0},{"$f":"IF(Timesheet!X90>0,Timesheet!G90,\"\")","v":""},{"$f":"IF(Timesheet!X90>0,Timesheet!J90,\"\")","v":""},"",{"$f":"IFERROR(VLOOKUP(AA90,IF(AA90=3165,AL$2:AM$2,ESG!A$2:I$54),IF(AA90=3165,2,9),0),0)","v":0},{"$f":"IF(Timesheet!Z90>0,Timesheet!G90,\"\")","v":""},{"$f":"IF(Timesheet!Z90>0,Timesheet!J90,\"\")","v":""},"",{"$f":"IFERROR(VLOOKUP(AE90,IF(AE90=3165,AL$2:AM$2,ESG!A$2:J$54),IF(AE90=3165,2,10),0),0)","v":0},{"$f":"IF(Timesheet!AB90>0,Timesheet!G90,\"\")","v":""},{"$f":"IF(Timesheet!AB90>0,Timesheet!J90,\"\")","v":""},"",{"$f":"IFERROR(VLOOKUP(AI90,IF(AI90=3165,AL$2:AM$2,ESG!A$2:K$54),IF(AI90=3165,2,11),0),0)","v":0}]
[{"$f":"IF(Timesheet!L91>0,Timesheet!G91,\"\")","v":""},{"$f":"IF(Timesheet!L91>0,Timesheet!J91,\"\")","v":""},"",{"$f":"IFERROR(VLOOKUP(C91,IF(C91=3165,AL$2:AM$2,ESG!A$2:C$54),IF(C91=3165,2,3),0),0)","v":0},{"$f":"IF(Timesheet!N91>0,Timesheet!G91,\"\")","v":""},{"$f":"IF(Timesheet!N91>0,Timesheet!J91,\"\")","v":""},"",{"$f":"IFERROR(VLOOKUP(G91,IF(G91=3165,AL$2:AM$2,ESG!A$2:D$54),IF(G91=3165,2,4),0),0)","v":0},{"$f":"IF(Timesheet!P91>0,Timesheet!G91,\"\")","v":""},{"$f":"IF(Timesheet!P91>0,Timesheet!J91,\"\")","v":""},"",{"$f":"IFERROR(VLOOKUP(K91,IF(K91=3165,AL$2:AM$2,ESG!A$2:E$54),IF(K91=3165,2,5),0),0)","v":0},{"$f":"IF(Timesheet!R91>0,Timesheet!G91,\"\")","v":""},{"$f":"IF(Timesheet!R91>0,Timesheet!J91,\"\")","v":""},{"$f":"IFERROR(VLOOKUP(M91,ESG!M$2:N$13,2,FALSE),N91)","v":""},{"$f":"IFERROR(VLOOKUP(O91,IF(O91=3165,AL$2:AM$2,ESG!A$2:F$54),IF(O91=3165,2,6),0),0)","v":0},{"$f":"IF(Timesheet!T91>0,Timesheet!G91,\"\")","v":""},{"$f":"IF(Timesheet!T91>0,Timesheet!J91,\"\")","v":""},{"$f":"IFERROR(VLOOKUP(Q91,ESG!M$2:N$13,2,FALSE),R91)","v":""},{"$f":"IFERROR(VLOOKUP(S91,IF(S91=3165,AL$2:AM$2,ESG!A$2:G$54),IF(S91=3165,2,7),0),0)","v":0},{"$f":"IF(Timesheet!V91>0,Timesheet!G91,\"\")","v":""},{"$f":"IF(Timesheet!V91>0,Timesheet!J91,\"\")","v":""},{"$f":"IFERROR(VLOOKUP(U91,ESG!M$2:N$13,2,FALSE),V91)","v":""},{"$f":"IFERROR(VLOOKUP(W91,IF(W91=3165,AL$2:AM$2,ESG!A$2:H$54),IF(W91=3165,2,8),0),0)","v":0},{"$f":"IF(Timesheet!X91>0,Timesheet!G91,\"\")","v":""},{"$f":"IF(Timesheet!X91>0,Timesheet!J91,\"\")","v":""},"",{"$f":"IFERROR(VLOOKUP(AA91,IF(AA91=3165,AL$2:AM$2,ESG!A$2:I$54),IF(AA91=3165,2,9),0),0)","v":0},{"$f":"IF(Timesheet!Z91>0,Timesheet!G91,\"\")","v":""},{"$f":"IF(Timesheet!Z91>0,Timesheet!J91,\"\")","v":""},"",{"$f":"IFERROR(VLOOKUP(AE91,IF(AE91=3165,AL$2:AM$2,ESG!A$2:J$54),IF(AE91=3165,2,10),0),0)","v":0},{"$f":"IF(Timesheet!AB91>0,Timesheet!G91,\"\")","v":""},{"$f":"IF(Timesheet!AB91>0,Timesheet!J91,\"\")","v":""},"",{"$f":"IFERROR(VLOOKUP(AI91,IF(AI91=3165,AL$2:AM$2,ESG!A$2:K$54),IF(AI91=3165,2,11),0),0)","v":0}]
[{"$f":"IF(Timesheet!L92>0,Timesheet!G92,\"\")","v":""},{"$f":"IF(Timesheet!L92>0,Timesheet!J92,\"\")","v":""},"",{"$f":"IFERROR(VLOOKUP(C92,IF(C92=3165,AL$2:AM$2,ESG!A$2:C$54),IF(C92=3165,2,3),0),0)","v":0},{"$f":"IF(Timesheet!N92>0,Timesheet!G92,\"\")","v":""},{"$f":"IF(Timesheet!N92>0,Timesheet!J92,\"\")","v":""},"",{"$f":"IFERROR(VLOOKUP(G92,IF(G92=3165,AL$2:AM$2,ESG!A$2:D$54),IF(G92=3165,2,4),0),0)","v":0},{"$f":"IF(Timesheet!P92>0,Timesheet!G92,\"\")","v":""},{"$f":"IF(Timesheet!P92>0,Timesheet!J92,\"\")","v":""},"",{"$f":"IFERROR(VLOOKUP(K92,IF(K92=3165,AL$2:AM$2,ESG!A$2:E$54),IF(K92=3165,2,5),0),0)","v":0},{"$f":"IF(Timesheet!R92>0,Timesheet!G92,\"\")","v":""},{"$f":"IF(Timesheet!R92>0,Timesheet!J92,\"\")","v":""},{"$f":"IFERROR(VLOOKUP(M92,ESG!M$2:N$13,2,FALSE),N92)","v":""},{"$f":"IFERROR(VLOOKUP(O92,IF(O92=3165,AL$2:AM$2,ESG!A$2:F$54),IF(O92=3165,2,6),0),0)","v":0},{"$f":"IF(Timesheet!T92>0,Timesheet!G92,\"\")","v":""},{"$f":"IF(Timesheet!T92>0,Timesheet!J92,\"\")","v":""},{"$f":"IFERROR(VLOOKUP(Q92,ESG!M$2:N$13,2,FALSE),R92)","v":""},{"$f":"IFERROR(VLOOKUP(S92,IF(S92=3165,AL$2:AM$2,ESG!A$2:G$54),IF(S92=3165,2,7),0),0)","v":0},{"$f":"IF(Timesheet!V92>0,Timesheet!G92,\"\")","v":""},{"$f":"IF(Timesheet!V92>0,Timesheet!J92,\"\")","v":""},{"$f":"IFERROR(VLOOKUP(U92,ESG!M$2:N$13,2,FALSE),V92)","v":""},{"$f":"IFERROR(VLOOKUP(W92,IF(W92=3165,AL$2:AM$2,ESG!A$2:H$54),IF(W92=3165,2,8),0),0)","v":0},{"$f":"IF(Timesheet!X92>0,Timesheet!G92,\"\")","v":""},{"$f":"IF(Timesheet!X92>0,Timesheet!J92,\"\")","v":""},"",{"$f":"IFERROR(VLOOKUP(AA92,IF(AA92=3165,AL$2:AM$2,ESG!A$2:I$54),IF(AA92=3165,2,9),0),0)","v":0},{"$f":"IF(Timesheet!Z92>0,Timesheet!G92,\"\")","v":""},{"$f":"IF(Timesheet!Z92>0,Timesheet!J92,\"\")","v":""},"",{"$f":"IFERROR(VLOOKUP(AE92,IF(AE92=3165,AL$2:AM$2,ESG!A$2:J$54),IF(AE92=3165,2,10),0),0)","v":0},{"$f":"IF(Timesheet!AB92>0,Timesheet!G92,\"\")","v":""},{"$f":"IF(Timesheet!AB92>0,Timesheet!J92,\"\")","v":""},"",{"$f":"IFERROR(VLOOKUP(AI92,IF(AI92=3165,AL$2:AM$2,ESG!A$2:K$54),IF(AI92=3165,2,11),0),0)","v":0}]
[{"$f":"IF(Timesheet!L93>0,Timesheet!G93,\"\")","v":""},{"$f":"IF(Timesheet!L93>0,Timesheet!J93,\"\")","v":""},"",{"$f":"IFERROR(VLOOKUP(C93,IF(C93=3165,AL$2:AM$2,ESG!A$2:C$54),IF(C93=3165,2,3),0),0)","v":0},{"$f":"IF(Timesheet!N93>0,Timesheet!G93,\"\")","v":""},{"$f":"IF(Timesheet!N93>0,Timesheet!J93,\"\")","v":""},"",{"$f":"IFERROR(VLOOKUP(G93,IF(G93=3165,AL$2:AM$2,ESG!A$2:D$54),IF(G93=3165,2,4),0),0)","v":0},{"$f":"IF(Timesheet!P93>0,Timesheet!G93,\"\")","v":""},{"$f":"IF(Timesheet!P93>0,Timesheet!J93,\"\")","v":""},"",{"$f":"IFERROR(VLOOKUP(K93,IF(K93=3165,AL$2:AM$2,ESG!A$2:E$54),IF(K93=3165,2,5),0),0)","v":0},{"$f":"IF(Timesheet!R93>0,Timesheet!G93,\"\")","v":""},{"$f":"IF(Timesheet!R93>0,Timesheet!J93,\"\")","v":""},{"$f":"IFERROR(VLOOKUP(M93,ESG!M$2:N$13,2,FALSE),N93)","v":""},{"$f":"IFERROR(VLOOKUP(O93,IF(O93=3165,AL$2:AM$2,ESG!A$2:F$54),IF(O93=3165,2,6),0),0)","v":0},{"$f":"IF(Timesheet!T93>0,Timesheet!G93,\"\")","v":""},{"$f":"IF(Timesheet!T93>0,Timesheet!J93,\"\")","v":""},{"$f":"IFERROR(VLOOKUP(Q93,ESG!M$2:N$13,2,FALSE),R93)","v":""},{"$f":"IFERROR(VLOOKUP(S93,IF(S93=3165,AL$2:AM$2,ESG!A$2:G$54),IF(S93=3165,2,7),0),0)","v":0},{"$f":"IF(Timesheet!V93>0,Timesheet!G93,\"\")","v":""},{"$f":"IF(Timesheet!V93>0,Timesheet!J93,\"\")","v":""},{"$f":"IFERROR(VLOOKUP(U93,ESG!M$2:N$13,2,FALSE),V93)","v":""},{"$f":"IFERROR(VLOOKUP(W93,IF(W93=3165,AL$2:AM$2,ESG!A$2:H$54),IF(W93=3165,2,8),0),0)","v":0},{"$f":"IF(Timesheet!X93>0,Timesheet!G93,\"\")","v":""},{"$f":"IF(Timesheet!X93>0,Timesheet!J93,\"\")","v":""},"",{"$f":"IFERROR(VLOOKUP(AA93,IF(AA93=3165,AL$2:AM$2,ESG!A$2:I$54),IF(AA93=3165,2,9),0),0)","v":0},{"$f":"IF(Timesheet!Z93>0,Timesheet!G93,\"\")","v":""},{"$f":"IF(Timesheet!Z93>0,Timesheet!J93,\"\")","v":""},"",{"$f":"IFERROR(VLOOKUP(AE93,IF(AE93=3165,AL$2:AM$2,ESG!A$2:J$54),IF(AE93=3165,2,10),0),0)","v":0},{"$f":"IF(Timesheet!AB93>0,Timesheet!G93,\"\")","v":""},{"$f":"IF(Timesheet!AB93>0,Timesheet!J93,\"\")","v":""},"",{"$f":"IFERROR(VLOOKUP(AI93,IF(AI93=3165,AL$2:AM$2,ESG!A$2:K$54),IF(AI93=3165,2,11),0),0)","v":0}]
[{"$f":"IF(Timesheet!L94>0,Timesheet!G94,\"\")","v":""},{"$f":"IF(Timesheet!L94>0,Timesheet!J94,\"\")","v":""},"",{"$f":"IFERROR(VLOOKUP(C94,IF(C94=3165,AL$2:AM$2,ESG!A$2:C$54),IF(C94=3165,2,3),0),0)","v":0},{"$f":"IF(Timesheet!N94>0,Timesheet!G94,\"\")","v":""},{"$f":"IF(Timesheet!N94>0,Timesheet!J94,\"\")","v":""},"",{"$f":"IFERROR(VLOOKUP(G94,IF(G94=3165,AL$2:AM$2,ESG!A$2:D$54),IF(G94=3165,2,4),0),0)","v":0},{"$f":"IF(Timesheet!P94>0,Timesheet!G94,\"\")","v":""},{"$f":"IF(Timesheet!P94>0,Timesheet!J94,\"\")","v":""},"",{"$f":"IFERROR(VLOOKUP(K94,IF(K94=3165,AL$2:AM$2,ESG!A$2:E$54),IF(K94=3165,2,5),0),0)","v":0},{"$f":"IF(Timesheet!R94>0,Timesheet!G94,\"\")","v":""},{"$f":"IF(Timesheet!R94>0,Timesheet!J94,\"\")","v":""},{"$f":"IFERROR(VLOOKUP(M94,ESG!M$2:N$13,2,FALSE),N94)","v":""},{"$f":"IFERROR(VLOOKUP(O94,IF(O94=3165,AL$2:AM$2,ESG!A$2:F$54),IF(O94=3165,2,6),0),0)","v":0},{"$f":"IF(Timesheet!T94>0,Timesheet!G94,\"\")","v":""},{"$f":"IF(Timesheet!T94>0,Timesheet!J94,\"\")","v":""},{"$f":"IFERROR(VLOOKUP(Q94,ESG!M$2:N$13,2,FALSE),R94)","v":""},{"$f":"IFERROR(VLOOKUP(S94,IF(S94=3165,AL$2:AM$2,ESG!A$2:G$54),IF(S94=3165,2,7),0),0)","v":0},{"$f":"IF(Timesheet!V94>0,Timesheet!G94,\"\")","v":""},{"$f":"IF(Timesheet!V94>0,Timesheet!J94,\"\")","v":""},{"$f":"IFERROR(VLOOKUP(U94,ESG!M$2:N$13,2,FALSE),V94)","v":""},{"$f":"IFERROR(VLOOKUP(W94,IF(W94=3165,AL$2:AM$2,ESG!A$2:H$54),IF(W94=3165,2,8),0),0)","v":0},{"$f":"IF(Timesheet!X94>0,Timesheet!G94,\"\")","v":""},{"$f":"IF(Timesheet!X94>0,Timesheet!J94,\"\")","v":""},"",{"$f":"IFERROR(VLOOKUP(AA94,IF(AA94=3165,AL$2:AM$2,ESG!A$2:I$54),IF(AA94=3165,2,9),0),0)","v":0},{"$f":"IF(Timesheet!Z94>0,Timesheet!G94,\"\")","v":""},{"$f":"IF(Timesheet!Z94>0,Timesheet!J94,\"\")","v":""},"",{"$f":"IFERROR(VLOOKUP(AE94,IF(AE94=3165,AL$2:AM$2,ESG!A$2:J$54),IF(AE94=3165,2,10),0),0)","v":0},{"$f":"IF(Timesheet!AB94>0,Timesheet!G94,\"\")","v":""},{"$f":"IF(Timesheet!AB94>0,Timesheet!J94,\"\")","v":""},"",{"$f":"IFERROR(VLOOKUP(AI94,IF(AI94=3165,AL$2:AM$2,ESG!A$2:K$54),IF(AI94=3165,2,11),0),0)","v":0}]
[{"$f":"IF(Timesheet!L95>0,Timesheet!G95,\"\")","v":""},{"$f":"IF(Timesheet!L95>0,Timesheet!J95,\"\")","v":""},"",{"$f":"IFERROR(VLOOKUP(C95,IF(C95=3165,AL$2:AM$2,ESG!A$2:C$54),IF(C95=3165,2,3),0),0)","v":0},{"$f":"IF(Timesheet!N95>0,Timesheet!G95,\"\")","v":""},{"$f":"IF(Timesheet!N95>0,Timesheet!J95,\"\")","v":""},"",{"$f":"IFERROR(VLOOKUP(G95,IF(G95=3165,AL$2:AM$2,ESG!A$2:D$54),IF(G95=3165,2,4),0),0)","v":0},{"$f":"IF(Timesheet!P95>0,Timesheet!G95,\"\")","v":""},{"$f":"IF(Timesheet!P95>0,Timesheet!J95,\"\")","v":""},"",{"$f":"IFERROR(VLOOKUP(K95,IF(K95=3165,AL$2:AM$2,ESG!A$2:E$54),IF(K95=3165,2,5),0),0)","v":0},{"$f":"IF(Timesheet!R95>0,Timesheet!G95,\"\")","v":""},{"$f":"IF(Timesheet!R95>0,Timesheet!J95,\"\")","v":""},{"$f":"IFERROR(VLOOKUP(M95,ESG!M$2:N$13,2,FALSE),N95)","v":""},{"$f":"IFERROR(VLOOKUP(O95,IF(O95=3165,AL$2:AM$2,ESG!A$2:F$54),IF(O95=3165,2,6),0),0)","v":0},{"$f":"IF(Timesheet!T95>0,Timesheet!G95,\"\")","v":""},{"$f":"IF(Timesheet!T95>0,Timesheet!J95,\"\")","v":""},{"$f":"IFERROR(VLOOKUP(Q95,ESG!M$2:N$13,2,FALSE),R95)","v":""},{"$f":"IFERROR(VLOOKUP(S95,IF(S95=3165,AL$2:AM$2,ESG!A$2:G$54),IF(S95=3165,2,7),0),0)","v":0},{"$f":"IF(Timesheet!V95>0,Timesheet!G95,\"\")","v":""},{"$f":"IF(Timesheet!V95>0,Timesheet!J95,\"\")","v":""},{"$f":"IFERROR(VLOOKUP(U95,ESG!M$2:N$13,2,FALSE),V95)","v":""},{"$f":"IFERROR(VLOOKUP(W95,IF(W95=3165,AL$2:AM$2,ESG!A$2:H$54),IF(W95=3165,2,8),0),0)","v":0},{"$f":"IF(Timesheet!X95>0,Timesheet!G95,\"\")","v":""},{"$f":"IF(Timesheet!X95>0,Timesheet!J95,\"\")","v":""},"",{"$f":"IFERROR(VLOOKUP(AA95,IF(AA95=3165,AL$2:AM$2,ESG!A$2:I$54),IF(AA95=3165,2,9),0),0)","v":0},{"$f":"IF(Timesheet!Z95>0,Timesheet!G95,\"\")","v":""},{"$f":"IF(Timesheet!Z95>0,Timesheet!J95,\"\")","v":""},"",{"$f":"IFERROR(VLOOKUP(AE95,IF(AE95=3165,AL$2:AM$2,ESG!A$2:J$54),IF(AE95=3165,2,10),0),0)","v":0},{"$f":"IF(Timesheet!AB95>0,Timesheet!G95,\"\")","v":""},{"$f":"IF(Timesheet!AB95>0,Timesheet!J95,\"\")","v":""},"",{"$f":"IFERROR(VLOOKUP(AI95,IF(AI95=3165,AL$2:AM$2,ESG!A$2:K$54),IF(AI95=3165,2,11),0),0)","v":0}]
[{"$f":"IF(Timesheet!L96>0,Timesheet!G96,\"\")","v":""},{"$f":"IF(Timesheet!L96>0,Timesheet!J96,\"\")","v":""},"",{"$f":"IFERROR(VLOOKUP(C96,IF(C96=3165,AL$2:AM$2,ESG!A$2:C$54),IF(C96=3165,2,3),0),0)","v":0},{"$f":"IF(Timesheet!N96>0,Timesheet!G96,\"\")","v":""},{"$f":"IF(Timesheet!N96>0,Timesheet!J96,\"\")","v":""},"",{"$f":"IFERROR(VLOOKUP(G96,IF(G96=3165,AL$2:AM$2,ESG!A$2:D$54),IF(G96=3165,2,4),0),0)","v":0},{"$f":"IF(Timesheet!P96>0,Timesheet!G96,\"\")","v":""},{"$f":"IF(Timesheet!P96>0,Timesheet!J96,\"\")","v":""},"",{"$f":"IFERROR(VLOOKUP(K96,IF(K96=3165,AL$2:AM$2,ESG!A$2:E$54),IF(K96=3165,2,5),0),0)","v":0},{"$f":"IF(Timesheet!R96>0,Timesheet!G96,\"\")","v":""},{"$f":"IF(Timesheet!R96>0,Timesheet!J96,\"\")","v":""},{"$f":"IFERROR(VLOOKUP(M96,ESG!M$2:N$13,2,FALSE),N96)","v":""},{"$f":"IFERROR(VLOOKUP(O96,IF(O96=3165,AL$2:AM$2,ESG!A$2:F$54),IF(O96=3165,2,6),0),0)","v":0},{"$f":"IF(Timesheet!T96>0,Timesheet!G96,\"\")","v":""},{"$f":"IF(Timesheet!T96>0,Timesheet!J96,\"\")","v":""},{"$f":"IFERROR(VLOOKUP(Q96,ESG!M$2:N$13,2,FALSE),R96)","v":""},{"$f":"IFERROR(VLOOKUP(S96,IF(S96=3165,AL$2:AM$2,ESG!A$2:G$54),IF(S96=3165,2,7),0),0)","v":0},{"$f":"IF(Timesheet!V96>0,Timesheet!G96,\"\")","v":""},{"$f":"IF(Timesheet!V96>0,Timesheet!J96,\"\")","v":""},{"$f":"IFERROR(VLOOKUP(U96,ESG!M$2:N$13,2,FALSE),V96)","v":""},{"$f":"IFERROR(VLOOKUP(W96,IF(W96=3165,AL$2:AM$2,ESG!A$2:H$54),IF(W96=3165,2,8),0),0)","v":0},{"$f":"IF(Timesheet!X96>0,Timesheet!G96,\"\")","v":""},{"$f":"IF(Timesheet!X96>0,Timesheet!J96,\"\")","v":""},"",{"$f":"IFERROR(VLOOKUP(AA96,IF(AA96=3165,AL$2:AM$2,ESG!A$2:I$54),IF(AA96=3165,2,9),0),0)","v":0},{"$f":"IF(Timesheet!Z96>0,Timesheet!G96,\"\")","v":""},{"$f":"IF(Timesheet!Z96>0,Timesheet!J96,\"\")","v":""},"",{"$f":"IFERROR(VLOOKUP(AE96,IF(AE96=3165,AL$2:AM$2,ESG!A$2:J$54),IF(AE96=3165,2,10),0),0)","v":0},{"$f":"IF(Timesheet!AB96>0,Timesheet!G96,\"\")","v":""},{"$f":"IF(Timesheet!AB96>0,Timesheet!J96,\"\")","v":""},"",{"$f":"IFERROR(VLOOKUP(AI96,IF(AI96=3165,AL$2:AM$2,ESG!A$2:K$54),IF(AI96=3165,2,11),0),0)","v":0}]
[{"$f":"IF(Timesheet!L97>0,Timesheet!G97,\"\")","v":""},{"$f":"IF(Timesheet!L97>0,Timesheet!J97,\"\")","v":""},"",{"$f":"IFERROR(VLOOKUP(C97,IF(C97=3165,AL$2:AM$2,ESG!A$2:C$54),IF(C97=3165,2,3),0),0)","v":0},{"$f":"IF(Timesheet!N97>0,Timesheet!G97,\"\")","v":""},{"$f":"IF(Timesheet!N97>0,Timesheet!J97,\"\")","v":""},"",{"$f":"IFERROR(VLOOKUP(G97,IF(G97=3165,AL$2:AM$2,ESG!A$2:D$54),IF(G97=3165,2,4),0),0)","v":0},{"$f":"IF(Timesheet!P97>0,Timesheet!G97,\"\")","v":""},{"$f":"IF(Timesheet!P97>0,Timesheet!J97,\"\")","v":""},"",{"$f":"IFERROR(VLOOKUP(K97,IF(K97=3165,AL$2:AM$2,ESG!A$2:E$54),IF(K97=3165,2,5),0),0)","v":0},{"$f":"IF(Timesheet!R97>0,Timesheet!G97,\"\")","v":""},{"$f":"IF(Timesheet!R97>0,Timesheet!J97,\"\")","v":""},{"$f":"IFERROR(VLOOKUP(M97,ESG!M$2:N$13,2,FALSE),N97)","v":""},{"$f":"IFERROR(VLOOKUP(O97,IF(O97=3165,AL$2:AM$2,ESG!A$2:F$54),IF(O97=3165,2,6),0),0)","v":0},{"$f":"IF(Timesheet!T97>0,Timesheet!G97,\"\")","v":""},{"$f":"IF(Timesheet!T97>0,Timesheet!J97,\"\")","v":""},{"$f":"IFERROR(VLOOKUP(Q97,ESG!M$2:N$13,2,FALSE),R97)","v":""},{"$f":"IFERROR(VLOOKUP(S97,IF(S97=3165,AL$2:AM$2,ESG!A$2:G$54),IF(S97=3165,2,7),0),0)","v":0},{"$f":"IF(Timesheet!V97>0,Timesheet!G97,\"\")","v":""},{"$f":"IF(Timesheet!V97>0,Timesheet!J97,\"\")","v":""},{"$f":"IFERROR(VLOOKUP(U97,ESG!M$2:N$13,2,FALSE),V97)","v":""},{"$f":"IFERROR(VLOOKUP(W97,IF(W97=3165,AL$2:AM$2,ESG!A$2:H$54),IF(W97=3165,2,8),0),0)","v":0},{"$f":"IF(Timesheet!X97>0,Timesheet!G97,\"\")","v":""},{"$f":"IF(Timesheet!X97>0,Timesheet!J97,\"\")","v":""},"",{"$f":"IFERROR(VLOOKUP(AA97,IF(AA97=3165,AL$2:AM$2,ESG!A$2:I$54),IF(AA97=3165,2,9),0),0)","v":0},{"$f":"IF(Timesheet!Z97>0,Timesheet!G97,\"\")","v":""},{"$f":"IF(Timesheet!Z97>0,Timesheet!J97,\"\")","v":""},"",{"$f":"IFERROR(VLOOKUP(AE97,IF(AE97=3165,AL$2:AM$2,ESG!A$2:J$54),IF(AE97=3165,2,10),0),0)","v":0},{"$f":"IF(Timesheet!AB97>0,Timesheet!G97,\"\")","v":""},{"$f":"IF(Timesheet!AB97>0,Timesheet!J97,\"\")","v":""},"",{"$f":"IFERROR(VLOOKUP(AI97,IF(AI97=3165,AL$2:AM$2,ESG!A$2:K$54),IF(AI97=3165,2,11),0),0)","v":0}]
[{"$f":"IF(Timesheet!L98>0,Timesheet!G98,\"\")","v":""},{"$f":"IF(Timesheet!L98>0,Timesheet!J98,\"\")","v":""},"",{"$f":"IFERROR(VLOOKUP(C98,IF(C98=3165,AL$2:AM$2,ESG!A$2:C$54),IF(C98=3165,2,3),0),0)","v":0},{"$f":"IF(Timesheet!N98>0,Timesheet!G98,\"\")","v":""},{"$f":"IF(Timesheet!N98>0,Timesheet!J98,\"\")","v":""},"",{"$f":"IFERROR(VLOOKUP(G98,IF(G98=3165,AL$2:AM$2,ESG!A$2:D$54),IF(G98=3165,2,4),0),0)","v":0},{"$f":"IF(Timesheet!P98>0,Timesheet!G98,\"\")","v":""},{"$f":"IF(Timesheet!P98>0,Timesheet!J98,\"\")","v":""},"",{"$f":"IFERROR(VLOOKUP(K98,IF(K98=3165,AL$2:AM$2,ESG!A$2:E$54),IF(K98=3165,2,5),0),0)","v":0},{"$f":"IF(Timesheet!R98>0,Timesheet!G98,\"\")","v":""},{"$f":"IF(Timesheet!R98>0,Timesheet!J98,\"\")","v":""},{"$f":"IFERROR(VLOOKUP(M98,ESG!M$2:N$13,2,FALSE),N98)","v":""},{"$f":"IFERROR(VLOOKUP(O98,IF(O98=3165,AL$2:AM$2,ESG!A$2:F$54),IF(O98=3165,2,6),0),0)","v":0},{"$f":"IF(Timesheet!T98>0,Timesheet!G98,\"\")","v":""},{"$f":"IF(Timesheet!T98>0,Timesheet!J98,\"\")","v":""},{"$f":"IFERROR(VLOOKUP(Q98,ESG!M$2:N$13,2,FALSE),R98)","v":""},{"$f":"IFERROR(VLOOKUP(S98,IF(S98=3165,AL$2:AM$2,ESG!A$2:G$54),IF(S98=3165,2,7),0),0)","v":0},{"$f":"IF(Timesheet!V98>0,Timesheet!G98,\"\")","v":""},{"$f":"IF(Timesheet!V98>0,Timesheet!J98,\"\")","v":""},{"$f":"IFERROR(VLOOKUP(U98,ESG!M$2:N$13,2,FALSE),V98)","v":""},{"$f":"IFERROR(VLOOKUP(W98,IF(W98=3165,AL$2:AM$2,ESG!A$2:H$54),IF(W98=3165,2,8),0),0)","v":0},{"$f":"IF(Timesheet!X98>0,Timesheet!G98,\"\")","v":""},{"$f":"IF(Timesheet!X98>0,Timesheet!J98,\"\")","v":""},"",{"$f":"IFERROR(VLOOKUP(AA98,IF(AA98=3165,AL$2:AM$2,ESG!A$2:I$54),IF(AA98=3165,2,9),0),0)","v":0},{"$f":"IF(Timesheet!Z98>0,Timesheet!G98,\"\")","v":""},{"$f":"IF(Timesheet!Z98>0,Timesheet!J98,\"\")","v":""},"",{"$f":"IFERROR(VLOOKUP(AE98,IF(AE98=3165,AL$2:AM$2,ESG!A$2:J$54),IF(AE98=3165,2,10),0),0)","v":0},{"$f":"IF(Timesheet!AB98>0,Timesheet!G98,\"\")","v":""},{"$f":"IF(Timesheet!AB98>0,Timesheet!J98,\"\")","v":""},"",{"$f":"IFERROR(VLOOKUP(AI98,IF(AI98=3165,AL$2:AM$2,ESG!A$2:K$54),IF(AI98=3165,2,11),0),0)","v":0}]
[{"$f":"IF(Timesheet!L99>0,Timesheet!G99,\"\")","v":""},{"$f":"IF(Timesheet!L99>0,Timesheet!J99,\"\")","v":""},"",{"$f":"IFERROR(VLOOKUP(C99,IF(C99=3165,AL$2:AM$2,ESG!A$2:C$54),IF(C99=3165,2,3),0),0)","v":0},{"$f":"IF(Timesheet!N99>0,Timesheet!G99,\"\")","v":""},{"$f":"IF(Timesheet!N99>0,Timesheet!J99,\"\")","v":""},"",{"$f":"IFERROR(VLOOKUP(G99,IF(G99=3165,AL$2:AM$2,ESG!A$2:D$54),IF(G99=3165,2,4),0),0)","v":0},{"$f":"IF(Timesheet!P99>0,Timesheet!G99,\"\")","v":""},{"$f":"IF(Timesheet!P99>0,Timesheet!J99,\"\")","v":""},"",{"$f":"IFERROR(VLOOKUP(K99,IF(K99=3165,AL$2:AM$2,ESG!A$2:E$54),IF(K99=3165,2,5),0),0)","v":0},{"$f":"IF(Timesheet!R99>0,Timesheet!G99,\"\")","v":""},{"$f":"IF(Timesheet!R99>0,Timesheet!J99,\"\")","v":""},{"$f":"IFERROR(VLOOKUP(M99,ESG!M$2:N$13,2,FALSE),N99)","v":""},{"$f":"IFERROR(VLOOKUP(O99,IF(O99=3165,AL$2:AM$2,ESG!A$2:F$54),IF(O99=3165,2,6),0),0)","v":0},{"$f":"IF(Timesheet!T99>0,Timesheet!G99,\"\")","v":""},{"$f":"IF(Timesheet!T99>0,Timesheet!J99,\"\")","v":""},{"$f":"IFERROR(VLOOKUP(Q99,ESG!M$2:N$13,2,FALSE),R99)","v":""},{"$f":"IFERROR(VLOOKUP(S99,IF(S99=3165,AL$2:AM$2,ESG!A$2:G$54),IF(S99=3165,2,7),0),0)","v":0},{"$f":"IF(Timesheet!V99>0,Timesheet!G99,\"\")","v":""},{"$f":"IF(Timesheet!V99>0,Timesheet!J99,\"\")","v":""},{"$f":"IFERROR(VLOOKUP(U99,ESG!M$2:N$13,2,FALSE),V99)","v":""},{"$f":"IFERROR(VLOOKUP(W99,IF(W99=3165,AL$2:AM$2,ESG!A$2:H$54),IF(W99=3165,2,8),0),0)","v":0},{"$f":"IF(Timesheet!X99>0,Timesheet!G99,\"\")","v":""},{"$f":"IF(Timesheet!X99>0,Timesheet!J99,\"\")","v":""},"",{"$f":"IFERROR(VLOOKUP(AA99,IF(AA99=3165,AL$2:AM$2,ESG!A$2:I$54),IF(AA99=3165,2,9),0),0)","v":0},{"$f":"IF(Timesheet!Z99>0,Timesheet!G99,\"\")","v":""},{"$f":"IF(Timesheet!Z99>0,Timesheet!J99,\"\")","v":""},"",{"$f":"IFERROR(VLOOKUP(AE99,IF(AE99=3165,AL$2:AM$2,ESG!A$2:J$54),IF(AE99=3165,2,10),0),0)","v":0},{"$f":"IF(Timesheet!AB99>0,Timesheet!G99,\"\")","v":""},{"$f":"IF(Timesheet!AB99>0,Timesheet!J99,\"\")","v":""},"",{"$f":"IFERROR(VLOOKUP(AI99,IF(AI99=3165,AL$2:AM$2,ESG!A$2:K$54),IF(AI99=3165,2,11),0),0)","v":0}]
[{"$f":"IF(Timesheet!L100>0,Timesheet!G100,\"\")","v":""},{"$f":"IF(Timesheet!L100>0,Timesheet!J100,\"\")","v":""},"",{"$f":"IFERROR(VLOOKUP(C100,IF(C100=3165,AL$2:AM$2,ESG!A$2:C$54),IF(C100=3165,2,3),0),0)","v":0},{"$f":"IF(Timesheet!N100>0,Timesheet!G100,\"\")","v":""},{"$f":"IF(Timesheet!N100>0,Timesheet!J100,\"\")","v":""},"",{"$f":"IFERROR(VLOOKUP(G100,IF(G100=3165,AL$2:AM$2,ESG!A$2:D$54),IF(G100=3165,2,4),0),0)","v":0},{"$f":"IF(Timesheet!P100>0,Timesheet!G100,\"\")","v":""},{"$f":"IF(Timesheet!P100>0,Timesheet!J100,\"\")","v":""},"",{"$f":"IFERROR(VLOOKUP(K100,IF(K100=3165,AL$2:AM$2,ESG!A$2:E$54),IF(K100=3165,2,5),0),0)","v":0},{"$f":"IF(Timesheet!R100>0,Timesheet!G100,\"\")","v":""},{"$f":"IF(Timesheet!R100>0,Timesheet!J100,\"\")","v":""},{"$f":"IFERROR(VLOOKUP(M100,ESG!M$2:N$13,2,FALSE),N100)","v":""},{"$f":"IFERROR(VLOOKUP(O100,IF(O100=3165,AL$2:AM$2,ESG!A$2:F$54),IF(O100=3165,2,6),0),0)","v":0},{"$f":"IF(Timesheet!T100>0,Timesheet!G100,\"\")","v":""},{"$f":"IF(Timesheet!T100>0,Timesheet!J100,\"\")","v":""},{"$f":"IFERROR(VLOOKUP(Q100,ESG!M$2:N$13,2,FALSE),R100)","v":""},{"$f":"IFERROR(VLOOKUP(S100,IF(S100=3165,AL$2:AM$2,ESG!A$2:G$54),IF(S100=3165,2,7),0),0)","v":0},{"$f":"IF(Timesheet!V100>0,Timesheet!G100,\"\")","v":""},{"$f":"IF(Timesheet!V100>0,Timesheet!J100,\"\")","v":""},{"$f":"IFERROR(VLOOKUP(U100,ESG!M$2:N$13,2,FALSE),V100)","v":""},{"$f":"IFERROR(VLOOKUP(W100,IF(W100=3165,AL$2:AM$2,ESG!A$2:H$54),IF(W100=3165,2,8),0),0)","v":0},{"$f":"IF(Timesheet!X100>0,Timesheet!G100,\"\")","v":""},{"$f":"IF(Timesheet!X100>0,Timesheet!J100,\"\")","v":""},"",{"$f":"IFERROR(VLOOKUP(AA100,IF(AA100=3165,AL$2:AM$2,ESG!A$2:I$54),IF(AA100=3165,2,9),0),0)","v":0},{"$f":"IF(Timesheet!Z100>0,Timesheet!G100,\"\")","v":""},{"$f":"IF(Timesheet!Z100>0,Timesheet!J100,\"\")","v":""},"",{"$f":"IFERROR(VLOOKUP(AE100,IF(AE100=3165,AL$2:AM$2,ESG!A$2:J$54),IF(AE100=3165,2,10),0),0)","v":0},{"$f":"IF(Timesheet!AB100>0,Timesheet!G100,\"\")","v":""},{"$f":"IF(Timesheet!AB100>0,Timesheet!J100,\"\")","v":""},"",{"$f":"IFERROR(VLOOKUP(AI100,IF(AI100=3165,AL$2:AM$2,ESG!A$2:K$54),IF(AI100=3165,2,11),0),0)","v":0}]
[{"$f":"IF(Timesheet!L101>0,Timesheet!G101,\"\")","v":""},{"$f":"IF(Timesheet!L101>0,Timesheet!J101,\"\")","v":""},"",{"$f":"IFERROR(VLOOKUP(C101,IF(C101=3165,AL$2:AM$2,ESG!A$2:C$54),IF(C101=3165,2,3),0),0)","v":0},{"$f":"IF(Timesheet!N101>0,Timesheet!G101,\"\")","v":""},{"$f":"IF(Timesheet!N101>0,Timesheet!J101,\"\")","v":""},"",{"$f":"IFERROR(VLOOKUP(G101,IF(G101=3165,AL$2:AM$2,ESG!A$2:D$54),IF(G101=3165,2,4),0),0)","v":0},{"$f":"IF(Timesheet!P101>0,Timesheet!G101,\"\")","v":""},{"$f":"IF(Timesheet!P101>0,Timesheet!J101,\"\")","v":""},"",{"$f":"IFERROR(VLOOKUP(K101,IF(K101=3165,AL$2:AM$2,ESG!A$2:E$54),IF(K101=3165,2,5),0),0)","v":0},{"$f":"IF(Timesheet!R101>0,Timesheet!G101,\"\")","v":""},{"$f":"IF(Timesheet!R101>0,Timesheet!J101,\"\")","v":""},{"$f":"IFERROR(VLOOKUP(M101,ESG!M$2:N$13,2,FALSE),N101)","v":""},{"$f":"IFERROR(VLOOKUP(O101,IF(O101=3165,AL$2:AM$2,ESG!A$2:F$54),IF(O101=3165,2,6),0),0)","v":0},{"$f":"IF(Timesheet!T101>0,Timesheet!G101,\"\")","v":""},{"$f":"IF(Timesheet!T101>0,Timesheet!J101,\"\")","v":""},{"$f":"IFERROR(VLOOKUP(Q101,ESG!M$2:N$13,2,FALSE),R101)","v":""},{"$f":"IFERROR(VLOOKUP(S101,IF(S101=3165,AL$2:AM$2,ESG!A$2:G$54),IF(S101=3165,2,7),0),0)","v":0},{"$f":"IF(Timesheet!V101>0,Timesheet!G101,\"\")","v":""},{"$f":"IF(Timesheet!V101>0,Timesheet!J101,\"\")","v":""},{"$f":"IFERROR(VLOOKUP(U101,ESG!M$2:N$13,2,FALSE),V101)","v":""},{"$f":"IFERROR(VLOOKUP(W101,IF(W101=3165,AL$2:AM$2,ESG!A$2:H$54),IF(W101=3165,2,8),0),0)","v":0},{"$f":"IF(Timesheet!X101>0,Timesheet!G101,\"\")","v":""},{"$f":"IF(Timesheet!X101>0,Timesheet!J101,\"\")","v":""},"",{"$f":"IFERROR(VLOOKUP(AA101,IF(AA101=3165,AL$2:AM$2,ESG!A$2:I$54),IF(AA101=3165,2,9),0),0)","v":0},{"$f":"IF(Timesheet!Z101>0,Timesheet!G101,\"\")","v":""},{"$f":"IF(Timesheet!Z101>0,Timesheet!J101,\"\")","v":""},"",{"$f":"IFERROR(VLOOKUP(AE101,IF(AE101=3165,AL$2:AM$2,ESG!A$2:J$54),IF(AE101=3165,2,10),0),0)","v":0},{"$f":"IF(Timesheet!AB101>0,Timesheet!G101,\"\")","v":""},{"$f":"IF(Timesheet!AB101>0,Timesheet!J101,\"\")","v":""},"",{"$f":"IFERROR(VLOOKUP(AI101,IF(AI101=3165,AL$2:AM$2,ESG!A$2:K$54),IF(AI101=3165,2,11),0),0)","v":0}]
[{"$f":"IF(Timesheet!L102>0,Timesheet!G102,\"\")","v":""},{"$f":"IF(Timesheet!L102>0,Timesheet!J102,\"\")","v":""},"",{"$f":"IFERROR(VLOOKUP(C102,IF(C102=3165,AL$2:AM$2,ESG!A$2:C$54),IF(C102=3165,2,3),0),0)","v":0},{"$f":"IF(Timesheet!N102>0,Timesheet!G102,\"\")","v":""},{"$f":"IF(Timesheet!N102>0,Timesheet!J102,\"\")","v":""},"",{"$f":"IFERROR(VLOOKUP(G102,IF(G102=3165,AL$2:AM$2,ESG!A$2:D$54),IF(G102=3165,2,4),0),0)","v":0},{"$f":"IF(Timesheet!P102>0,Timesheet!G102,\"\")","v":""},{"$f":"IF(Timesheet!P102>0,Timesheet!J102,\"\")","v":""},"",{"$f":"IFERROR(VLOOKUP(K102,IF(K102=3165,AL$2:AM$2,ESG!A$2:E$54),IF(K102=3165,2,5),0),0)","v":0},{"$f":"IF(Timesheet!R102>0,Timesheet!G102,\"\")","v":""},{"$f":"IF(Timesheet!R102>0,Timesheet!J102,\"\")","v":""},{"$f":"IFERROR(VLOOKUP(M102,ESG!M$2:N$13,2,FALSE),N102)","v":""},{"$f":"IFERROR(VLOOKUP(O102,IF(O102=3165,AL$2:AM$2,ESG!A$2:F$54),IF(O102=3165,2,6),0),0)","v":0},{"$f":"IF(Timesheet!T102>0,Timesheet!G102,\"\")","v":""},{"$f":"IF(Timesheet!T102>0,Timesheet!J102,\"\")","v":""},{"$f":"IFERROR(VLOOKUP(Q102,ESG!M$2:N$13,2,FALSE),R102)","v":""},{"$f":"IFERROR(VLOOKUP(S102,IF(S102=3165,AL$2:AM$2,ESG!A$2:G$54),IF(S102=3165,2,7),0),0)","v":0},{"$f":"IF(Timesheet!V102>0,Timesheet!G102,\"\")","v":""},{"$f":"IF(Timesheet!V102>0,Timesheet!J102,\"\")","v":""},{"$f":"IFERROR(VLOOKUP(U102,ESG!M$2:N$13,2,FALSE),V102)","v":""},{"$f":"IFERROR(VLOOKUP(W102,IF(W102=3165,AL$2:AM$2,ESG!A$2:H$54),IF(W102=3165,2,8),0),0)","v":0},{"$f":"IF(Timesheet!X102>0,Timesheet!G102,\"\")","v":""},{"$f":"IF(Timesheet!X102>0,Timesheet!J102,\"\")","v":""},"",{"$f":"IFERROR(VLOOKUP(AA102,IF(AA102=3165,AL$2:AM$2,ESG!A$2:I$54),IF(AA102=3165,2,9),0),0)","v":0},{"$f":"IF(Timesheet!Z102>0,Timesheet!G102,\"\")","v":""},{"$f":"IF(Timesheet!Z102>0,Timesheet!J102,\"\")","v":""},"",{"$f":"IFERROR(VLOOKUP(AE102,IF(AE102=3165,AL$2:AM$2,ESG!A$2:J$54),IF(AE102=3165,2,10),0),0)","v":0},{"$f":"IF(Timesheet!AB102>0,Timesheet!G102,\"\")","v":""},{"$f":"IF(Timesheet!AB102>0,Timesheet!J102,\"\")","v":""},"",{"$f":"IFERROR(VLOOKUP(AI102,IF(AI102=3165,AL$2:AM$2,ESG!A$2:K$54),IF(AI102=3165,2,11),0),0)","v":0}]
[{"$f":"IF(Timesheet!L103>0,Timesheet!G103,\"\")","v":""},{"$f":"IF(Timesheet!L103>0,Timesheet!J103,\"\")","v":""},"",{"$f":"IFERROR(VLOOKUP(C103,IF(C103=3165,AL$2:AM$2,ESG!A$2:C$54),IF(C103=3165,2,3),0),0)","v":0},{"$f":"IF(Timesheet!N103>0,Timesheet!G103,\"\")","v":""},{"$f":"IF(Timesheet!N103>0,Timesheet!J103,\"\")","v":""},"",{"$f":"IFERROR(VLOOKUP(G103,IF(G103=3165,AL$2:AM$2,ESG!A$2:D$54),IF(G103=3165,2,4),0),0)","v":0},{"$f":"IF(Timesheet!P103>0,Timesheet!G103,\"\")","v":""},{"$f":"IF(Timesheet!P103>0,Timesheet!J103,\"\")","v":""},"",{"$f":"IFERROR(VLOOKUP(K103,IF(K103=3165,AL$2:AM$2,ESG!A$2:E$54),IF(K103=3165,2,5),0),0)","v":0},{"$f":"IF(Timesheet!R103>0,Timesheet!G103,\"\")","v":""},{"$f":"IF(Timesheet!R103>0,Timesheet!J103,\"\")","v":""},{"$f":"IFERROR(VLOOKUP(M103,ESG!M$2:N$13,2,FALSE),N103)","v":""},{"$f":"IFERROR(VLOOKUP(O103,IF(O103=3165,AL$2:AM$2,ESG!A$2:F$54),IF(O103=3165,2,6),0),0)","v":0},{"$f":"IF(Timesheet!T103>0,Timesheet!G103,\"\")","v":""},{"$f":"IF(Timesheet!T103>0,Timesheet!J103,\"\")","v":""},{"$f":"IFERROR(VLOOKUP(Q103,ESG!M$2:N$13,2,FALSE),R103)","v":""},{"$f":"IFERROR(VLOOKUP(S103,IF(S103=3165,AL$2:AM$2,ESG!A$2:G$54),IF(S103=3165,2,7),0),0)","v":0},{"$f":"IF(Timesheet!V103>0,Timesheet!G103,\"\")","v":""},{"$f":"IF(Timesheet!V103>0,Timesheet!J103,\"\")","v":""},{"$f":"IFERROR(VLOOKUP(U103,ESG!M$2:N$13,2,FALSE),V103)","v":""},{"$f":"IFERROR(VLOOKUP(W103,IF(W103=3165,AL$2:AM$2,ESG!A$2:H$54),IF(W103=3165,2,8),0),0)","v":0},{"$f":"IF(Timesheet!X103>0,Timesheet!G103,\"\")","v":""},{"$f":"IF(Timesheet!X103>0,Timesheet!J103,\"\")","v":""},"",{"$f":"IFERROR(VLOOKUP(AA103,IF(AA103=3165,AL$2:AM$2,ESG!A$2:I$54),IF(AA103=3165,2,9),0),0)","v":0},{"$f":"IF(Timesheet!Z103>0,Timesheet!G103,\"\")","v":""},{"$f":"IF(Timesheet!Z103>0,Timesheet!J103,\"\")","v":""},"",{"$f":"IFERROR(VLOOKUP(AE103,IF(AE103=3165,AL$2:AM$2,ESG!A$2:J$54),IF(AE103=3165,2,10),0),0)","v":0},{"$f":"IF(Timesheet!AB103>0,Timesheet!G103,\"\")","v":""},{"$f":"IF(Timesheet!AB103>0,Timesheet!J103,\"\")","v":""},"",{"$f":"IFERROR(VLOOKUP(AI103,IF(AI103=3165,AL$2:AM$2,ESG!A$2:K$54),IF(AI103=3165,2,11),0),0)","v":0}]
[{"$f":"IF(Timesheet!L104>0,Timesheet!G104,\"\")","v":""},{"$f":"IF(Timesheet!L104>0,Timesheet!J104,\"\")","v":""},"",{"$f":"IFERROR(VLOOKUP(C104,IF(C104=3165,AL$2:AM$2,ESG!A$2:C$54),IF(C104=3165,2,3),0),0)","v":0},{"$f":"IF(Timesheet!N104>0,Timesheet!G104,\"\")","v":""},{"$f":"IF(Timesheet!N104>0,Timesheet!J104,\"\")","v":""},"",{"$f":"IFERROR(VLOOKUP(G104,IF(G104=3165,AL$2:AM$2,ESG!A$2:D$54),IF(G104=3165,2,4),0),0)","v":0},{"$f":"IF(Timesheet!P104>0,Timesheet!G104,\"\")","v":""},{"$f":"IF(Timesheet!P104>0,Timesheet!J104,\"\")","v":""},"",{"$f":"IFERROR(VLOOKUP(K104,IF(K104=3165,AL$2:AM$2,ESG!A$2:E$54),IF(K104=3165,2,5),0),0)","v":0},{"$f":"IF(Timesheet!R104>0,Timesheet!G104,\"\")","v":""},{"$f":"IF(Timesheet!R104>0,Timesheet!J104,\"\")","v":""},{"$f":"IFERROR(VLOOKUP(M104,ESG!M$2:N$13,2,FALSE),N104)","v":""},{"$f":"IFERROR(VLOOKUP(O104,IF(O104=3165,AL$2:AM$2,ESG!A$2:F$54),IF(O104=3165,2,6),0),0)","v":0},{"$f":"IF(Timesheet!T104>0,Timesheet!G104,\"\")","v":""},{"$f":"IF(Timesheet!T104>0,Timesheet!J104,\"\")","v":""},{"$f":"IFERROR(VLOOKUP(Q104,ESG!M$2:N$13,2,FALSE),R104)","v":""},{"$f":"IFERROR(VLOOKUP(S104,IF(S104=3165,AL$2:AM$2,ESG!A$2:G$54),IF(S104=3165,2,7),0),0)","v":0},{"$f":"IF(Timesheet!V104>0,Timesheet!G104,\"\")","v":""},{"$f":"IF(Timesheet!V104>0,Timesheet!J104,\"\")","v":""},{"$f":"IFERROR(VLOOKUP(U104,ESG!M$2:N$13,2,FALSE),V104)","v":""},{"$f":"IFERROR(VLOOKUP(W104,IF(W104=3165,AL$2:AM$2,ESG!A$2:H$54),IF(W104=3165,2,8),0),0)","v":0},{"$f":"IF(Timesheet!X104>0,Timesheet!G104,\"\")","v":""},{"$f":"IF(Timesheet!X104>0,Timesheet!J104,\"\")","v":""},"",{"$f":"IFERROR(VLOOKUP(AA104,IF(AA104=3165,AL$2:AM$2,ESG!A$2:I$54),IF(AA104=3165,2,9),0),0)","v":0},{"$f":"IF(Timesheet!Z104>0,Timesheet!G104,\"\")","v":""},{"$f":"IF(Timesheet!Z104>0,Timesheet!J104,\"\")","v":""},"",{"$f":"IFERROR(VLOOKUP(AE104,IF(AE104=3165,AL$2:AM$2,ESG!A$2:J$54),IF(AE104=3165,2,10),0),0)","v":0},{"$f":"IF(Timesheet!AB104>0,Timesheet!G104,\"\")","v":""},{"$f":"IF(Timesheet!AB104>0,Timesheet!J104,\"\")","v":""},"",{"$f":"IFERROR(VLOOKUP(AI104,IF(AI104=3165,AL$2:AM$2,ESG!A$2:K$54),IF(AI104=3165,2,11),0),0)","v":0}]
[{"$f":"IF(Timesheet!L105>0,Timesheet!G105,\"\")","v":""},{"$f":"IF(Timesheet!L105>0,Timesheet!J105,\"\")","v":""},"",{"$f":"IFERROR(VLOOKUP(C105,IF(C105=3165,AL$2:AM$2,ESG!A$2:C$54),IF(C105=3165,2,3),0),0)","v":0},{"$f":"IF(Timesheet!N105>0,Timesheet!G105,\"\")","v":""},{"$f":"IF(Timesheet!N105>0,Timesheet!J105,\"\")","v":""},"",{"$f":"IFERROR(VLOOKUP(G105,IF(G105=3165,AL$2:AM$2,ESG!A$2:D$54),IF(G105=3165,2,4),0),0)","v":0},{"$f":"IF(Timesheet!P105>0,Timesheet!G105,\"\")","v":""},{"$f":"IF(Timesheet!P105>0,Timesheet!J105,\"\")","v":""},"",{"$f":"IFERROR(VLOOKUP(K105,IF(K105=3165,AL$2:AM$2,ESG!A$2:E$54),IF(K105=3165,2,5),0),0)","v":0},{"$f":"IF(Timesheet!R105>0,Timesheet!G105,\"\")","v":""},{"$f":"IF(Timesheet!R105>0,Timesheet!J105,\"\")","v":""},{"$f":"IFERROR(VLOOKUP(M105,ESG!M$2:N$13,2,FALSE),N105)","v":""},{"$f":"IFERROR(VLOOKUP(O105,IF(O105=3165,AL$2:AM$2,ESG!A$2:F$54),IF(O105=3165,2,6),0),0)","v":0},{"$f":"IF(Timesheet!T105>0,Timesheet!G105,\"\")","v":""},{"$f":"IF(Timesheet!T105>0,Timesheet!J105,\"\")","v":""},{"$f":"IFERROR(VLOOKUP(Q105,ESG!M$2:N$13,2,FALSE),R105)","v":""},{"$f":"IFERROR(VLOOKUP(S105,IF(S105=3165,AL$2:AM$2,ESG!A$2:G$54),IF(S105=3165,2,7),0),0)","v":0},{"$f":"IF(Timesheet!V105>0,Timesheet!G105,\"\")","v":""},{"$f":"IF(Timesheet!V105>0,Timesheet!J105,\"\")","v":""},{"$f":"IFERROR(VLOOKUP(U105,ESG!M$2:N$13,2,FALSE),V105)","v":""},{"$f":"IFERROR(VLOOKUP(W105,IF(W105=3165,AL$2:AM$2,ESG!A$2:H$54),IF(W105=3165,2,8),0),0)","v":0},{"$f":"IF(Timesheet!X105>0,Timesheet!G105,\"\")","v":""},{"$f":"IF(Timesheet!X105>0,Timesheet!J105,\"\")","v":""},"",{"$f":"IFERROR(VLOOKUP(AA105,IF(AA105=3165,AL$2:AM$2,ESG!A$2:I$54),IF(AA105=3165,2,9),0),0)","v":0},{"$f":"IF(Timesheet!Z105>0,Timesheet!G105,\"\")","v":""},{"$f":"IF(Timesheet!Z105>0,Timesheet!J105,\"\")","v":""},"",{"$f":"IFERROR(VLOOKUP(AE105,IF(AE105=3165,AL$2:AM$2,ESG!A$2:J$54),IF(AE105=3165,2,10),0),0)","v":0},{"$f":"IF(Timesheet!AB105>0,Timesheet!G105,\"\")","v":""},{"$f":"IF(Timesheet!AB105>0,Timesheet!J105,\"\")","v":""},"",{"$f":"IFERROR(VLOOKUP(AI105,IF(AI105=3165,AL$2:AM$2,ESG!A$2:K$54),IF(AI105=3165,2,11),0),0)","v":0}]
[{"$f":"IF(Timesheet!L106>0,Timesheet!G106,\"\")","v":""},{"$f":"IF(Timesheet!L106>0,Timesheet!J106,\"\")","v":""},"",{"$f":"IFERROR(VLOOKUP(C106,IF(C106=3165,AL$2:AM$2,ESG!A$2:C$54),IF(C106=3165,2,3),0),0)","v":0},{"$f":"IF(Timesheet!N106>0,Timesheet!G106,\"\")","v":""},{"$f":"IF(Timesheet!N106>0,Timesheet!J106,\"\")","v":""},"",{"$f":"IFERROR(VLOOKUP(G106,IF(G106=3165,AL$2:AM$2,ESG!A$2:D$54),IF(G106=3165,2,4),0),0)","v":0},{"$f":"IF(Timesheet!P106>0,Timesheet!G106,\"\")","v":""},{"$f":"IF(Timesheet!P106>0,Timesheet!J106,\"\")","v":""},"",{"$f":"IFERROR(VLOOKUP(K106,IF(K106=3165,AL$2:AM$2,ESG!A$2:E$54),IF(K106=3165,2,5),0),0)","v":0},{"$f":"IF(Timesheet!R106>0,Timesheet!G106,\"\")","v":""},{"$f":"IF(Timesheet!R106>0,Timesheet!J106,\"\")","v":""},{"$f":"IFERROR(VLOOKUP(M106,ESG!M$2:N$13,2,FALSE),N106)","v":""},{"$f":"IFERROR(VLOOKUP(O106,IF(O106=3165,AL$2:AM$2,ESG!A$2:F$54),IF(O106=3165,2,6),0),0)","v":0},{"$f":"IF(Timesheet!T106>0,Timesheet!G106,\"\")","v":""},{"$f":"IF(Timesheet!T106>0,Timesheet!J106,\"\")","v":""},{"$f":"IFERROR(VLOOKUP(Q106,ESG!M$2:N$13,2,FALSE),R106)","v":""},{"$f":"IFERROR(VLOOKUP(S106,IF(S106=3165,AL$2:AM$2,ESG!A$2:G$54),IF(S106=3165,2,7),0),0)","v":0},{"$f":"IF(Timesheet!V106>0,Timesheet!G106,\"\")","v":""},{"$f":"IF(Timesheet!V106>0,Timesheet!J106,\"\")","v":""},{"$f":"IFERROR(VLOOKUP(U106,ESG!M$2:N$13,2,FALSE),V106)","v":""},{"$f":"IFERROR(VLOOKUP(W106,IF(W106=3165,AL$2:AM$2,ESG!A$2:H$54),IF(W106=3165,2,8),0),0)","v":0},{"$f":"IF(Timesheet!X106>0,Timesheet!G106,\"\")","v":""},{"$f":"IF(Timesheet!X106>0,Timesheet!J106,\"\")","v":""},"",{"$f":"IFERROR(VLOOKUP(AA106,IF(AA106=3165,AL$2:AM$2,ESG!A$2:I$54),IF(AA106=3165,2,9),0),0)","v":0},{"$f":"IF(Timesheet!Z106>0,Timesheet!G106,\"\")","v":""},{"$f":"IF(Timesheet!Z106>0,Timesheet!J106,\"\")","v":""},"",{"$f":"IFERROR(VLOOKUP(AE106,IF(AE106=3165,AL$2:AM$2,ESG!A$2:J$54),IF(AE106=3165,2,10),0),0)","v":0},{"$f":"IF(Timesheet!AB106>0,Timesheet!G106,\"\")","v":""},{"$f":"IF(Timesheet!AB106>0,Timesheet!J106,\"\")","v":""},"",{"$f":"IFERROR(VLOOKUP(AI106,IF(AI106=3165,AL$2:AM$2,ESG!A$2:K$54),IF(AI106=3165,2,11),0),0)","v":0}]
[{"$f":"IF(Timesheet!L107>0,Timesheet!G107,\"\")","v":""},{"$f":"IF(Timesheet!L107>0,Timesheet!J107,\"\")","v":""},"",{"$f":"IFERROR(VLOOKUP(C107,IF(C107=3165,AL$2:AM$2,ESG!A$2:C$54),IF(C107=3165,2,3),0),0)","v":0},{"$f":"IF(Timesheet!N107>0,Timesheet!G107,\"\")","v":""},{"$f":"IF(Timesheet!N107>0,Timesheet!J107,\"\")","v":""},"",{"$f":"IFERROR(VLOOKUP(G107,IF(G107=3165,AL$2:AM$2,ESG!A$2:D$54),IF(G107=3165,2,4),0),0)","v":0},{"$f":"IF(Timesheet!P107>0,Timesheet!G107,\"\")","v":""},{"$f":"IF(Timesheet!P107>0,Timesheet!J107,\"\")","v":""},"",{"$f":"IFERROR(VLOOKUP(K107,IF(K107=3165,AL$2:AM$2,ESG!A$2:E$54),IF(K107=3165,2,5),0),0)","v":0},{"$f":"IF(Timesheet!R107>0,Timesheet!G107,\"\")","v":""},{"$f":"IF(Timesheet!R107>0,Timesheet!J107,\"\")","v":""},{"$f":"IFERROR(VLOOKUP(M107,ESG!M$2:N$13,2,FALSE),N107)","v":""},{"$f":"IFERROR(VLOOKUP(O107,IF(O107=3165,AL$2:AM$2,ESG!A$2:F$54),IF(O107=3165,2,6),0),0)","v":0},{"$f":"IF(Timesheet!T107>0,Timesheet!G107,\"\")","v":""},{"$f":"IF(Timesheet!T107>0,Timesheet!J107,\"\")","v":""},{"$f":"IFERROR(VLOOKUP(Q107,ESG!M$2:N$13,2,FALSE),R107)","v":""},{"$f":"IFERROR(VLOOKUP(S107,IF(S107=3165,AL$2:AM$2,ESG!A$2:G$54),IF(S107=3165,2,7),0),0)","v":0},{"$f":"IF(Timesheet!V107>0,Timesheet!G107,\"\")","v":""},{"$f":"IF(Timesheet!V107>0,Timesheet!J107,\"\")","v":""},{"$f":"IFERROR(VLOOKUP(U107,ESG!M$2:N$13,2,FALSE),V107)","v":""},{"$f":"IFERROR(VLOOKUP(W107,IF(W107=3165,AL$2:AM$2,ESG!A$2:H$54),IF(W107=3165,2,8),0),0)","v":0},{"$f":"IF(Timesheet!X107>0,Timesheet!G107,\"\")","v":""},{"$f":"IF(Timesheet!X107>0,Timesheet!J107,\"\")","v":""},"",{"$f":"IFERROR(VLOOKUP(AA107,IF(AA107=3165,AL$2:AM$2,ESG!A$2:I$54),IF(AA107=3165,2,9),0),0)","v":0},{"$f":"IF(Timesheet!Z107>0,Timesheet!G107,\"\")","v":""},{"$f":"IF(Timesheet!Z107>0,Timesheet!J107,\"\")","v":""},"",{"$f":"IFERROR(VLOOKUP(AE107,IF(AE107=3165,AL$2:AM$2,ESG!A$2:J$54),IF(AE107=3165,2,10),0),0)","v":0},{"$f":"IF(Timesheet!AB107>0,Timesheet!G107,\"\")","v":""},{"$f":"IF(Timesheet!AB107>0,Timesheet!J107,\"\")","v":""},"",{"$f":"IFERROR(VLOOKUP(AI107,IF(AI107=3165,AL$2:AM$2,ESG!A$2:K$54),IF(AI107=3165,2,11),0),0)","v":0}]
[{"$f":"IF(Timesheet!L108>0,Timesheet!G108,\"\")","v":""},{"$f":"IF(Timesheet!L108>0,Timesheet!J108,\"\")","v":""},"",{"$f":"IFERROR(VLOOKUP(C108,IF(C108=3165,AL$2:AM$2,ESG!A$2:C$54),IF(C108=3165,2,3),0),0)","v":0},{"$f":"IF(Timesheet!N108>0,Timesheet!G108,\"\")","v":""},{"$f":"IF(Timesheet!N108>0,Timesheet!J108,\"\")","v":""},"",{"$f":"IFERROR(VLOOKUP(G108,IF(G108=3165,AL$2:AM$2,ESG!A$2:D$54),IF(G108=3165,2,4),0),0)","v":0},{"$f":"IF(Timesheet!P108>0,Timesheet!G108,\"\")","v":""},{"$f":"IF(Timesheet!P108>0,Timesheet!J108,\"\")","v":""},"",{"$f":"IFERROR(VLOOKUP(K108,IF(K108=3165,AL$2:AM$2,ESG!A$2:E$54),IF(K108=3165,2,5),0),0)","v":0},{"$f":"IF(Timesheet!R108>0,Timesheet!G108,\"\")","v":""},{"$f":"IF(Timesheet!R108>0,Timesheet!J108,\"\")","v":""},{"$f":"IFERROR(VLOOKUP(M108,ESG!M$2:N$13,2,FALSE),N108)","v":""},{"$f":"IFERROR(VLOOKUP(O108,IF(O108=3165,AL$2:AM$2,ESG!A$2:F$54),IF(O108=3165,2,6),0),0)","v":0},{"$f":"IF(Timesheet!T108>0,Timesheet!G108,\"\")","v":""},{"$f":"IF(Timesheet!T108>0,Timesheet!J108,\"\")","v":""},{"$f":"IFERROR(VLOOKUP(Q108,ESG!M$2:N$13,2,FALSE),R108)","v":""},{"$f":"IFERROR(VLOOKUP(S108,IF(S108=3165,AL$2:AM$2,ESG!A$2:G$54),IF(S108=3165,2,7),0),0)","v":0},{"$f":"IF(Timesheet!V108>0,Timesheet!G108,\"\")","v":""},{"$f":"IF(Timesheet!V108>0,Timesheet!J108,\"\")","v":""},{"$f":"IFERROR(VLOOKUP(U108,ESG!M$2:N$13,2,FALSE),V108)","v":""},{"$f":"IFERROR(VLOOKUP(W108,IF(W108=3165,AL$2:AM$2,ESG!A$2:H$54),IF(W108=3165,2,8),0),0)","v":0},{"$f":"IF(Timesheet!X108>0,Timesheet!G108,\"\")","v":""},{"$f":"IF(Timesheet!X108>0,Timesheet!J108,\"\")","v":""},"",{"$f":"IFERROR(VLOOKUP(AA108,IF(AA108=3165,AL$2:AM$2,ESG!A$2:I$54),IF(AA108=3165,2,9),0),0)","v":0},{"$f":"IF(Timesheet!Z108>0,Timesheet!G108,\"\")","v":""},{"$f":"IF(Timesheet!Z108>0,Timesheet!J108,\"\")","v":""},"",{"$f":"IFERROR(VLOOKUP(AE108,IF(AE108=3165,AL$2:AM$2,ESG!A$2:J$54),IF(AE108=3165,2,10),0),0)","v":0},{"$f":"IF(Timesheet!AB108>0,Timesheet!G108,\"\")","v":""},{"$f":"IF(Timesheet!AB108>0,Timesheet!J108,\"\")","v":""},"",{"$f":"IFERROR(VLOOKUP(AI108,IF(AI108=3165,AL$2:AM$2,ESG!A$2:K$54),IF(AI108=3165,2,11),0),0)","v":0}]
[{"$f":"IF(Timesheet!L109>0,Timesheet!G109,\"\")","v":""},{"$f":"IF(Timesheet!L109>0,Timesheet!J109,\"\")","v":""},"",{"$f":"IFERROR(VLOOKUP(C109,IF(C109=3165,AL$2:AM$2,ESG!A$2:C$54),IF(C109=3165,2,3),0),0)","v":0},{"$f":"IF(Timesheet!N109>0,Timesheet!G109,\"\")","v":""},{"$f":"IF(Timesheet!N109>0,Timesheet!J109,\"\")","v":""},"",{"$f":"IFERROR(VLOOKUP(G109,IF(G109=3165,AL$2:AM$2,ESG!A$2:D$54),IF(G109=3165,2,4),0),0)","v":0},{"$f":"IF(Timesheet!P109>0,Timesheet!G109,\"\")","v":""},{"$f":"IF(Timesheet!P109>0,Timesheet!J109,\"\")","v":""},"",{"$f":"IFERROR(VLOOKUP(K109,IF(K109=3165,AL$2:AM$2,ESG!A$2:E$54),IF(K109=3165,2,5),0),0)","v":0},{"$f":"IF(Timesheet!R109>0,Timesheet!G109,\"\")","v":""},{"$f":"IF(Timesheet!R109>0,Timesheet!J109,\"\")","v":""},{"$f":"IFERROR(VLOOKUP(M109,ESG!M$2:N$13,2,FALSE),N109)","v":""},{"$f":"IFERROR(VLOOKUP(O109,IF(O109=3165,AL$2:AM$2,ESG!A$2:F$54),IF(O109=3165,2,6),0),0)","v":0},{"$f":"IF(Timesheet!T109>0,Timesheet!G109,\"\")","v":""},{"$f":"IF(Timesheet!T109>0,Timesheet!J109,\"\")","v":""},{"$f":"IFERROR(VLOOKUP(Q109,ESG!M$2:N$13,2,FALSE),R109)","v":""},{"$f":"IFERROR(VLOOKUP(S109,IF(S109=3165,AL$2:AM$2,ESG!A$2:G$54),IF(S109=3165,2,7),0),0)","v":0},{"$f":"IF(Timesheet!V109>0,Timesheet!G109,\"\")","v":""},{"$f":"IF(Timesheet!V109>0,Timesheet!J109,\"\")","v":""},{"$f":"IFERROR(VLOOKUP(U109,ESG!M$2:N$13,2,FALSE),V109)","v":""},{"$f":"IFERROR(VLOOKUP(W109,IF(W109=3165,AL$2:AM$2,ESG!A$2:H$54),IF(W109=3165,2,8),0),0)","v":0},{"$f":"IF(Timesheet!X109>0,Timesheet!G109,\"\")","v":""},{"$f":"IF(Timesheet!X109>0,Timesheet!J109,\"\")","v":""},"",{"$f":"IFERROR(VLOOKUP(AA109,IF(AA109=3165,AL$2:AM$2,ESG!A$2:I$54),IF(AA109=3165,2,9),0),0)","v":0},{"$f":"IF(Timesheet!Z109>0,Timesheet!G109,\"\")","v":""},{"$f":"IF(Timesheet!Z109>0,Timesheet!J109,\"\")","v":""},"",{"$f":"IFERROR(VLOOKUP(AE109,IF(AE109=3165,AL$2:AM$2,ESG!A$2:J$54),IF(AE109=3165,2,10),0),0)","v":0},{"$f":"IF(Timesheet!AB109>0,Timesheet!G109,\"\")","v":""},{"$f":"IF(Timesheet!AB109>0,Timesheet!J109,\"\")","v":""},"",{"$f":"IFERROR(VLOOKUP(AI109,IF(AI109=3165,AL$2:AM$2,ESG!A$2:K$54),IF(AI109=3165,2,11),0),0)","v":0}]
[{"$f":"IF(Timesheet!L110>0,Timesheet!G110,\"\")","v":""},{"$f":"IF(Timesheet!L110>0,Timesheet!J110,\"\")","v":""},"",{"$f":"IFERROR(VLOOKUP(C110,IF(C110=3165,AL$2:AM$2,ESG!A$2:C$54),IF(C110=3165,2,3),0),0)","v":0},{"$f":"IF(Timesheet!N110>0,Timesheet!G110,\"\")","v":""},{"$f":"IF(Timesheet!N110>0,Timesheet!J110,\"\")","v":""},"",{"$f":"IFERROR(VLOOKUP(G110,IF(G110=3165,AL$2:AM$2,ESG!A$2:D$54),IF(G110=3165,2,4),0),0)","v":0},{"$f":"IF(Timesheet!P110>0,Timesheet!G110,\"\")","v":""},{"$f":"IF(Timesheet!P110>0,Timesheet!J110,\"\")","v":""},"",{"$f":"IFERROR(VLOOKUP(K110,IF(K110=3165,AL$2:AM$2,ESG!A$2:E$54),IF(K110=3165,2,5),0),0)","v":0},{"$f":"IF(Timesheet!R110>0,Timesheet!G110,\"\")","v":""},{"$f":"IF(Timesheet!R110>0,Timesheet!J110,\"\")","v":""},{"$f":"IFERROR(VLOOKUP(M110,ESG!M$2:N$13,2,FALSE),N110)","v":""},{"$f":"IFERROR(VLOOKUP(O110,IF(O110=3165,AL$2:AM$2,ESG!A$2:F$54),IF(O110=3165,2,6),0),0)","v":0},{"$f":"IF(Timesheet!T110>0,Timesheet!G110,\"\")","v":""},{"$f":"IF(Timesheet!T110>0,Timesheet!J110,\"\")","v":""},{"$f":"IFERROR(VLOOKUP(Q110,ESG!M$2:N$13,2,FALSE),R110)","v":""},{"$f":"IFERROR(VLOOKUP(S110,IF(S110=3165,AL$2:AM$2,ESG!A$2:G$54),IF(S110=3165,2,7),0),0)","v":0},{"$f":"IF(Timesheet!V110>0,Timesheet!G110,\"\")","v":""},{"$f":"IF(Timesheet!V110>0,Timesheet!J110,\"\")","v":""},{"$f":"IFERROR(VLOOKUP(U110,ESG!M$2:N$13,2,FALSE),V110)","v":""},{"$f":"IFERROR(VLOOKUP(W110,IF(W110=3165,AL$2:AM$2,ESG!A$2:H$54),IF(W110=3165,2,8),0),0)","v":0},{"$f":"IF(Timesheet!X110>0,Timesheet!G110,\"\")","v":""},{"$f":"IF(Timesheet!X110>0,Timesheet!J110,\"\")","v":""},"",{"$f":"IFERROR(VLOOKUP(AA110,IF(AA110=3165,AL$2:AM$2,ESG!A$2:I$54),IF(AA110=3165,2,9),0),0)","v":0},{"$f":"IF(Timesheet!Z110>0,Timesheet!G110,\"\")","v":""},{"$f":"IF(Timesheet!Z110>0,Timesheet!J110,\"\")","v":""},"",{"$f":"IFERROR(VLOOKUP(AE110,IF(AE110=3165,AL$2:AM$2,ESG!A$2:J$54),IF(AE110=3165,2,10),0),0)","v":0},{"$f":"IF(Timesheet!AB110>0,Timesheet!G110,\"\")","v":""},{"$f":"IF(Timesheet!AB110>0,Timesheet!J110,\"\")","v":""},"",{"$f":"IFERROR(VLOOKUP(AI110,IF(AI110=3165,AL$2:AM$2,ESG!A$2:K$54),IF(AI110=3165,2,11),0),0)","v":0}]
[{"$f":"IF(Timesheet!L111>0,Timesheet!G111,\"\")","v":""},{"$f":"IF(Timesheet!L111>0,Timesheet!J111,\"\")","v":""},"",{"$f":"IFERROR(VLOOKUP(C111,IF(C111=3165,AL$2:AM$2,ESG!A$2:C$54),IF(C111=3165,2,3),0),0)","v":0},{"$f":"IF(Timesheet!N111>0,Timesheet!G111,\"\")","v":""},{"$f":"IF(Timesheet!N111>0,Timesheet!J111,\"\")","v":""},"",{"$f":"IFERROR(VLOOKUP(G111,IF(G111=3165,AL$2:AM$2,ESG!A$2:D$54),IF(G111=3165,2,4),0),0)","v":0},{"$f":"IF(Timesheet!P111>0,Timesheet!G111,\"\")","v":""},{"$f":"IF(Timesheet!P111>0,Timesheet!J111,\"\")","v":""},"",{"$f":"IFERROR(VLOOKUP(K111,IF(K111=3165,AL$2:AM$2,ESG!A$2:E$54),IF(K111=3165,2,5),0),0)","v":0},{"$f":"IF(Timesheet!R111>0,Timesheet!G111,\"\")","v":""},{"$f":"IF(Timesheet!R111>0,Timesheet!J111,\"\")","v":""},{"$f":"IFERROR(VLOOKUP(M111,ESG!M$2:N$13,2,FALSE),N111)","v":""},{"$f":"IFERROR(VLOOKUP(O111,IF(O111=3165,AL$2:AM$2,ESG!A$2:F$54),IF(O111=3165,2,6),0),0)","v":0},{"$f":"IF(Timesheet!T111>0,Timesheet!G111,\"\")","v":""},{"$f":"IF(Timesheet!T111>0,Timesheet!J111,\"\")","v":""},{"$f":"IFERROR(VLOOKUP(Q111,ESG!M$2:N$13,2,FALSE),R111)","v":""},{"$f":"IFERROR(VLOOKUP(S111,IF(S111=3165,AL$2:AM$2,ESG!A$2:G$54),IF(S111=3165,2,7),0),0)","v":0},{"$f":"IF(Timesheet!V111>0,Timesheet!G111,\"\")","v":""},{"$f":"IF(Timesheet!V111>0,Timesheet!J111,\"\")","v":""},{"$f":"IFERROR(VLOOKUP(U111,ESG!M$2:N$13,2,FALSE),V111)","v":""},{"$f":"IFERROR(VLOOKUP(W111,IF(W111=3165,AL$2:AM$2,ESG!A$2:H$54),IF(W111=3165,2,8),0),0)","v":0},{"$f":"IF(Timesheet!X111>0,Timesheet!G111,\"\")","v":""},{"$f":"IF(Timesheet!X111>0,Timesheet!J111,\"\")","v":""},"",{"$f":"IFERROR(VLOOKUP(AA111,IF(AA111=3165,AL$2:AM$2,ESG!A$2:I$54),IF(AA111=3165,2,9),0),0)","v":0},{"$f":"IF(Timesheet!Z111>0,Timesheet!G111,\"\")","v":""},{"$f":"IF(Timesheet!Z111>0,Timesheet!J111,\"\")","v":""},"",{"$f":"IFERROR(VLOOKUP(AE111,IF(AE111=3165,AL$2:AM$2,ESG!A$2:J$54),IF(AE111=3165,2,10),0),0)","v":0},{"$f":"IF(Timesheet!AB111>0,Timesheet!G111,\"\")","v":""},{"$f":"IF(Timesheet!AB111>0,Timesheet!J111,\"\")","v":""},"",{"$f":"IFERROR(VLOOKUP(AI111,IF(AI111=3165,AL$2:AM$2,ESG!A$2:K$54),IF(AI111=3165,2,11),0),0)","v":0}]
[{"$f":"IF(Timesheet!L112>0,Timesheet!G112,\"\")","v":""},{"$f":"IF(Timesheet!L112>0,Timesheet!J112,\"\")","v":""},"",{"$f":"IFERROR(VLOOKUP(C112,IF(C112=3165,AL$2:AM$2,ESG!A$2:C$54),IF(C112=3165,2,3),0),0)","v":0},{"$f":"IF(Timesheet!N112>0,Timesheet!G112,\"\")","v":""},{"$f":"IF(Timesheet!N112>0,Timesheet!J112,\"\")","v":""},"",{"$f":"IFERROR(VLOOKUP(G112,IF(G112=3165,AL$2:AM$2,ESG!A$2:D$54),IF(G112=3165,2,4),0),0)","v":0},{"$f":"IF(Timesheet!P112>0,Timesheet!G112,\"\")","v":""},{"$f":"IF(Timesheet!P112>0,Timesheet!J112,\"\")","v":""},"",{"$f":"IFERROR(VLOOKUP(K112,IF(K112=3165,AL$2:AM$2,ESG!A$2:E$54),IF(K112=3165,2,5),0),0)","v":0},{"$f":"IF(Timesheet!R112>0,Timesheet!G112,\"\")","v":""},{"$f":"IF(Timesheet!R112>0,Timesheet!J112,\"\")","v":""},{"$f":"IFERROR(VLOOKUP(M112,ESG!M$2:N$13,2,FALSE),N112)","v":""},{"$f":"IFERROR(VLOOKUP(O112,IF(O112=3165,AL$2:AM$2,ESG!A$2:F$54),IF(O112=3165,2,6),0),0)","v":0},{"$f":"IF(Timesheet!T112>0,Timesheet!G112,\"\")","v":""},{"$f":"IF(Timesheet!T112>0,Timesheet!J112,\"\")","v":""},{"$f":"IFERROR(VLOOKUP(Q112,ESG!M$2:N$13,2,FALSE),R112)","v":""},{"$f":"IFERROR(VLOOKUP(S112,IF(S112=3165,AL$2:AM$2,ESG!A$2:G$54),IF(S112=3165,2,7),0),0)","v":0},{"$f":"IF(Timesheet!V112>0,Timesheet!G112,\"\")","v":""},{"$f":"IF(Timesheet!V112>0,Timesheet!J112,\"\")","v":""},{"$f":"IFERROR(VLOOKUP(U112,ESG!M$2:N$13,2,FALSE),V112)","v":""},{"$f":"IFERROR(VLOOKUP(W112,IF(W112=3165,AL$2:AM$2,ESG!A$2:H$54),IF(W112=3165,2,8),0),0)","v":0},{"$f":"IF(Timesheet!X112>0,Timesheet!G112,\"\")","v":""},{"$f":"IF(Timesheet!X112>0,Timesheet!J112,\"\")","v":""},"",{"$f":"IFERROR(VLOOKUP(AA112,IF(AA112=3165,AL$2:AM$2,ESG!A$2:I$54),IF(AA112=3165,2,9),0),0)","v":0},{"$f":"IF(Timesheet!Z112>0,Timesheet!G112,\"\")","v":""},{"$f":"IF(Timesheet!Z112>0,Timesheet!J112,\"\")","v":""},"",{"$f":"IFERROR(VLOOKUP(AE112,IF(AE112=3165,AL$2:AM$2,ESG!A$2:J$54),IF(AE112=3165,2,10),0),0)","v":0},{"$f":"IF(Timesheet!AB112>0,Timesheet!G112,\"\")","v":""},{"$f":"IF(Timesheet!AB112>0,Timesheet!J112,\"\")","v":""},"",{"$f":"IFERROR(VLOOKUP(AI112,IF(AI112=3165,AL$2:AM$2,ESG!A$2:K$54),IF(AI112=3165,2,11),0),0)","v":0}]
[{"$f":"IF(Timesheet!L113>0,Timesheet!G113,\"\")","v":""},{"$f":"IF(Timesheet!L113>0,Timesheet!J113,\"\")","v":""},"",{"$f":"IFERROR(VLOOKUP(C113,IF(C113=3165,AL$2:AM$2,ESG!A$2:C$54),IF(C113=3165,2,3),0),0)","v":0},{"$f":"IF(Timesheet!N113>0,Timesheet!G113,\"\")","v":""},{"$f":"IF(Timesheet!N113>0,Timesheet!J113,\"\")","v":""},"",{"$f":"IFERROR(VLOOKUP(G113,IF(G113=3165,AL$2:AM$2,ESG!A$2:D$54),IF(G113=3165,2,4),0),0)","v":0},{"$f":"IF(Timesheet!P113>0,Timesheet!G113,\"\")","v":""},{"$f":"IF(Timesheet!P113>0,Timesheet!J113,\"\")","v":""},"",{"$f":"IFERROR(VLOOKUP(K113,IF(K113=3165,AL$2:AM$2,ESG!A$2:E$54),IF(K113=3165,2,5),0),0)","v":0},{"$f":"IF(Timesheet!R113>0,Timesheet!G113,\"\")","v":""},{"$f":"IF(Timesheet!R113>0,Timesheet!J113,\"\")","v":""},{"$f":"IFERROR(VLOOKUP(M113,ESG!M$2:N$13,2,FALSE),N113)","v":""},{"$f":"IFERROR(VLOOKUP(O113,IF(O113=3165,AL$2:AM$2,ESG!A$2:F$54),IF(O113=3165,2,6),0),0)","v":0},{"$f":"IF(Timesheet!T113>0,Timesheet!G113,\"\")","v":""},{"$f":"IF(Timesheet!T113>0,Timesheet!J113,\"\")","v":""},{"$f":"IFERROR(VLOOKUP(Q113,ESG!M$2:N$13,2,FALSE),R113)","v":""},{"$f":"IFERROR(VLOOKUP(S113,IF(S113=3165,AL$2:AM$2,ESG!A$2:G$54),IF(S113=3165,2,7),0),0)","v":0},{"$f":"IF(Timesheet!V113>0,Timesheet!G113,\"\")","v":""},{"$f":"IF(Timesheet!V113>0,Timesheet!J113,\"\")","v":""},{"$f":"IFERROR(VLOOKUP(U113,ESG!M$2:N$13,2,FALSE),V113)","v":""},{"$f":"IFERROR(VLOOKUP(W113,IF(W113=3165,AL$2:AM$2,ESG!A$2:H$54),IF(W113=3165,2,8),0),0)","v":0},{"$f":"IF(Timesheet!X113>0,Timesheet!G113,\"\")","v":""},{"$f":"IF(Timesheet!X113>0,Timesheet!J113,\"\")","v":""},"",{"$f":"IFERROR(VLOOKUP(AA113,IF(AA113=3165,AL$2:AM$2,ESG!A$2:I$54),IF(AA113=3165,2,9),0),0)","v":0},{"$f":"IF(Timesheet!Z113>0,Timesheet!G113,\"\")","v":""},{"$f":"IF(Timesheet!Z113>0,Timesheet!J113,\"\")","v":""},"",{"$f":"IFERROR(VLOOKUP(AE113,IF(AE113=3165,AL$2:AM$2,ESG!A$2:J$54),IF(AE113=3165,2,10),0),0)","v":0},{"$f":"IF(Timesheet!AB113>0,Timesheet!G113,\"\")","v":""},{"$f":"IF(Timesheet!AB113>0,Timesheet!J113,\"\")","v":""},"",{"$f":"IFERROR(VLOOKUP(AI113,IF(AI113=3165,AL$2:AM$2,ESG!A$2:K$54),IF(AI113=3165,2,11),0),0)","v":0}]
[{"$f":"IF(Timesheet!L114>0,Timesheet!G114,\"\")","v":""},{"$f":"IF(Timesheet!L114>0,Timesheet!J114,\"\")","v":""},"",{"$f":"IFERROR(VLOOKUP(C114,IF(C114=3165,AL$2:AM$2,ESG!A$2:C$54),IF(C114=3165,2,3),0),0)","v":0},{"$f":"IF(Timesheet!N114>0,Timesheet!G114,\"\")","v":""},{"$f":"IF(Timesheet!N114>0,Timesheet!J114,\"\")","v":""},"",{"$f":"IFERROR(VLOOKUP(G114,IF(G114=3165,AL$2:AM$2,ESG!A$2:D$54),IF(G114=3165,2,4),0),0)","v":0},{"$f":"IF(Timesheet!P114>0,Timesheet!G114,\"\")","v":""},{"$f":"IF(Timesheet!P114>0,Timesheet!J114,\"\")","v":""},"",{"$f":"IFERROR(VLOOKUP(K114,IF(K114=3165,AL$2:AM$2,ESG!A$2:E$54),IF(K114=3165,2,5),0),0)","v":0},{"$f":"IF(Timesheet!R114>0,Timesheet!G114,\"\")","v":""},{"$f":"IF(Timesheet!R114>0,Timesheet!J114,\"\")","v":""},{"$f":"IFERROR(VLOOKUP(M114,ESG!M$2:N$13,2,FALSE),N114)","v":""},{"$f":"IFERROR(VLOOKUP(O114,IF(O114=3165,AL$2:AM$2,ESG!A$2:F$54),IF(O114=3165,2,6),0),0)","v":0},{"$f":"IF(Timesheet!T114>0,Timesheet!G114,\"\")","v":""},{"$f":"IF(Timesheet!T114>0,Timesheet!J114,\"\")","v":""},{"$f":"IFERROR(VLOOKUP(Q114,ESG!M$2:N$13,2,FALSE),R114)","v":""},{"$f":"IFERROR(VLOOKUP(S114,IF(S114=3165,AL$2:AM$2,ESG!A$2:G$54),IF(S114=3165,2,7),0),0)","v":0},{"$f":"IF(Timesheet!V114>0,Timesheet!G114,\"\")","v":""},{"$f":"IF(Timesheet!V114>0,Timesheet!J114,\"\")","v":""},{"$f":"IFERROR(VLOOKUP(U114,ESG!M$2:N$13,2,FALSE),V114)","v":""},{"$f":"IFERROR(VLOOKUP(W114,IF(W114=3165,AL$2:AM$2,ESG!A$2:H$54),IF(W114=3165,2,8),0),0)","v":0},{"$f":"IF(Timesheet!X114>0,Timesheet!G114,\"\")","v":""},{"$f":"IF(Timesheet!X114>0,Timesheet!J114,\"\")","v":""},"",{"$f":"IFERROR(VLOOKUP(AA114,IF(AA114=3165,AL$2:AM$2,ESG!A$2:I$54),IF(AA114=3165,2,9),0),0)","v":0},{"$f":"IF(Timesheet!Z114>0,Timesheet!G114,\"\")","v":""},{"$f":"IF(Timesheet!Z114>0,Timesheet!J114,\"\")","v":""},"",{"$f":"IFERROR(VLOOKUP(AE114,IF(AE114=3165,AL$2:AM$2,ESG!A$2:J$54),IF(AE114=3165,2,10),0),0)","v":0},{"$f":"IF(Timesheet!AB114>0,Timesheet!G114,\"\")","v":""},{"$f":"IF(Timesheet!AB114>0,Timesheet!J114,\"\")","v":""},"",{"$f":"IFERROR(VLOOKUP(AI114,IF(AI114=3165,AL$2:AM$2,ESG!A$2:K$54),IF(AI114=3165,2,11),0),0)","v":0}]
[{"$f":"IF(Timesheet!L115>0,Timesheet!G115,\"\")","v":""},{"$f":"IF(Timesheet!L115>0,Timesheet!J115,\"\")","v":""},"",{"$f":"IFERROR(VLOOKUP(C115,IF(C115=3165,AL$2:AM$2,ESG!A$2:C$54),IF(C115=3165,2,3),0),0)","v":0},{"$f":"IF(Timesheet!N115>0,Timesheet!G115,\"\")","v":""},{"$f":"IF(Timesheet!N115>0,Timesheet!J115,\"\")","v":""},"",{"$f":"IFERROR(VLOOKUP(G115,IF(G115=3165,AL$2:AM$2,ESG!A$2:D$54),IF(G115=3165,2,4),0),0)","v":0},{"$f":"IF(Timesheet!P115>0,Timesheet!G115,\"\")","v":""},{"$f":"IF(Timesheet!P115>0,Timesheet!J115,\"\")","v":""},"",{"$f":"IFERROR(VLOOKUP(K115,IF(K115=3165,AL$2:AM$2,ESG!A$2:E$54),IF(K115=3165,2,5),0),0)","v":0},{"$f":"IF(Timesheet!R115>0,Timesheet!G115,\"\")","v":""},{"$f":"IF(Timesheet!R115>0,Timesheet!J115,\"\")","v":""},{"$f":"IFERROR(VLOOKUP(M115,ESG!M$2:N$13,2,FALSE),N115)","v":""},{"$f":"IFERROR(VLOOKUP(O115,IF(O115=3165,AL$2:AM$2,ESG!A$2:F$54),IF(O115=3165,2,6),0),0)","v":0},{"$f":"IF(Timesheet!T115>0,Timesheet!G115,\"\")","v":""},{"$f":"IF(Timesheet!T115>0,Timesheet!J115,\"\")","v":""},{"$f":"IFERROR(VLOOKUP(Q115,ESG!M$2:N$13,2,FALSE),R115)","v":""},{"$f":"IFERROR(VLOOKUP(S115,IF(S115=3165,AL$2:AM$2,ESG!A$2:G$54),IF(S115=3165,2,7),0),0)","v":0},{"$f":"IF(Timesheet!V115>0,Timesheet!G115,\"\")","v":""},{"$f":"IF(Timesheet!V115>0,Timesheet!J115,\"\")","v":""},{"$f":"IFERROR(VLOOKUP(U115,ESG!M$2:N$13,2,FALSE),V115)","v":""},{"$f":"IFERROR(VLOOKUP(W115,IF(W115=3165,AL$2:AM$2,ESG!A$2:H$54),IF(W115=3165,2,8),0),0)","v":0},{"$f":"IF(Timesheet!X115>0,Timesheet!G115,\"\")","v":""},{"$f":"IF(Timesheet!X115>0,Timesheet!J115,\"\")","v":""},"",{"$f":"IFERROR(VLOOKUP(AA115,IF(AA115=3165,AL$2:AM$2,ESG!A$2:I$54),IF(AA115=3165,2,9),0),0)","v":0},{"$f":"IF(Timesheet!Z115>0,Timesheet!G115,\"\")","v":""},{"$f":"IF(Timesheet!Z115>0,Timesheet!J115,\"\")","v":""},"",{"$f":"IFERROR(VLOOKUP(AE115,IF(AE115=3165,AL$2:AM$2,ESG!A$2:J$54),IF(AE115=3165,2,10),0),0)","v":0},{"$f":"IF(Timesheet!AB115>0,Timesheet!G115,\"\")","v":""},{"$f":"IF(Timesheet!AB115>0,Timesheet!J115,\"\")","v":""},"",{"$f":"IFERROR(VLOOKUP(AI115,IF(AI115=3165,AL$2:AM$2,ESG!A$2:K$54),IF(AI115=3165,2,11),0),0)","v":0}]
[{"$f":"IF(Timesheet!L116>0,Timesheet!G116,\"\")","v":""},{"$f":"IF(Timesheet!L116>0,Timesheet!J116,\"\")","v":""},"",{"$f":"IFERROR(VLOOKUP(C116,IF(C116=3165,AL$2:AM$2,ESG!A$2:C$54),IF(C116=3165,2,3),0),0)","v":0},{"$f":"IF(Timesheet!N116>0,Timesheet!G116,\"\")","v":""},{"$f":"IF(Timesheet!N116>0,Timesheet!J116,\"\")","v":""},"",{"$f":"IFERROR(VLOOKUP(G116,IF(G116=3165,AL$2:AM$2,ESG!A$2:D$54),IF(G116=3165,2,4),0),0)","v":0},{"$f":"IF(Timesheet!P116>0,Timesheet!G116,\"\")","v":""},{"$f":"IF(Timesheet!P116>0,Timesheet!J116,\"\")","v":""},"",{"$f":"IFERROR(VLOOKUP(K116,IF(K116=3165,AL$2:AM$2,ESG!A$2:E$54),IF(K116=3165,2,5),0),0)","v":0},{"$f":"IF(Timesheet!R116>0,Timesheet!G116,\"\")","v":""},{"$f":"IF(Timesheet!R116>0,Timesheet!J116,\"\")","v":""},{"$f":"IFERROR(VLOOKUP(M116,ESG!M$2:N$13,2,FALSE),N116)","v":""},{"$f":"IFERROR(VLOOKUP(O116,IF(O116=3165,AL$2:AM$2,ESG!A$2:F$54),IF(O116=3165,2,6),0),0)","v":0},{"$f":"IF(Timesheet!T116>0,Timesheet!G116,\"\")","v":""},{"$f":"IF(Timesheet!T116>0,Timesheet!J116,\"\")","v":""},{"$f":"IFERROR(VLOOKUP(Q116,ESG!M$2:N$13,2,FALSE),R116)","v":""},{"$f":"IFERROR(VLOOKUP(S116,IF(S116=3165,AL$2:AM$2,ESG!A$2:G$54),IF(S116=3165,2,7),0),0)","v":0},{"$f":"IF(Timesheet!V116>0,Timesheet!G116,\"\")","v":""},{"$f":"IF(Timesheet!V116>0,Timesheet!J116,\"\")","v":""},{"$f":"IFERROR(VLOOKUP(U116,ESG!M$2:N$13,2,FALSE),V116)","v":""},{"$f":"IFERROR(VLOOKUP(W116,IF(W116=3165,AL$2:AM$2,ESG!A$2:H$54),IF(W116=3165,2,8),0),0)","v":0},{"$f":"IF(Timesheet!X116>0,Timesheet!G116,\"\")","v":""},{"$f":"IF(Timesheet!X116>0,Timesheet!J116,\"\")","v":""},"",{"$f":"IFERROR(VLOOKUP(AA116,IF(AA116=3165,AL$2:AM$2,ESG!A$2:I$54),IF(AA116=3165,2,9),0),0)","v":0},{"$f":"IF(Timesheet!Z116>0,Timesheet!G116,\"\")","v":""},{"$f":"IF(Timesheet!Z116>0,Timesheet!J116,\"\")","v":""},"",{"$f":"IFERROR(VLOOKUP(AE116,IF(AE116=3165,AL$2:AM$2,ESG!A$2:J$54),IF(AE116=3165,2,10),0),0)","v":0},{"$f":"IF(Timesheet!AB116>0,Timesheet!G116,\"\")","v":""},{"$f":"IF(Timesheet!AB116>0,Timesheet!J116,\"\")","v":""},"",{"$f":"IFERROR(VLOOKUP(AI116,IF(AI116=3165,AL$2:AM$2,ESG!A$2:K$54),IF(AI116=3165,2,11),0),0)","v":0}]
[{"$f":"IF(Timesheet!L117>0,Timesheet!G117,\"\")","v":""},{"$f":"IF(Timesheet!L117>0,Timesheet!J117,\"\")","v":""},"",{"$f":"IFERROR(VLOOKUP(C117,IF(C117=3165,AL$2:AM$2,ESG!A$2:C$54),IF(C117=3165,2,3),0),0)","v":0},{"$f":"IF(Timesheet!N117>0,Timesheet!G117,\"\")","v":""},{"$f":"IF(Timesheet!N117>0,Timesheet!J117,\"\")","v":""},"",{"$f":"IFERROR(VLOOKUP(G117,IF(G117=3165,AL$2:AM$2,ESG!A$2:D$54),IF(G117=3165,2,4),0),0)","v":0},{"$f":"IF(Timesheet!P117>0,Timesheet!G117,\"\")","v":""},{"$f":"IF(Timesheet!P117>0,Timesheet!J117,\"\")","v":""},"",{"$f":"IFERROR(VLOOKUP(K117,IF(K117=3165,AL$2:AM$2,ESG!A$2:E$54),IF(K117=3165,2,5),0),0)","v":0},{"$f":"IF(Timesheet!R117>0,Timesheet!G117,\"\")","v":""},{"$f":"IF(Timesheet!R117>0,Timesheet!J117,\"\")","v":""},{"$f":"IFERROR(VLOOKUP(M117,ESG!M$2:N$13,2,FALSE),N117)","v":""},{"$f":"IFERROR(VLOOKUP(O117,IF(O117=3165,AL$2:AM$2,ESG!A$2:F$54),IF(O117=3165,2,6),0),0)","v":0},{"$f":"IF(Timesheet!T117>0,Timesheet!G117,\"\")","v":""},{"$f":"IF(Timesheet!T117>0,Timesheet!J117,\"\")","v":""},{"$f":"IFERROR(VLOOKUP(Q117,ESG!M$2:N$13,2,FALSE),R117)","v":""},{"$f":"IFERROR(VLOOKUP(S117,IF(S117=3165,AL$2:AM$2,ESG!A$2:G$54),IF(S117=3165,2,7),0),0)","v":0},{"$f":"IF(Timesheet!V117>0,Timesheet!G117,\"\")","v":""},{"$f":"IF(Timesheet!V117>0,Timesheet!J117,\"\")","v":""},{"$f":"IFERROR(VLOOKUP(U117,ESG!M$2:N$13,2,FALSE),V117)","v":""},{"$f":"IFERROR(VLOOKUP(W117,IF(W117=3165,AL$2:AM$2,ESG!A$2:H$54),IF(W117=3165,2,8),0),0)","v":0},{"$f":"IF(Timesheet!X117>0,Timesheet!G117,\"\")","v":""},{"$f":"IF(Timesheet!X117>0,Timesheet!J117,\"\")","v":""},"",{"$f":"IFERROR(VLOOKUP(AA117,IF(AA117=3165,AL$2:AM$2,ESG!A$2:I$54),IF(AA117=3165,2,9),0),0)","v":0},{"$f":"IF(Timesheet!Z117>0,Timesheet!G117,\"\")","v":""},{"$f":"IF(Timesheet!Z117>0,Timesheet!J117,\"\")","v":""},"",{"$f":"IFERROR(VLOOKUP(AE117,IF(AE117=3165,AL$2:AM$2,ESG!A$2:J$54),IF(AE117=3165,2,10),0),0)","v":0},{"$f":"IF(Timesheet!AB117>0,Timesheet!G117,\"\")","v":""},{"$f":"IF(Timesheet!AB117>0,Timesheet!J117,\"\")","v":""},"",{"$f":"IFERROR(VLOOKUP(AI117,IF(AI117=3165,AL$2:AM$2,ESG!A$2:K$54),IF(AI117=3165,2,11),0),0)","v":0}]
[{"$f":"IF(Timesheet!L118>0,Timesheet!G118,\"\")","v":""},{"$f":"IF(Timesheet!L118>0,Timesheet!J118,\"\")","v":""},"",{"$f":"IFERROR(VLOOKUP(C118,IF(C118=3165,AL$2:AM$2,ESG!A$2:C$54),IF(C118=3165,2,3),0),0)","v":0},{"$f":"IF(Timesheet!N118>0,Timesheet!G118,\"\")","v":""},{"$f":"IF(Timesheet!N118>0,Timesheet!J118,\"\")","v":""},"",{"$f":"IFERROR(VLOOKUP(G118,IF(G118=3165,AL$2:AM$2,ESG!A$2:D$54),IF(G118=3165,2,4),0),0)","v":0},{"$f":"IF(Timesheet!P118>0,Timesheet!G118,\"\")","v":""},{"$f":"IF(Timesheet!P118>0,Timesheet!J118,\"\")","v":""},"",{"$f":"IFERROR(VLOOKUP(K118,IF(K118=3165,AL$2:AM$2,ESG!A$2:E$54),IF(K118=3165,2,5),0),0)","v":0},{"$f":"IF(Timesheet!R118>0,Timesheet!G118,\"\")","v":""},{"$f":"IF(Timesheet!R118>0,Timesheet!J118,\"\")","v":""},{"$f":"IFERROR(VLOOKUP(M118,ESG!M$2:N$13,2,FALSE),N118)","v":""},{"$f":"IFERROR(VLOOKUP(O118,IF(O118=3165,AL$2:AM$2,ESG!A$2:F$54),IF(O118=3165,2,6),0),0)","v":0},{"$f":"IF(Timesheet!T118>0,Timesheet!G118,\"\")","v":""},{"$f":"IF(Timesheet!T118>0,Timesheet!J118,\"\")","v":""},{"$f":"IFERROR(VLOOKUP(Q118,ESG!M$2:N$13,2,FALSE),R118)","v":""},{"$f":"IFERROR(VLOOKUP(S118,IF(S118=3165,AL$2:AM$2,ESG!A$2:G$54),IF(S118=3165,2,7),0),0)","v":0},{"$f":"IF(Timesheet!V118>0,Timesheet!G118,\"\")","v":""},{"$f":"IF(Timesheet!V118>0,Timesheet!J118,\"\")","v":""},{"$f":"IFERROR(VLOOKUP(U118,ESG!M$2:N$13,2,FALSE),V118)","v":""},{"$f":"IFERROR(VLOOKUP(W118,IF(W118=3165,AL$2:AM$2,ESG!A$2:H$54),IF(W118=3165,2,8),0),0)","v":0},{"$f":"IF(Timesheet!X118>0,Timesheet!G118,\"\")","v":""},{"$f":"IF(Timesheet!X118>0,Timesheet!J118,\"\")","v":""},"",{"$f":"IFERROR(VLOOKUP(AA118,IF(AA118=3165,AL$2:AM$2,ESG!A$2:I$54),IF(AA118=3165,2,9),0),0)","v":0},{"$f":"IF(Timesheet!Z118>0,Timesheet!G118,\"\")","v":""},{"$f":"IF(Timesheet!Z118>0,Timesheet!J118,\"\")","v":""},"",{"$f":"IFERROR(VLOOKUP(AE118,IF(AE118=3165,AL$2:AM$2,ESG!A$2:J$54),IF(AE118=3165,2,10),0),0)","v":0},{"$f":"IF(Timesheet!AB118>0,Timesheet!G118,\"\")","v":""},{"$f":"IF(Timesheet!AB118>0,Timesheet!J118,\"\")","v":""},"",{"$f":"IFERROR(VLOOKUP(AI118,IF(AI118=3165,AL$2:AM$2,ESG!A$2:K$54),IF(AI118=3165,2,11),0),0)","v":0}]
[{"$f":"IF(Timesheet!L119>0,Timesheet!G119,\"\")","v":""},{"$f":"IF(Timesheet!L119>0,Timesheet!J119,\"\")","v":""},"",{"$f":"IFERROR(VLOOKUP(C119,IF(C119=3165,AL$2:AM$2,ESG!A$2:C$54),IF(C119=3165,2,3),0),0)","v":0},{"$f":"IF(Timesheet!N119>0,Timesheet!G119,\"\")","v":""},{"$f":"IF(Timesheet!N119>0,Timesheet!J119,\"\")","v":""},"",{"$f":"IFERROR(VLOOKUP(G119,IF(G119=3165,AL$2:AM$2,ESG!A$2:D$54),IF(G119=3165,2,4),0),0)","v":0},{"$f":"IF(Timesheet!P119>0,Timesheet!G119,\"\")","v":""},{"$f":"IF(Timesheet!P119>0,Timesheet!J119,\"\")","v":""},"",{"$f":"IFERROR(VLOOKUP(K119,IF(K119=3165,AL$2:AM$2,ESG!A$2:E$54),IF(K119=3165,2,5),0),0)","v":0},{"$f":"IF(Timesheet!R119>0,Timesheet!G119,\"\")","v":""},{"$f":"IF(Timesheet!R119>0,Timesheet!J119,\"\")","v":""},{"$f":"IFERROR(VLOOKUP(M119,ESG!M$2:N$13,2,FALSE),N119)","v":""},{"$f":"IFERROR(VLOOKUP(O119,IF(O119=3165,AL$2:AM$2,ESG!A$2:F$54),IF(O119=3165,2,6),0),0)","v":0},{"$f":"IF(Timesheet!T119>0,Timesheet!G119,\"\")","v":""},{"$f":"IF(Timesheet!T119>0,Timesheet!J119,\"\")","v":""},{"$f":"IFERROR(VLOOKUP(Q119,ESG!M$2:N$13,2,FALSE),R119)","v":""},{"$f":"IFERROR(VLOOKUP(S119,IF(S119=3165,AL$2:AM$2,ESG!A$2:G$54),IF(S119=3165,2,7),0),0)","v":0},{"$f":"IF(Timesheet!V119>0,Timesheet!G119,\"\")","v":""},{"$f":"IF(Timesheet!V119>0,Timesheet!J119,\"\")","v":""},{"$f":"IFERROR(VLOOKUP(U119,ESG!M$2:N$13,2,FALSE),V119)","v":""},{"$f":"IFERROR(VLOOKUP(W119,IF(W119=3165,AL$2:AM$2,ESG!A$2:H$54),IF(W119=3165,2,8),0),0)","v":0},{"$f":"IF(Timesheet!X119>0,Timesheet!G119,\"\")","v":""},{"$f":"IF(Timesheet!X119>0,Timesheet!J119,\"\")","v":""},"",{"$f":"IFERROR(VLOOKUP(AA119,IF(AA119=3165,AL$2:AM$2,ESG!A$2:I$54),IF(AA119=3165,2,9),0),0)","v":0},{"$f":"IF(Timesheet!Z119>0,Timesheet!G119,\"\")","v":""},{"$f":"IF(Timesheet!Z119>0,Timesheet!J119,\"\")","v":""},"",{"$f":"IFERROR(VLOOKUP(AE119,IF(AE119=3165,AL$2:AM$2,ESG!A$2:J$54),IF(AE119=3165,2,10),0),0)","v":0},{"$f":"IF(Timesheet!AB119>0,Timesheet!G119,\"\")","v":""},{"$f":"IF(Timesheet!AB119>0,Timesheet!J119,\"\")","v":""},"",{"$f":"IFERROR(VLOOKUP(AI119,IF(AI119=3165,AL$2:AM$2,ESG!A$2:K$54),IF(AI119=3165,2,11),0),0)","v":0}]
[{"$f":"IF(Timesheet!L120>0,Timesheet!G120,\"\")","v":""},{"$f":"IF(Timesheet!L120>0,Timesheet!J120,\"\")","v":""},"",{"$f":"IFERROR(VLOOKUP(C120,IF(C120=3165,AL$2:AM$2,ESG!A$2:C$54),IF(C120=3165,2,3),0),0)","v":0},{"$f":"IF(Timesheet!N120>0,Timesheet!G120,\"\")","v":""},{"$f":"IF(Timesheet!N120>0,Timesheet!J120,\"\")","v":""},"",{"$f":"IFERROR(VLOOKUP(G120,IF(G120=3165,AL$2:AM$2,ESG!A$2:D$54),IF(G120=3165,2,4),0),0)","v":0},{"$f":"IF(Timesheet!P120>0,Timesheet!G120,\"\")","v":""},{"$f":"IF(Timesheet!P120>0,Timesheet!J120,\"\")","v":""},"",{"$f":"IFERROR(VLOOKUP(K120,IF(K120=3165,AL$2:AM$2,ESG!A$2:E$54),IF(K120=3165,2,5),0),0)","v":0},{"$f":"IF(Timesheet!R120>0,Timesheet!G120,\"\")","v":""},{"$f":"IF(Timesheet!R120>0,Timesheet!J120,\"\")","v":""},{"$f":"IFERROR(VLOOKUP(M120,ESG!M$2:N$13,2,FALSE),N120)","v":""},{"$f":"IFERROR(VLOOKUP(O120,IF(O120=3165,AL$2:AM$2,ESG!A$2:F$54),IF(O120=3165,2,6),0),0)","v":0},{"$f":"IF(Timesheet!T120>0,Timesheet!G120,\"\")","v":""},{"$f":"IF(Timesheet!T120>0,Timesheet!J120,\"\")","v":""},{"$f":"IFERROR(VLOOKUP(Q120,ESG!M$2:N$13,2,FALSE),R120)","v":""},{"$f":"IFERROR(VLOOKUP(S120,IF(S120=3165,AL$2:AM$2,ESG!A$2:G$54),IF(S120=3165,2,7),0),0)","v":0},{"$f":"IF(Timesheet!V120>0,Timesheet!G120,\"\")","v":""},{"$f":"IF(Timesheet!V120>0,Timesheet!J120,\"\")","v":""},{"$f":"IFERROR(VLOOKUP(U120,ESG!M$2:N$13,2,FALSE),V120)","v":""},{"$f":"IFERROR(VLOOKUP(W120,IF(W120=3165,AL$2:AM$2,ESG!A$2:H$54),IF(W120=3165,2,8),0),0)","v":0},{"$f":"IF(Timesheet!X120>0,Timesheet!G120,\"\")","v":""},{"$f":"IF(Timesheet!X120>0,Timesheet!J120,\"\")","v":""},"",{"$f":"IFERROR(VLOOKUP(AA120,IF(AA120=3165,AL$2:AM$2,ESG!A$2:I$54),IF(AA120=3165,2,9),0),0)","v":0},{"$f":"IF(Timesheet!Z120>0,Timesheet!G120,\"\")","v":""},{"$f":"IF(Timesheet!Z120>0,Timesheet!J120,\"\")","v":""},"",{"$f":"IFERROR(VLOOKUP(AE120,IF(AE120=3165,AL$2:AM$2,ESG!A$2:J$54),IF(AE120=3165,2,10),0),0)","v":0},{"$f":"IF(Timesheet!AB120>0,Timesheet!G120,\"\")","v":""},{"$f":"IF(Timesheet!AB120>0,Timesheet!J120,\"\")","v":""},"",{"$f":"IFERROR(VLOOKUP(AI120,IF(AI120=3165,AL$2:AM$2,ESG!A$2:K$54),IF(AI120=3165,2,11),0),0)","v":0}]
[{"$f":"IF(Timesheet!L121>0,Timesheet!G121,\"\")","v":""},{"$f":"IF(Timesheet!L121>0,Timesheet!J121,\"\")","v":""},"",{"$f":"IFERROR(VLOOKUP(C121,IF(C121=3165,AL$2:AM$2,ESG!A$2:C$54),IF(C121=3165,2,3),0),0)","v":0},{"$f":"IF(Timesheet!N121>0,Timesheet!G121,\"\")","v":""},{"$f":"IF(Timesheet!N121>0,Timesheet!J121,\"\")","v":""},"",{"$f":"IFERROR(VLOOKUP(G121,IF(G121=3165,AL$2:AM$2,ESG!A$2:D$54),IF(G121=3165,2,4),0),0)","v":0},{"$f":"IF(Timesheet!P121>0,Timesheet!G121,\"\")","v":""},{"$f":"IF(Timesheet!P121>0,Timesheet!J121,\"\")","v":""},"",{"$f":"IFERROR(VLOOKUP(K121,IF(K121=3165,AL$2:AM$2,ESG!A$2:E$54),IF(K121=3165,2,5),0),0)","v":0},{"$f":"IF(Timesheet!R121>0,Timesheet!G121,\"\")","v":""},{"$f":"IF(Timesheet!R121>0,Timesheet!J121,\"\")","v":""},{"$f":"IFERROR(VLOOKUP(M121,ESG!M$2:N$13,2,FALSE),N121)","v":""},{"$f":"IFERROR(VLOOKUP(O121,IF(O121=3165,AL$2:AM$2,ESG!A$2:F$54),IF(O121=3165,2,6),0),0)","v":0},{"$f":"IF(Timesheet!T121>0,Timesheet!G121,\"\")","v":""},{"$f":"IF(Timesheet!T121>0,Timesheet!J121,\"\")","v":""},{"$f":"IFERROR(VLOOKUP(Q121,ESG!M$2:N$13,2,FALSE),R121)","v":""},{"$f":"IFERROR(VLOOKUP(S121,IF(S121=3165,AL$2:AM$2,ESG!A$2:G$54),IF(S121=3165,2,7),0),0)","v":0},{"$f":"IF(Timesheet!V121>0,Timesheet!G121,\"\")","v":""},{"$f":"IF(Timesheet!V121>0,Timesheet!J121,\"\")","v":""},{"$f":"IFERROR(VLOOKUP(U121,ESG!M$2:N$13,2,FALSE),V121)","v":""},{"$f":"IFERROR(VLOOKUP(W121,IF(W121=3165,AL$2:AM$2,ESG!A$2:H$54),IF(W121=3165,2,8),0),0)","v":0},{"$f":"IF(Timesheet!X121>0,Timesheet!G121,\"\")","v":""},{"$f":"IF(Timesheet!X121>0,Timesheet!J121,\"\")","v":""},"",{"$f":"IFERROR(VLOOKUP(AA121,IF(AA121=3165,AL$2:AM$2,ESG!A$2:I$54),IF(AA121=3165,2,9),0),0)","v":0},{"$f":"IF(Timesheet!Z121>0,Timesheet!G121,\"\")","v":""},{"$f":"IF(Timesheet!Z121>0,Timesheet!J121,\"\")","v":""},"",{"$f":"IFERROR(VLOOKUP(AE121,IF(AE121=3165,AL$2:AM$2,ESG!A$2:J$54),IF(AE121=3165,2,10),0),0)","v":0},{"$f":"IF(Timesheet!AB121>0,Timesheet!G121,\"\")","v":""},{"$f":"IF(Timesheet!AB121>0,Timesheet!J121,\"\")","v":""},"",{"$f":"IFERROR(VLOOKUP(AI121,IF(AI121=3165,AL$2:AM$2,ESG!A$2:K$54),IF(AI121=3165,2,11),0),0)","v":0}]
[{"$f":"IF(Timesheet!L122>0,Timesheet!G122,\"\")","v":""},{"$f":"IF(Timesheet!L122>0,Timesheet!J122,\"\")","v":""},"",{"$f":"IFERROR(VLOOKUP(C122,IF(C122=3165,AL$2:AM$2,ESG!A$2:C$54),IF(C122=3165,2,3),0),0)","v":0},{"$f":"IF(Timesheet!N122>0,Timesheet!G122,\"\")","v":""},{"$f":"IF(Timesheet!N122>0,Timesheet!J122,\"\")","v":""},"",{"$f":"IFERROR(VLOOKUP(G122,IF(G122=3165,AL$2:AM$2,ESG!A$2:D$54),IF(G122=3165,2,4),0),0)","v":0},{"$f":"IF(Timesheet!P122>0,Timesheet!G122,\"\")","v":""},{"$f":"IF(Timesheet!P122>0,Timesheet!J122,\"\")","v":""},"",{"$f":"IFERROR(VLOOKUP(K122,IF(K122=3165,AL$2:AM$2,ESG!A$2:E$54),IF(K122=3165,2,5),0),0)","v":0},{"$f":"IF(Timesheet!R122>0,Timesheet!G122,\"\")","v":""},{"$f":"IF(Timesheet!R122>0,Timesheet!J122,\"\")","v":""},{"$f":"IFERROR(VLOOKUP(M122,ESG!M$2:N$13,2,FALSE),N122)","v":""},{"$f":"IFERROR(VLOOKUP(O122,IF(O122=3165,AL$2:AM$2,ESG!A$2:F$54),IF(O122=3165,2,6),0),0)","v":0},{"$f":"IF(Timesheet!T122>0,Timesheet!G122,\"\")","v":""},{"$f":"IF(Timesheet!T122>0,Timesheet!J122,\"\")","v":""},{"$f":"IFERROR(VLOOKUP(Q122,ESG!M$2:N$13,2,FALSE),R122)","v":""},{"$f":"IFERROR(VLOOKUP(S122,IF(S122=3165,AL$2:AM$2,ESG!A$2:G$54),IF(S122=3165,2,7),0),0)","v":0},{"$f":"IF(Timesheet!V122>0,Timesheet!G122,\"\")","v":""},{"$f":"IF(Timesheet!V122>0,Timesheet!J122,\"\")","v":""},{"$f":"IFERROR(VLOOKUP(U122,ESG!M$2:N$13,2,FALSE),V122)","v":""},{"$f":"IFERROR(VLOOKUP(W122,IF(W122=3165,AL$2:AM$2,ESG!A$2:H$54),IF(W122=3165,2,8),0),0)","v":0},{"$f":"IF(Timesheet!X122>0,Timesheet!G122,\"\")","v":""},{"$f":"IF(Timesheet!X122>0,Timesheet!J122,\"\")","v":""},"",{"$f":"IFERROR(VLOOKUP(AA122,IF(AA122=3165,AL$2:AM$2,ESG!A$2:I$54),IF(AA122=3165,2,9),0),0)","v":0},{"$f":"IF(Timesheet!Z122>0,Timesheet!G122,\"\")","v":""},{"$f":"IF(Timesheet!Z122>0,Timesheet!J122,\"\")","v":""},"",{"$f":"IFERROR(VLOOKUP(AE122,IF(AE122=3165,AL$2:AM$2,ESG!A$2:J$54),IF(AE122=3165,2,10),0),0)","v":0},{"$f":"IF(Timesheet!AB122>0,Timesheet!G122,\"\")","v":""},{"$f":"IF(Timesheet!AB122>0,Timesheet!J122,\"\")","v":""},"",{"$f":"IFERROR(VLOOKUP(AI122,IF(AI122=3165,AL$2:AM$2,ESG!A$2:K$54),IF(AI122=3165,2,11),0),0)","v":0}]
[{"$f":"IF(Timesheet!L123>0,Timesheet!G123,\"\")","v":""},{"$f":"IF(Timesheet!L123>0,Timesheet!J123,\"\")","v":""},"",{"$f":"IFERROR(VLOOKUP(C123,IF(C123=3165,AL$2:AM$2,ESG!A$2:C$54),IF(C123=3165,2,3),0),0)","v":0},{"$f":"IF(Timesheet!N123>0,Timesheet!G123,\"\")","v":""},{"$f":"IF(Timesheet!N123>0,Timesheet!J123,\"\")","v":""},"",{"$f":"IFERROR(VLOOKUP(G123,IF(G123=3165,AL$2:AM$2,ESG!A$2:D$54),IF(G123=3165,2,4),0),0)","v":0},{"$f":"IF(Timesheet!P123>0,Timesheet!G123,\"\")","v":""},{"$f":"IF(Timesheet!P123>0,Timesheet!J123,\"\")","v":""},"",{"$f":"IFERROR(VLOOKUP(K123,IF(K123=3165,AL$2:AM$2,ESG!A$2:E$54),IF(K123=3165,2,5),0),0)","v":0},{"$f":"IF(Timesheet!R123>0,Timesheet!G123,\"\")","v":""},{"$f":"IF(Timesheet!R123>0,Timesheet!J123,\"\")","v":""},{"$f":"IFERROR(VLOOKUP(M123,ESG!M$2:N$13,2,FALSE),N123)","v":""},{"$f":"IFERROR(VLOOKUP(O123,IF(O123=3165,AL$2:AM$2,ESG!A$2:F$54),IF(O123=3165,2,6),0),0)","v":0},{"$f":"IF(Timesheet!T123>0,Timesheet!G123,\"\")","v":""},{"$f":"IF(Timesheet!T123>0,Timesheet!J123,\"\")","v":""},{"$f":"IFERROR(VLOOKUP(Q123,ESG!M$2:N$13,2,FALSE),R123)","v":""},{"$f":"IFERROR(VLOOKUP(S123,IF(S123=3165,AL$2:AM$2,ESG!A$2:G$54),IF(S123=3165,2,7),0),0)","v":0},{"$f":"IF(Timesheet!V123>0,Timesheet!G123,\"\")","v":""},{"$f":"IF(Timesheet!V123>0,Timesheet!J123,\"\")","v":""},{"$f":"IFERROR(VLOOKUP(U123,ESG!M$2:N$13,2,FALSE),V123)","v":""},{"$f":"IFERROR(VLOOKUP(W123,IF(W123=3165,AL$2:AM$2,ESG!A$2:H$54),IF(W123=3165,2,8),0),0)","v":0},{"$f":"IF(Timesheet!X123>0,Timesheet!G123,\"\")","v":""},{"$f":"IF(Timesheet!X123>0,Timesheet!J123,\"\")","v":""},"",{"$f":"IFERROR(VLOOKUP(AA123,IF(AA123=3165,AL$2:AM$2,ESG!A$2:I$54),IF(AA123=3165,2,9),0),0)","v":0},{"$f":"IF(Timesheet!Z123>0,Timesheet!G123,\"\")","v":""},{"$f":"IF(Timesheet!Z123>0,Timesheet!J123,\"\")","v":""},"",{"$f":"IFERROR(VLOOKUP(AE123,IF(AE123=3165,AL$2:AM$2,ESG!A$2:J$54),IF(AE123=3165,2,10),0),0)","v":0},{"$f":"IF(Timesheet!AB123>0,Timesheet!G123,\"\")","v":""},{"$f":"IF(Timesheet!AB123>0,Timesheet!J123,\"\")","v":""},"",{"$f":"IFERROR(VLOOKUP(AI123,IF(AI123=3165,AL$2:AM$2,ESG!A$2:K$54),IF(AI123=3165,2,11),0),0)","v":0}]
[{"$f":"IF(Timesheet!L124>0,Timesheet!G124,\"\")","v":""},{"$f":"IF(Timesheet!L124>0,Timesheet!J124,\"\")","v":""},"",{"$f":"IFERROR(VLOOKUP(C124,IF(C124=3165,AL$2:AM$2,ESG!A$2:C$54),IF(C124=3165,2,3),0),0)","v":0},{"$f":"IF(Timesheet!N124>0,Timesheet!G124,\"\")","v":""},{"$f":"IF(Timesheet!N124>0,Timesheet!J124,\"\")","v":""},"",{"$f":"IFERROR(VLOOKUP(G124,IF(G124=3165,AL$2:AM$2,ESG!A$2:D$54),IF(G124=3165,2,4),0),0)","v":0},{"$f":"IF(Timesheet!P124>0,Timesheet!G124,\"\")","v":""},{"$f":"IF(Timesheet!P124>0,Timesheet!J124,\"\")","v":""},"",{"$f":"IFERROR(VLOOKUP(K124,IF(K124=3165,AL$2:AM$2,ESG!A$2:E$54),IF(K124=3165,2,5),0),0)","v":0},{"$f":"IF(Timesheet!R124>0,Timesheet!G124,\"\")","v":""},{"$f":"IF(Timesheet!R124>0,Timesheet!J124,\"\")","v":""},{"$f":"IFERROR(VLOOKUP(M124,ESG!M$2:N$13,2,FALSE),N124)","v":""},{"$f":"IFERROR(VLOOKUP(O124,IF(O124=3165,AL$2:AM$2,ESG!A$2:F$54),IF(O124=3165,2,6),0),0)","v":0},{"$f":"IF(Timesheet!T124>0,Timesheet!G124,\"\")","v":""},{"$f":"IF(Timesheet!T124>0,Timesheet!J124,\"\")","v":""},{"$f":"IFERROR(VLOOKUP(Q124,ESG!M$2:N$13,2,FALSE),R124)","v":""},{"$f":"IFERROR(VLOOKUP(S124,IF(S124=3165,AL$2:AM$2,ESG!A$2:G$54),IF(S124=3165,2,7),0),0)","v":0},{"$f":"IF(Timesheet!V124>0,Timesheet!G124,\"\")","v":""},{"$f":"IF(Timesheet!V124>0,Timesheet!J124,\"\")","v":""},{"$f":"IFERROR(VLOOKUP(U124,ESG!M$2:N$13,2,FALSE),V124)","v":""},{"$f":"IFERROR(VLOOKUP(W124,IF(W124=3165,AL$2:AM$2,ESG!A$2:H$54),IF(W124=3165,2,8),0),0)","v":0},{"$f":"IF(Timesheet!X124>0,Timesheet!G124,\"\")","v":""},{"$f":"IF(Timesheet!X124>0,Timesheet!J124,\"\")","v":""},"",{"$f":"IFERROR(VLOOKUP(AA124,IF(AA124=3165,AL$2:AM$2,ESG!A$2:I$54),IF(AA124=3165,2,9),0),0)","v":0},{"$f":"IF(Timesheet!Z124>0,Timesheet!G124,\"\")","v":""},{"$f":"IF(Timesheet!Z124>0,Timesheet!J124,\"\")","v":""},"",{"$f":"IFERROR(VLOOKUP(AE124,IF(AE124=3165,AL$2:AM$2,ESG!A$2:J$54),IF(AE124=3165,2,10),0),0)","v":0},{"$f":"IF(Timesheet!AB124>0,Timesheet!G124,\"\")","v":""},{"$f":"IF(Timesheet!AB124>0,Timesheet!J124,\"\")","v":""},"",{"$f":"IFERROR(VLOOKUP(AI124,IF(AI124=3165,AL$2:AM$2,ESG!A$2:K$54),IF(AI124=3165,2,11),0),0)","v":0}]
[{"$f":"IF(Timesheet!L125>0,Timesheet!G125,\"\")","v":""},{"$f":"IF(Timesheet!L125>0,Timesheet!J125,\"\")","v":""},"",{"$f":"IFERROR(VLOOKUP(C125,IF(C125=3165,AL$2:AM$2,ESG!A$2:C$54),IF(C125=3165,2,3),0),0)","v":0},{"$f":"IF(Timesheet!N125>0,Timesheet!G125,\"\")","v":""},{"$f":"IF(Timesheet!N125>0,Timesheet!J125,\"\")","v":""},"",{"$f":"IFERROR(VLOOKUP(G125,IF(G125=3165,AL$2:AM$2,ESG!A$2:D$54),IF(G125=3165,2,4),0),0)","v":0},{"$f":"IF(Timesheet!P125>0,Timesheet!G125,\"\")","v":""},{"$f":"IF(Timesheet!P125>0,Timesheet!J125,\"\")","v":""},"",{"$f":"IFERROR(VLOOKUP(K125,IF(K125=3165,AL$2:AM$2,ESG!A$2:E$54),IF(K125=3165,2,5),0),0)","v":0},{"$f":"IF(Timesheet!R125>0,Timesheet!G125,\"\")","v":""},{"$f":"IF(Timesheet!R125>0,Timesheet!J125,\"\")","v":""},{"$f":"IFERROR(VLOOKUP(M125,ESG!M$2:N$13,2,FALSE),N125)","v":""},{"$f":"IFERROR(VLOOKUP(O125,IF(O125=3165,AL$2:AM$2,ESG!A$2:F$54),IF(O125=3165,2,6),0),0)","v":0},{"$f":"IF(Timesheet!T125>0,Timesheet!G125,\"\")","v":""},{"$f":"IF(Timesheet!T125>0,Timesheet!J125,\"\")","v":""},{"$f":"IFERROR(VLOOKUP(Q125,ESG!M$2:N$13,2,FALSE),R125)","v":""},{"$f":"IFERROR(VLOOKUP(S125,IF(S125=3165,AL$2:AM$2,ESG!A$2:G$54),IF(S125=3165,2,7),0),0)","v":0},{"$f":"IF(Timesheet!V125>0,Timesheet!G125,\"\")","v":""},{"$f":"IF(Timesheet!V125>0,Timesheet!J125,\"\")","v":""},{"$f":"IFERROR(VLOOKUP(U125,ESG!M$2:N$13,2,FALSE),V125)","v":""},{"$f":"IFERROR(VLOOKUP(W125,IF(W125=3165,AL$2:AM$2,ESG!A$2:H$54),IF(W125=3165,2,8),0),0)","v":0},{"$f":"IF(Timesheet!X125>0,Timesheet!G125,\"\")","v":""},{"$f":"IF(Timesheet!X125>0,Timesheet!J125,\"\")","v":""},"",{"$f":"IFERROR(VLOOKUP(AA125,IF(AA125=3165,AL$2:AM$2,ESG!A$2:I$54),IF(AA125=3165,2,9),0),0)","v":0},{"$f":"IF(Timesheet!Z125>0,Timesheet!G125,\"\")","v":""},{"$f":"IF(Timesheet!Z125>0,Timesheet!J125,\"\")","v":""},"",{"$f":"IFERROR(VLOOKUP(AE125,IF(AE125=3165,AL$2:AM$2,ESG!A$2:J$54),IF(AE125=3165,2,10),0),0)","v":0},{"$f":"IF(Timesheet!AB125>0,Timesheet!G125,\"\")","v":""},{"$f":"IF(Timesheet!AB125>0,Timesheet!J125,\"\")","v":""},"",{"$f":"IFERROR(VLOOKUP(AI125,IF(AI125=3165,AL$2:AM$2,ESG!A$2:K$54),IF(AI125=3165,2,11),0),0)","v":0}]
[{"$f":"IF(Timesheet!L126>0,Timesheet!G126,\"\")","v":""},{"$f":"IF(Timesheet!L126>0,Timesheet!J126,\"\")","v":""},"",{"$f":"IFERROR(VLOOKUP(C126,IF(C126=3165,AL$2:AM$2,ESG!A$2:C$54),IF(C126=3165,2,3),0),0)","v":0},{"$f":"IF(Timesheet!N126>0,Timesheet!G126,\"\")","v":""},{"$f":"IF(Timesheet!N126>0,Timesheet!J126,\"\")","v":""},"",{"$f":"IFERROR(VLOOKUP(G126,IF(G126=3165,AL$2:AM$2,ESG!A$2:D$54),IF(G126=3165,2,4),0),0)","v":0},{"$f":"IF(Timesheet!P126>0,Timesheet!G126,\"\")","v":""},{"$f":"IF(Timesheet!P126>0,Timesheet!J126,\"\")","v":""},"",{"$f":"IFERROR(VLOOKUP(K126,IF(K126=3165,AL$2:AM$2,ESG!A$2:E$54),IF(K126=3165,2,5),0),0)","v":0},{"$f":"IF(Timesheet!R126>0,Timesheet!G126,\"\")","v":""},{"$f":"IF(Timesheet!R126>0,Timesheet!J126,\"\")","v":""},{"$f":"IFERROR(VLOOKUP(M126,ESG!M$2:N$13,2,FALSE),N126)","v":""},{"$f":"IFERROR(VLOOKUP(O126,IF(O126=3165,AL$2:AM$2,ESG!A$2:F$54),IF(O126=3165,2,6),0),0)","v":0},{"$f":"IF(Timesheet!T126>0,Timesheet!G126,\"\")","v":""},{"$f":"IF(Timesheet!T126>0,Timesheet!J126,\"\")","v":""},{"$f":"IFERROR(VLOOKUP(Q126,ESG!M$2:N$13,2,FALSE),R126)","v":""},{"$f":"IFERROR(VLOOKUP(S126,IF(S126=3165,AL$2:AM$2,ESG!A$2:G$54),IF(S126=3165,2,7),0),0)","v":0},{"$f":"IF(Timesheet!V126>0,Timesheet!G126,\"\")","v":""},{"$f":"IF(Timesheet!V126>0,Timesheet!J126,\"\")","v":""},{"$f":"IFERROR(VLOOKUP(U126,ESG!M$2:N$13,2,FALSE),V126)","v":""},{"$f":"IFERROR(VLOOKUP(W126,IF(W126=3165,AL$2:AM$2,ESG!A$2:H$54),IF(W126=3165,2,8),0),0)","v":0},{"$f":"IF(Timesheet!X126>0,Timesheet!G126,\"\")","v":""},{"$f":"IF(Timesheet!X126>0,Timesheet!J126,\"\")","v":""},"",{"$f":"IFERROR(VLOOKUP(AA126,IF(AA126=3165,AL$2:AM$2,ESG!A$2:I$54),IF(AA126=3165,2,9),0),0)","v":0},{"$f":"IF(Timesheet!Z126>0,Timesheet!G126,\"\")","v":""},{"$f":"IF(Timesheet!Z126>0,Timesheet!J126,\"\")","v":""},"",{"$f":"IFERROR(VLOOKUP(AE126,IF(AE126=3165,AL$2:AM$2,ESG!A$2:J$54),IF(AE126=3165,2,10),0),0)","v":0},{"$f":"IF(Timesheet!AB126>0,Timesheet!G126,\"\")","v":""},{"$f":"IF(Timesheet!AB126>0,Timesheet!J126,\"\")","v":""},"",{"$f":"IFERROR(VLOOKUP(AI126,IF(AI126=3165,AL$2:AM$2,ESG!A$2:K$54),IF(AI126=3165,2,11),0),0)","v":0}]
[{"$f":"IF(Timesheet!L127>0,Timesheet!G127,\"\")","v":""},{"$f":"IF(Timesheet!L127>0,Timesheet!J127,\"\")","v":""},"",{"$f":"IFERROR(VLOOKUP(C127,IF(C127=3165,AL$2:AM$2,ESG!A$2:C$54),IF(C127=3165,2,3),0),0)","v":0},{"$f":"IF(Timesheet!N127>0,Timesheet!G127,\"\")","v":""},{"$f":"IF(Timesheet!N127>0,Timesheet!J127,\"\")","v":""},"",{"$f":"IFERROR(VLOOKUP(G127,IF(G127=3165,AL$2:AM$2,ESG!A$2:D$54),IF(G127=3165,2,4),0),0)","v":0},{"$f":"IF(Timesheet!P127>0,Timesheet!G127,\"\")","v":""},{"$f":"IF(Timesheet!P127>0,Timesheet!J127,\"\")","v":""},"",{"$f":"IFERROR(VLOOKUP(K127,IF(K127=3165,AL$2:AM$2,ESG!A$2:E$54),IF(K127=3165,2,5),0),0)","v":0},{"$f":"IF(Timesheet!R127>0,Timesheet!G127,\"\")","v":""},{"$f":"IF(Timesheet!R127>0,Timesheet!J127,\"\")","v":""},{"$f":"IFERROR(VLOOKUP(M127,ESG!M$2:N$13,2,FALSE),N127)","v":""},{"$f":"IFERROR(VLOOKUP(O127,IF(O127=3165,AL$2:AM$2,ESG!A$2:F$54),IF(O127=3165,2,6),0),0)","v":0},{"$f":"IF(Timesheet!T127>0,Timesheet!G127,\"\")","v":""},{"$f":"IF(Timesheet!T127>0,Timesheet!J127,\"\")","v":""},{"$f":"IFERROR(VLOOKUP(Q127,ESG!M$2:N$13,2,FALSE),R127)","v":""},{"$f":"IFERROR(VLOOKUP(S127,IF(S127=3165,AL$2:AM$2,ESG!A$2:G$54),IF(S127=3165,2,7),0),0)","v":0},{"$f":"IF(Timesheet!V127>0,Timesheet!G127,\"\")","v":""},{"$f":"IF(Timesheet!V127>0,Timesheet!J127,\"\")","v":""},{"$f":"IFERROR(VLOOKUP(U127,ESG!M$2:N$13,2,FALSE),V127)","v":""},{"$f":"IFERROR(VLOOKUP(W127,IF(W127=3165,AL$2:AM$2,ESG!A$2:H$54),IF(W127=3165,2,8),0),0)","v":0},{"$f":"IF(Timesheet!X127>0,Timesheet!G127,\"\")","v":""},{"$f":"IF(Timesheet!X127>0,Timesheet!J127,\"\")","v":""},"",{"$f":"IFERROR(VLOOKUP(AA127,IF(AA127=3165,AL$2:AM$2,ESG!A$2:I$54),IF(AA127=3165,2,9),0),0)","v":0},{"$f":"IF(Timesheet!Z127>0,Timesheet!G127,\"\")","v":""},{"$f":"IF(Timesheet!Z127>0,Timesheet!J127,\"\")","v":""},"",{"$f":"IFERROR(VLOOKUP(AE127,IF(AE127=3165,AL$2:AM$2,ESG!A$2:J$54),IF(AE127=3165,2,10),0),0)","v":0},{"$f":"IF(Timesheet!AB127>0,Timesheet!G127,\"\")","v":""},{"$f":"IF(Timesheet!AB127>0,Timesheet!J127,\"\")","v":""},"",{"$f":"IFERROR(VLOOKUP(AI127,IF(AI127=3165,AL$2:AM$2,ESG!A$2:K$54),IF(AI127=3165,2,11),0),0)","v":0}]
[{"$f":"IF(Timesheet!L128>0,Timesheet!G128,\"\")","v":""},{"$f":"IF(Timesheet!L128>0,Timesheet!J128,\"\")","v":""},"",{"$f":"IFERROR(VLOOKUP(C128,IF(C128=3165,AL$2:AM$2,ESG!A$2:C$54),IF(C128=3165,2,3),0),0)","v":0},{"$f":"IF(Timesheet!N128>0,Timesheet!G128,\"\")","v":""},{"$f":"IF(Timesheet!N128>0,Timesheet!J128,\"\")","v":""},"",{"$f":"IFERROR(VLOOKUP(G128,IF(G128=3165,AL$2:AM$2,ESG!A$2:D$54),IF(G128=3165,2,4),0),0)","v":0},{"$f":"IF(Timesheet!P128>0,Timesheet!G128,\"\")","v":""},{"$f":"IF(Timesheet!P128>0,Timesheet!J128,\"\")","v":""},"",{"$f":"IFERROR(VLOOKUP(K128,IF(K128=3165,AL$2:AM$2,ESG!A$2:E$54),IF(K128=3165,2,5),0),0)","v":0},{"$f":"IF(Timesheet!R128>0,Timesheet!G128,\"\")","v":""},{"$f":"IF(Timesheet!R128>0,Timesheet!J128,\"\")","v":""},{"$f":"IFERROR(VLOOKUP(M128,ESG!M$2:N$13,2,FALSE),N128)","v":""},{"$f":"IFERROR(VLOOKUP(O128,IF(O128=3165,AL$2:AM$2,ESG!A$2:F$54),IF(O128=3165,2,6),0),0)","v":0},{"$f":"IF(Timesheet!T128>0,Timesheet!G128,\"\")","v":""},{"$f":"IF(Timesheet!T128>0,Timesheet!J128,\"\")","v":""},{"$f":"IFERROR(VLOOKUP(Q128,ESG!M$2:N$13,2,FALSE),R128)","v":""},{"$f":"IFERROR(VLOOKUP(S128,IF(S128=3165,AL$2:AM$2,ESG!A$2:G$54),IF(S128=3165,2,7),0),0)","v":0},{"$f":"IF(Timesheet!V128>0,Timesheet!G128,\"\")","v":""},{"$f":"IF(Timesheet!V128>0,Timesheet!J128,\"\")","v":""},{"$f":"IFERROR(VLOOKUP(U128,ESG!M$2:N$13,2,FALSE),V128)","v":""},{"$f":"IFERROR(VLOOKUP(W128,IF(W128=3165,AL$2:AM$2,ESG!A$2:H$54),IF(W128=3165,2,8),0),0)","v":0},{"$f":"IF(Timesheet!X128>0,Timesheet!G128,\"\")","v":""},{"$f":"IF(Timesheet!X128>0,Timesheet!J128,\"\")","v":""},"",{"$f":"IFERROR(VLOOKUP(AA128,IF(AA128=3165,AL$2:AM$2,ESG!A$2:I$54),IF(AA128=3165,2,9),0),0)","v":0},{"$f":"IF(Timesheet!Z128>0,Timesheet!G128,\"\")","v":""},{"$f":"IF(Timesheet!Z128>0,Timesheet!J128,\"\")","v":""},"",{"$f":"IFERROR(VLOOKUP(AE128,IF(AE128=3165,AL$2:AM$2,ESG!A$2:J$54),IF(AE128=3165,2,10),0),0)","v":0},{"$f":"IF(Timesheet!AB128>0,Timesheet!G128,\"\")","v":""},{"$f":"IF(Timesheet!AB128>0,Timesheet!J128,\"\")","v":""},"",{"$f":"IFERROR(VLOOKUP(AI128,IF(AI128=3165,AL$2:AM$2,ESG!A$2:K$54),IF(AI128=3165,2,11),0),0)","v":0}]
[{"$f":"IF(Timesheet!L129>0,Timesheet!G129,\"\")","v":""},{"$f":"IF(Timesheet!L129>0,Timesheet!J129,\"\")","v":""},"",{"$f":"IFERROR(VLOOKUP(C129,IF(C129=3165,AL$2:AM$2,ESG!A$2:C$54),IF(C129=3165,2,3),0),0)","v":0},{"$f":"IF(Timesheet!N129>0,Timesheet!G129,\"\")","v":""},{"$f":"IF(Timesheet!N129>0,Timesheet!J129,\"\")","v":""},"",{"$f":"IFERROR(VLOOKUP(G129,IF(G129=3165,AL$2:AM$2,ESG!A$2:D$54),IF(G129=3165,2,4),0),0)","v":0},{"$f":"IF(Timesheet!P129>0,Timesheet!G129,\"\")","v":""},{"$f":"IF(Timesheet!P129>0,Timesheet!J129,\"\")","v":""},"",{"$f":"IFERROR(VLOOKUP(K129,IF(K129=3165,AL$2:AM$2,ESG!A$2:E$54),IF(K129=3165,2,5),0),0)","v":0},{"$f":"IF(Timesheet!R129>0,Timesheet!G129,\"\")","v":""},{"$f":"IF(Timesheet!R129>0,Timesheet!J129,\"\")","v":""},{"$f":"IFERROR(VLOOKUP(M129,ESG!M$2:N$13,2,FALSE),N129)","v":""},{"$f":"IFERROR(VLOOKUP(O129,IF(O129=3165,AL$2:AM$2,ESG!A$2:F$54),IF(O129=3165,2,6),0),0)","v":0},{"$f":"IF(Timesheet!T129>0,Timesheet!G129,\"\")","v":""},{"$f":"IF(Timesheet!T129>0,Timesheet!J129,\"\")","v":""},{"$f":"IFERROR(VLOOKUP(Q129,ESG!M$2:N$13,2,FALSE),R129)","v":""},{"$f":"IFERROR(VLOOKUP(S129,IF(S129=3165,AL$2:AM$2,ESG!A$2:G$54),IF(S129=3165,2,7),0),0)","v":0},{"$f":"IF(Timesheet!V129>0,Timesheet!G129,\"\")","v":""},{"$f":"IF(Timesheet!V129>0,Timesheet!J129,\"\")","v":""},{"$f":"IFERROR(VLOOKUP(U129,ESG!M$2:N$13,2,FALSE),V129)","v":""},{"$f":"IFERROR(VLOOKUP(W129,IF(W129=3165,AL$2:AM$2,ESG!A$2:H$54),IF(W129=3165,2,8),0),0)","v":0},{"$f":"IF(Timesheet!X129>0,Timesheet!G129,\"\")","v":""},{"$f":"IF(Timesheet!X129>0,Timesheet!J129,\"\")","v":""},"",{"$f":"IFERROR(VLOOKUP(AA129,IF(AA129=3165,AL$2:AM$2,ESG!A$2:I$54),IF(AA129=3165,2,9),0),0)","v":0},{"$f":"IF(Timesheet!Z129>0,Timesheet!G129,\"\")","v":""},{"$f":"IF(Timesheet!Z129>0,Timesheet!J129,\"\")","v":""},"",{"$f":"IFERROR(VLOOKUP(AE129,IF(AE129=3165,AL$2:AM$2,ESG!A$2:J$54),IF(AE129=3165,2,10),0),0)","v":0},{"$f":"IF(Timesheet!AB129>0,Timesheet!G129,\"\")","v":""},{"$f":"IF(Timesheet!AB129>0,Timesheet!J129,\"\")","v":""},"",{"$f":"IFERROR(VLOOKUP(AI129,IF(AI129=3165,AL$2:AM$2,ESG!A$2:K$54),IF(AI129=3165,2,11),0),0)","v":0}]
[{"$f":"IF(Timesheet!L130>0,Timesheet!G130,\"\")","v":""},{"$f":"IF(Timesheet!L130>0,Timesheet!J130,\"\")","v":""},"",{"$f":"IFERROR(VLOOKUP(C130,IF(C130=3165,AL$2:AM$2,ESG!A$2:C$54),IF(C130=3165,2,3),0),0)","v":0},{"$f":"IF(Timesheet!N130>0,Timesheet!G130,\"\")","v":""},{"$f":"IF(Timesheet!N130>0,Timesheet!J130,\"\")","v":""},"",{"$f":"IFERROR(VLOOKUP(G130,IF(G130=3165,AL$2:AM$2,ESG!A$2:D$54),IF(G130=3165,2,4),0),0)","v":0},{"$f":"IF(Timesheet!P130>0,Timesheet!G130,\"\")","v":""},{"$f":"IF(Timesheet!P130>0,Timesheet!J130,\"\")","v":""},"",{"$f":"IFERROR(VLOOKUP(K130,IF(K130=3165,AL$2:AM$2,ESG!A$2:E$54),IF(K130=3165,2,5),0),0)","v":0},{"$f":"IF(Timesheet!R130>0,Timesheet!G130,\"\")","v":""},{"$f":"IF(Timesheet!R130>0,Timesheet!J130,\"\")","v":""},{"$f":"IFERROR(VLOOKUP(M130,ESG!M$2:N$13,2,FALSE),N130)","v":""},{"$f":"IFERROR(VLOOKUP(O130,IF(O130=3165,AL$2:AM$2,ESG!A$2:F$54),IF(O130=3165,2,6),0),0)","v":0},{"$f":"IF(Timesheet!T130>0,Timesheet!G130,\"\")","v":""},{"$f":"IF(Timesheet!T130>0,Timesheet!J130,\"\")","v":""},{"$f":"IFERROR(VLOOKUP(Q130,ESG!M$2:N$13,2,FALSE),R130)","v":""},{"$f":"IFERROR(VLOOKUP(S130,IF(S130=3165,AL$2:AM$2,ESG!A$2:G$54),IF(S130=3165,2,7),0),0)","v":0},{"$f":"IF(Timesheet!V130>0,Timesheet!G130,\"\")","v":""},{"$f":"IF(Timesheet!V130>0,Timesheet!J130,\"\")","v":""},{"$f":"IFERROR(VLOOKUP(U130,ESG!M$2:N$13,2,FALSE),V130)","v":""},{"$f":"IFERROR(VLOOKUP(W130,IF(W130=3165,AL$2:AM$2,ESG!A$2:H$54),IF(W130=3165,2,8),0),0)","v":0},{"$f":"IF(Timesheet!X130>0,Timesheet!G130,\"\")","v":""},{"$f":"IF(Timesheet!X130>0,Timesheet!J130,\"\")","v":""},"",{"$f":"IFERROR(VLOOKUP(AA130,IF(AA130=3165,AL$2:AM$2,ESG!A$2:I$54),IF(AA130=3165,2,9),0),0)","v":0},{"$f":"IF(Timesheet!Z130>0,Timesheet!G130,\"\")","v":""},{"$f":"IF(Timesheet!Z130>0,Timesheet!J130,\"\")","v":""},"",{"$f":"IFERROR(VLOOKUP(AE130,IF(AE130=3165,AL$2:AM$2,ESG!A$2:J$54),IF(AE130=3165,2,10),0),0)","v":0},{"$f":"IF(Timesheet!AB130>0,Timesheet!G130,\"\")","v":""},{"$f":"IF(Timesheet!AB130>0,Timesheet!J130,\"\")","v":""},"",{"$f":"IFERROR(VLOOKUP(AI130,IF(AI130=3165,AL$2:AM$2,ESG!A$2:K$54),IF(AI130=3165,2,11),0),0)","v":0}]
[{"$f":"IF(Timesheet!L131>0,Timesheet!G131,\"\")","v":""},{"$f":"IF(Timesheet!L131>0,Timesheet!J131,\"\")","v":""},"",{"$f":"IFERROR(VLOOKUP(C131,IF(C131=3165,AL$2:AM$2,ESG!A$2:C$54),IF(C131=3165,2,3),0),0)","v":0},{"$f":"IF(Timesheet!N131>0,Timesheet!G131,\"\")","v":""},{"$f":"IF(Timesheet!N131>0,Timesheet!J131,\"\")","v":""},"",{"$f":"IFERROR(VLOOKUP(G131,IF(G131=3165,AL$2:AM$2,ESG!A$2:D$54),IF(G131=3165,2,4),0),0)","v":0},{"$f":"IF(Timesheet!P131>0,Timesheet!G131,\"\")","v":""},{"$f":"IF(Timesheet!P131>0,Timesheet!J131,\"\")","v":""},"",{"$f":"IFERROR(VLOOKUP(K131,IF(K131=3165,AL$2:AM$2,ESG!A$2:E$54),IF(K131=3165,2,5),0),0)","v":0},{"$f":"IF(Timesheet!R131>0,Timesheet!G131,\"\")","v":""},{"$f":"IF(Timesheet!R131>0,Timesheet!J131,\"\")","v":""},{"$f":"IFERROR(VLOOKUP(M131,ESG!M$2:N$13,2,FALSE),N131)","v":""},{"$f":"IFERROR(VLOOKUP(O131,IF(O131=3165,AL$2:AM$2,ESG!A$2:F$54),IF(O131=3165,2,6),0),0)","v":0},{"$f":"IF(Timesheet!T131>0,Timesheet!G131,\"\")","v":""},{"$f":"IF(Timesheet!T131>0,Timesheet!J131,\"\")","v":""},{"$f":"IFERROR(VLOOKUP(Q131,ESG!M$2:N$13,2,FALSE),R131)","v":""},{"$f":"IFERROR(VLOOKUP(S131,IF(S131=3165,AL$2:AM$2,ESG!A$2:G$54),IF(S131=3165,2,7),0),0)","v":0},{"$f":"IF(Timesheet!V131>0,Timesheet!G131,\"\")","v":""},{"$f":"IF(Timesheet!V131>0,Timesheet!J131,\"\")","v":""},{"$f":"IFERROR(VLOOKUP(U131,ESG!M$2:N$13,2,FALSE),V131)","v":""},{"$f":"IFERROR(VLOOKUP(W131,IF(W131=3165,AL$2:AM$2,ESG!A$2:H$54),IF(W131=3165,2,8),0),0)","v":0},{"$f":"IF(Timesheet!X131>0,Timesheet!G131,\"\")","v":""},{"$f":"IF(Timesheet!X131>0,Timesheet!J131,\"\")","v":""},"",{"$f":"IFERROR(VLOOKUP(AA131,IF(AA131=3165,AL$2:AM$2,ESG!A$2:I$54),IF(AA131=3165,2,9),0),0)","v":0},{"$f":"IF(Timesheet!Z131>0,Timesheet!G131,\"\")","v":""},{"$f":"IF(Timesheet!Z131>0,Timesheet!J131,\"\")","v":""},"",{"$f":"IFERROR(VLOOKUP(AE131,IF(AE131=3165,AL$2:AM$2,ESG!A$2:J$54),IF(AE131=3165,2,10),0),0)","v":0},{"$f":"IF(Timesheet!AB131>0,Timesheet!G131,\"\")","v":""},{"$f":"IF(Timesheet!AB131>0,Timesheet!J131,\"\")","v":""},"",{"$f":"IFERROR(VLOOKUP(AI131,IF(AI131=3165,AL$2:AM$2,ESG!A$2:K$54),IF(AI131=3165,2,11),0),0)","v":0}]
[{"$f":"IF(Timesheet!L132>0,Timesheet!G132,\"\")","v":""},{"$f":"IF(Timesheet!L132>0,Timesheet!J132,\"\")","v":""},{"$f":"B132","v":""},{"$f":"IFERROR(VLOOKUP(C132,IF(C132=3165,AL$2:AM$2,ESG!A$2:C$54),IF(C132=3165,2,3),0),0)","v":0},{"$f":"IF(Timesheet!N132>0,Timesheet!G132,\"\")","v":""},{"$f":"IF(Timesheet!N132>0,Timesheet!J132,\"\")","v":""},{"$f":"F132","v":""},{"$f":"IFERROR(VLOOKUP(G132,IF(G132=3165,AL$2:AM$2,ESG!A$2:D$54),IF(G132=3165,2,4),0),0)","v":0},{"$f":"IF(Timesheet!P132>0,Timesheet!G132,\"\")","v":""},{"$f":"IF(Timesheet!P132>0,Timesheet!J132,\"\")","v":""},{"$f":"J132","v":""},{"$f":"IFERROR(VLOOKUP(K132,IF(K132=3165,AL$2:AM$2,ESG!A$2:E$54),IF(K132=3165,2,5),0),0)","v":0},{"$f":"IF(Timesheet!R132>0,Timesheet!G132,\"\")","v":""},{"$f":"IF(Timesheet!R132>0,Timesheet!J132,\"\")","v":""},{"$f":"IFERROR(VLOOKUP(M132,ESG!M$2:N$13,2,FALSE),N132)","v":""},{"$f":"IFERROR(VLOOKUP(O132,IF(O132=3165,AL$2:AM$2,ESG!A$2:F$54),IF(O132=3165,2,6),0),0)","v":0},{"$f":"IF(Timesheet!T132>0,Timesheet!G132,\"\")","v":""},{"$f":"IF(Timesheet!T132>0,Timesheet!J132,\"\")","v":""},{"$f":"IFERROR(VLOOKUP(Q132,ESG!M$2:N$13,2,FALSE),R132)","v":""},{"$f":"IFERROR(VLOOKUP(S132,IF(S132=3165,AL$2:AM$2,ESG!A$2:G$54),IF(S132=3165,2,7),0),0)","v":0},{"$f":"IF(Timesheet!V132>0,Timesheet!G132,\"\")","v":""},{"$f":"IF(Timesheet!V132>0,Timesheet!J132,\"\")","v":""},{"$f":"IFERROR(VLOOKUP(U132,ESG!M$2:N$13,2,FALSE),V132)","v":""},{"$f":"IFERROR(VLOOKUP(W132,IF(W132=3165,AL$2:AM$2,ESG!A$2:H$54),IF(W132=3165,2,8),0),0)","v":0},{"$f":"IF(Timesheet!X132>0,Timesheet!G132,\"\")","v":""},{"$f":"IF(Timesheet!X132>0,Timesheet!J132,\"\")","v":""},{"$f":"Z132","v":""},{"$f":"IFERROR(VLOOKUP(AA132,IF(AA132=3165,AL$2:AM$2,ESG!A$2:I$54),IF(AA132=3165,2,9),0),0)","v":0},{"$f":"IF(Timesheet!Z132>0,Timesheet!G132,\"\")","v":""},{"$f":"IF(Timesheet!Z132>0,Timesheet!J132,\"\")","v":""},{"$f":"AD132","v":""},{"$f":"IFERROR(VLOOKUP(AE132,IF(AE132=3165,AL$2:AM$2,ESG!A$2:J$54),IF(AE132=3165,2,10),0),0)","v":0},{"$f":"IF(Timesheet!AB132>0,Timesheet!G132,\"\")","v":""},{"$f":"IF(Timesheet!AB132>0,Timesheet!J132,\"\")","v":""},{"$f":"AH132","v":""},{"$f":"IFERROR(VLOOKUP(AI132,IF(AI132=3165,AL$2:AM$2,ESG!A$2:K$54),IF(AI132=3165,2,11),0),0)","v":0}]
[{"$f":"IF(Timesheet!L133>0,Timesheet!G133,\"\")","v":""},{"$f":"IF(Timesheet!L133>0,Timesheet!J133,\"\")","v":""},"",{"$f":"IFERROR(VLOOKUP(C133,IF(C133=3165,AL$2:AM$2,ESG!A$2:C$54),IF(C133=3165,2,3),0),0)","v":0},{"$f":"IF(Timesheet!N133>0,Timesheet!G133,\"\")","v":""},{"$f":"IF(Timesheet!N133>0,Timesheet!J133,\"\")","v":""},"",{"$f":"IFERROR(VLOOKUP(G133,IF(G133=3165,AL$2:AM$2,ESG!A$2:D$54),IF(G133=3165,2,4),0),0)","v":0},{"$f":"IF(Timesheet!P133>0,Timesheet!G133,\"\")","v":""},{"$f":"IF(Timesheet!P133>0,Timesheet!J133,\"\")","v":""},"",{"$f":"IFERROR(VLOOKUP(K133,IF(K133=3165,AL$2:AM$2,ESG!A$2:E$54),IF(K133=3165,2,5),0),0)","v":0},{"$f":"IF(Timesheet!R133>0,Timesheet!G133,\"\")","v":""},{"$f":"IF(Timesheet!R133>0,Timesheet!J133,\"\")","v":""},{"$f":"IFERROR(VLOOKUP(M133,ESG!M$2:N$13,2,FALSE),N133)","v":""},{"$f":"IFERROR(VLOOKUP(O133,IF(O133=3165,AL$2:AM$2,ESG!A$2:F$54),IF(O133=3165,2,6),0),0)","v":0},{"$f":"IF(Timesheet!T133>0,Timesheet!G133,\"\")","v":""},{"$f":"IF(Timesheet!T133>0,Timesheet!J133,\"\")","v":""},{"$f":"IFERROR(VLOOKUP(Q133,ESG!M$2:N$13,2,FALSE),R133)","v":""},{"$f":"IFERROR(VLOOKUP(S133,IF(S133=3165,AL$2:AM$2,ESG!A$2:G$54),IF(S133=3165,2,7),0),0)","v":0},{"$f":"IF(Timesheet!V133>0,Timesheet!G133,\"\")","v":""},{"$f":"IF(Timesheet!V133>0,Timesheet!J133,\"\")","v":""},{"$f":"IFERROR(VLOOKUP(U133,ESG!M$2:N$13,2,FALSE),V133)","v":""},{"$f":"IFERROR(VLOOKUP(W133,IF(W133=3165,AL$2:AM$2,ESG!A$2:H$54),IF(W133=3165,2,8),0),0)","v":0},{"$f":"IF(Timesheet!X133>0,Timesheet!G133,\"\")","v":""},{"$f":"IF(Timesheet!X133>0,Timesheet!J133,\"\")","v":""},"",{"$f":"IFERROR(VLOOKUP(AA133,IF(AA133=3165,AL$2:AM$2,ESG!A$2:I$54),IF(AA133=3165,2,9),0),0)","v":0},{"$f":"IF(Timesheet!Z133>0,Timesheet!G133,\"\")","v":""},{"$f":"IF(Timesheet!Z133>0,Timesheet!J133,\"\")","v":""},"",{"$f":"IFERROR(VLOOKUP(AE133,IF(AE133=3165,AL$2:AM$2,ESG!A$2:J$54),IF(AE133=3165,2,10),0),0)","v":0},{"$f":"IF(Timesheet!AB133>0,Timesheet!G133,\"\")","v":""},{"$f":"IF(Timesheet!AB133>0,Timesheet!J133,\"\")","v":""},"",{"$f":"IFERROR(VLOOKUP(AI133,IF(AI133=3165,AL$2:AM$2,ESG!A$2:K$54),IF(AI133=3165,2,11),0),0)","v":0}]
[{"$f":"IF(Timesheet!L134>0,Timesheet!G134,\"\")","v":""},{"$f":"IF(Timesheet!L134>0,Timesheet!J134,\"\")","v":""},"",{"$f":"IFERROR(VLOOKUP(C134,IF(C134=3165,AL$2:AM$2,ESG!A$2:C$54),IF(C134=3165,2,3),0),0)","v":0},{"$f":"IF(Timesheet!N134>0,Timesheet!G134,\"\")","v":""},{"$f":"IF(Timesheet!N134>0,Timesheet!J134,\"\")","v":""},"",{"$f":"IFERROR(VLOOKUP(G134,IF(G134=3165,AL$2:AM$2,ESG!A$2:D$54),IF(G134=3165,2,4),0),0)","v":0},{"$f":"IF(Timesheet!P134>0,Timesheet!G134,\"\")","v":""},{"$f":"IF(Timesheet!P134>0,Timesheet!J134,\"\")","v":""},"",{"$f":"IFERROR(VLOOKUP(K134,IF(K134=3165,AL$2:AM$2,ESG!A$2:E$54),IF(K134=3165,2,5),0),0)","v":0},{"$f":"IF(Timesheet!R134>0,Timesheet!G134,\"\")","v":""},{"$f":"IF(Timesheet!R134>0,Timesheet!J134,\"\")","v":""},{"$f":"IFERROR(VLOOKUP(M134,ESG!M$2:N$13,2,FALSE),N134)","v":""},{"$f":"IFERROR(VLOOKUP(O134,IF(O134=3165,AL$2:AM$2,ESG!A$2:F$54),IF(O134=3165,2,6),0),0)","v":0},{"$f":"IF(Timesheet!T134>0,Timesheet!G134,\"\")","v":""},{"$f":"IF(Timesheet!T134>0,Timesheet!J134,\"\")","v":""},{"$f":"IFERROR(VLOOKUP(Q134,ESG!M$2:N$13,2,FALSE),R134)","v":""},{"$f":"IFERROR(VLOOKUP(S134,IF(S134=3165,AL$2:AM$2,ESG!A$2:G$54),IF(S134=3165,2,7),0),0)","v":0},{"$f":"IF(Timesheet!V134>0,Timesheet!G134,\"\")","v":""},{"$f":"IF(Timesheet!V134>0,Timesheet!J134,\"\")","v":""},{"$f":"IFERROR(VLOOKUP(U134,ESG!M$2:N$13,2,FALSE),V134)","v":""},{"$f":"IFERROR(VLOOKUP(W134,IF(W134=3165,AL$2:AM$2,ESG!A$2:H$54),IF(W134=3165,2,8),0),0)","v":0},{"$f":"IF(Timesheet!X134>0,Timesheet!G134,\"\")","v":""},{"$f":"IF(Timesheet!X134>0,Timesheet!J134,\"\")","v":""},"",{"$f":"IFERROR(VLOOKUP(AA134,IF(AA134=3165,AL$2:AM$2,ESG!A$2:I$54),IF(AA134=3165,2,9),0),0)","v":0},{"$f":"IF(Timesheet!Z134>0,Timesheet!G134,\"\")","v":""},{"$f":"IF(Timesheet!Z134>0,Timesheet!J134,\"\")","v":""},"",{"$f":"IFERROR(VLOOKUP(AE134,IF(AE134=3165,AL$2:AM$2,ESG!A$2:J$54),IF(AE134=3165,2,10),0),0)","v":0},{"$f":"IF(Timesheet!AB134>0,Timesheet!G134,\"\")","v":""},{"$f":"IF(Timesheet!AB134>0,Timesheet!J134,\"\")","v":""},"",{"$f":"IFERROR(VLOOKUP(AI134,IF(AI134=3165,AL$2:AM$2,ESG!A$2:K$54),IF(AI134=3165,2,11),0),0)","v":0}]
[{"$f":"IF(Timesheet!L135>0,Timesheet!G135,\"\")","v":""},{"$f":"IF(Timesheet!L135>0,Timesheet!J135,\"\")","v":""},"",{"$f":"IFERROR(VLOOKUP(C135,IF(C135=3165,AL$2:AM$2,ESG!A$2:C$54),IF(C135=3165,2,3),0),0)","v":0},{"$f":"IF(Timesheet!N135>0,Timesheet!G135,\"\")","v":""},{"$f":"IF(Timesheet!N135>0,Timesheet!J135,\"\")","v":""},"",{"$f":"IFERROR(VLOOKUP(G135,IF(G135=3165,AL$2:AM$2,ESG!A$2:D$54),IF(G135=3165,2,4),0),0)","v":0},{"$f":"IF(Timesheet!P135>0,Timesheet!G135,\"\")","v":""},{"$f":"IF(Timesheet!P135>0,Timesheet!J135,\"\")","v":""},"",{"$f":"IFERROR(VLOOKUP(K135,IF(K135=3165,AL$2:AM$2,ESG!A$2:E$54),IF(K135=3165,2,5),0),0)","v":0},{"$f":"IF(Timesheet!R135>0,Timesheet!G135,\"\")","v":""},{"$f":"IF(Timesheet!R135>0,Timesheet!J135,\"\")","v":""},{"$f":"IFERROR(VLOOKUP(M135,ESG!M$2:N$13,2,FALSE),N135)","v":""},{"$f":"IFERROR(VLOOKUP(O135,IF(O135=3165,AL$2:AM$2,ESG!A$2:F$54),IF(O135=3165,2,6),0),0)","v":0},{"$f":"IF(Timesheet!T135>0,Timesheet!G135,\"\")","v":""},{"$f":"IF(Timesheet!T135>0,Timesheet!J135,\"\")","v":""},{"$f":"IFERROR(VLOOKUP(Q135,ESG!M$2:N$13,2,FALSE),R135)","v":""},{"$f":"IFERROR(VLOOKUP(S135,IF(S135=3165,AL$2:AM$2,ESG!A$2:G$54),IF(S135=3165,2,7),0),0)","v":0},{"$f":"IF(Timesheet!V135>0,Timesheet!G135,\"\")","v":""},{"$f":"IF(Timesheet!V135>0,Timesheet!J135,\"\")","v":""},{"$f":"IFERROR(VLOOKUP(U135,ESG!M$2:N$13,2,FALSE),V135)","v":""},{"$f":"IFERROR(VLOOKUP(W135,IF(W135=3165,AL$2:AM$2,ESG!A$2:H$54),IF(W135=3165,2,8),0),0)","v":0},{"$f":"IF(Timesheet!X135>0,Timesheet!G135,\"\")","v":""},{"$f":"IF(Timesheet!X135>0,Timesheet!J135,\"\")","v":""},"",{"$f":"IFERROR(VLOOKUP(AA135,IF(AA135=3165,AL$2:AM$2,ESG!A$2:I$54),IF(AA135=3165,2,9),0),0)","v":0},{"$f":"IF(Timesheet!Z135>0,Timesheet!G135,\"\")","v":""},{"$f":"IF(Timesheet!Z135>0,Timesheet!J135,\"\")","v":""},"",{"$f":"IFERROR(VLOOKUP(AE135,IF(AE135=3165,AL$2:AM$2,ESG!A$2:J$54),IF(AE135=3165,2,10),0),0)","v":0},{"$f":"IF(Timesheet!AB135>0,Timesheet!G135,\"\")","v":""},{"$f":"IF(Timesheet!AB135>0,Timesheet!J135,\"\")","v":""},"",{"$f":"IFERROR(VLOOKUP(AI135,IF(AI135=3165,AL$2:AM$2,ESG!A$2:K$54),IF(AI135=3165,2,11),0),0)","v":0}]
[{"$f":"IF(Timesheet!L136>0,Timesheet!G136,\"\")","v":""},{"$f":"IF(Timesheet!L136>0,Timesheet!J136,\"\")","v":""},"",{"$f":"IFERROR(VLOOKUP(C136,IF(C136=3165,AL$2:AM$2,ESG!A$2:C$54),IF(C136=3165,2,3),0),0)","v":0},{"$f":"IF(Timesheet!N136>0,Timesheet!G136,\"\")","v":""},{"$f":"IF(Timesheet!N136>0,Timesheet!J136,\"\")","v":""},"",{"$f":"IFERROR(VLOOKUP(G136,IF(G136=3165,AL$2:AM$2,ESG!A$2:D$54),IF(G136=3165,2,4),0),0)","v":0},{"$f":"IF(Timesheet!P136>0,Timesheet!G136,\"\")","v":""},{"$f":"IF(Timesheet!P136>0,Timesheet!J136,\"\")","v":""},"",{"$f":"IFERROR(VLOOKUP(K136,IF(K136=3165,AL$2:AM$2,ESG!A$2:E$54),IF(K136=3165,2,5),0),0)","v":0},{"$f":"IF(Timesheet!R136>0,Timesheet!G136,\"\")","v":""},{"$f":"IF(Timesheet!R136>0,Timesheet!J136,\"\")","v":""},{"$f":"IFERROR(VLOOKUP(M136,ESG!M$2:N$13,2,FALSE),N136)","v":""},{"$f":"IFERROR(VLOOKUP(O136,IF(O136=3165,AL$2:AM$2,ESG!A$2:F$54),IF(O136=3165,2,6),0),0)","v":0},{"$f":"IF(Timesheet!T136>0,Timesheet!G136,\"\")","v":""},{"$f":"IF(Timesheet!T136>0,Timesheet!J136,\"\")","v":""},{"$f":"IFERROR(VLOOKUP(Q136,ESG!M$2:N$13,2,FALSE),R136)","v":""},{"$f":"IFERROR(VLOOKUP(S136,IF(S136=3165,AL$2:AM$2,ESG!A$2:G$54),IF(S136=3165,2,7),0),0)","v":0},{"$f":"IF(Timesheet!V136>0,Timesheet!G136,\"\")","v":""},{"$f":"IF(Timesheet!V136>0,Timesheet!J136,\"\")","v":""},{"$f":"IFERROR(VLOOKUP(U136,ESG!M$2:N$13,2,FALSE),V136)","v":""},{"$f":"IFERROR(VLOOKUP(W136,IF(W136=3165,AL$2:AM$2,ESG!A$2:H$54),IF(W136=3165,2,8),0),0)","v":0},{"$f":"IF(Timesheet!X136>0,Timesheet!G136,\"\")","v":""},{"$f":"IF(Timesheet!X136>0,Timesheet!J136,\"\")","v":""},"",{"$f":"IFERROR(VLOOKUP(AA136,IF(AA136=3165,AL$2:AM$2,ESG!A$2:I$54),IF(AA136=3165,2,9),0),0)","v":0},{"$f":"IF(Timesheet!Z136>0,Timesheet!G136,\"\")","v":""},{"$f":"IF(Timesheet!Z136>0,Timesheet!J136,\"\")","v":""},"",{"$f":"IFERROR(VLOOKUP(AE136,IF(AE136=3165,AL$2:AM$2,ESG!A$2:J$54),IF(AE136=3165,2,10),0),0)","v":0},{"$f":"IF(Timesheet!AB136>0,Timesheet!G136,\"\")","v":""},{"$f":"IF(Timesheet!AB136>0,Timesheet!J136,\"\")","v":""},"",{"$f":"IFERROR(VLOOKUP(AI136,IF(AI136=3165,AL$2:AM$2,ESG!A$2:K$54),IF(AI136=3165,2,11),0),0)","v":0}]
[{"$f":"IF(Timesheet!L137>0,Timesheet!G137,\"\")","v":""},{"$f":"IF(Timesheet!L137>0,Timesheet!J137,\"\")","v":""},"",{"$f":"IFERROR(VLOOKUP(C137,IF(C137=3165,AL$2:AM$2,ESG!A$2:C$54),IF(C137=3165,2,3),0),0)","v":0},{"$f":"IF(Timesheet!N137>0,Timesheet!G137,\"\")","v":""},{"$f":"IF(Timesheet!N137>0,Timesheet!J137,\"\")","v":""},"",{"$f":"IFERROR(VLOOKUP(G137,IF(G137=3165,AL$2:AM$2,ESG!A$2:D$54),IF(G137=3165,2,4),0),0)","v":0},{"$f":"IF(Timesheet!P137>0,Timesheet!G137,\"\")","v":""},{"$f":"IF(Timesheet!P137>0,Timesheet!J137,\"\")","v":""},"",{"$f":"IFERROR(VLOOKUP(K137,IF(K137=3165,AL$2:AM$2,ESG!A$2:E$54),IF(K137=3165,2,5),0),0)","v":0},{"$f":"IF(Timesheet!R137>0,Timesheet!G137,\"\")","v":""},{"$f":"IF(Timesheet!R137>0,Timesheet!J137,\"\")","v":""},{"$f":"IFERROR(VLOOKUP(M137,ESG!M$2:N$13,2,FALSE),N137)","v":""},{"$f":"IFERROR(VLOOKUP(O137,IF(O137=3165,AL$2:AM$2,ESG!A$2:F$54),IF(O137=3165,2,6),0),0)","v":0},{"$f":"IF(Timesheet!T137>0,Timesheet!G137,\"\")","v":""},{"$f":"IF(Timesheet!T137>0,Timesheet!J137,\"\")","v":""},{"$f":"IFERROR(VLOOKUP(Q137,ESG!M$2:N$13,2,FALSE),R137)","v":""},{"$f":"IFERROR(VLOOKUP(S137,IF(S137=3165,AL$2:AM$2,ESG!A$2:G$54),IF(S137=3165,2,7),0),0)","v":0},{"$f":"IF(Timesheet!V137>0,Timesheet!G137,\"\")","v":""},{"$f":"IF(Timesheet!V137>0,Timesheet!J137,\"\")","v":""},{"$f":"IFERROR(VLOOKUP(U137,ESG!M$2:N$13,2,FALSE),V137)","v":""},{"$f":"IFERROR(VLOOKUP(W137,IF(W137=3165,AL$2:AM$2,ESG!A$2:H$54),IF(W137=3165,2,8),0),0)","v":0},{"$f":"IF(Timesheet!X137>0,Timesheet!G137,\"\")","v":""},{"$f":"IF(Timesheet!X137>0,Timesheet!J137,\"\")","v":""},"",{"$f":"IFERROR(VLOOKUP(AA137,IF(AA137=3165,AL$2:AM$2,ESG!A$2:I$54),IF(AA137=3165,2,9),0),0)","v":0},{"$f":"IF(Timesheet!Z137>0,Timesheet!G137,\"\")","v":""},{"$f":"IF(Timesheet!Z137>0,Timesheet!J137,\"\")","v":""},"",{"$f":"IFERROR(VLOOKUP(AE137,IF(AE137=3165,AL$2:AM$2,ESG!A$2:J$54),IF(AE137=3165,2,10),0),0)","v":0},{"$f":"IF(Timesheet!AB137>0,Timesheet!G137,\"\")","v":""},{"$f":"IF(Timesheet!AB137>0,Timesheet!J137,\"\")","v":""},"",{"$f":"IFERROR(VLOOKUP(AI137,IF(AI137=3165,AL$2:AM$2,ESG!A$2:K$54),IF(AI137=3165,2,11),0),0)","v":0}]
[{"$f":"IF(Timesheet!L138>0,Timesheet!G138,\"\")","v":""},{"$f":"IF(Timesheet!L138>0,Timesheet!J138,\"\")","v":""},"",{"$f":"IFERROR(VLOOKUP(C138,IF(C138=3165,AL$2:AM$2,ESG!A$2:C$54),IF(C138=3165,2,3),0),0)","v":0},{"$f":"IF(Timesheet!N138>0,Timesheet!G138,\"\")","v":""},{"$f":"IF(Timesheet!N138>0,Timesheet!J138,\"\")","v":""},"",{"$f":"IFERROR(VLOOKUP(G138,IF(G138=3165,AL$2:AM$2,ESG!A$2:D$54),IF(G138=3165,2,4),0),0)","v":0},{"$f":"IF(Timesheet!P138>0,Timesheet!G138,\"\")","v":""},{"$f":"IF(Timesheet!P138>0,Timesheet!J138,\"\")","v":""},"",{"$f":"IFERROR(VLOOKUP(K138,IF(K138=3165,AL$2:AM$2,ESG!A$2:E$54),IF(K138=3165,2,5),0),0)","v":0},{"$f":"IF(Timesheet!R138>0,Timesheet!G138,\"\")","v":""},{"$f":"IF(Timesheet!R138>0,Timesheet!J138,\"\")","v":""},{"$f":"IFERROR(VLOOKUP(M138,ESG!M$2:N$13,2,FALSE),N138)","v":""},{"$f":"IFERROR(VLOOKUP(O138,IF(O138=3165,AL$2:AM$2,ESG!A$2:F$54),IF(O138=3165,2,6),0),0)","v":0},{"$f":"IF(Timesheet!T138>0,Timesheet!G138,\"\")","v":""},{"$f":"IF(Timesheet!T138>0,Timesheet!J138,\"\")","v":""},{"$f":"IFERROR(VLOOKUP(Q138,ESG!M$2:N$13,2,FALSE),R138)","v":""},{"$f":"IFERROR(VLOOKUP(S138,IF(S138=3165,AL$2:AM$2,ESG!A$2:G$54),IF(S138=3165,2,7),0),0)","v":0},{"$f":"IF(Timesheet!V138>0,Timesheet!G138,\"\")","v":""},{"$f":"IF(Timesheet!V138>0,Timesheet!J138,\"\")","v":""},{"$f":"IFERROR(VLOOKUP(U138,ESG!M$2:N$13,2,FALSE),V138)","v":""},{"$f":"IFERROR(VLOOKUP(W138,IF(W138=3165,AL$2:AM$2,ESG!A$2:H$54),IF(W138=3165,2,8),0),0)","v":0},{"$f":"IF(Timesheet!X138>0,Timesheet!G138,\"\")","v":""},{"$f":"IF(Timesheet!X138>0,Timesheet!J138,\"\")","v":""},"",{"$f":"IFERROR(VLOOKUP(AA138,IF(AA138=3165,AL$2:AM$2,ESG!A$2:I$54),IF(AA138=3165,2,9),0),0)","v":0},{"$f":"IF(Timesheet!Z138>0,Timesheet!G138,\"\")","v":""},{"$f":"IF(Timesheet!Z138>0,Timesheet!J138,\"\")","v":""},"",{"$f":"IFERROR(VLOOKUP(AE138,IF(AE138=3165,AL$2:AM$2,ESG!A$2:J$54),IF(AE138=3165,2,10),0),0)","v":0},{"$f":"IF(Timesheet!AB138>0,Timesheet!G138,\"\")","v":""},{"$f":"IF(Timesheet!AB138>0,Timesheet!J138,\"\")","v":""},"",{"$f":"IFERROR(VLOOKUP(AI138,IF(AI138=3165,AL$2:AM$2,ESG!A$2:K$54),IF(AI138=3165,2,11),0),0)","v":0}]
[{"$f":"IF(Timesheet!L139>0,Timesheet!G139,\"\")","v":""},{"$f":"IF(Timesheet!L139>0,Timesheet!J139,\"\")","v":""},"",{"$f":"IFERROR(VLOOKUP(C139,IF(C139=3165,AL$2:AM$2,ESG!A$2:C$54),IF(C139=3165,2,3),0),0)","v":0},{"$f":"IF(Timesheet!N139>0,Timesheet!G139,\"\")","v":""},{"$f":"IF(Timesheet!N139>0,Timesheet!J139,\"\")","v":""},"",{"$f":"IFERROR(VLOOKUP(G139,IF(G139=3165,AL$2:AM$2,ESG!A$2:D$54),IF(G139=3165,2,4),0),0)","v":0},{"$f":"IF(Timesheet!P139>0,Timesheet!G139,\"\")","v":""},{"$f":"IF(Timesheet!P139>0,Timesheet!J139,\"\")","v":""},"",{"$f":"IFERROR(VLOOKUP(K139,IF(K139=3165,AL$2:AM$2,ESG!A$2:E$54),IF(K139=3165,2,5),0),0)","v":0},{"$f":"IF(Timesheet!R139>0,Timesheet!G139,\"\")","v":""},{"$f":"IF(Timesheet!R139>0,Timesheet!J139,\"\")","v":""},{"$f":"IFERROR(VLOOKUP(M139,ESG!M$2:N$13,2,FALSE),N139)","v":""},{"$f":"IFERROR(VLOOKUP(O139,IF(O139=3165,AL$2:AM$2,ESG!A$2:F$54),IF(O139=3165,2,6),0),0)","v":0},{"$f":"IF(Timesheet!T139>0,Timesheet!G139,\"\")","v":""},{"$f":"IF(Timesheet!T139>0,Timesheet!J139,\"\")","v":""},{"$f":"IFERROR(VLOOKUP(Q139,ESG!M$2:N$13,2,FALSE),R139)","v":""},{"$f":"IFERROR(VLOOKUP(S139,IF(S139=3165,AL$2:AM$2,ESG!A$2:G$54),IF(S139=3165,2,7),0),0)","v":0},{"$f":"IF(Timesheet!V139>0,Timesheet!G139,\"\")","v":""},{"$f":"IF(Timesheet!V139>0,Timesheet!J139,\"\")","v":""},{"$f":"IFERROR(VLOOKUP(U139,ESG!M$2:N$13,2,FALSE),V139)","v":""},{"$f":"IFERROR(VLOOKUP(W139,IF(W139=3165,AL$2:AM$2,ESG!A$2:H$54),IF(W139=3165,2,8),0),0)","v":0},{"$f":"IF(Timesheet!X139>0,Timesheet!G139,\"\")","v":""},{"$f":"IF(Timesheet!X139>0,Timesheet!J139,\"\")","v":""},"",{"$f":"IFERROR(VLOOKUP(AA139,IF(AA139=3165,AL$2:AM$2,ESG!A$2:I$54),IF(AA139=3165,2,9),0),0)","v":0},{"$f":"IF(Timesheet!Z139>0,Timesheet!G139,\"\")","v":""},{"$f":"IF(Timesheet!Z139>0,Timesheet!J139,\"\")","v":""},"",{"$f":"IFERROR(VLOOKUP(AE139,IF(AE139=3165,AL$2:AM$2,ESG!A$2:J$54),IF(AE139=3165,2,10),0),0)","v":0},{"$f":"IF(Timesheet!AB139>0,Timesheet!G139,\"\")","v":""},{"$f":"IF(Timesheet!AB139>0,Timesheet!J139,\"\")","v":""},"",{"$f":"IFERROR(VLOOKUP(AI139,IF(AI139=3165,AL$2:AM$2,ESG!A$2:K$54),IF(AI139=3165,2,11),0),0)","v":0}]
[{"$f":"IF(Timesheet!L140>0,Timesheet!G140,\"\")","v":""},{"$f":"IF(Timesheet!L140>0,Timesheet!J140,\"\")","v":""},"",{"$f":"IFERROR(VLOOKUP(C140,IF(C140=3165,AL$2:AM$2,ESG!A$2:C$54),IF(C140=3165,2,3),0),0)","v":0},{"$f":"IF(Timesheet!N140>0,Timesheet!G140,\"\")","v":""},{"$f":"IF(Timesheet!N140>0,Timesheet!J140,\"\")","v":""},"",{"$f":"IFERROR(VLOOKUP(G140,IF(G140=3165,AL$2:AM$2,ESG!A$2:D$54),IF(G140=3165,2,4),0),0)","v":0},{"$f":"IF(Timesheet!P140>0,Timesheet!G140,\"\")","v":""},{"$f":"IF(Timesheet!P140>0,Timesheet!J140,\"\")","v":""},"",{"$f":"IFERROR(VLOOKUP(K140,IF(K140=3165,AL$2:AM$2,ESG!A$2:E$54),IF(K140=3165,2,5),0),0)","v":0},{"$f":"IF(Timesheet!R140>0,Timesheet!G140,\"\")","v":""},{"$f":"IF(Timesheet!R140>0,Timesheet!J140,\"\")","v":""},{"$f":"IFERROR(VLOOKUP(M140,ESG!M$2:N$13,2,FALSE),N140)","v":""},{"$f":"IFERROR(VLOOKUP(O140,IF(O140=3165,AL$2:AM$2,ESG!A$2:F$54),IF(O140=3165,2,6),0),0)","v":0},{"$f":"IF(Timesheet!T140>0,Timesheet!G140,\"\")","v":""},{"$f":"IF(Timesheet!T140>0,Timesheet!J140,\"\")","v":""},{"$f":"IFERROR(VLOOKUP(Q140,ESG!M$2:N$13,2,FALSE),R140)","v":""},{"$f":"IFERROR(VLOOKUP(S140,IF(S140=3165,AL$2:AM$2,ESG!A$2:G$54),IF(S140=3165,2,7),0),0)","v":0},{"$f":"IF(Timesheet!V140>0,Timesheet!G140,\"\")","v":""},{"$f":"IF(Timesheet!V140>0,Timesheet!J140,\"\")","v":""},{"$f":"IFERROR(VLOOKUP(U140,ESG!M$2:N$13,2,FALSE),V140)","v":""},{"$f":"IFERROR(VLOOKUP(W140,IF(W140=3165,AL$2:AM$2,ESG!A$2:H$54),IF(W140=3165,2,8),0),0)","v":0},{"$f":"IF(Timesheet!X140>0,Timesheet!G140,\"\")","v":""},{"$f":"IF(Timesheet!X140>0,Timesheet!J140,\"\")","v":""},"",{"$f":"IFERROR(VLOOKUP(AA140,IF(AA140=3165,AL$2:AM$2,ESG!A$2:I$54),IF(AA140=3165,2,9),0),0)","v":0},{"$f":"IF(Timesheet!Z140>0,Timesheet!G140,\"\")","v":""},{"$f":"IF(Timesheet!Z140>0,Timesheet!J140,\"\")","v":""},"",{"$f":"IFERROR(VLOOKUP(AE140,IF(AE140=3165,AL$2:AM$2,ESG!A$2:J$54),IF(AE140=3165,2,10),0),0)","v":0},{"$f":"IF(Timesheet!AB140>0,Timesheet!G140,\"\")","v":""},{"$f":"IF(Timesheet!AB140>0,Timesheet!J140,\"\")","v":""},"",{"$f":"IFERROR(VLOOKUP(AI140,IF(AI140=3165,AL$2:AM$2,ESG!A$2:K$54),IF(AI140=3165,2,11),0),0)","v":0}]
[{"$f":"IF(Timesheet!L141>0,Timesheet!G141,\"\")","v":""},{"$f":"IF(Timesheet!L141>0,Timesheet!J141,\"\")","v":""},"",{"$f":"IFERROR(VLOOKUP(C141,IF(C141=3165,AL$2:AM$2,ESG!A$2:C$54),IF(C141=3165,2,3),0),0)","v":0},{"$f":"IF(Timesheet!N141>0,Timesheet!G141,\"\")","v":""},{"$f":"IF(Timesheet!N141>0,Timesheet!J141,\"\")","v":""},"",{"$f":"IFERROR(VLOOKUP(G141,IF(G141=3165,AL$2:AM$2,ESG!A$2:D$54),IF(G141=3165,2,4),0),0)","v":0},{"$f":"IF(Timesheet!P141>0,Timesheet!G141,\"\")","v":""},{"$f":"IF(Timesheet!P141>0,Timesheet!J141,\"\")","v":""},"",{"$f":"IFERROR(VLOOKUP(K141,IF(K141=3165,AL$2:AM$2,ESG!A$2:E$54),IF(K141=3165,2,5),0),0)","v":0},{"$f":"IF(Timesheet!R141>0,Timesheet!G141,\"\")","v":""},{"$f":"IF(Timesheet!R141>0,Timesheet!J141,\"\")","v":""},{"$f":"IFERROR(VLOOKUP(M141,ESG!M$2:N$13,2,FALSE),N141)","v":""},{"$f":"IFERROR(VLOOKUP(O141,IF(O141=3165,AL$2:AM$2,ESG!A$2:F$54),IF(O141=3165,2,6),0),0)","v":0},{"$f":"IF(Timesheet!T141>0,Timesheet!G141,\"\")","v":""},{"$f":"IF(Timesheet!T141>0,Timesheet!J141,\"\")","v":""},{"$f":"IFERROR(VLOOKUP(Q141,ESG!M$2:N$13,2,FALSE),R141)","v":""},{"$f":"IFERROR(VLOOKUP(S141,IF(S141=3165,AL$2:AM$2,ESG!A$2:G$54),IF(S141=3165,2,7),0),0)","v":0},{"$f":"IF(Timesheet!V141>0,Timesheet!G141,\"\")","v":""},{"$f":"IF(Timesheet!V141>0,Timesheet!J141,\"\")","v":""},{"$f":"IFERROR(VLOOKUP(U141,ESG!M$2:N$13,2,FALSE),V141)","v":""},{"$f":"IFERROR(VLOOKUP(W141,IF(W141=3165,AL$2:AM$2,ESG!A$2:H$54),IF(W141=3165,2,8),0),0)","v":0},{"$f":"IF(Timesheet!X141>0,Timesheet!G141,\"\")","v":""},{"$f":"IF(Timesheet!X141>0,Timesheet!J141,\"\")","v":""},"",{"$f":"IFERROR(VLOOKUP(AA141,IF(AA141=3165,AL$2:AM$2,ESG!A$2:I$54),IF(AA141=3165,2,9),0),0)","v":0},{"$f":"IF(Timesheet!Z141>0,Timesheet!G141,\"\")","v":""},{"$f":"IF(Timesheet!Z141>0,Timesheet!J141,\"\")","v":""},"",{"$f":"IFERROR(VLOOKUP(AE141,IF(AE141=3165,AL$2:AM$2,ESG!A$2:J$54),IF(AE141=3165,2,10),0),0)","v":0},{"$f":"IF(Timesheet!AB141>0,Timesheet!G141,\"\")","v":""},{"$f":"IF(Timesheet!AB141>0,Timesheet!J141,\"\")","v":""},"",{"$f":"IFERROR(VLOOKUP(AI141,IF(AI141=3165,AL$2:AM$2,ESG!A$2:K$54),IF(AI141=3165,2,11),0),0)","v":0}]
[{"$f":"IF(Timesheet!L142>0,Timesheet!G142,\"\")","v":""},{"$f":"IF(Timesheet!L142>0,Timesheet!J142,\"\")","v":""},"",{"$f":"IFERROR(VLOOKUP(C142,IF(C142=3165,AL$2:AM$2,ESG!A$2:C$54),IF(C142=3165,2,3),0),0)","v":0},{"$f":"IF(Timesheet!N142>0,Timesheet!G142,\"\")","v":""},{"$f":"IF(Timesheet!N142>0,Timesheet!J142,\"\")","v":""},"",{"$f":"IFERROR(VLOOKUP(G142,IF(G142=3165,AL$2:AM$2,ESG!A$2:D$54),IF(G142=3165,2,4),0),0)","v":0},{"$f":"IF(Timesheet!P142>0,Timesheet!G142,\"\")","v":""},{"$f":"IF(Timesheet!P142>0,Timesheet!J142,\"\")","v":""},"",{"$f":"IFERROR(VLOOKUP(K142,IF(K142=3165,AL$2:AM$2,ESG!A$2:E$54),IF(K142=3165,2,5),0),0)","v":0},{"$f":"IF(Timesheet!R142>0,Timesheet!G142,\"\")","v":""},{"$f":"IF(Timesheet!R142>0,Timesheet!J142,\"\")","v":""},{"$f":"IFERROR(VLOOKUP(M142,ESG!M$2:N$13,2,FALSE),N142)","v":""},{"$f":"IFERROR(VLOOKUP(O142,IF(O142=3165,AL$2:AM$2,ESG!A$2:F$54),IF(O142=3165,2,6),0),0)","v":0},{"$f":"IF(Timesheet!T142>0,Timesheet!G142,\"\")","v":""},{"$f":"IF(Timesheet!T142>0,Timesheet!J142,\"\")","v":""},{"$f":"IFERROR(VLOOKUP(Q142,ESG!M$2:N$13,2,FALSE),R142)","v":""},{"$f":"IFERROR(VLOOKUP(S142,IF(S142=3165,AL$2:AM$2,ESG!A$2:G$54),IF(S142=3165,2,7),0),0)","v":0},{"$f":"IF(Timesheet!V142>0,Timesheet!G142,\"\")","v":""},{"$f":"IF(Timesheet!V142>0,Timesheet!J142,\"\")","v":""},{"$f":"IFERROR(VLOOKUP(U142,ESG!M$2:N$13,2,FALSE),V142)","v":""},{"$f":"IFERROR(VLOOKUP(W142,IF(W142=3165,AL$2:AM$2,ESG!A$2:H$54),IF(W142=3165,2,8),0),0)","v":0},{"$f":"IF(Timesheet!X142>0,Timesheet!G142,\"\")","v":""},{"$f":"IF(Timesheet!X142>0,Timesheet!J142,\"\")","v":""},"",{"$f":"IFERROR(VLOOKUP(AA142,IF(AA142=3165,AL$2:AM$2,ESG!A$2:I$54),IF(AA142=3165,2,9),0),0)","v":0},{"$f":"IF(Timesheet!Z142>0,Timesheet!G142,\"\")","v":""},{"$f":"IF(Timesheet!Z142>0,Timesheet!J142,\"\")","v":""},"",{"$f":"IFERROR(VLOOKUP(AE142,IF(AE142=3165,AL$2:AM$2,ESG!A$2:J$54),IF(AE142=3165,2,10),0),0)","v":0},{"$f":"IF(Timesheet!AB142>0,Timesheet!G142,\"\")","v":""},{"$f":"IF(Timesheet!AB142>0,Timesheet!J142,\"\")","v":""},"",{"$f":"IFERROR(VLOOKUP(AI142,IF(AI142=3165,AL$2:AM$2,ESG!A$2:K$54),IF(AI142=3165,2,11),0),0)","v":0}]
[{"$f":"IF(Timesheet!L143>0,Timesheet!G143,\"\")","v":""},{"$f":"IF(Timesheet!L143>0,Timesheet!J143,\"\")","v":""},"",{"$f":"IFERROR(VLOOKUP(C143,IF(C143=3165,AL$2:AM$2,ESG!A$2:C$54),IF(C143=3165,2,3),0),0)","v":0},{"$f":"IF(Timesheet!N143>0,Timesheet!G143,\"\")","v":""},{"$f":"IF(Timesheet!N143>0,Timesheet!J143,\"\")","v":""},"",{"$f":"IFERROR(VLOOKUP(G143,IF(G143=3165,AL$2:AM$2,ESG!A$2:D$54),IF(G143=3165,2,4),0),0)","v":0},{"$f":"IF(Timesheet!P143>0,Timesheet!G143,\"\")","v":""},{"$f":"IF(Timesheet!P143>0,Timesheet!J143,\"\")","v":""},"",{"$f":"IFERROR(VLOOKUP(K143,IF(K143=3165,AL$2:AM$2,ESG!A$2:E$54),IF(K143=3165,2,5),0),0)","v":0},{"$f":"IF(Timesheet!R143>0,Timesheet!G143,\"\")","v":""},{"$f":"IF(Timesheet!R143>0,Timesheet!J143,\"\")","v":""},{"$f":"IFERROR(VLOOKUP(M143,ESG!M$2:N$13,2,FALSE),N143)","v":""},{"$f":"IFERROR(VLOOKUP(O143,IF(O143=3165,AL$2:AM$2,ESG!A$2:F$54),IF(O143=3165,2,6),0),0)","v":0},{"$f":"IF(Timesheet!T143>0,Timesheet!G143,\"\")","v":""},{"$f":"IF(Timesheet!T143>0,Timesheet!J143,\"\")","v":""},{"$f":"IFERROR(VLOOKUP(Q143,ESG!M$2:N$13,2,FALSE),R143)","v":""},{"$f":"IFERROR(VLOOKUP(S143,IF(S143=3165,AL$2:AM$2,ESG!A$2:G$54),IF(S143=3165,2,7),0),0)","v":0},{"$f":"IF(Timesheet!V143>0,Timesheet!G143,\"\")","v":""},{"$f":"IF(Timesheet!V143>0,Timesheet!J143,\"\")","v":""},{"$f":"IFERROR(VLOOKUP(U143,ESG!M$2:N$13,2,FALSE),V143)","v":""},{"$f":"IFERROR(VLOOKUP(W143,IF(W143=3165,AL$2:AM$2,ESG!A$2:H$54),IF(W143=3165,2,8),0),0)","v":0},{"$f":"IF(Timesheet!X143>0,Timesheet!G143,\"\")","v":""},{"$f":"IF(Timesheet!X143>0,Timesheet!J143,\"\")","v":""},"",{"$f":"IFERROR(VLOOKUP(AA143,IF(AA143=3165,AL$2:AM$2,ESG!A$2:I$54),IF(AA143=3165,2,9),0),0)","v":0},{"$f":"IF(Timesheet!Z143>0,Timesheet!G143,\"\")","v":""},{"$f":"IF(Timesheet!Z143>0,Timesheet!J143,\"\")","v":""},"",{"$f":"IFERROR(VLOOKUP(AE143,IF(AE143=3165,AL$2:AM$2,ESG!A$2:J$54),IF(AE143=3165,2,10),0),0)","v":0},{"$f":"IF(Timesheet!AB143>0,Timesheet!G143,\"\")","v":""},{"$f":"IF(Timesheet!AB143>0,Timesheet!J143,\"\")","v":""},"",{"$f":"IFERROR(VLOOKUP(AI143,IF(AI143=3165,AL$2:AM$2,ESG!A$2:K$54),IF(AI143=3165,2,11),0),0)","v":0}]
[{"$f":"IF(Timesheet!L144>0,Timesheet!G144,\"\")","v":""},{"$f":"IF(Timesheet!L144>0,Timesheet!J144,\"\")","v":""},"",{"$f":"IFERROR(VLOOKUP(C144,IF(C144=3165,AL$2:AM$2,ESG!A$2:C$54),IF(C144=3165,2,3),0),0)","v":0},{"$f":"IF(Timesheet!N144>0,Timesheet!G144,\"\")","v":""},{"$f":"IF(Timesheet!N144>0,Timesheet!J144,\"\")","v":""},"",{"$f":"IFERROR(VLOOKUP(G144,IF(G144=3165,AL$2:AM$2,ESG!A$2:D$54),IF(G144=3165,2,4),0),0)","v":0},{"$f":"IF(Timesheet!P144>0,Timesheet!G144,\"\")","v":""},{"$f":"IF(Timesheet!P144>0,Timesheet!J144,\"\")","v":""},"",{"$f":"IFERROR(VLOOKUP(K144,IF(K144=3165,AL$2:AM$2,ESG!A$2:E$54),IF(K144=3165,2,5),0),0)","v":0},{"$f":"IF(Timesheet!R144>0,Timesheet!G144,\"\")","v":""},{"$f":"IF(Timesheet!R144>0,Timesheet!J144,\"\")","v":""},{"$f":"IFERROR(VLOOKUP(M144,ESG!M$2:N$13,2,FALSE),N144)","v":""},{"$f":"IFERROR(VLOOKUP(O144,IF(O144=3165,AL$2:AM$2,ESG!A$2:F$54),IF(O144=3165,2,6),0),0)","v":0},{"$f":"IF(Timesheet!T144>0,Timesheet!G144,\"\")","v":""},{"$f":"IF(Timesheet!T144>0,Timesheet!J144,\"\")","v":""},{"$f":"IFERROR(VLOOKUP(Q144,ESG!M$2:N$13,2,FALSE),R144)","v":""},{"$f":"IFERROR(VLOOKUP(S144,IF(S144=3165,AL$2:AM$2,ESG!A$2:G$54),IF(S144=3165,2,7),0),0)","v":0},{"$f":"IF(Timesheet!V144>0,Timesheet!G144,\"\")","v":""},{"$f":"IF(Timesheet!V144>0,Timesheet!J144,\"\")","v":""},{"$f":"IFERROR(VLOOKUP(U144,ESG!M$2:N$13,2,FALSE),V144)","v":""},{"$f":"IFERROR(VLOOKUP(W144,IF(W144=3165,AL$2:AM$2,ESG!A$2:H$54),IF(W144=3165,2,8),0),0)","v":0},{"$f":"IF(Timesheet!X144>0,Timesheet!G144,\"\")","v":""},{"$f":"IF(Timesheet!X144>0,Timesheet!J144,\"\")","v":""},"",{"$f":"IFERROR(VLOOKUP(AA144,IF(AA144=3165,AL$2:AM$2,ESG!A$2:I$54),IF(AA144=3165,2,9),0),0)","v":0},{"$f":"IF(Timesheet!Z144>0,Timesheet!G144,\"\")","v":""},{"$f":"IF(Timesheet!Z144>0,Timesheet!J144,\"\")","v":""},"",{"$f":"IFERROR(VLOOKUP(AE144,IF(AE144=3165,AL$2:AM$2,ESG!A$2:J$54),IF(AE144=3165,2,10),0),0)","v":0},{"$f":"IF(Timesheet!AB144>0,Timesheet!G144,\"\")","v":""},{"$f":"IF(Timesheet!AB144>0,Timesheet!J144,\"\")","v":""},"",{"$f":"IFERROR(VLOOKUP(AI144,IF(AI144=3165,AL$2:AM$2,ESG!A$2:K$54),IF(AI144=3165,2,11),0),0)","v":0}]
[{"$f":"IF(Timesheet!L145>0,Timesheet!G145,\"\")","v":""},{"$f":"IF(Timesheet!L145>0,Timesheet!J145,\"\")","v":""},"",{"$f":"IFERROR(VLOOKUP(C145,IF(C145=3165,AL$2:AM$2,ESG!A$2:C$54),IF(C145=3165,2,3),0),0)","v":0},{"$f":"IF(Timesheet!N145>0,Timesheet!G145,\"\")","v":""},{"$f":"IF(Timesheet!N145>0,Timesheet!J145,\"\")","v":""},"",{"$f":"IFERROR(VLOOKUP(G145,IF(G145=3165,AL$2:AM$2,ESG!A$2:D$54),IF(G145=3165,2,4),0),0)","v":0},{"$f":"IF(Timesheet!P145>0,Timesheet!G145,\"\")","v":""},{"$f":"IF(Timesheet!P145>0,Timesheet!J145,\"\")","v":""},"",{"$f":"IFERROR(VLOOKUP(K145,IF(K145=3165,AL$2:AM$2,ESG!A$2:E$54),IF(K145=3165,2,5),0),0)","v":0},{"$f":"IF(Timesheet!R145>0,Timesheet!G145,\"\")","v":""},{"$f":"IF(Timesheet!R145>0,Timesheet!J145,\"\")","v":""},{"$f":"IFERROR(VLOOKUP(M145,ESG!M$2:N$13,2,FALSE),N145)","v":""},{"$f":"IFERROR(VLOOKUP(O145,IF(O145=3165,AL$2:AM$2,ESG!A$2:F$54),IF(O145=3165,2,6),0),0)","v":0},{"$f":"IF(Timesheet!T145>0,Timesheet!G145,\"\")","v":""},{"$f":"IF(Timesheet!T145>0,Timesheet!J145,\"\")","v":""},{"$f":"IFERROR(VLOOKUP(Q145,ESG!M$2:N$13,2,FALSE),R145)","v":""},{"$f":"IFERROR(VLOOKUP(S145,IF(S145=3165,AL$2:AM$2,ESG!A$2:G$54),IF(S145=3165,2,7),0),0)","v":0},{"$f":"IF(Timesheet!V145>0,Timesheet!G145,\"\")","v":""},{"$f":"IF(Timesheet!V145>0,Timesheet!J145,\"\")","v":""},{"$f":"IFERROR(VLOOKUP(U145,ESG!M$2:N$13,2,FALSE),V145)","v":""},{"$f":"IFERROR(VLOOKUP(W145,IF(W145=3165,AL$2:AM$2,ESG!A$2:H$54),IF(W145=3165,2,8),0),0)","v":0},{"$f":"IF(Timesheet!X145>0,Timesheet!G145,\"\")","v":""},{"$f":"IF(Timesheet!X145>0,Timesheet!J145,\"\")","v":""},"",{"$f":"IFERROR(VLOOKUP(AA145,IF(AA145=3165,AL$2:AM$2,ESG!A$2:I$54),IF(AA145=3165,2,9),0),0)","v":0},{"$f":"IF(Timesheet!Z145>0,Timesheet!G145,\"\")","v":""},{"$f":"IF(Timesheet!Z145>0,Timesheet!J145,\"\")","v":""},"",{"$f":"IFERROR(VLOOKUP(AE145,IF(AE145=3165,AL$2:AM$2,ESG!A$2:J$54),IF(AE145=3165,2,10),0),0)","v":0},{"$f":"IF(Timesheet!AB145>0,Timesheet!G145,\"\")","v":""},{"$f":"IF(Timesheet!AB145>0,Timesheet!J145,\"\")","v":""},"",{"$f":"IFERROR(VLOOKUP(AI145,IF(AI145=3165,AL$2:AM$2,ESG!A$2:K$54),IF(AI145=3165,2,11),0),0)","v":0}]
[{"$f":"IF(Timesheet!L146>0,Timesheet!G146,\"\")","v":""},{"$f":"IF(Timesheet!L146>0,Timesheet!J146,\"\")","v":""},"",{"$f":"IFERROR(VLOOKUP(C146,IF(C146=3165,AL$2:AM$2,ESG!A$2:C$54),IF(C146=3165,2,3),0),0)","v":0},{"$f":"IF(Timesheet!N146>0,Timesheet!G146,\"\")","v":""},{"$f":"IF(Timesheet!N146>0,Timesheet!J146,\"\")","v":""},"",{"$f":"IFERROR(VLOOKUP(G146,IF(G146=3165,AL$2:AM$2,ESG!A$2:D$54),IF(G146=3165,2,4),0),0)","v":0},{"$f":"IF(Timesheet!P146>0,Timesheet!G146,\"\")","v":""},{"$f":"IF(Timesheet!P146>0,Timesheet!J146,\"\")","v":""},"",{"$f":"IFERROR(VLOOKUP(K146,IF(K146=3165,AL$2:AM$2,ESG!A$2:E$54),IF(K146=3165,2,5),0),0)","v":0},{"$f":"IF(Timesheet!R146>0,Timesheet!G146,\"\")","v":""},{"$f":"IF(Timesheet!R146>0,Timesheet!J146,\"\")","v":""},{"$f":"IFERROR(VLOOKUP(M146,ESG!M$2:N$13,2,FALSE),N146)","v":""},{"$f":"IFERROR(VLOOKUP(O146,IF(O146=3165,AL$2:AM$2,ESG!A$2:F$54),IF(O146=3165,2,6),0),0)","v":0},{"$f":"IF(Timesheet!T146>0,Timesheet!G146,\"\")","v":""},{"$f":"IF(Timesheet!T146>0,Timesheet!J146,\"\")","v":""},{"$f":"IFERROR(VLOOKUP(Q146,ESG!M$2:N$13,2,FALSE),R146)","v":""},{"$f":"IFERROR(VLOOKUP(S146,IF(S146=3165,AL$2:AM$2,ESG!A$2:G$54),IF(S146=3165,2,7),0),0)","v":0},{"$f":"IF(Timesheet!V146>0,Timesheet!G146,\"\")","v":""},{"$f":"IF(Timesheet!V146>0,Timesheet!J146,\"\")","v":""},{"$f":"IFERROR(VLOOKUP(U146,ESG!M$2:N$13,2,FALSE),V146)","v":""},{"$f":"IFERROR(VLOOKUP(W146,IF(W146=3165,AL$2:AM$2,ESG!A$2:H$54),IF(W146=3165,2,8),0),0)","v":0},{"$f":"IF(Timesheet!X146>0,Timesheet!G146,\"\")","v":""},{"$f":"IF(Timesheet!X146>0,Timesheet!J146,\"\")","v":""},"",{"$f":"IFERROR(VLOOKUP(AA146,IF(AA146=3165,AL$2:AM$2,ESG!A$2:I$54),IF(AA146=3165,2,9),0),0)","v":0},{"$f":"IF(Timesheet!Z146>0,Timesheet!G146,\"\")","v":""},{"$f":"IF(Timesheet!Z146>0,Timesheet!J146,\"\")","v":""},"",{"$f":"IFERROR(VLOOKUP(AE146,IF(AE146=3165,AL$2:AM$2,ESG!A$2:J$54),IF(AE146=3165,2,10),0),0)","v":0},{"$f":"IF(Timesheet!AB146>0,Timesheet!G146,\"\")","v":""},{"$f":"IF(Timesheet!AB146>0,Timesheet!J146,\"\")","v":""},"",{"$f":"IFERROR(VLOOKUP(AI146,IF(AI146=3165,AL$2:AM$2,ESG!A$2:K$54),IF(AI146=3165,2,11),0),0)","v":0}]
[{"$f":"IF(Timesheet!L147>0,Timesheet!G147,\"\")","v":""},{"$f":"IF(Timesheet!L147>0,Timesheet!J147,\"\")","v":""},"",{"$f":"IFERROR(VLOOKUP(C147,IF(C147=3165,AL$2:AM$2,ESG!A$2:C$54),IF(C147=3165,2,3),0),0)","v":0},{"$f":"IF(Timesheet!N147>0,Timesheet!G147,\"\")","v":""},{"$f":"IF(Timesheet!N147>0,Timesheet!J147,\"\")","v":""},"",{"$f":"IFERROR(VLOOKUP(G147,IF(G147=3165,AL$2:AM$2,ESG!A$2:D$54),IF(G147=3165,2,4),0),0)","v":0},{"$f":"IF(Timesheet!P147>0,Timesheet!G147,\"\")","v":""},{"$f":"IF(Timesheet!P147>0,Timesheet!J147,\"\")","v":""},"",{"$f":"IFERROR(VLOOKUP(K147,IF(K147=3165,AL$2:AM$2,ESG!A$2:E$54),IF(K147=3165,2,5),0),0)","v":0},{"$f":"IF(Timesheet!R147>0,Timesheet!G147,\"\")","v":""},{"$f":"IF(Timesheet!R147>0,Timesheet!J147,\"\")","v":""},{"$f":"IFERROR(VLOOKUP(M147,ESG!M$2:N$13,2,FALSE),N147)","v":""},{"$f":"IFERROR(VLOOKUP(O147,IF(O147=3165,AL$2:AM$2,ESG!A$2:F$54),IF(O147=3165,2,6),0),0)","v":0},{"$f":"IF(Timesheet!T147>0,Timesheet!G147,\"\")","v":""},{"$f":"IF(Timesheet!T147>0,Timesheet!J147,\"\")","v":""},{"$f":"IFERROR(VLOOKUP(Q147,ESG!M$2:N$13,2,FALSE),R147)","v":""},{"$f":"IFERROR(VLOOKUP(S147,IF(S147=3165,AL$2:AM$2,ESG!A$2:G$54),IF(S147=3165,2,7),0),0)","v":0},{"$f":"IF(Timesheet!V147>0,Timesheet!G147,\"\")","v":""},{"$f":"IF(Timesheet!V147>0,Timesheet!J147,\"\")","v":""},{"$f":"IFERROR(VLOOKUP(U147,ESG!M$2:N$13,2,FALSE),V147)","v":""},{"$f":"IFERROR(VLOOKUP(W147,IF(W147=3165,AL$2:AM$2,ESG!A$2:H$54),IF(W147=3165,2,8),0),0)","v":0},{"$f":"IF(Timesheet!X147>0,Timesheet!G147,\"\")","v":""},{"$f":"IF(Timesheet!X147>0,Timesheet!J147,\"\")","v":""},"",{"$f":"IFERROR(VLOOKUP(AA147,IF(AA147=3165,AL$2:AM$2,ESG!A$2:I$54),IF(AA147=3165,2,9),0),0)","v":0},{"$f":"IF(Timesheet!Z147>0,Timesheet!G147,\"\")","v":""},{"$f":"IF(Timesheet!Z147>0,Timesheet!J147,\"\")","v":""},"",{"$f":"IFERROR(VLOOKUP(AE147,IF(AE147=3165,AL$2:AM$2,ESG!A$2:J$54),IF(AE147=3165,2,10),0),0)","v":0},{"$f":"IF(Timesheet!AB147>0,Timesheet!G147,\"\")","v":""},{"$f":"IF(Timesheet!AB147>0,Timesheet!J147,\"\")","v":""},"",{"$f":"IFERROR(VLOOKUP(AI147,IF(AI147=3165,AL$2:AM$2,ESG!A$2:K$54),IF(AI147=3165,2,11),0),0)","v":0}]
[{"$f":"IF(Timesheet!L148>0,Timesheet!G148,\"\")","v":""},{"$f":"IF(Timesheet!L148>0,Timesheet!J148,\"\")","v":""},"",{"$f":"IFERROR(VLOOKUP(C148,IF(C148=3165,AL$2:AM$2,ESG!A$2:C$54),IF(C148=3165,2,3),0),0)","v":0},{"$f":"IF(Timesheet!N148>0,Timesheet!G148,\"\")","v":""},{"$f":"IF(Timesheet!N148>0,Timesheet!J148,\"\")","v":""},"",{"$f":"IFERROR(VLOOKUP(G148,IF(G148=3165,AL$2:AM$2,ESG!A$2:D$54),IF(G148=3165,2,4),0),0)","v":0},{"$f":"IF(Timesheet!P148>0,Timesheet!G148,\"\")","v":""},{"$f":"IF(Timesheet!P148>0,Timesheet!J148,\"\")","v":""},"",{"$f":"IFERROR(VLOOKUP(K148,IF(K148=3165,AL$2:AM$2,ESG!A$2:E$54),IF(K148=3165,2,5),0),0)","v":0},{"$f":"IF(Timesheet!R148>0,Timesheet!G148,\"\")","v":""},{"$f":"IF(Timesheet!R148>0,Timesheet!J148,\"\")","v":""},{"$f":"IFERROR(VLOOKUP(M148,ESG!M$2:N$13,2,FALSE),N148)","v":""},{"$f":"IFERROR(VLOOKUP(O148,IF(O148=3165,AL$2:AM$2,ESG!A$2:F$54),IF(O148=3165,2,6),0),0)","v":0},{"$f":"IF(Timesheet!T148>0,Timesheet!G148,\"\")","v":""},{"$f":"IF(Timesheet!T148>0,Timesheet!J148,\"\")","v":""},{"$f":"IFERROR(VLOOKUP(Q148,ESG!M$2:N$13,2,FALSE),R148)","v":""},{"$f":"IFERROR(VLOOKUP(S148,IF(S148=3165,AL$2:AM$2,ESG!A$2:G$54),IF(S148=3165,2,7),0),0)","v":0},{"$f":"IF(Timesheet!V148>0,Timesheet!G148,\"\")","v":""},{"$f":"IF(Timesheet!V148>0,Timesheet!J148,\"\")","v":""},{"$f":"IFERROR(VLOOKUP(U148,ESG!M$2:N$13,2,FALSE),V148)","v":""},{"$f":"IFERROR(VLOOKUP(W148,IF(W148=3165,AL$2:AM$2,ESG!A$2:H$54),IF(W148=3165,2,8),0),0)","v":0},{"$f":"IF(Timesheet!X148>0,Timesheet!G148,\"\")","v":""},{"$f":"IF(Timesheet!X148>0,Timesheet!J148,\"\")","v":""},"",{"$f":"IFERROR(VLOOKUP(AA148,IF(AA148=3165,AL$2:AM$2,ESG!A$2:I$54),IF(AA148=3165,2,9),0),0)","v":0},{"$f":"IF(Timesheet!Z148>0,Timesheet!G148,\"\")","v":""},{"$f":"IF(Timesheet!Z148>0,Timesheet!J148,\"\")","v":""},"",{"$f":"IFERROR(VLOOKUP(AE148,IF(AE148=3165,AL$2:AM$2,ESG!A$2:J$54),IF(AE148=3165,2,10),0),0)","v":0},{"$f":"IF(Timesheet!AB148>0,Timesheet!G148,\"\")","v":""},{"$f":"IF(Timesheet!AB148>0,Timesheet!J148,\"\")","v":""},"",{"$f":"IFERROR(VLOOKUP(AI148,IF(AI148=3165,AL$2:AM$2,ESG!A$2:K$54),IF(AI148=3165,2,11),0),0)","v":0}]
[{"$f":"IF(Timesheet!L149>0,Timesheet!G149,\"\")","v":""},{"$f":"IF(Timesheet!L149>0,Timesheet!J149,\"\")","v":""},"",{"$f":"IFERROR(VLOOKUP(C149,IF(C149=3165,AL$2:AM$2,ESG!A$2:C$54),IF(C149=3165,2,3),0),0)","v":0},{"$f":"IF(Timesheet!N149>0,Timesheet!G149,\"\")","v":""},{"$f":"IF(Timesheet!N149>0,Timesheet!J149,\"\")","v":""},"",{"$f":"IFERROR(VLOOKUP(G149,IF(G149=3165,AL$2:AM$2,ESG!A$2:D$54),IF(G149=3165,2,4),0),0)","v":0},{"$f":"IF(Timesheet!P149>0,Timesheet!G149,\"\")","v":""},{"$f":"IF(Timesheet!P149>0,Timesheet!J149,\"\")","v":""},"",{"$f":"IFERROR(VLOOKUP(K149,IF(K149=3165,AL$2:AM$2,ESG!A$2:E$54),IF(K149=3165,2,5),0),0)","v":0},{"$f":"IF(Timesheet!R149>0,Timesheet!G149,\"\")","v":""},{"$f":"IF(Timesheet!R149>0,Timesheet!J149,\"\")","v":""},{"$f":"IFERROR(VLOOKUP(M149,ESG!M$2:N$13,2,FALSE),N149)","v":""},{"$f":"IFERROR(VLOOKUP(O149,IF(O149=3165,AL$2:AM$2,ESG!A$2:F$54),IF(O149=3165,2,6),0),0)","v":0},{"$f":"IF(Timesheet!T149>0,Timesheet!G149,\"\")","v":""},{"$f":"IF(Timesheet!T149>0,Timesheet!J149,\"\")","v":""},{"$f":"IFERROR(VLOOKUP(Q149,ESG!M$2:N$13,2,FALSE),R149)","v":""},{"$f":"IFERROR(VLOOKUP(S149,IF(S149=3165,AL$2:AM$2,ESG!A$2:G$54),IF(S149=3165,2,7),0),0)","v":0},{"$f":"IF(Timesheet!V149>0,Timesheet!G149,\"\")","v":""},{"$f":"IF(Timesheet!V149>0,Timesheet!J149,\"\")","v":""},{"$f":"IFERROR(VLOOKUP(U149,ESG!M$2:N$13,2,FALSE),V149)","v":""},{"$f":"IFERROR(VLOOKUP(W149,IF(W149=3165,AL$2:AM$2,ESG!A$2:H$54),IF(W149=3165,2,8),0),0)","v":0},{"$f":"IF(Timesheet!X149>0,Timesheet!G149,\"\")","v":""},{"$f":"IF(Timesheet!X149>0,Timesheet!J149,\"\")","v":""},"",{"$f":"IFERROR(VLOOKUP(AA149,IF(AA149=3165,AL$2:AM$2,ESG!A$2:I$54),IF(AA149=3165,2,9),0),0)","v":0},{"$f":"IF(Timesheet!Z149>0,Timesheet!G149,\"\")","v":""},{"$f":"IF(Timesheet!Z149>0,Timesheet!J149,\"\")","v":""},"",{"$f":"IFERROR(VLOOKUP(AE149,IF(AE149=3165,AL$2:AM$2,ESG!A$2:J$54),IF(AE149=3165,2,10),0),0)","v":0},{"$f":"IF(Timesheet!AB149>0,Timesheet!G149,\"\")","v":""},{"$f":"IF(Timesheet!AB149>0,Timesheet!J149,\"\")","v":""},"",{"$f":"IFERROR(VLOOKUP(AI149,IF(AI149=3165,AL$2:AM$2,ESG!A$2:K$54),IF(AI149=3165,2,11),0),0)","v":0}]
[{"$f":"IF(Timesheet!L150>0,Timesheet!G150,\"\")","v":""},{"$f":"IF(Timesheet!L150>0,Timesheet!J150,\"\")","v":""},"",{"$f":"IFERROR(VLOOKUP(C150,IF(C150=3165,AL$2:AM$2,ESG!A$2:C$54),IF(C150=3165,2,3),0),0)","v":0},{"$f":"IF(Timesheet!N150>0,Timesheet!G150,\"\")","v":""},{"$f":"IF(Timesheet!N150>0,Timesheet!J150,\"\")","v":""},"",{"$f":"IFERROR(VLOOKUP(G150,IF(G150=3165,AL$2:AM$2,ESG!A$2:D$54),IF(G150=3165,2,4),0),0)","v":0},{"$f":"IF(Timesheet!P150>0,Timesheet!G150,\"\")","v":""},{"$f":"IF(Timesheet!P150>0,Timesheet!J150,\"\")","v":""},"",{"$f":"IFERROR(VLOOKUP(K150,IF(K150=3165,AL$2:AM$2,ESG!A$2:E$54),IF(K150=3165,2,5),0),0)","v":0},{"$f":"IF(Timesheet!R150>0,Timesheet!G150,\"\")","v":""},{"$f":"IF(Timesheet!R150>0,Timesheet!J150,\"\")","v":""},{"$f":"IFERROR(VLOOKUP(M150,ESG!M$2:N$13,2,FALSE),N150)","v":""},{"$f":"IFERROR(VLOOKUP(O150,IF(O150=3165,AL$2:AM$2,ESG!A$2:F$54),IF(O150=3165,2,6),0),0)","v":0},{"$f":"IF(Timesheet!T150>0,Timesheet!G150,\"\")","v":""},{"$f":"IF(Timesheet!T150>0,Timesheet!J150,\"\")","v":""},{"$f":"IFERROR(VLOOKUP(Q150,ESG!M$2:N$13,2,FALSE),R150)","v":""},{"$f":"IFERROR(VLOOKUP(S150,IF(S150=3165,AL$2:AM$2,ESG!A$2:G$54),IF(S150=3165,2,7),0),0)","v":0},{"$f":"IF(Timesheet!V150>0,Timesheet!G150,\"\")","v":""},{"$f":"IF(Timesheet!V150>0,Timesheet!J150,\"\")","v":""},{"$f":"IFERROR(VLOOKUP(U150,ESG!M$2:N$13,2,FALSE),V150)","v":""},{"$f":"IFERROR(VLOOKUP(W150,IF(W150=3165,AL$2:AM$2,ESG!A$2:H$54),IF(W150=3165,2,8),0),0)","v":0},{"$f":"IF(Timesheet!X150>0,Timesheet!G150,\"\")","v":""},{"$f":"IF(Timesheet!X150>0,Timesheet!J150,\"\")","v":""},"",{"$f":"IFERROR(VLOOKUP(AA150,IF(AA150=3165,AL$2:AM$2,ESG!A$2:I$54),IF(AA150=3165,2,9),0),0)","v":0},{"$f":"IF(Timesheet!Z150>0,Timesheet!G150,\"\")","v":""},{"$f":"IF(Timesheet!Z150>0,Timesheet!J150,\"\")","v":""},"",{"$f":"IFERROR(VLOOKUP(AE150,IF(AE150=3165,AL$2:AM$2,ESG!A$2:J$54),IF(AE150=3165,2,10),0),0)","v":0},{"$f":"IF(Timesheet!AB150>0,Timesheet!G150,\"\")","v":""},{"$f":"IF(Timesheet!AB150>0,Timesheet!J150,\"\")","v":""},"",{"$f":"IFERROR(VLOOKUP(AI150,IF(AI150=3165,AL$2:AM$2,ESG!A$2:K$54),IF(AI150=3165,2,11),0),0)","v":0}]
[{"$f":"IF(Timesheet!L151>0,Timesheet!G151,\"\")","v":""},{"$f":"IF(Timesheet!L151>0,Timesheet!J151,\"\")","v":""},"",{"$f":"IFERROR(VLOOKUP(C151,IF(C151=3165,AL$2:AM$2,ESG!A$2:C$54),IF(C151=3165,2,3),0),0)","v":0},{"$f":"IF(Timesheet!N151>0,Timesheet!G151,\"\")","v":""},{"$f":"IF(Timesheet!N151>0,Timesheet!J151,\"\")","v":""},"",{"$f":"IFERROR(VLOOKUP(G151,IF(G151=3165,AL$2:AM$2,ESG!A$2:D$54),IF(G151=3165,2,4),0),0)","v":0},{"$f":"IF(Timesheet!P151>0,Timesheet!G151,\"\")","v":""},{"$f":"IF(Timesheet!P151>0,Timesheet!J151,\"\")","v":""},"",{"$f":"IFERROR(VLOOKUP(K151,IF(K151=3165,AL$2:AM$2,ESG!A$2:E$54),IF(K151=3165,2,5),0),0)","v":0},{"$f":"IF(Timesheet!R151>0,Timesheet!G151,\"\")","v":""},{"$f":"IF(Timesheet!R151>0,Timesheet!J151,\"\")","v":""},{"$f":"IFERROR(VLOOKUP(M151,ESG!M$2:N$13,2,FALSE),N151)","v":""},{"$f":"IFERROR(VLOOKUP(O151,IF(O151=3165,AL$2:AM$2,ESG!A$2:F$54),IF(O151=3165,2,6),0),0)","v":0},{"$f":"IF(Timesheet!T151>0,Timesheet!G151,\"\")","v":""},{"$f":"IF(Timesheet!T151>0,Timesheet!J151,\"\")","v":""},{"$f":"IFERROR(VLOOKUP(Q151,ESG!M$2:N$13,2,FALSE),R151)","v":""},{"$f":"IFERROR(VLOOKUP(S151,IF(S151=3165,AL$2:AM$2,ESG!A$2:G$54),IF(S151=3165,2,7),0),0)","v":0},{"$f":"IF(Timesheet!V151>0,Timesheet!G151,\"\")","v":""},{"$f":"IF(Timesheet!V151>0,Timesheet!J151,\"\")","v":""},{"$f":"IFERROR(VLOOKUP(U151,ESG!M$2:N$13,2,FALSE),V151)","v":""},{"$f":"IFERROR(VLOOKUP(W151,IF(W151=3165,AL$2:AM$2,ESG!A$2:H$54),IF(W151=3165,2,8),0),0)","v":0},{"$f":"IF(Timesheet!X151>0,Timesheet!G151,\"\")","v":""},{"$f":"IF(Timesheet!X151>0,Timesheet!J151,\"\")","v":""},"",{"$f":"IFERROR(VLOOKUP(AA151,IF(AA151=3165,AL$2:AM$2,ESG!A$2:I$54),IF(AA151=3165,2,9),0),0)","v":0},{"$f":"IF(Timesheet!Z151>0,Timesheet!G151,\"\")","v":""},{"$f":"IF(Timesheet!Z151>0,Timesheet!J151,\"\")","v":""},"",{"$f":"IFERROR(VLOOKUP(AE151,IF(AE151=3165,AL$2:AM$2,ESG!A$2:J$54),IF(AE151=3165,2,10),0),0)","v":0},{"$f":"IF(Timesheet!AB151>0,Timesheet!G151,\"\")","v":""},{"$f":"IF(Timesheet!AB151>0,Timesheet!J151,\"\")","v":""},"",{"$f":"IFERROR(VLOOKUP(AI151,IF(AI151=3165,AL$2:AM$2,ESG!A$2:K$54),IF(AI151=3165,2,11),0),0)","v":0}]
[{"$f":"IF(Timesheet!L152>0,Timesheet!G152,\"\")","v":""},{"$f":"IF(Timesheet!L152>0,Timesheet!J152,\"\")","v":""},"",{"$f":"IFERROR(VLOOKUP(C152,IF(C152=3165,AL$2:AM$2,ESG!A$2:C$54),IF(C152=3165,2,3),0),0)","v":0},{"$f":"IF(Timesheet!N152>0,Timesheet!G152,\"\")","v":""},{"$f":"IF(Timesheet!N152>0,Timesheet!J152,\"\")","v":""},"",{"$f":"IFERROR(VLOOKUP(G152,IF(G152=3165,AL$2:AM$2,ESG!A$2:D$54),IF(G152=3165,2,4),0),0)","v":0},{"$f":"IF(Timesheet!P152>0,Timesheet!G152,\"\")","v":""},{"$f":"IF(Timesheet!P152>0,Timesheet!J152,\"\")","v":""},"",{"$f":"IFERROR(VLOOKUP(K152,IF(K152=3165,AL$2:AM$2,ESG!A$2:E$54),IF(K152=3165,2,5),0),0)","v":0},{"$f":"IF(Timesheet!R152>0,Timesheet!G152,\"\")","v":""},{"$f":"IF(Timesheet!R152>0,Timesheet!J152,\"\")","v":""},{"$f":"IFERROR(VLOOKUP(M152,ESG!M$2:N$13,2,FALSE),N152)","v":""},{"$f":"IFERROR(VLOOKUP(O152,IF(O152=3165,AL$2:AM$2,ESG!A$2:F$54),IF(O152=3165,2,6),0),0)","v":0},{"$f":"IF(Timesheet!T152>0,Timesheet!G152,\"\")","v":""},{"$f":"IF(Timesheet!T152>0,Timesheet!J152,\"\")","v":""},{"$f":"IFERROR(VLOOKUP(Q152,ESG!M$2:N$13,2,FALSE),R152)","v":""},{"$f":"IFERROR(VLOOKUP(S152,IF(S152=3165,AL$2:AM$2,ESG!A$2:G$54),IF(S152=3165,2,7),0),0)","v":0},{"$f":"IF(Timesheet!V152>0,Timesheet!G152,\"\")","v":""},{"$f":"IF(Timesheet!V152>0,Timesheet!J152,\"\")","v":""},{"$f":"IFERROR(VLOOKUP(U152,ESG!M$2:N$13,2,FALSE),V152)","v":""},{"$f":"IFERROR(VLOOKUP(W152,IF(W152=3165,AL$2:AM$2,ESG!A$2:H$54),IF(W152=3165,2,8),0),0)","v":0},{"$f":"IF(Timesheet!X152>0,Timesheet!G152,\"\")","v":""},{"$f":"IF(Timesheet!X152>0,Timesheet!J152,\"\")","v":""},"",{"$f":"IFERROR(VLOOKUP(AA152,IF(AA152=3165,AL$2:AM$2,ESG!A$2:I$54),IF(AA152=3165,2,9),0),0)","v":0},{"$f":"IF(Timesheet!Z152>0,Timesheet!G152,\"\")","v":""},{"$f":"IF(Timesheet!Z152>0,Timesheet!J152,\"\")","v":""},"",{"$f":"IFERROR(VLOOKUP(AE152,IF(AE152=3165,AL$2:AM$2,ESG!A$2:J$54),IF(AE152=3165,2,10),0),0)","v":0},{"$f":"IF(Timesheet!AB152>0,Timesheet!G152,\"\")","v":""},{"$f":"IF(Timesheet!AB152>0,Timesheet!J152,\"\")","v":""},"",{"$f":"IFERROR(VLOOKUP(AI152,IF(AI152=3165,AL$2:AM$2,ESG!A$2:K$54),IF(AI152=3165,2,11),0),0)","v":0}]
[{"$f":"IF(Timesheet!L153>0,Timesheet!G153,\"\")","v":""},{"$f":"IF(Timesheet!L153>0,Timesheet!J153,\"\")","v":""},"",{"$f":"IFERROR(VLOOKUP(C153,IF(C153=3165,AL$2:AM$2,ESG!A$2:C$54),IF(C153=3165,2,3),0),0)","v":0},{"$f":"IF(Timesheet!N153>0,Timesheet!G153,\"\")","v":""},{"$f":"IF(Timesheet!N153>0,Timesheet!J153,\"\")","v":""},"",{"$f":"IFERROR(VLOOKUP(G153,IF(G153=3165,AL$2:AM$2,ESG!A$2:D$54),IF(G153=3165,2,4),0),0)","v":0},{"$f":"IF(Timesheet!P153>0,Timesheet!G153,\"\")","v":""},{"$f":"IF(Timesheet!P153>0,Timesheet!J153,\"\")","v":""},"",{"$f":"IFERROR(VLOOKUP(K153,IF(K153=3165,AL$2:AM$2,ESG!A$2:E$54),IF(K153=3165,2,5),0),0)","v":0},{"$f":"IF(Timesheet!R153>0,Timesheet!G153,\"\")","v":""},{"$f":"IF(Timesheet!R153>0,Timesheet!J153,\"\")","v":""},{"$f":"IFERROR(VLOOKUP(M153,ESG!M$2:N$13,2,FALSE),N153)","v":""},{"$f":"IFERROR(VLOOKUP(O153,IF(O153=3165,AL$2:AM$2,ESG!A$2:F$54),IF(O153=3165,2,6),0),0)","v":0},{"$f":"IF(Timesheet!T153>0,Timesheet!G153,\"\")","v":""},{"$f":"IF(Timesheet!T153>0,Timesheet!J153,\"\")","v":""},{"$f":"IFERROR(VLOOKUP(Q153,ESG!M$2:N$13,2,FALSE),R153)","v":""},{"$f":"IFERROR(VLOOKUP(S153,IF(S153=3165,AL$2:AM$2,ESG!A$2:G$54),IF(S153=3165,2,7),0),0)","v":0},{"$f":"IF(Timesheet!V153>0,Timesheet!G153,\"\")","v":""},{"$f":"IF(Timesheet!V153>0,Timesheet!J153,\"\")","v":""},{"$f":"IFERROR(VLOOKUP(U153,ESG!M$2:N$13,2,FALSE),V153)","v":""},{"$f":"IFERROR(VLOOKUP(W153,IF(W153=3165,AL$2:AM$2,ESG!A$2:H$54),IF(W153=3165,2,8),0),0)","v":0},{"$f":"IF(Timesheet!X153>0,Timesheet!G153,\"\")","v":""},{"$f":"IF(Timesheet!X153>0,Timesheet!J153,\"\")","v":""},"",{"$f":"IFERROR(VLOOKUP(AA153,IF(AA153=3165,AL$2:AM$2,ESG!A$2:I$54),IF(AA153=3165,2,9),0),0)","v":0},{"$f":"IF(Timesheet!Z153>0,Timesheet!G153,\"\")","v":""},{"$f":"IF(Timesheet!Z153>0,Timesheet!J153,\"\")","v":""},"",{"$f":"IFERROR(VLOOKUP(AE153,IF(AE153=3165,AL$2:AM$2,ESG!A$2:J$54),IF(AE153=3165,2,10),0),0)","v":0},{"$f":"IF(Timesheet!AB153>0,Timesheet!G153,\"\")","v":""},{"$f":"IF(Timesheet!AB153>0,Timesheet!J153,\"\")","v":""},"",{"$f":"IFERROR(VLOOKUP(AI153,IF(AI153=3165,AL$2:AM$2,ESG!A$2:K$54),IF(AI153=3165,2,11),0),0)","v":0}]
[{"$f":"IF(Timesheet!L154>0,Timesheet!G154,\"\")","v":""},{"$f":"IF(Timesheet!L154>0,Timesheet!J154,\"\")","v":""},"",{"$f":"IFERROR(VLOOKUP(C154,IF(C154=3165,AL$2:AM$2,ESG!A$2:C$54),IF(C154=3165,2,3),0),0)","v":0},{"$f":"IF(Timesheet!N154>0,Timesheet!G154,\"\")","v":""},{"$f":"IF(Timesheet!N154>0,Timesheet!J154,\"\")","v":""},"",{"$f":"IFERROR(VLOOKUP(G154,IF(G154=3165,AL$2:AM$2,ESG!A$2:D$54),IF(G154=3165,2,4),0),0)","v":0},{"$f":"IF(Timesheet!P154>0,Timesheet!G154,\"\")","v":""},{"$f":"IF(Timesheet!P154>0,Timesheet!J154,\"\")","v":""},"",{"$f":"IFERROR(VLOOKUP(K154,IF(K154=3165,AL$2:AM$2,ESG!A$2:E$54),IF(K154=3165,2,5),0),0)","v":0},{"$f":"IF(Timesheet!R154>0,Timesheet!G154,\"\")","v":""},{"$f":"IF(Timesheet!R154>0,Timesheet!J154,\"\")","v":""},{"$f":"IFERROR(VLOOKUP(M154,ESG!M$2:N$13,2,FALSE),N154)","v":""},{"$f":"IFERROR(VLOOKUP(O154,IF(O154=3165,AL$2:AM$2,ESG!A$2:F$54),IF(O154=3165,2,6),0),0)","v":0},{"$f":"IF(Timesheet!T154>0,Timesheet!G154,\"\")","v":""},{"$f":"IF(Timesheet!T154>0,Timesheet!J154,\"\")","v":""},{"$f":"IFERROR(VLOOKUP(Q154,ESG!M$2:N$13,2,FALSE),R154)","v":""},{"$f":"IFERROR(VLOOKUP(S154,IF(S154=3165,AL$2:AM$2,ESG!A$2:G$54),IF(S154=3165,2,7),0),0)","v":0},{"$f":"IF(Timesheet!V154>0,Timesheet!G154,\"\")","v":""},{"$f":"IF(Timesheet!V154>0,Timesheet!J154,\"\")","v":""},{"$f":"IFERROR(VLOOKUP(U154,ESG!M$2:N$13,2,FALSE),V154)","v":""},{"$f":"IFERROR(VLOOKUP(W154,IF(W154=3165,AL$2:AM$2,ESG!A$2:H$54),IF(W154=3165,2,8),0),0)","v":0},{"$f":"IF(Timesheet!X154>0,Timesheet!G154,\"\")","v":""},{"$f":"IF(Timesheet!X154>0,Timesheet!J154,\"\")","v":""},"",{"$f":"IFERROR(VLOOKUP(AA154,IF(AA154=3165,AL$2:AM$2,ESG!A$2:I$54),IF(AA154=3165,2,9),0),0)","v":0},{"$f":"IF(Timesheet!Z154>0,Timesheet!G154,\"\")","v":""},{"$f":"IF(Timesheet!Z154>0,Timesheet!J154,\"\")","v":""},"",{"$f":"IFERROR(VLOOKUP(AE154,IF(AE154=3165,AL$2:AM$2,ESG!A$2:J$54),IF(AE154=3165,2,10),0),0)","v":0},{"$f":"IF(Timesheet!AB154>0,Timesheet!G154,\"\")","v":""},{"$f":"IF(Timesheet!AB154>0,Timesheet!J154,\"\")","v":""},"",{"$f":"IFERROR(VLOOKUP(AI154,IF(AI154=3165,AL$2:AM$2,ESG!A$2:K$54),IF(AI154=3165,2,11),0),0)","v":0}]
[{"$f":"IF(Timesheet!L155>0,Timesheet!G155,\"\")","v":""},{"$f":"IF(Timesheet!L155>0,Timesheet!J155,\"\")","v":""},"",{"$f":"IFERROR(VLOOKUP(C155,IF(C155=3165,AL$2:AM$2,ESG!A$2:C$54),IF(C155=3165,2,3),0),0)","v":0},{"$f":"IF(Timesheet!N155>0,Timesheet!G155,\"\")","v":""},{"$f":"IF(Timesheet!N155>0,Timesheet!J155,\"\")","v":""},"",{"$f":"IFERROR(VLOOKUP(G155,IF(G155=3165,AL$2:AM$2,ESG!A$2:D$54),IF(G155=3165,2,4),0),0)","v":0},{"$f":"IF(Timesheet!P155>0,Timesheet!G155,\"\")","v":""},{"$f":"IF(Timesheet!P155>0,Timesheet!J155,\"\")","v":""},"",{"$f":"IFERROR(VLOOKUP(K155,IF(K155=3165,AL$2:AM$2,ESG!A$2:E$54),IF(K155=3165,2,5),0),0)","v":0},{"$f":"IF(Timesheet!R155>0,Timesheet!G155,\"\")","v":""},{"$f":"IF(Timesheet!R155>0,Timesheet!J155,\"\")","v":""},{"$f":"IFERROR(VLOOKUP(M155,ESG!M$2:N$13,2,FALSE),N155)","v":""},{"$f":"IFERROR(VLOOKUP(O155,IF(O155=3165,AL$2:AM$2,ESG!A$2:F$54),IF(O155=3165,2,6),0),0)","v":0},{"$f":"IF(Timesheet!T155>0,Timesheet!G155,\"\")","v":""},{"$f":"IF(Timesheet!T155>0,Timesheet!J155,\"\")","v":""},{"$f":"IFERROR(VLOOKUP(Q155,ESG!M$2:N$13,2,FALSE),R155)","v":""},{"$f":"IFERROR(VLOOKUP(S155,IF(S155=3165,AL$2:AM$2,ESG!A$2:G$54),IF(S155=3165,2,7),0),0)","v":0},{"$f":"IF(Timesheet!V155>0,Timesheet!G155,\"\")","v":""},{"$f":"IF(Timesheet!V155>0,Timesheet!J155,\"\")","v":""},{"$f":"IFERROR(VLOOKUP(U155,ESG!M$2:N$13,2,FALSE),V155)","v":""},{"$f":"IFERROR(VLOOKUP(W155,IF(W155=3165,AL$2:AM$2,ESG!A$2:H$54),IF(W155=3165,2,8),0),0)","v":0},{"$f":"IF(Timesheet!X155>0,Timesheet!G155,\"\")","v":""},{"$f":"IF(Timesheet!X155>0,Timesheet!J155,\"\")","v":""},"",{"$f":"IFERROR(VLOOKUP(AA155,IF(AA155=3165,AL$2:AM$2,ESG!A$2:I$54),IF(AA155=3165,2,9),0),0)","v":0},{"$f":"IF(Timesheet!Z155>0,Timesheet!G155,\"\")","v":""},{"$f":"IF(Timesheet!Z155>0,Timesheet!J155,\"\")","v":""},"",{"$f":"IFERROR(VLOOKUP(AE155,IF(AE155=3165,AL$2:AM$2,ESG!A$2:J$54),IF(AE155=3165,2,10),0),0)","v":0},{"$f":"IF(Timesheet!AB155>0,Timesheet!G155,\"\")","v":""},{"$f":"IF(Timesheet!AB155>0,Timesheet!J155,\"\")","v":""},"",{"$f":"IFERROR(VLOOKUP(AI155,IF(AI155=3165,AL$2:AM$2,ESG!A$2:K$54),IF(AI155=3165,2,11),0),0)","v":0}]
[{"$f":"IF(Timesheet!L156>0,Timesheet!G156,\"\")","v":""},{"$f":"IF(Timesheet!L156>0,Timesheet!J156,\"\")","v":""},"",{"$f":"IFERROR(VLOOKUP(C156,IF(C156=3165,AL$2:AM$2,ESG!A$2:C$54),IF(C156=3165,2,3),0),0)","v":0},{"$f":"IF(Timesheet!N156>0,Timesheet!G156,\"\")","v":""},{"$f":"IF(Timesheet!N156>0,Timesheet!J156,\"\")","v":""},"",{"$f":"IFERROR(VLOOKUP(G156,IF(G156=3165,AL$2:AM$2,ESG!A$2:D$54),IF(G156=3165,2,4),0),0)","v":0},{"$f":"IF(Timesheet!P156>0,Timesheet!G156,\"\")","v":""},{"$f":"IF(Timesheet!P156>0,Timesheet!J156,\"\")","v":""},"",{"$f":"IFERROR(VLOOKUP(K156,IF(K156=3165,AL$2:AM$2,ESG!A$2:E$54),IF(K156=3165,2,5),0),0)","v":0},{"$f":"IF(Timesheet!R156>0,Timesheet!G156,\"\")","v":""},{"$f":"IF(Timesheet!R156>0,Timesheet!J156,\"\")","v":""},{"$f":"IFERROR(VLOOKUP(M156,ESG!M$2:N$13,2,FALSE),N156)","v":""},{"$f":"IFERROR(VLOOKUP(O156,IF(O156=3165,AL$2:AM$2,ESG!A$2:F$54),IF(O156=3165,2,6),0),0)","v":0},{"$f":"IF(Timesheet!T156>0,Timesheet!G156,\"\")","v":""},{"$f":"IF(Timesheet!T156>0,Timesheet!J156,\"\")","v":""},{"$f":"IFERROR(VLOOKUP(Q156,ESG!M$2:N$13,2,FALSE),R156)","v":""},{"$f":"IFERROR(VLOOKUP(S156,IF(S156=3165,AL$2:AM$2,ESG!A$2:G$54),IF(S156=3165,2,7),0),0)","v":0},{"$f":"IF(Timesheet!V156>0,Timesheet!G156,\"\")","v":""},{"$f":"IF(Timesheet!V156>0,Timesheet!J156,\"\")","v":""},{"$f":"IFERROR(VLOOKUP(U156,ESG!M$2:N$13,2,FALSE),V156)","v":""},{"$f":"IFERROR(VLOOKUP(W156,IF(W156=3165,AL$2:AM$2,ESG!A$2:H$54),IF(W156=3165,2,8),0),0)","v":0},{"$f":"IF(Timesheet!X156>0,Timesheet!G156,\"\")","v":""},{"$f":"IF(Timesheet!X156>0,Timesheet!J156,\"\")","v":""},"",{"$f":"IFERROR(VLOOKUP(AA156,IF(AA156=3165,AL$2:AM$2,ESG!A$2:I$54),IF(AA156=3165,2,9),0),0)","v":0},{"$f":"IF(Timesheet!Z156>0,Timesheet!G156,\"\")","v":""},{"$f":"IF(Timesheet!Z156>0,Timesheet!J156,\"\")","v":""},"",{"$f":"IFERROR(VLOOKUP(AE156,IF(AE156=3165,AL$2:AM$2,ESG!A$2:J$54),IF(AE156=3165,2,10),0),0)","v":0},{"$f":"IF(Timesheet!AB156>0,Timesheet!G156,\"\")","v":""},{"$f":"IF(Timesheet!AB156>0,Timesheet!J156,\"\")","v":""},"",{"$f":"IFERROR(VLOOKUP(AI156,IF(AI156=3165,AL$2:AM$2,ESG!A$2:K$54),IF(AI156=3165,2,11),0),0)","v":0}]
[{"$f":"IF(Timesheet!L157>0,Timesheet!G157,\"\")","v":""},{"$f":"IF(Timesheet!L157>0,Timesheet!J157,\"\")","v":""},"",{"$f":"IFERROR(VLOOKUP(C157,IF(C157=3165,AL$2:AM$2,ESG!A$2:C$54),IF(C157=3165,2,3),0),0)","v":0},{"$f":"IF(Timesheet!N157>0,Timesheet!G157,\"\")","v":""},{"$f":"IF(Timesheet!N157>0,Timesheet!J157,\"\")","v":""},"",{"$f":"IFERROR(VLOOKUP(G157,IF(G157=3165,AL$2:AM$2,ESG!A$2:D$54),IF(G157=3165,2,4),0),0)","v":0},{"$f":"IF(Timesheet!P157>0,Timesheet!G157,\"\")","v":""},{"$f":"IF(Timesheet!P157>0,Timesheet!J157,\"\")","v":""},"",{"$f":"IFERROR(VLOOKUP(K157,IF(K157=3165,AL$2:AM$2,ESG!A$2:E$54),IF(K157=3165,2,5),0),0)","v":0},{"$f":"IF(Timesheet!R157>0,Timesheet!G157,\"\")","v":""},{"$f":"IF(Timesheet!R157>0,Timesheet!J157,\"\")","v":""},{"$f":"IFERROR(VLOOKUP(M157,ESG!M$2:N$13,2,FALSE),N157)","v":""},{"$f":"IFERROR(VLOOKUP(O157,IF(O157=3165,AL$2:AM$2,ESG!A$2:F$54),IF(O157=3165,2,6),0),0)","v":0},{"$f":"IF(Timesheet!T157>0,Timesheet!G157,\"\")","v":""},{"$f":"IF(Timesheet!T157>0,Timesheet!J157,\"\")","v":""},{"$f":"IFERROR(VLOOKUP(Q157,ESG!M$2:N$13,2,FALSE),R157)","v":""},{"$f":"IFERROR(VLOOKUP(S157,IF(S157=3165,AL$2:AM$2,ESG!A$2:G$54),IF(S157=3165,2,7),0),0)","v":0},{"$f":"IF(Timesheet!V157>0,Timesheet!G157,\"\")","v":""},{"$f":"IF(Timesheet!V157>0,Timesheet!J157,\"\")","v":""},{"$f":"IFERROR(VLOOKUP(U157,ESG!M$2:N$13,2,FALSE),V157)","v":""},{"$f":"IFERROR(VLOOKUP(W157,IF(W157=3165,AL$2:AM$2,ESG!A$2:H$54),IF(W157=3165,2,8),0),0)","v":0},{"$f":"IF(Timesheet!X157>0,Timesheet!G157,\"\")","v":""},{"$f":"IF(Timesheet!X157>0,Timesheet!J157,\"\")","v":""},"",{"$f":"IFERROR(VLOOKUP(AA157,IF(AA157=3165,AL$2:AM$2,ESG!A$2:I$54),IF(AA157=3165,2,9),0),0)","v":0},{"$f":"IF(Timesheet!Z157>0,Timesheet!G157,\"\")","v":""},{"$f":"IF(Timesheet!Z157>0,Timesheet!J157,\"\")","v":""},"",{"$f":"IFERROR(VLOOKUP(AE157,IF(AE157=3165,AL$2:AM$2,ESG!A$2:J$54),IF(AE157=3165,2,10),0),0)","v":0},{"$f":"IF(Timesheet!AB157>0,Timesheet!G157,\"\")","v":""},{"$f":"IF(Timesheet!AB157>0,Timesheet!J157,\"\")","v":""},"",{"$f":"IFERROR(VLOOKUP(AI157,IF(AI157=3165,AL$2:AM$2,ESG!A$2:K$54),IF(AI157=3165,2,11),0),0)","v":0}]
[{"$f":"IF(Timesheet!L158>0,Timesheet!G158,\"\")","v":""},{"$f":"IF(Timesheet!L158>0,Timesheet!J158,\"\")","v":""},"",{"$f":"IFERROR(VLOOKUP(C158,IF(C158=3165,AL$2:AM$2,ESG!A$2:C$54),IF(C158=3165,2,3),0),0)","v":0},{"$f":"IF(Timesheet!N158>0,Timesheet!G158,\"\")","v":""},{"$f":"IF(Timesheet!N158>0,Timesheet!J158,\"\")","v":""},"",{"$f":"IFERROR(VLOOKUP(G158,IF(G158=3165,AL$2:AM$2,ESG!A$2:D$54),IF(G158=3165,2,4),0),0)","v":0},{"$f":"IF(Timesheet!P158>0,Timesheet!G158,\"\")","v":""},{"$f":"IF(Timesheet!P158>0,Timesheet!J158,\"\")","v":""},"",{"$f":"IFERROR(VLOOKUP(K158,IF(K158=3165,AL$2:AM$2,ESG!A$2:E$54),IF(K158=3165,2,5),0),0)","v":0},{"$f":"IF(Timesheet!R158>0,Timesheet!G158,\"\")","v":""},{"$f":"IF(Timesheet!R158>0,Timesheet!J158,\"\")","v":""},{"$f":"IFERROR(VLOOKUP(M158,ESG!M$2:N$13,2,FALSE),N158)","v":""},{"$f":"IFERROR(VLOOKUP(O158,IF(O158=3165,AL$2:AM$2,ESG!A$2:F$54),IF(O158=3165,2,6),0),0)","v":0},{"$f":"IF(Timesheet!T158>0,Timesheet!G158,\"\")","v":""},{"$f":"IF(Timesheet!T158>0,Timesheet!J158,\"\")","v":""},{"$f":"IFERROR(VLOOKUP(Q158,ESG!M$2:N$13,2,FALSE),R158)","v":""},{"$f":"IFERROR(VLOOKUP(S158,IF(S158=3165,AL$2:AM$2,ESG!A$2:G$54),IF(S158=3165,2,7),0),0)","v":0},{"$f":"IF(Timesheet!V158>0,Timesheet!G158,\"\")","v":""},{"$f":"IF(Timesheet!V158>0,Timesheet!J158,\"\")","v":""},{"$f":"IFERROR(VLOOKUP(U158,ESG!M$2:N$13,2,FALSE),V158)","v":""},{"$f":"IFERROR(VLOOKUP(W158,IF(W158=3165,AL$2:AM$2,ESG!A$2:H$54),IF(W158=3165,2,8),0),0)","v":0},{"$f":"IF(Timesheet!X158>0,Timesheet!G158,\"\")","v":""},{"$f":"IF(Timesheet!X158>0,Timesheet!J158,\"\")","v":""},"",{"$f":"IFERROR(VLOOKUP(AA158,IF(AA158=3165,AL$2:AM$2,ESG!A$2:I$54),IF(AA158=3165,2,9),0),0)","v":0},{"$f":"IF(Timesheet!Z158>0,Timesheet!G158,\"\")","v":""},{"$f":"IF(Timesheet!Z158>0,Timesheet!J158,\"\")","v":""},"",{"$f":"IFERROR(VLOOKUP(AE158,IF(AE158=3165,AL$2:AM$2,ESG!A$2:J$54),IF(AE158=3165,2,10),0),0)","v":0},{"$f":"IF(Timesheet!AB158>0,Timesheet!G158,\"\")","v":""},{"$f":"IF(Timesheet!AB158>0,Timesheet!J158,\"\")","v":""},"",{"$f":"IFERROR(VLOOKUP(AI158,IF(AI158=3165,AL$2:AM$2,ESG!A$2:K$54),IF(AI158=3165,2,11),0),0)","v":0}]
[{"$f":"IF(Timesheet!L159>0,Timesheet!G159,\"\")","v":""},{"$f":"IF(Timesheet!L159>0,Timesheet!J159,\"\")","v":""},"",{"$f":"IFERROR(VLOOKUP(C159,IF(C159=3165,AL$2:AM$2,ESG!A$2:C$54),IF(C159=3165,2,3),0),0)","v":0},{"$f":"IF(Timesheet!N159>0,Timesheet!G159,\"\")","v":""},{"$f":"IF(Timesheet!N159>0,Timesheet!J159,\"\")","v":""},"",{"$f":"IFERROR(VLOOKUP(G159,IF(G159=3165,AL$2:AM$2,ESG!A$2:D$54),IF(G159=3165,2,4),0),0)","v":0},{"$f":"IF(Timesheet!P159>0,Timesheet!G159,\"\")","v":""},{"$f":"IF(Timesheet!P159>0,Timesheet!J159,\"\")","v":""},"",{"$f":"IFERROR(VLOOKUP(K159,IF(K159=3165,AL$2:AM$2,ESG!A$2:E$54),IF(K159=3165,2,5),0),0)","v":0},{"$f":"IF(Timesheet!R159>0,Timesheet!G159,\"\")","v":""},{"$f":"IF(Timesheet!R159>0,Timesheet!J159,\"\")","v":""},{"$f":"IFERROR(VLOOKUP(M159,ESG!M$2:N$13,2,FALSE),N159)","v":""},{"$f":"IFERROR(VLOOKUP(O159,IF(O159=3165,AL$2:AM$2,ESG!A$2:F$54),IF(O159=3165,2,6),0),0)","v":0},{"$f":"IF(Timesheet!T159>0,Timesheet!G159,\"\")","v":""},{"$f":"IF(Timesheet!T159>0,Timesheet!J159,\"\")","v":""},{"$f":"IFERROR(VLOOKUP(Q159,ESG!M$2:N$13,2,FALSE),R159)","v":""},{"$f":"IFERROR(VLOOKUP(S159,IF(S159=3165,AL$2:AM$2,ESG!A$2:G$54),IF(S159=3165,2,7),0),0)","v":0},{"$f":"IF(Timesheet!V159>0,Timesheet!G159,\"\")","v":""},{"$f":"IF(Timesheet!V159>0,Timesheet!J159,\"\")","v":""},{"$f":"IFERROR(VLOOKUP(U159,ESG!M$2:N$13,2,FALSE),V159)","v":""},{"$f":"IFERROR(VLOOKUP(W159,IF(W159=3165,AL$2:AM$2,ESG!A$2:H$54),IF(W159=3165,2,8),0),0)","v":0},{"$f":"IF(Timesheet!X159>0,Timesheet!G159,\"\")","v":""},{"$f":"IF(Timesheet!X159>0,Timesheet!J159,\"\")","v":""},"",{"$f":"IFERROR(VLOOKUP(AA159,IF(AA159=3165,AL$2:AM$2,ESG!A$2:I$54),IF(AA159=3165,2,9),0),0)","v":0},{"$f":"IF(Timesheet!Z159>0,Timesheet!G159,\"\")","v":""},{"$f":"IF(Timesheet!Z159>0,Timesheet!J159,\"\")","v":""},"",{"$f":"IFERROR(VLOOKUP(AE159,IF(AE159=3165,AL$2:AM$2,ESG!A$2:J$54),IF(AE159=3165,2,10),0),0)","v":0},{"$f":"IF(Timesheet!AB159>0,Timesheet!G159,\"\")","v":""},{"$f":"IF(Timesheet!AB159>0,Timesheet!J159,\"\")","v":""},"",{"$f":"IFERROR(VLOOKUP(AI159,IF(AI159=3165,AL$2:AM$2,ESG!A$2:K$54),IF(AI159=3165,2,11),0),0)","v":0}]
[{"$f":"IF(Timesheet!L160>0,Timesheet!G160,\"\")","v":""},{"$f":"IF(Timesheet!L160>0,Timesheet!J160,\"\")","v":""},"",{"$f":"IFERROR(VLOOKUP(C160,IF(C160=3165,AL$2:AM$2,ESG!A$2:C$54),IF(C160=3165,2,3),0),0)","v":0},{"$f":"IF(Timesheet!N160>0,Timesheet!G160,\"\")","v":""},{"$f":"IF(Timesheet!N160>0,Timesheet!J160,\"\")","v":""},"",{"$f":"IFERROR(VLOOKUP(G160,IF(G160=3165,AL$2:AM$2,ESG!A$2:D$54),IF(G160=3165,2,4),0),0)","v":0},{"$f":"IF(Timesheet!P160>0,Timesheet!G160,\"\")","v":""},{"$f":"IF(Timesheet!P160>0,Timesheet!J160,\"\")","v":""},"",{"$f":"IFERROR(VLOOKUP(K160,IF(K160=3165,AL$2:AM$2,ESG!A$2:E$54),IF(K160=3165,2,5),0),0)","v":0},{"$f":"IF(Timesheet!R160>0,Timesheet!G160,\"\")","v":""},{"$f":"IF(Timesheet!R160>0,Timesheet!J160,\"\")","v":""},{"$f":"IFERROR(VLOOKUP(M160,ESG!M$2:N$13,2,FALSE),N160)","v":""},{"$f":"IFERROR(VLOOKUP(O160,IF(O160=3165,AL$2:AM$2,ESG!A$2:F$54),IF(O160=3165,2,6),0),0)","v":0},{"$f":"IF(Timesheet!T160>0,Timesheet!G160,\"\")","v":""},{"$f":"IF(Timesheet!T160>0,Timesheet!J160,\"\")","v":""},{"$f":"IFERROR(VLOOKUP(Q160,ESG!M$2:N$13,2,FALSE),R160)","v":""},{"$f":"IFERROR(VLOOKUP(S160,IF(S160=3165,AL$2:AM$2,ESG!A$2:G$54),IF(S160=3165,2,7),0),0)","v":0},{"$f":"IF(Timesheet!V160>0,Timesheet!G160,\"\")","v":""},{"$f":"IF(Timesheet!V160>0,Timesheet!J160,\"\")","v":""},{"$f":"IFERROR(VLOOKUP(U160,ESG!M$2:N$13,2,FALSE),V160)","v":""},{"$f":"IFERROR(VLOOKUP(W160,IF(W160=3165,AL$2:AM$2,ESG!A$2:H$54),IF(W160=3165,2,8),0),0)","v":0},{"$f":"IF(Timesheet!X160>0,Timesheet!G160,\"\")","v":""},{"$f":"IF(Timesheet!X160>0,Timesheet!J160,\"\")","v":""},"",{"$f":"IFERROR(VLOOKUP(AA160,IF(AA160=3165,AL$2:AM$2,ESG!A$2:I$54),IF(AA160=3165,2,9),0),0)","v":0},{"$f":"IF(Timesheet!Z160>0,Timesheet!G160,\"\")","v":""},{"$f":"IF(Timesheet!Z160>0,Timesheet!J160,\"\")","v":""},"",{"$f":"IFERROR(VLOOKUP(AE160,IF(AE160=3165,AL$2:AM$2,ESG!A$2:J$54),IF(AE160=3165,2,10),0),0)","v":0},{"$f":"IF(Timesheet!AB160>0,Timesheet!G160,\"\")","v":""},{"$f":"IF(Timesheet!AB160>0,Timesheet!J160,\"\")","v":""},"",{"$f":"IFERROR(VLOOKUP(AI160,IF(AI160=3165,AL$2:AM$2,ESG!A$2:K$54),IF(AI160=3165,2,11),0),0)","v":0}]
[{"$f":"IF(Timesheet!L161>0,Timesheet!G161,\"\")","v":""},{"$f":"IF(Timesheet!L161>0,Timesheet!J161,\"\")","v":""},"",{"$f":"IFERROR(VLOOKUP(C161,IF(C161=3165,AL$2:AM$2,ESG!A$2:C$54),IF(C161=3165,2,3),0),0)","v":0},{"$f":"IF(Timesheet!N161>0,Timesheet!G161,\"\")","v":""},{"$f":"IF(Timesheet!N161>0,Timesheet!J161,\"\")","v":""},"",{"$f":"IFERROR(VLOOKUP(G161,IF(G161=3165,AL$2:AM$2,ESG!A$2:D$54),IF(G161=3165,2,4),0),0)","v":0},{"$f":"IF(Timesheet!P161>0,Timesheet!G161,\"\")","v":""},{"$f":"IF(Timesheet!P161>0,Timesheet!J161,\"\")","v":""},"",{"$f":"IFERROR(VLOOKUP(K161,IF(K161=3165,AL$2:AM$2,ESG!A$2:E$54),IF(K161=3165,2,5),0),0)","v":0},{"$f":"IF(Timesheet!R161>0,Timesheet!G161,\"\")","v":""},{"$f":"IF(Timesheet!R161>0,Timesheet!J161,\"\")","v":""},{"$f":"IFERROR(VLOOKUP(M161,ESG!M$2:N$13,2,FALSE),N161)","v":""},{"$f":"IFERROR(VLOOKUP(O161,IF(O161=3165,AL$2:AM$2,ESG!A$2:F$54),IF(O161=3165,2,6),0),0)","v":0},{"$f":"IF(Timesheet!T161>0,Timesheet!G161,\"\")","v":""},{"$f":"IF(Timesheet!T161>0,Timesheet!J161,\"\")","v":""},{"$f":"IFERROR(VLOOKUP(Q161,ESG!M$2:N$13,2,FALSE),R161)","v":""},{"$f":"IFERROR(VLOOKUP(S161,IF(S161=3165,AL$2:AM$2,ESG!A$2:G$54),IF(S161=3165,2,7),0),0)","v":0},{"$f":"IF(Timesheet!V161>0,Timesheet!G161,\"\")","v":""},{"$f":"IF(Timesheet!V161>0,Timesheet!J161,\"\")","v":""},{"$f":"IFERROR(VLOOKUP(U161,ESG!M$2:N$13,2,FALSE),V161)","v":""},{"$f":"IFERROR(VLOOKUP(W161,IF(W161=3165,AL$2:AM$2,ESG!A$2:H$54),IF(W161=3165,2,8),0),0)","v":0},{"$f":"IF(Timesheet!X161>0,Timesheet!G161,\"\")","v":""},{"$f":"IF(Timesheet!X161>0,Timesheet!J161,\"\")","v":""},"",{"$f":"IFERROR(VLOOKUP(AA161,IF(AA161=3165,AL$2:AM$2,ESG!A$2:I$54),IF(AA161=3165,2,9),0),0)","v":0},{"$f":"IF(Timesheet!Z161>0,Timesheet!G161,\"\")","v":""},{"$f":"IF(Timesheet!Z161>0,Timesheet!J161,\"\")","v":""},"",{"$f":"IFERROR(VLOOKUP(AE161,IF(AE161=3165,AL$2:AM$2,ESG!A$2:J$54),IF(AE161=3165,2,10),0),0)","v":0},{"$f":"IF(Timesheet!AB161>0,Timesheet!G161,\"\")","v":""},{"$f":"IF(Timesheet!AB161>0,Timesheet!J161,\"\")","v":""},"",{"$f":"IFERROR(VLOOKUP(AI161,IF(AI161=3165,AL$2:AM$2,ESG!A$2:K$54),IF(AI161=3165,2,11),0),0)","v":0}]
[{"$f":"IF(Timesheet!L162>0,Timesheet!G162,\"\")","v":""},{"$f":"IF(Timesheet!L162>0,Timesheet!J162,\"\")","v":""},"",{"$f":"IFERROR(VLOOKUP(C162,IF(C162=3165,AL$2:AM$2,ESG!A$2:C$54),IF(C162=3165,2,3),0),0)","v":0},{"$f":"IF(Timesheet!N162>0,Timesheet!G162,\"\")","v":""},{"$f":"IF(Timesheet!N162>0,Timesheet!J162,\"\")","v":""},"",{"$f":"IFERROR(VLOOKUP(G162,IF(G162=3165,AL$2:AM$2,ESG!A$2:D$54),IF(G162=3165,2,4),0),0)","v":0},{"$f":"IF(Timesheet!P162>0,Timesheet!G162,\"\")","v":""},{"$f":"IF(Timesheet!P162>0,Timesheet!J162,\"\")","v":""},"",{"$f":"IFERROR(VLOOKUP(K162,IF(K162=3165,AL$2:AM$2,ESG!A$2:E$54),IF(K162=3165,2,5),0),0)","v":0},{"$f":"IF(Timesheet!R162>0,Timesheet!G162,\"\")","v":""},{"$f":"IF(Timesheet!R162>0,Timesheet!J162,\"\")","v":""},{"$f":"IFERROR(VLOOKUP(M162,ESG!M$2:N$13,2,FALSE),N162)","v":""},{"$f":"IFERROR(VLOOKUP(O162,IF(O162=3165,AL$2:AM$2,ESG!A$2:F$54),IF(O162=3165,2,6),0),0)","v":0},{"$f":"IF(Timesheet!T162>0,Timesheet!G162,\"\")","v":""},{"$f":"IF(Timesheet!T162>0,Timesheet!J162,\"\")","v":""},{"$f":"IFERROR(VLOOKUP(Q162,ESG!M$2:N$13,2,FALSE),R162)","v":""},{"$f":"IFERROR(VLOOKUP(S162,IF(S162=3165,AL$2:AM$2,ESG!A$2:G$54),IF(S162=3165,2,7),0),0)","v":0},{"$f":"IF(Timesheet!V162>0,Timesheet!G162,\"\")","v":""},{"$f":"IF(Timesheet!V162>0,Timesheet!J162,\"\")","v":""},{"$f":"IFERROR(VLOOKUP(U162,ESG!M$2:N$13,2,FALSE),V162)","v":""},{"$f":"IFERROR(VLOOKUP(W162,IF(W162=3165,AL$2:AM$2,ESG!A$2:H$54),IF(W162=3165,2,8),0),0)","v":0},{"$f":"IF(Timesheet!X162>0,Timesheet!G162,\"\")","v":""},{"$f":"IF(Timesheet!X162>0,Timesheet!J162,\"\")","v":""},"",{"$f":"IFERROR(VLOOKUP(AA162,IF(AA162=3165,AL$2:AM$2,ESG!A$2:I$54),IF(AA162=3165,2,9),0),0)","v":0},{"$f":"IF(Timesheet!Z162>0,Timesheet!G162,\"\")","v":""},{"$f":"IF(Timesheet!Z162>0,Timesheet!J162,\"\")","v":""},"",{"$f":"IFERROR(VLOOKUP(AE162,IF(AE162=3165,AL$2:AM$2,ESG!A$2:J$54),IF(AE162=3165,2,10),0),0)","v":0},{"$f":"IF(Timesheet!AB162>0,Timesheet!G162,\"\")","v":""},{"$f":"IF(Timesheet!AB162>0,Timesheet!J162,\"\")","v":""},"",{"$f":"IFERROR(VLOOKUP(AI162,IF(AI162=3165,AL$2:AM$2,ESG!A$2:K$54),IF(AI162=3165,2,11),0),0)","v":0}]
[{"$f":"IF(Timesheet!L163>0,Timesheet!G163,\"\")","v":""},{"$f":"IF(Timesheet!L163>0,Timesheet!J163,\"\")","v":""},"",{"$f":"IFERROR(VLOOKUP(C163,IF(C163=3165,AL$2:AM$2,ESG!A$2:C$54),IF(C163=3165,2,3),0),0)","v":0},{"$f":"IF(Timesheet!N163>0,Timesheet!G163,\"\")","v":""},{"$f":"IF(Timesheet!N163>0,Timesheet!J163,\"\")","v":""},"",{"$f":"IFERROR(VLOOKUP(G163,IF(G163=3165,AL$2:AM$2,ESG!A$2:D$54),IF(G163=3165,2,4),0),0)","v":0},{"$f":"IF(Timesheet!P163>0,Timesheet!G163,\"\")","v":""},{"$f":"IF(Timesheet!P163>0,Timesheet!J163,\"\")","v":""},"",{"$f":"IFERROR(VLOOKUP(K163,IF(K163=3165,AL$2:AM$2,ESG!A$2:E$54),IF(K163=3165,2,5),0),0)","v":0},{"$f":"IF(Timesheet!R163>0,Timesheet!G163,\"\")","v":""},{"$f":"IF(Timesheet!R163>0,Timesheet!J163,\"\")","v":""},{"$f":"IFERROR(VLOOKUP(M163,ESG!M$2:N$13,2,FALSE),N163)","v":""},{"$f":"IFERROR(VLOOKUP(O163,IF(O163=3165,AL$2:AM$2,ESG!A$2:F$54),IF(O163=3165,2,6),0),0)","v":0},{"$f":"IF(Timesheet!T163>0,Timesheet!G163,\"\")","v":""},{"$f":"IF(Timesheet!T163>0,Timesheet!J163,\"\")","v":""},{"$f":"IFERROR(VLOOKUP(Q163,ESG!M$2:N$13,2,FALSE),R163)","v":""},{"$f":"IFERROR(VLOOKUP(S163,IF(S163=3165,AL$2:AM$2,ESG!A$2:G$54),IF(S163=3165,2,7),0),0)","v":0},{"$f":"IF(Timesheet!V163>0,Timesheet!G163,\"\")","v":""},{"$f":"IF(Timesheet!V163>0,Timesheet!J163,\"\")","v":""},{"$f":"IFERROR(VLOOKUP(U163,ESG!M$2:N$13,2,FALSE),V163)","v":""},{"$f":"IFERROR(VLOOKUP(W163,IF(W163=3165,AL$2:AM$2,ESG!A$2:H$54),IF(W163=3165,2,8),0),0)","v":0},{"$f":"IF(Timesheet!X163>0,Timesheet!G163,\"\")","v":""},{"$f":"IF(Timesheet!X163>0,Timesheet!J163,\"\")","v":""},"",{"$f":"IFERROR(VLOOKUP(AA163,IF(AA163=3165,AL$2:AM$2,ESG!A$2:I$54),IF(AA163=3165,2,9),0),0)","v":0},{"$f":"IF(Timesheet!Z163>0,Timesheet!G163,\"\")","v":""},{"$f":"IF(Timesheet!Z163>0,Timesheet!J163,\"\")","v":""},"",{"$f":"IFERROR(VLOOKUP(AE163,IF(AE163=3165,AL$2:AM$2,ESG!A$2:J$54),IF(AE163=3165,2,10),0),0)","v":0},{"$f":"IF(Timesheet!AB163>0,Timesheet!G163,\"\")","v":""},{"$f":"IF(Timesheet!AB163>0,Timesheet!J163,\"\")","v":""},"",{"$f":"IFERROR(VLOOKUP(AI163,IF(AI163=3165,AL$2:AM$2,ESG!A$2:K$54),IF(AI163=3165,2,11),0),0)","v":0}]
[{"$f":"IF(Timesheet!L164>0,Timesheet!G164,\"\")","v":""},{"$f":"IF(Timesheet!L164>0,Timesheet!J164,\"\")","v":""},"",{"$f":"IFERROR(VLOOKUP(C164,IF(C164=3165,AL$2:AM$2,ESG!A$2:C$54),IF(C164=3165,2,3),0),0)","v":0},{"$f":"IF(Timesheet!N164>0,Timesheet!G164,\"\")","v":""},{"$f":"IF(Timesheet!N164>0,Timesheet!J164,\"\")","v":""},"",{"$f":"IFERROR(VLOOKUP(G164,IF(G164=3165,AL$2:AM$2,ESG!A$2:D$54),IF(G164=3165,2,4),0),0)","v":0},{"$f":"IF(Timesheet!P164>0,Timesheet!G164,\"\")","v":""},{"$f":"IF(Timesheet!P164>0,Timesheet!J164,\"\")","v":""},"",{"$f":"IFERROR(VLOOKUP(K164,IF(K164=3165,AL$2:AM$2,ESG!A$2:E$54),IF(K164=3165,2,5),0),0)","v":0},{"$f":"IF(Timesheet!R164>0,Timesheet!G164,\"\")","v":""},{"$f":"IF(Timesheet!R164>0,Timesheet!J164,\"\")","v":""},{"$f":"IFERROR(VLOOKUP(M164,ESG!M$2:N$13,2,FALSE),N164)","v":""},{"$f":"IFERROR(VLOOKUP(O164,IF(O164=3165,AL$2:AM$2,ESG!A$2:F$54),IF(O164=3165,2,6),0),0)","v":0},{"$f":"IF(Timesheet!T164>0,Timesheet!G164,\"\")","v":""},{"$f":"IF(Timesheet!T164>0,Timesheet!J164,\"\")","v":""},{"$f":"IFERROR(VLOOKUP(Q164,ESG!M$2:N$13,2,FALSE),R164)","v":""},{"$f":"IFERROR(VLOOKUP(S164,IF(S164=3165,AL$2:AM$2,ESG!A$2:G$54),IF(S164=3165,2,7),0),0)","v":0},{"$f":"IF(Timesheet!V164>0,Timesheet!G164,\"\")","v":""},{"$f":"IF(Timesheet!V164>0,Timesheet!J164,\"\")","v":""},{"$f":"IFERROR(VLOOKUP(U164,ESG!M$2:N$13,2,FALSE),V164)","v":""},{"$f":"IFERROR(VLOOKUP(W164,IF(W164=3165,AL$2:AM$2,ESG!A$2:H$54),IF(W164=3165,2,8),0),0)","v":0},{"$f":"IF(Timesheet!X164>0,Timesheet!G164,\"\")","v":""},{"$f":"IF(Timesheet!X164>0,Timesheet!J164,\"\")","v":""},"",{"$f":"IFERROR(VLOOKUP(AA164,IF(AA164=3165,AL$2:AM$2,ESG!A$2:I$54),IF(AA164=3165,2,9),0),0)","v":0},{"$f":"IF(Timesheet!Z164>0,Timesheet!G164,\"\")","v":""},{"$f":"IF(Timesheet!Z164>0,Timesheet!J164,\"\")","v":""},"",{"$f":"IFERROR(VLOOKUP(AE164,IF(AE164=3165,AL$2:AM$2,ESG!A$2:J$54),IF(AE164=3165,2,10),0),0)","v":0},{"$f":"IF(Timesheet!AB164>0,Timesheet!G164,\"\")","v":""},{"$f":"IF(Timesheet!AB164>0,Timesheet!J164,\"\")","v":""},"",{"$f":"IFERROR(VLOOKUP(AI164,IF(AI164=3165,AL$2:AM$2,ESG!A$2:K$54),IF(AI164=3165,2,11),0),0)","v":0}]
[{"$f":"IF(Timesheet!L165>0,Timesheet!G165,\"\")","v":""},{"$f":"IF(Timesheet!L165>0,Timesheet!J165,\"\")","v":""},"",{"$f":"IFERROR(VLOOKUP(C165,IF(C165=3165,AL$2:AM$2,ESG!A$2:C$54),IF(C165=3165,2,3),0),0)","v":0},{"$f":"IF(Timesheet!N165>0,Timesheet!G165,\"\")","v":""},{"$f":"IF(Timesheet!N165>0,Timesheet!J165,\"\")","v":""},"",{"$f":"IFERROR(VLOOKUP(G165,IF(G165=3165,AL$2:AM$2,ESG!A$2:D$54),IF(G165=3165,2,4),0),0)","v":0},{"$f":"IF(Timesheet!P165>0,Timesheet!G165,\"\")","v":""},{"$f":"IF(Timesheet!P165>0,Timesheet!J165,\"\")","v":""},"",{"$f":"IFERROR(VLOOKUP(K165,IF(K165=3165,AL$2:AM$2,ESG!A$2:E$54),IF(K165=3165,2,5),0),0)","v":0},{"$f":"IF(Timesheet!R165>0,Timesheet!G165,\"\")","v":""},{"$f":"IF(Timesheet!R165>0,Timesheet!J165,\"\")","v":""},{"$f":"IFERROR(VLOOKUP(M165,ESG!M$2:N$13,2,FALSE),N165)","v":""},{"$f":"IFERROR(VLOOKUP(O165,IF(O165=3165,AL$2:AM$2,ESG!A$2:F$54),IF(O165=3165,2,6),0),0)","v":0},{"$f":"IF(Timesheet!T165>0,Timesheet!G165,\"\")","v":""},{"$f":"IF(Timesheet!T165>0,Timesheet!J165,\"\")","v":""},{"$f":"IFERROR(VLOOKUP(Q165,ESG!M$2:N$13,2,FALSE),R165)","v":""},{"$f":"IFERROR(VLOOKUP(S165,IF(S165=3165,AL$2:AM$2,ESG!A$2:G$54),IF(S165=3165,2,7),0),0)","v":0},{"$f":"IF(Timesheet!V165>0,Timesheet!G165,\"\")","v":""},{"$f":"IF(Timesheet!V165>0,Timesheet!J165,\"\")","v":""},{"$f":"IFERROR(VLOOKUP(U165,ESG!M$2:N$13,2,FALSE),V165)","v":""},{"$f":"IFERROR(VLOOKUP(W165,IF(W165=3165,AL$2:AM$2,ESG!A$2:H$54),IF(W165=3165,2,8),0),0)","v":0},{"$f":"IF(Timesheet!X165>0,Timesheet!G165,\"\")","v":""},{"$f":"IF(Timesheet!X165>0,Timesheet!J165,\"\")","v":""},"",{"$f":"IFERROR(VLOOKUP(AA165,IF(AA165=3165,AL$2:AM$2,ESG!A$2:I$54),IF(AA165=3165,2,9),0),0)","v":0},{"$f":"IF(Timesheet!Z165>0,Timesheet!G165,\"\")","v":""},{"$f":"IF(Timesheet!Z165>0,Timesheet!J165,\"\")","v":""},"",{"$f":"IFERROR(VLOOKUP(AE165,IF(AE165=3165,AL$2:AM$2,ESG!A$2:J$54),IF(AE165=3165,2,10),0),0)","v":0},{"$f":"IF(Timesheet!AB165>0,Timesheet!G165,\"\")","v":""},{"$f":"IF(Timesheet!AB165>0,Timesheet!J165,\"\")","v":""},"",{"$f":"IFERROR(VLOOKUP(AI165,IF(AI165=3165,AL$2:AM$2,ESG!A$2:K$54),IF(AI165=3165,2,11),0),0)","v":0}]
[{"$f":"IF(Timesheet!L166>0,Timesheet!G166,\"\")","v":""},{"$f":"IF(Timesheet!L166>0,Timesheet!J166,\"\")","v":""},"",{"$f":"IFERROR(VLOOKUP(C166,IF(C166=3165,AL$2:AM$2,ESG!A$2:C$54),IF(C166=3165,2,3),0),0)","v":0},{"$f":"IF(Timesheet!N166>0,Timesheet!G166,\"\")","v":""},{"$f":"IF(Timesheet!N166>0,Timesheet!J166,\"\")","v":""},"",{"$f":"IFERROR(VLOOKUP(G166,IF(G166=3165,AL$2:AM$2,ESG!A$2:D$54),IF(G166=3165,2,4),0),0)","v":0},{"$f":"IF(Timesheet!P166>0,Timesheet!G166,\"\")","v":""},{"$f":"IF(Timesheet!P166>0,Timesheet!J166,\"\")","v":""},"",{"$f":"IFERROR(VLOOKUP(K166,IF(K166=3165,AL$2:AM$2,ESG!A$2:E$54),IF(K166=3165,2,5),0),0)","v":0},{"$f":"IF(Timesheet!R166>0,Timesheet!G166,\"\")","v":""},{"$f":"IF(Timesheet!R166>0,Timesheet!J166,\"\")","v":""},{"$f":"IFERROR(VLOOKUP(M166,ESG!M$2:N$13,2,FALSE),N166)","v":""},{"$f":"IFERROR(VLOOKUP(O166,IF(O166=3165,AL$2:AM$2,ESG!A$2:F$54),IF(O166=3165,2,6),0),0)","v":0},{"$f":"IF(Timesheet!T166>0,Timesheet!G166,\"\")","v":""},{"$f":"IF(Timesheet!T166>0,Timesheet!J166,\"\")","v":""},{"$f":"IFERROR(VLOOKUP(Q166,ESG!M$2:N$13,2,FALSE),R166)","v":""},{"$f":"IFERROR(VLOOKUP(S166,IF(S166=3165,AL$2:AM$2,ESG!A$2:G$54),IF(S166=3165,2,7),0),0)","v":0},{"$f":"IF(Timesheet!V166>0,Timesheet!G166,\"\")","v":""},{"$f":"IF(Timesheet!V166>0,Timesheet!J166,\"\")","v":""},{"$f":"IFERROR(VLOOKUP(U166,ESG!M$2:N$13,2,FALSE),V166)","v":""},{"$f":"IFERROR(VLOOKUP(W166,IF(W166=3165,AL$2:AM$2,ESG!A$2:H$54),IF(W166=3165,2,8),0),0)","v":0},{"$f":"IF(Timesheet!X166>0,Timesheet!G166,\"\")","v":""},{"$f":"IF(Timesheet!X166>0,Timesheet!J166,\"\")","v":""},"",{"$f":"IFERROR(VLOOKUP(AA166,IF(AA166=3165,AL$2:AM$2,ESG!A$2:I$54),IF(AA166=3165,2,9),0),0)","v":0},{"$f":"IF(Timesheet!Z166>0,Timesheet!G166,\"\")","v":""},{"$f":"IF(Timesheet!Z166>0,Timesheet!J166,\"\")","v":""},"",{"$f":"IFERROR(VLOOKUP(AE166,IF(AE166=3165,AL$2:AM$2,ESG!A$2:J$54),IF(AE166=3165,2,10),0),0)","v":0},{"$f":"IF(Timesheet!AB166>0,Timesheet!G166,\"\")","v":""},{"$f":"IF(Timesheet!AB166>0,Timesheet!J166,\"\")","v":""},"",{"$f":"IFERROR(VLOOKUP(AI166,IF(AI166=3165,AL$2:AM$2,ESG!A$2:K$54),IF(AI166=3165,2,11),0),0)","v":0}]
[{"$f":"IF(Timesheet!L167>0,Timesheet!G167,\"\")","v":""},{"$f":"IF(Timesheet!L167>0,Timesheet!J167,\"\")","v":""},"",{"$f":"IFERROR(VLOOKUP(C167,IF(C167=3165,AL$2:AM$2,ESG!A$2:C$54),IF(C167=3165,2,3),0),0)","v":0},{"$f":"IF(Timesheet!N167>0,Timesheet!G167,\"\")","v":""},{"$f":"IF(Timesheet!N167>0,Timesheet!J167,\"\")","v":""},"",{"$f":"IFERROR(VLOOKUP(G167,IF(G167=3165,AL$2:AM$2,ESG!A$2:D$54),IF(G167=3165,2,4),0),0)","v":0},{"$f":"IF(Timesheet!P167>0,Timesheet!G167,\"\")","v":""},{"$f":"IF(Timesheet!P167>0,Timesheet!J167,\"\")","v":""},"",{"$f":"IFERROR(VLOOKUP(K167,IF(K167=3165,AL$2:AM$2,ESG!A$2:E$54),IF(K167=3165,2,5),0),0)","v":0},{"$f":"IF(Timesheet!R167>0,Timesheet!G167,\"\")","v":""},{"$f":"IF(Timesheet!R167>0,Timesheet!J167,\"\")","v":""},{"$f":"IFERROR(VLOOKUP(M167,ESG!M$2:N$13,2,FALSE),N167)","v":""},{"$f":"IFERROR(VLOOKUP(O167,IF(O167=3165,AL$2:AM$2,ESG!A$2:F$54),IF(O167=3165,2,6),0),0)","v":0},{"$f":"IF(Timesheet!T167>0,Timesheet!G167,\"\")","v":""},{"$f":"IF(Timesheet!T167>0,Timesheet!J167,\"\")","v":""},{"$f":"IFERROR(VLOOKUP(Q167,ESG!M$2:N$13,2,FALSE),R167)","v":""},{"$f":"IFERROR(VLOOKUP(S167,IF(S167=3165,AL$2:AM$2,ESG!A$2:G$54),IF(S167=3165,2,7),0),0)","v":0},{"$f":"IF(Timesheet!V167>0,Timesheet!G167,\"\")","v":""},{"$f":"IF(Timesheet!V167>0,Timesheet!J167,\"\")","v":""},{"$f":"IFERROR(VLOOKUP(U167,ESG!M$2:N$13,2,FALSE),V167)","v":""},{"$f":"IFERROR(VLOOKUP(W167,IF(W167=3165,AL$2:AM$2,ESG!A$2:H$54),IF(W167=3165,2,8),0),0)","v":0},{"$f":"IF(Timesheet!X167>0,Timesheet!G167,\"\")","v":""},{"$f":"IF(Timesheet!X167>0,Timesheet!J167,\"\")","v":""},"",{"$f":"IFERROR(VLOOKUP(AA167,IF(AA167=3165,AL$2:AM$2,ESG!A$2:I$54),IF(AA167=3165,2,9),0),0)","v":0},{"$f":"IF(Timesheet!Z167>0,Timesheet!G167,\"\")","v":""},{"$f":"IF(Timesheet!Z167>0,Timesheet!J167,\"\")","v":""},"",{"$f":"IFERROR(VLOOKUP(AE167,IF(AE167=3165,AL$2:AM$2,ESG!A$2:J$54),IF(AE167=3165,2,10),0),0)","v":0},{"$f":"IF(Timesheet!AB167>0,Timesheet!G167,\"\")","v":""},{"$f":"IF(Timesheet!AB167>0,Timesheet!J167,\"\")","v":""},"",{"$f":"IFERROR(VLOOKUP(AI167,IF(AI167=3165,AL$2:AM$2,ESG!A$2:K$54),IF(AI167=3165,2,11),0),0)","v":0}]
[{"$f":"IF(Timesheet!L168>0,Timesheet!G168,\"\")","v":""},{"$f":"IF(Timesheet!L168>0,Timesheet!J168,\"\")","v":""},"",{"$f":"IFERROR(VLOOKUP(C168,IF(C168=3165,AL$2:AM$2,ESG!A$2:C$54),IF(C168=3165,2,3),0),0)","v":0},{"$f":"IF(Timesheet!N168>0,Timesheet!G168,\"\")","v":""},{"$f":"IF(Timesheet!N168>0,Timesheet!J168,\"\")","v":""},"",{"$f":"IFERROR(VLOOKUP(G168,IF(G168=3165,AL$2:AM$2,ESG!A$2:D$54),IF(G168=3165,2,4),0),0)","v":0},{"$f":"IF(Timesheet!P168>0,Timesheet!G168,\"\")","v":""},{"$f":"IF(Timesheet!P168>0,Timesheet!J168,\"\")","v":""},"",{"$f":"IFERROR(VLOOKUP(K168,IF(K168=3165,AL$2:AM$2,ESG!A$2:E$54),IF(K168=3165,2,5),0),0)","v":0},{"$f":"IF(Timesheet!R168>0,Timesheet!G168,\"\")","v":""},{"$f":"IF(Timesheet!R168>0,Timesheet!J168,\"\")","v":""},{"$f":"IFERROR(VLOOKUP(M168,ESG!M$2:N$13,2,FALSE),N168)","v":""},{"$f":"IFERROR(VLOOKUP(O168,IF(O168=3165,AL$2:AM$2,ESG!A$2:F$54),IF(O168=3165,2,6),0),0)","v":0},{"$f":"IF(Timesheet!T168>0,Timesheet!G168,\"\")","v":""},{"$f":"IF(Timesheet!T168>0,Timesheet!J168,\"\")","v":""},{"$f":"IFERROR(VLOOKUP(Q168,ESG!M$2:N$13,2,FALSE),R168)","v":""},{"$f":"IFERROR(VLOOKUP(S168,IF(S168=3165,AL$2:AM$2,ESG!A$2:G$54),IF(S168=3165,2,7),0),0)","v":0},{"$f":"IF(Timesheet!V168>0,Timesheet!G168,\"\")","v":""},{"$f":"IF(Timesheet!V168>0,Timesheet!J168,\"\")","v":""},{"$f":"IFERROR(VLOOKUP(U168,ESG!M$2:N$13,2,FALSE),V168)","v":""},{"$f":"IFERROR(VLOOKUP(W168,IF(W168=3165,AL$2:AM$2,ESG!A$2:H$54),IF(W168=3165,2,8),0),0)","v":0},{"$f":"IF(Timesheet!X168>0,Timesheet!G168,\"\")","v":""},{"$f":"IF(Timesheet!X168>0,Timesheet!J168,\"\")","v":""},"",{"$f":"IFERROR(VLOOKUP(AA168,IF(AA168=3165,AL$2:AM$2,ESG!A$2:I$54),IF(AA168=3165,2,9),0),0)","v":0},{"$f":"IF(Timesheet!Z168>0,Timesheet!G168,\"\")","v":""},{"$f":"IF(Timesheet!Z168>0,Timesheet!J168,\"\")","v":""},"",{"$f":"IFERROR(VLOOKUP(AE168,IF(AE168=3165,AL$2:AM$2,ESG!A$2:J$54),IF(AE168=3165,2,10),0),0)","v":0},{"$f":"IF(Timesheet!AB168>0,Timesheet!G168,\"\")","v":""},{"$f":"IF(Timesheet!AB168>0,Timesheet!J168,\"\")","v":""},"",{"$f":"IFERROR(VLOOKUP(AI168,IF(AI168=3165,AL$2:AM$2,ESG!A$2:K$54),IF(AI168=3165,2,11),0),0)","v":0}]
[{"$f":"IF(Timesheet!L169>0,Timesheet!G169,\"\")","v":""},{"$f":"IF(Timesheet!L169>0,Timesheet!J169,\"\")","v":""},"",{"$f":"IFERROR(VLOOKUP(C169,IF(C169=3165,AL$2:AM$2,ESG!A$2:C$54),IF(C169=3165,2,3),0),0)","v":0},{"$f":"IF(Timesheet!N169>0,Timesheet!G169,\"\")","v":""},{"$f":"IF(Timesheet!N169>0,Timesheet!J169,\"\")","v":""},"",{"$f":"IFERROR(VLOOKUP(G169,IF(G169=3165,AL$2:AM$2,ESG!A$2:D$54),IF(G169=3165,2,4),0),0)","v":0},{"$f":"IF(Timesheet!P169>0,Timesheet!G169,\"\")","v":""},{"$f":"IF(Timesheet!P169>0,Timesheet!J169,\"\")","v":""},"",{"$f":"IFERROR(VLOOKUP(K169,IF(K169=3165,AL$2:AM$2,ESG!A$2:E$54),IF(K169=3165,2,5),0),0)","v":0},{"$f":"IF(Timesheet!R169>0,Timesheet!G169,\"\")","v":""},{"$f":"IF(Timesheet!R169>0,Timesheet!J169,\"\")","v":""},{"$f":"IFERROR(VLOOKUP(M169,ESG!M$2:N$13,2,FALSE),N169)","v":""},{"$f":"IFERROR(VLOOKUP(O169,IF(O169=3165,AL$2:AM$2,ESG!A$2:F$54),IF(O169=3165,2,6),0),0)","v":0},{"$f":"IF(Timesheet!T169>0,Timesheet!G169,\"\")","v":""},{"$f":"IF(Timesheet!T169>0,Timesheet!J169,\"\")","v":""},{"$f":"IFERROR(VLOOKUP(Q169,ESG!M$2:N$13,2,FALSE),R169)","v":""},{"$f":"IFERROR(VLOOKUP(S169,IF(S169=3165,AL$2:AM$2,ESG!A$2:G$54),IF(S169=3165,2,7),0),0)","v":0},{"$f":"IF(Timesheet!V169>0,Timesheet!G169,\"\")","v":""},{"$f":"IF(Timesheet!V169>0,Timesheet!J169,\"\")","v":""},{"$f":"IFERROR(VLOOKUP(U169,ESG!M$2:N$13,2,FALSE),V169)","v":""},{"$f":"IFERROR(VLOOKUP(W169,IF(W169=3165,AL$2:AM$2,ESG!A$2:H$54),IF(W169=3165,2,8),0),0)","v":0},{"$f":"IF(Timesheet!X169>0,Timesheet!G169,\"\")","v":""},{"$f":"IF(Timesheet!X169>0,Timesheet!J169,\"\")","v":""},"",{"$f":"IFERROR(VLOOKUP(AA169,IF(AA169=3165,AL$2:AM$2,ESG!A$2:I$54),IF(AA169=3165,2,9),0),0)","v":0},{"$f":"IF(Timesheet!Z169>0,Timesheet!G169,\"\")","v":""},{"$f":"IF(Timesheet!Z169>0,Timesheet!J169,\"\")","v":""},"",{"$f":"IFERROR(VLOOKUP(AE169,IF(AE169=3165,AL$2:AM$2,ESG!A$2:J$54),IF(AE169=3165,2,10),0),0)","v":0},{"$f":"IF(Timesheet!AB169>0,Timesheet!G169,\"\")","v":""},{"$f":"IF(Timesheet!AB169>0,Timesheet!J169,\"\")","v":""},"",{"$f":"IFERROR(VLOOKUP(AI169,IF(AI169=3165,AL$2:AM$2,ESG!A$2:K$54),IF(AI169=3165,2,11),0),0)","v":0}]
[{"$f":"IF(Timesheet!L170>0,Timesheet!G170,\"\")","v":""},{"$f":"IF(Timesheet!L170>0,Timesheet!J170,\"\")","v":""},"",{"$f":"IFERROR(VLOOKUP(C170,IF(C170=3165,AL$2:AM$2,ESG!A$2:C$54),IF(C170=3165,2,3),0),0)","v":0},{"$f":"IF(Timesheet!N170>0,Timesheet!G170,\"\")","v":""},{"$f":"IF(Timesheet!N170>0,Timesheet!J170,\"\")","v":""},"",{"$f":"IFERROR(VLOOKUP(G170,IF(G170=3165,AL$2:AM$2,ESG!A$2:D$54),IF(G170=3165,2,4),0),0)","v":0},{"$f":"IF(Timesheet!P170>0,Timesheet!G170,\"\")","v":""},{"$f":"IF(Timesheet!P170>0,Timesheet!J170,\"\")","v":""},"",{"$f":"IFERROR(VLOOKUP(K170,IF(K170=3165,AL$2:AM$2,ESG!A$2:E$54),IF(K170=3165,2,5),0),0)","v":0},{"$f":"IF(Timesheet!R170>0,Timesheet!G170,\"\")","v":""},{"$f":"IF(Timesheet!R170>0,Timesheet!J170,\"\")","v":""},{"$f":"IFERROR(VLOOKUP(M170,ESG!M$2:N$13,2,FALSE),N170)","v":""},{"$f":"IFERROR(VLOOKUP(O170,IF(O170=3165,AL$2:AM$2,ESG!A$2:F$54),IF(O170=3165,2,6),0),0)","v":0},{"$f":"IF(Timesheet!T170>0,Timesheet!G170,\"\")","v":""},{"$f":"IF(Timesheet!T170>0,Timesheet!J170,\"\")","v":""},{"$f":"IFERROR(VLOOKUP(Q170,ESG!M$2:N$13,2,FALSE),R170)","v":""},{"$f":"IFERROR(VLOOKUP(S170,IF(S170=3165,AL$2:AM$2,ESG!A$2:G$54),IF(S170=3165,2,7),0),0)","v":0},{"$f":"IF(Timesheet!V170>0,Timesheet!G170,\"\")","v":""},{"$f":"IF(Timesheet!V170>0,Timesheet!J170,\"\")","v":""},{"$f":"IFERROR(VLOOKUP(U170,ESG!M$2:N$13,2,FALSE),V170)","v":""},{"$f":"IFERROR(VLOOKUP(W170,IF(W170=3165,AL$2:AM$2,ESG!A$2:H$54),IF(W170=3165,2,8),0),0)","v":0},{"$f":"IF(Timesheet!X170>0,Timesheet!G170,\"\")","v":""},{"$f":"IF(Timesheet!X170>0,Timesheet!J170,\"\")","v":""},"",{"$f":"IFERROR(VLOOKUP(AA170,IF(AA170=3165,AL$2:AM$2,ESG!A$2:I$54),IF(AA170=3165,2,9),0),0)","v":0},{"$f":"IF(Timesheet!Z170>0,Timesheet!G170,\"\")","v":""},{"$f":"IF(Timesheet!Z170>0,Timesheet!J170,\"\")","v":""},"",{"$f":"IFERROR(VLOOKUP(AE170,IF(AE170=3165,AL$2:AM$2,ESG!A$2:J$54),IF(AE170=3165,2,10),0),0)","v":0},{"$f":"IF(Timesheet!AB170>0,Timesheet!G170,\"\")","v":""},{"$f":"IF(Timesheet!AB170>0,Timesheet!J170,\"\")","v":""},"",{"$f":"IFERROR(VLOOKUP(AI170,IF(AI170=3165,AL$2:AM$2,ESG!A$2:K$54),IF(AI170=3165,2,11),0),0)","v":0}]
[{"$f":"IF(Timesheet!L171>0,Timesheet!G171,\"\")","v":""},{"$f":"IF(Timesheet!L171>0,Timesheet!J171,\"\")","v":""},"",{"$f":"IFERROR(VLOOKUP(C171,IF(C171=3165,AL$2:AM$2,ESG!A$2:C$54),IF(C171=3165,2,3),0),0)","v":0},{"$f":"IF(Timesheet!N171>0,Timesheet!G171,\"\")","v":""},{"$f":"IF(Timesheet!N171>0,Timesheet!J171,\"\")","v":""},"",{"$f":"IFERROR(VLOOKUP(G171,IF(G171=3165,AL$2:AM$2,ESG!A$2:D$54),IF(G171=3165,2,4),0),0)","v":0},{"$f":"IF(Timesheet!P171>0,Timesheet!G171,\"\")","v":""},{"$f":"IF(Timesheet!P171>0,Timesheet!J171,\"\")","v":""},"",{"$f":"IFERROR(VLOOKUP(K171,IF(K171=3165,AL$2:AM$2,ESG!A$2:E$54),IF(K171=3165,2,5),0),0)","v":0},{"$f":"IF(Timesheet!R171>0,Timesheet!G171,\"\")","v":""},{"$f":"IF(Timesheet!R171>0,Timesheet!J171,\"\")","v":""},{"$f":"IFERROR(VLOOKUP(M171,ESG!M$2:N$13,2,FALSE),N171)","v":""},{"$f":"IFERROR(VLOOKUP(O171,IF(O171=3165,AL$2:AM$2,ESG!A$2:F$54),IF(O171=3165,2,6),0),0)","v":0},{"$f":"IF(Timesheet!T171>0,Timesheet!G171,\"\")","v":""},{"$f":"IF(Timesheet!T171>0,Timesheet!J171,\"\")","v":""},{"$f":"IFERROR(VLOOKUP(Q171,ESG!M$2:N$13,2,FALSE),R171)","v":""},{"$f":"IFERROR(VLOOKUP(S171,IF(S171=3165,AL$2:AM$2,ESG!A$2:G$54),IF(S171=3165,2,7),0),0)","v":0},{"$f":"IF(Timesheet!V171>0,Timesheet!G171,\"\")","v":""},{"$f":"IF(Timesheet!V171>0,Timesheet!J171,\"\")","v":""},{"$f":"IFERROR(VLOOKUP(U171,ESG!M$2:N$13,2,FALSE),V171)","v":""},{"$f":"IFERROR(VLOOKUP(W171,IF(W171=3165,AL$2:AM$2,ESG!A$2:H$54),IF(W171=3165,2,8),0),0)","v":0},{"$f":"IF(Timesheet!X171>0,Timesheet!G171,\"\")","v":""},{"$f":"IF(Timesheet!X171>0,Timesheet!J171,\"\")","v":""},"",{"$f":"IFERROR(VLOOKUP(AA171,IF(AA171=3165,AL$2:AM$2,ESG!A$2:I$54),IF(AA171=3165,2,9),0),0)","v":0},{"$f":"IF(Timesheet!Z171>0,Timesheet!G171,\"\")","v":""},{"$f":"IF(Timesheet!Z171>0,Timesheet!J171,\"\")","v":""},"",{"$f":"IFERROR(VLOOKUP(AE171,IF(AE171=3165,AL$2:AM$2,ESG!A$2:J$54),IF(AE171=3165,2,10),0),0)","v":0},{"$f":"IF(Timesheet!AB171>0,Timesheet!G171,\"\")","v":""},{"$f":"IF(Timesheet!AB171>0,Timesheet!J171,\"\")","v":""},"",{"$f":"IFERROR(VLOOKUP(AI171,IF(AI171=3165,AL$2:AM$2,ESG!A$2:K$54),IF(AI171=3165,2,11),0),0)","v":0}]
[{"$f":"IF(Timesheet!L172>0,Timesheet!G172,\"\")","v":""},{"$f":"IF(Timesheet!L172>0,Timesheet!J172,\"\")","v":""},"",{"$f":"IFERROR(VLOOKUP(C172,IF(C172=3165,AL$2:AM$2,ESG!A$2:C$54),IF(C172=3165,2,3),0),0)","v":0},{"$f":"IF(Timesheet!N172>0,Timesheet!G172,\"\")","v":""},{"$f":"IF(Timesheet!N172>0,Timesheet!J172,\"\")","v":""},"",{"$f":"IFERROR(VLOOKUP(G172,IF(G172=3165,AL$2:AM$2,ESG!A$2:D$54),IF(G172=3165,2,4),0),0)","v":0},{"$f":"IF(Timesheet!P172>0,Timesheet!G172,\"\")","v":""},{"$f":"IF(Timesheet!P172>0,Timesheet!J172,\"\")","v":""},"",{"$f":"IFERROR(VLOOKUP(K172,IF(K172=3165,AL$2:AM$2,ESG!A$2:E$54),IF(K172=3165,2,5),0),0)","v":0},{"$f":"IF(Timesheet!R172>0,Timesheet!G172,\"\")","v":""},{"$f":"IF(Timesheet!R172>0,Timesheet!J172,\"\")","v":""},{"$f":"IFERROR(VLOOKUP(M172,ESG!M$2:N$13,2,FALSE),N172)","v":""},{"$f":"IFERROR(VLOOKUP(O172,IF(O172=3165,AL$2:AM$2,ESG!A$2:F$54),IF(O172=3165,2,6),0),0)","v":0},{"$f":"IF(Timesheet!T172>0,Timesheet!G172,\"\")","v":""},{"$f":"IF(Timesheet!T172>0,Timesheet!J172,\"\")","v":""},{"$f":"IFERROR(VLOOKUP(Q172,ESG!M$2:N$13,2,FALSE),R172)","v":""},{"$f":"IFERROR(VLOOKUP(S172,IF(S172=3165,AL$2:AM$2,ESG!A$2:G$54),IF(S172=3165,2,7),0),0)","v":0},{"$f":"IF(Timesheet!V172>0,Timesheet!G172,\"\")","v":""},{"$f":"IF(Timesheet!V172>0,Timesheet!J172,\"\")","v":""},{"$f":"IFERROR(VLOOKUP(U172,ESG!M$2:N$13,2,FALSE),V172)","v":""},{"$f":"IFERROR(VLOOKUP(W172,IF(W172=3165,AL$2:AM$2,ESG!A$2:H$54),IF(W172=3165,2,8),0),0)","v":0},{"$f":"IF(Timesheet!X172>0,Timesheet!G172,\"\")","v":""},{"$f":"IF(Timesheet!X172>0,Timesheet!J172,\"\")","v":""},"",{"$f":"IFERROR(VLOOKUP(AA172,IF(AA172=3165,AL$2:AM$2,ESG!A$2:I$54),IF(AA172=3165,2,9),0),0)","v":0},{"$f":"IF(Timesheet!Z172>0,Timesheet!G172,\"\")","v":""},{"$f":"IF(Timesheet!Z172>0,Timesheet!J172,\"\")","v":""},"",{"$f":"IFERROR(VLOOKUP(AE172,IF(AE172=3165,AL$2:AM$2,ESG!A$2:J$54),IF(AE172=3165,2,10),0),0)","v":0},{"$f":"IF(Timesheet!AB172>0,Timesheet!G172,\"\")","v":""},{"$f":"IF(Timesheet!AB172>0,Timesheet!J172,\"\")","v":""},"",{"$f":"IFERROR(VLOOKUP(AI172,IF(AI172=3165,AL$2:AM$2,ESG!A$2:K$54),IF(AI172=3165,2,11),0),0)","v":0}]
[{"$f":"IF(Timesheet!L173>0,Timesheet!G173,\"\")","v":""},{"$f":"IF(Timesheet!L173>0,Timesheet!J173,\"\")","v":""},"",{"$f":"IFERROR(VLOOKUP(C173,IF(C173=3165,AL$2:AM$2,ESG!A$2:C$54),IF(C173=3165,2,3),0),0)","v":0},{"$f":"IF(Timesheet!N173>0,Timesheet!G173,\"\")","v":""},{"$f":"IF(Timesheet!N173>0,Timesheet!J173,\"\")","v":""},"",{"$f":"IFERROR(VLOOKUP(G173,IF(G173=3165,AL$2:AM$2,ESG!A$2:D$54),IF(G173=3165,2,4),0),0)","v":0},{"$f":"IF(Timesheet!P173>0,Timesheet!G173,\"\")","v":""},{"$f":"IF(Timesheet!P173>0,Timesheet!J173,\"\")","v":""},"",{"$f":"IFERROR(VLOOKUP(K173,IF(K173=3165,AL$2:AM$2,ESG!A$2:E$54),IF(K173=3165,2,5),0),0)","v":0},{"$f":"IF(Timesheet!R173>0,Timesheet!G173,\"\")","v":""},{"$f":"IF(Timesheet!R173>0,Timesheet!J173,\"\")","v":""},{"$f":"IFERROR(VLOOKUP(M173,ESG!M$2:N$13,2,FALSE),N173)","v":""},{"$f":"IFERROR(VLOOKUP(O173,IF(O173=3165,AL$2:AM$2,ESG!A$2:F$54),IF(O173=3165,2,6),0),0)","v":0},{"$f":"IF(Timesheet!T173>0,Timesheet!G173,\"\")","v":""},{"$f":"IF(Timesheet!T173>0,Timesheet!J173,\"\")","v":""},{"$f":"IFERROR(VLOOKUP(Q173,ESG!M$2:N$13,2,FALSE),R173)","v":""},{"$f":"IFERROR(VLOOKUP(S173,IF(S173=3165,AL$2:AM$2,ESG!A$2:G$54),IF(S173=3165,2,7),0),0)","v":0},{"$f":"IF(Timesheet!V173>0,Timesheet!G173,\"\")","v":""},{"$f":"IF(Timesheet!V173>0,Timesheet!J173,\"\")","v":""},{"$f":"IFERROR(VLOOKUP(U173,ESG!M$2:N$13,2,FALSE),V173)","v":""},{"$f":"IFERROR(VLOOKUP(W173,IF(W173=3165,AL$2:AM$2,ESG!A$2:H$54),IF(W173=3165,2,8),0),0)","v":0},{"$f":"IF(Timesheet!X173>0,Timesheet!G173,\"\")","v":""},{"$f":"IF(Timesheet!X173>0,Timesheet!J173,\"\")","v":""},"",{"$f":"IFERROR(VLOOKUP(AA173,IF(AA173=3165,AL$2:AM$2,ESG!A$2:I$54),IF(AA173=3165,2,9),0),0)","v":0},{"$f":"IF(Timesheet!Z173>0,Timesheet!G173,\"\")","v":""},{"$f":"IF(Timesheet!Z173>0,Timesheet!J173,\"\")","v":""},"",{"$f":"IFERROR(VLOOKUP(AE173,IF(AE173=3165,AL$2:AM$2,ESG!A$2:J$54),IF(AE173=3165,2,10),0),0)","v":0},{"$f":"IF(Timesheet!AB173>0,Timesheet!G173,\"\")","v":""},{"$f":"IF(Timesheet!AB173>0,Timesheet!J173,\"\")","v":""},"",{"$f":"IFERROR(VLOOKUP(AI173,IF(AI173=3165,AL$2:AM$2,ESG!A$2:K$54),IF(AI173=3165,2,11),0),0)","v":0}]
[{"$f":"IF(Timesheet!L174>0,Timesheet!G174,\"\")","v":""},{"$f":"IF(Timesheet!L174>0,Timesheet!J174,\"\")","v":""},"",{"$f":"IFERROR(VLOOKUP(C174,IF(C174=3165,AL$2:AM$2,ESG!A$2:C$54),IF(C174=3165,2,3),0),0)","v":0},{"$f":"IF(Timesheet!N174>0,Timesheet!G174,\"\")","v":""},{"$f":"IF(Timesheet!N174>0,Timesheet!J174,\"\")","v":""},"",{"$f":"IFERROR(VLOOKUP(G174,IF(G174=3165,AL$2:AM$2,ESG!A$2:D$54),IF(G174=3165,2,4),0),0)","v":0},{"$f":"IF(Timesheet!P174>0,Timesheet!G174,\"\")","v":""},{"$f":"IF(Timesheet!P174>0,Timesheet!J174,\"\")","v":""},"",{"$f":"IFERROR(VLOOKUP(K174,IF(K174=3165,AL$2:AM$2,ESG!A$2:E$54),IF(K174=3165,2,5),0),0)","v":0},{"$f":"IF(Timesheet!R174>0,Timesheet!G174,\"\")","v":""},{"$f":"IF(Timesheet!R174>0,Timesheet!J174,\"\")","v":""},{"$f":"IFERROR(VLOOKUP(M174,ESG!M$2:N$13,2,FALSE),N174)","v":""},{"$f":"IFERROR(VLOOKUP(O174,IF(O174=3165,AL$2:AM$2,ESG!A$2:F$54),IF(O174=3165,2,6),0),0)","v":0},{"$f":"IF(Timesheet!T174>0,Timesheet!G174,\"\")","v":""},{"$f":"IF(Timesheet!T174>0,Timesheet!J174,\"\")","v":""},{"$f":"IFERROR(VLOOKUP(Q174,ESG!M$2:N$13,2,FALSE),R174)","v":""},{"$f":"IFERROR(VLOOKUP(S174,IF(S174=3165,AL$2:AM$2,ESG!A$2:G$54),IF(S174=3165,2,7),0),0)","v":0},{"$f":"IF(Timesheet!V174>0,Timesheet!G174,\"\")","v":""},{"$f":"IF(Timesheet!V174>0,Timesheet!J174,\"\")","v":""},{"$f":"IFERROR(VLOOKUP(U174,ESG!M$2:N$13,2,FALSE),V174)","v":""},{"$f":"IFERROR(VLOOKUP(W174,IF(W174=3165,AL$2:AM$2,ESG!A$2:H$54),IF(W174=3165,2,8),0),0)","v":0},{"$f":"IF(Timesheet!X174>0,Timesheet!G174,\"\")","v":""},{"$f":"IF(Timesheet!X174>0,Timesheet!J174,\"\")","v":""},"",{"$f":"IFERROR(VLOOKUP(AA174,IF(AA174=3165,AL$2:AM$2,ESG!A$2:I$54),IF(AA174=3165,2,9),0),0)","v":0},{"$f":"IF(Timesheet!Z174>0,Timesheet!G174,\"\")","v":""},{"$f":"IF(Timesheet!Z174>0,Timesheet!J174,\"\")","v":""},"",{"$f":"IFERROR(VLOOKUP(AE174,IF(AE174=3165,AL$2:AM$2,ESG!A$2:J$54),IF(AE174=3165,2,10),0),0)","v":0},{"$f":"IF(Timesheet!AB174>0,Timesheet!G174,\"\")","v":""},{"$f":"IF(Timesheet!AB174>0,Timesheet!J174,\"\")","v":""},"",{"$f":"IFERROR(VLOOKUP(AI174,IF(AI174=3165,AL$2:AM$2,ESG!A$2:K$54),IF(AI174=3165,2,11),0),0)","v":0}]
[{"$f":"IF(Timesheet!L175>0,Timesheet!G175,\"\")","v":""},{"$f":"IF(Timesheet!L175>0,Timesheet!J175,\"\")","v":""},"",{"$f":"IFERROR(VLOOKUP(C175,IF(C175=3165,AL$2:AM$2,ESG!A$2:C$54),IF(C175=3165,2,3),0),0)","v":0},{"$f":"IF(Timesheet!N175>0,Timesheet!G175,\"\")","v":""},{"$f":"IF(Timesheet!N175>0,Timesheet!J175,\"\")","v":""},"",{"$f":"IFERROR(VLOOKUP(G175,IF(G175=3165,AL$2:AM$2,ESG!A$2:D$54),IF(G175=3165,2,4),0),0)","v":0},{"$f":"IF(Timesheet!P175>0,Timesheet!G175,\"\")","v":""},{"$f":"IF(Timesheet!P175>0,Timesheet!J175,\"\")","v":""},"",{"$f":"IFERROR(VLOOKUP(K175,IF(K175=3165,AL$2:AM$2,ESG!A$2:E$54),IF(K175=3165,2,5),0),0)","v":0},{"$f":"IF(Timesheet!R175>0,Timesheet!G175,\"\")","v":""},{"$f":"IF(Timesheet!R175>0,Timesheet!J175,\"\")","v":""},{"$f":"IFERROR(VLOOKUP(M175,ESG!M$2:N$13,2,FALSE),N175)","v":""},{"$f":"IFERROR(VLOOKUP(O175,IF(O175=3165,AL$2:AM$2,ESG!A$2:F$54),IF(O175=3165,2,6),0),0)","v":0},{"$f":"IF(Timesheet!T175>0,Timesheet!G175,\"\")","v":""},{"$f":"IF(Timesheet!T175>0,Timesheet!J175,\"\")","v":""},{"$f":"IFERROR(VLOOKUP(Q175,ESG!M$2:N$13,2,FALSE),R175)","v":""},{"$f":"IFERROR(VLOOKUP(S175,IF(S175=3165,AL$2:AM$2,ESG!A$2:G$54),IF(S175=3165,2,7),0),0)","v":0},{"$f":"IF(Timesheet!V175>0,Timesheet!G175,\"\")","v":""},{"$f":"IF(Timesheet!V175>0,Timesheet!J175,\"\")","v":""},{"$f":"IFERROR(VLOOKUP(U175,ESG!M$2:N$13,2,FALSE),V175)","v":""},{"$f":"IFERROR(VLOOKUP(W175,IF(W175=3165,AL$2:AM$2,ESG!A$2:H$54),IF(W175=3165,2,8),0),0)","v":0},{"$f":"IF(Timesheet!X175>0,Timesheet!G175,\"\")","v":""},{"$f":"IF(Timesheet!X175>0,Timesheet!J175,\"\")","v":""},"",{"$f":"IFERROR(VLOOKUP(AA175,IF(AA175=3165,AL$2:AM$2,ESG!A$2:I$54),IF(AA175=3165,2,9),0),0)","v":0},{"$f":"IF(Timesheet!Z175>0,Timesheet!G175,\"\")","v":""},{"$f":"IF(Timesheet!Z175>0,Timesheet!J175,\"\")","v":""},"",{"$f":"IFERROR(VLOOKUP(AE175,IF(AE175=3165,AL$2:AM$2,ESG!A$2:J$54),IF(AE175=3165,2,10),0),0)","v":0},{"$f":"IF(Timesheet!AB175>0,Timesheet!G175,\"\")","v":""},{"$f":"IF(Timesheet!AB175>0,Timesheet!J175,\"\")","v":""},"",{"$f":"IFERROR(VLOOKUP(AI175,IF(AI175=3165,AL$2:AM$2,ESG!A$2:K$54),IF(AI175=3165,2,11),0),0)","v":0}]
[{"$f":"IF(Timesheet!L176>0,Timesheet!G176,\"\")","v":""},{"$f":"IF(Timesheet!L176>0,Timesheet!J176,\"\")","v":""},"",{"$f":"IFERROR(VLOOKUP(C176,IF(C176=3165,AL$2:AM$2,ESG!A$2:C$54),IF(C176=3165,2,3),0),0)","v":0},{"$f":"IF(Timesheet!N176>0,Timesheet!G176,\"\")","v":""},{"$f":"IF(Timesheet!N176>0,Timesheet!J176,\"\")","v":""},"",{"$f":"IFERROR(VLOOKUP(G176,IF(G176=3165,AL$2:AM$2,ESG!A$2:D$54),IF(G176=3165,2,4),0),0)","v":0},{"$f":"IF(Timesheet!P176>0,Timesheet!G176,\"\")","v":""},{"$f":"IF(Timesheet!P176>0,Timesheet!J176,\"\")","v":""},"",{"$f":"IFERROR(VLOOKUP(K176,IF(K176=3165,AL$2:AM$2,ESG!A$2:E$54),IF(K176=3165,2,5),0),0)","v":0},{"$f":"IF(Timesheet!R176>0,Timesheet!G176,\"\")","v":""},{"$f":"IF(Timesheet!R176>0,Timesheet!J176,\"\")","v":""},{"$f":"IFERROR(VLOOKUP(M176,ESG!M$2:N$13,2,FALSE),N176)","v":""},{"$f":"IFERROR(VLOOKUP(O176,IF(O176=3165,AL$2:AM$2,ESG!A$2:F$54),IF(O176=3165,2,6),0),0)","v":0},{"$f":"IF(Timesheet!T176>0,Timesheet!G176,\"\")","v":""},{"$f":"IF(Timesheet!T176>0,Timesheet!J176,\"\")","v":""},{"$f":"IFERROR(VLOOKUP(Q176,ESG!M$2:N$13,2,FALSE),R176)","v":""},{"$f":"IFERROR(VLOOKUP(S176,IF(S176=3165,AL$2:AM$2,ESG!A$2:G$54),IF(S176=3165,2,7),0),0)","v":0},{"$f":"IF(Timesheet!V176>0,Timesheet!G176,\"\")","v":""},{"$f":"IF(Timesheet!V176>0,Timesheet!J176,\"\")","v":""},{"$f":"IFERROR(VLOOKUP(U176,ESG!M$2:N$13,2,FALSE),V176)","v":""},{"$f":"IFERROR(VLOOKUP(W176,IF(W176=3165,AL$2:AM$2,ESG!A$2:H$54),IF(W176=3165,2,8),0),0)","v":0},{"$f":"IF(Timesheet!X176>0,Timesheet!G176,\"\")","v":""},{"$f":"IF(Timesheet!X176>0,Timesheet!J176,\"\")","v":""},"",{"$f":"IFERROR(VLOOKUP(AA176,IF(AA176=3165,AL$2:AM$2,ESG!A$2:I$54),IF(AA176=3165,2,9),0),0)","v":0},{"$f":"IF(Timesheet!Z176>0,Timesheet!G176,\"\")","v":""},{"$f":"IF(Timesheet!Z176>0,Timesheet!J176,\"\")","v":""},"",{"$f":"IFERROR(VLOOKUP(AE176,IF(AE176=3165,AL$2:AM$2,ESG!A$2:J$54),IF(AE176=3165,2,10),0),0)","v":0},{"$f":"IF(Timesheet!AB176>0,Timesheet!G176,\"\")","v":""},{"$f":"IF(Timesheet!AB176>0,Timesheet!J176,\"\")","v":""},"",{"$f":"IFERROR(VLOOKUP(AI176,IF(AI176=3165,AL$2:AM$2,ESG!A$2:K$54),IF(AI176=3165,2,11),0),0)","v":0}]
[{"$f":"IF(Timesheet!L177>0,Timesheet!G177,\"\")","v":""},{"$f":"IF(Timesheet!L177>0,Timesheet!J177,\"\")","v":""},"",{"$f":"IFERROR(VLOOKUP(C177,IF(C177=3165,AL$2:AM$2,ESG!A$2:C$54),IF(C177=3165,2,3),0),0)","v":0},{"$f":"IF(Timesheet!N177>0,Timesheet!G177,\"\")","v":""},{"$f":"IF(Timesheet!N177>0,Timesheet!J177,\"\")","v":""},"",{"$f":"IFERROR(VLOOKUP(G177,IF(G177=3165,AL$2:AM$2,ESG!A$2:D$54),IF(G177=3165,2,4),0),0)","v":0},{"$f":"IF(Timesheet!P177>0,Timesheet!G177,\"\")","v":""},{"$f":"IF(Timesheet!P177>0,Timesheet!J177,\"\")","v":""},"",{"$f":"IFERROR(VLOOKUP(K177,IF(K177=3165,AL$2:AM$2,ESG!A$2:E$54),IF(K177=3165,2,5),0),0)","v":0},{"$f":"IF(Timesheet!R177>0,Timesheet!G177,\"\")","v":""},{"$f":"IF(Timesheet!R177>0,Timesheet!J177,\"\")","v":""},{"$f":"IFERROR(VLOOKUP(M177,ESG!M$2:N$13,2,FALSE),N177)","v":""},{"$f":"IFERROR(VLOOKUP(O177,IF(O177=3165,AL$2:AM$2,ESG!A$2:F$54),IF(O177=3165,2,6),0),0)","v":0},{"$f":"IF(Timesheet!T177>0,Timesheet!G177,\"\")","v":""},{"$f":"IF(Timesheet!T177>0,Timesheet!J177,\"\")","v":""},{"$f":"IFERROR(VLOOKUP(Q177,ESG!M$2:N$13,2,FALSE),R177)","v":""},{"$f":"IFERROR(VLOOKUP(S177,IF(S177=3165,AL$2:AM$2,ESG!A$2:G$54),IF(S177=3165,2,7),0),0)","v":0},{"$f":"IF(Timesheet!V177>0,Timesheet!G177,\"\")","v":""},{"$f":"IF(Timesheet!V177>0,Timesheet!J177,\"\")","v":""},{"$f":"IFERROR(VLOOKUP(U177,ESG!M$2:N$13,2,FALSE),V177)","v":""},{"$f":"IFERROR(VLOOKUP(W177,IF(W177=3165,AL$2:AM$2,ESG!A$2:H$54),IF(W177=3165,2,8),0),0)","v":0},{"$f":"IF(Timesheet!X177>0,Timesheet!G177,\"\")","v":""},{"$f":"IF(Timesheet!X177>0,Timesheet!J177,\"\")","v":""},"",{"$f":"IFERROR(VLOOKUP(AA177,IF(AA177=3165,AL$2:AM$2,ESG!A$2:I$54),IF(AA177=3165,2,9),0),0)","v":0},{"$f":"IF(Timesheet!Z177>0,Timesheet!G177,\"\")","v":""},{"$f":"IF(Timesheet!Z177>0,Timesheet!J177,\"\")","v":""},"",{"$f":"IFERROR(VLOOKUP(AE177,IF(AE177=3165,AL$2:AM$2,ESG!A$2:J$54),IF(AE177=3165,2,10),0),0)","v":0},{"$f":"IF(Timesheet!AB177>0,Timesheet!G177,\"\")","v":""},{"$f":"IF(Timesheet!AB177>0,Timesheet!J177,\"\")","v":""},"",{"$f":"IFERROR(VLOOKUP(AI177,IF(AI177=3165,AL$2:AM$2,ESG!A$2:K$54),IF(AI177=3165,2,11),0),0)","v":0}]
[{"$f":"IF(Timesheet!L178>0,Timesheet!G178,\"\")","v":""},{"$f":"IF(Timesheet!L178>0,Timesheet!J178,\"\")","v":""},"",{"$f":"IFERROR(VLOOKUP(C178,IF(C178=3165,AL$2:AM$2,ESG!A$2:C$54),IF(C178=3165,2,3),0),0)","v":0},{"$f":"IF(Timesheet!N178>0,Timesheet!G178,\"\")","v":""},{"$f":"IF(Timesheet!N178>0,Timesheet!J178,\"\")","v":""},"",{"$f":"IFERROR(VLOOKUP(G178,IF(G178=3165,AL$2:AM$2,ESG!A$2:D$54),IF(G178=3165,2,4),0),0)","v":0},{"$f":"IF(Timesheet!P178>0,Timesheet!G178,\"\")","v":""},{"$f":"IF(Timesheet!P178>0,Timesheet!J178,\"\")","v":""},"",{"$f":"IFERROR(VLOOKUP(K178,IF(K178=3165,AL$2:AM$2,ESG!A$2:E$54),IF(K178=3165,2,5),0),0)","v":0},{"$f":"IF(Timesheet!R178>0,Timesheet!G178,\"\")","v":""},{"$f":"IF(Timesheet!R178>0,Timesheet!J178,\"\")","v":""},{"$f":"IFERROR(VLOOKUP(M178,ESG!M$2:N$13,2,FALSE),N178)","v":""},{"$f":"IFERROR(VLOOKUP(O178,IF(O178=3165,AL$2:AM$2,ESG!A$2:F$54),IF(O178=3165,2,6),0),0)","v":0},{"$f":"IF(Timesheet!T178>0,Timesheet!G178,\"\")","v":""},{"$f":"IF(Timesheet!T178>0,Timesheet!J178,\"\")","v":""},{"$f":"IFERROR(VLOOKUP(Q178,ESG!M$2:N$13,2,FALSE),R178)","v":""},{"$f":"IFERROR(VLOOKUP(S178,IF(S178=3165,AL$2:AM$2,ESG!A$2:G$54),IF(S178=3165,2,7),0),0)","v":0},{"$f":"IF(Timesheet!V178>0,Timesheet!G178,\"\")","v":""},{"$f":"IF(Timesheet!V178>0,Timesheet!J178,\"\")","v":""},{"$f":"IFERROR(VLOOKUP(U178,ESG!M$2:N$13,2,FALSE),V178)","v":""},{"$f":"IFERROR(VLOOKUP(W178,IF(W178=3165,AL$2:AM$2,ESG!A$2:H$54),IF(W178=3165,2,8),0),0)","v":0},{"$f":"IF(Timesheet!X178>0,Timesheet!G178,\"\")","v":""},{"$f":"IF(Timesheet!X178>0,Timesheet!J178,\"\")","v":""},"",{"$f":"IFERROR(VLOOKUP(AA178,IF(AA178=3165,AL$2:AM$2,ESG!A$2:I$54),IF(AA178=3165,2,9),0),0)","v":0},{"$f":"IF(Timesheet!Z178>0,Timesheet!G178,\"\")","v":""},{"$f":"IF(Timesheet!Z178>0,Timesheet!J178,\"\")","v":""},"",{"$f":"IFERROR(VLOOKUP(AE178,IF(AE178=3165,AL$2:AM$2,ESG!A$2:J$54),IF(AE178=3165,2,10),0),0)","v":0},{"$f":"IF(Timesheet!AB178>0,Timesheet!G178,\"\")","v":""},{"$f":"IF(Timesheet!AB178>0,Timesheet!J178,\"\")","v":""},"",{"$f":"IFERROR(VLOOKUP(AI178,IF(AI178=3165,AL$2:AM$2,ESG!A$2:K$54),IF(AI178=3165,2,11),0),0)","v":0}]
[{"$f":"IF(Timesheet!L179>0,Timesheet!G179,\"\")","v":""},{"$f":"IF(Timesheet!L179>0,Timesheet!J179,\"\")","v":""},"",{"$f":"IFERROR(VLOOKUP(C179,IF(C179=3165,AL$2:AM$2,ESG!A$2:C$54),IF(C179=3165,2,3),0),0)","v":0},{"$f":"IF(Timesheet!N179>0,Timesheet!G179,\"\")","v":""},{"$f":"IF(Timesheet!N179>0,Timesheet!J179,\"\")","v":""},"",{"$f":"IFERROR(VLOOKUP(G179,IF(G179=3165,AL$2:AM$2,ESG!A$2:D$54),IF(G179=3165,2,4),0),0)","v":0},{"$f":"IF(Timesheet!P179>0,Timesheet!G179,\"\")","v":""},{"$f":"IF(Timesheet!P179>0,Timesheet!J179,\"\")","v":""},"",{"$f":"IFERROR(VLOOKUP(K179,IF(K179=3165,AL$2:AM$2,ESG!A$2:E$54),IF(K179=3165,2,5),0),0)","v":0},{"$f":"IF(Timesheet!R179>0,Timesheet!G179,\"\")","v":""},{"$f":"IF(Timesheet!R179>0,Timesheet!J179,\"\")","v":""},{"$f":"IFERROR(VLOOKUP(M179,ESG!M$2:N$13,2,FALSE),N179)","v":""},{"$f":"IFERROR(VLOOKUP(O179,IF(O179=3165,AL$2:AM$2,ESG!A$2:F$54),IF(O179=3165,2,6),0),0)","v":0},{"$f":"IF(Timesheet!T179>0,Timesheet!G179,\"\")","v":""},{"$f":"IF(Timesheet!T179>0,Timesheet!J179,\"\")","v":""},{"$f":"IFERROR(VLOOKUP(Q179,ESG!M$2:N$13,2,FALSE),R179)","v":""},{"$f":"IFERROR(VLOOKUP(S179,IF(S179=3165,AL$2:AM$2,ESG!A$2:G$54),IF(S179=3165,2,7),0),0)","v":0},{"$f":"IF(Timesheet!V179>0,Timesheet!G179,\"\")","v":""},{"$f":"IF(Timesheet!V179>0,Timesheet!J179,\"\")","v":""},{"$f":"IFERROR(VLOOKUP(U179,ESG!M$2:N$13,2,FALSE),V179)","v":""},{"$f":"IFERROR(VLOOKUP(W179,IF(W179=3165,AL$2:AM$2,ESG!A$2:H$54),IF(W179=3165,2,8),0),0)","v":0},{"$f":"IF(Timesheet!X179>0,Timesheet!G179,\"\")","v":""},{"$f":"IF(Timesheet!X179>0,Timesheet!J179,\"\")","v":""},"",{"$f":"IFERROR(VLOOKUP(AA179,IF(AA179=3165,AL$2:AM$2,ESG!A$2:I$54),IF(AA179=3165,2,9),0),0)","v":0},{"$f":"IF(Timesheet!Z179>0,Timesheet!G179,\"\")","v":""},{"$f":"IF(Timesheet!Z179>0,Timesheet!J179,\"\")","v":""},"",{"$f":"IFERROR(VLOOKUP(AE179,IF(AE179=3165,AL$2:AM$2,ESG!A$2:J$54),IF(AE179=3165,2,10),0),0)","v":0},{"$f":"IF(Timesheet!AB179>0,Timesheet!G179,\"\")","v":""},{"$f":"IF(Timesheet!AB179>0,Timesheet!J179,\"\")","v":""},"",{"$f":"IFERROR(VLOOKUP(AI179,IF(AI179=3165,AL$2:AM$2,ESG!A$2:K$54),IF(AI179=3165,2,11),0),0)","v":0}]
[{"$f":"IF(Timesheet!L180>0,Timesheet!G180,\"\")","v":""},{"$f":"IF(Timesheet!L180>0,Timesheet!J180,\"\")","v":""},"",{"$f":"IFERROR(VLOOKUP(C180,IF(C180=3165,AL$2:AM$2,ESG!A$2:C$54),IF(C180=3165,2,3),0),0)","v":0},{"$f":"IF(Timesheet!N180>0,Timesheet!G180,\"\")","v":""},{"$f":"IF(Timesheet!N180>0,Timesheet!J180,\"\")","v":""},"",{"$f":"IFERROR(VLOOKUP(G180,IF(G180=3165,AL$2:AM$2,ESG!A$2:D$54),IF(G180=3165,2,4),0),0)","v":0},{"$f":"IF(Timesheet!P180>0,Timesheet!G180,\"\")","v":""},{"$f":"IF(Timesheet!P180>0,Timesheet!J180,\"\")","v":""},"",{"$f":"IFERROR(VLOOKUP(K180,IF(K180=3165,AL$2:AM$2,ESG!A$2:E$54),IF(K180=3165,2,5),0),0)","v":0},{"$f":"IF(Timesheet!R180>0,Timesheet!G180,\"\")","v":""},{"$f":"IF(Timesheet!R180>0,Timesheet!J180,\"\")","v":""},{"$f":"IFERROR(VLOOKUP(M180,ESG!M$2:N$13,2,FALSE),N180)","v":""},{"$f":"IFERROR(VLOOKUP(O180,IF(O180=3165,AL$2:AM$2,ESG!A$2:F$54),IF(O180=3165,2,6),0),0)","v":0},{"$f":"IF(Timesheet!T180>0,Timesheet!G180,\"\")","v":""},{"$f":"IF(Timesheet!T180>0,Timesheet!J180,\"\")","v":""},{"$f":"IFERROR(VLOOKUP(Q180,ESG!M$2:N$13,2,FALSE),R180)","v":""},{"$f":"IFERROR(VLOOKUP(S180,IF(S180=3165,AL$2:AM$2,ESG!A$2:G$54),IF(S180=3165,2,7),0),0)","v":0},{"$f":"IF(Timesheet!V180>0,Timesheet!G180,\"\")","v":""},{"$f":"IF(Timesheet!V180>0,Timesheet!J180,\"\")","v":""},{"$f":"IFERROR(VLOOKUP(U180,ESG!M$2:N$13,2,FALSE),V180)","v":""},{"$f":"IFERROR(VLOOKUP(W180,IF(W180=3165,AL$2:AM$2,ESG!A$2:H$54),IF(W180=3165,2,8),0),0)","v":0},{"$f":"IF(Timesheet!X180>0,Timesheet!G180,\"\")","v":""},{"$f":"IF(Timesheet!X180>0,Timesheet!J180,\"\")","v":""},"",{"$f":"IFERROR(VLOOKUP(AA180,IF(AA180=3165,AL$2:AM$2,ESG!A$2:I$54),IF(AA180=3165,2,9),0),0)","v":0},{"$f":"IF(Timesheet!Z180>0,Timesheet!G180,\"\")","v":""},{"$f":"IF(Timesheet!Z180>0,Timesheet!J180,\"\")","v":""},"",{"$f":"IFERROR(VLOOKUP(AE180,IF(AE180=3165,AL$2:AM$2,ESG!A$2:J$54),IF(AE180=3165,2,10),0),0)","v":0},{"$f":"IF(Timesheet!AB180>0,Timesheet!G180,\"\")","v":""},{"$f":"IF(Timesheet!AB180>0,Timesheet!J180,\"\")","v":""},"",{"$f":"IFERROR(VLOOKUP(AI180,IF(AI180=3165,AL$2:AM$2,ESG!A$2:K$54),IF(AI180=3165,2,11),0),0)","v":0}]
[{"$f":"IF(Timesheet!L181>0,Timesheet!G181,\"\")","v":""},{"$f":"IF(Timesheet!L181>0,Timesheet!J181,\"\")","v":""},"",{"$f":"IFERROR(VLOOKUP(C181,IF(C181=3165,AL$2:AM$2,ESG!A$2:C$54),IF(C181=3165,2,3),0),0)","v":0},{"$f":"IF(Timesheet!N181>0,Timesheet!G181,\"\")","v":""},{"$f":"IF(Timesheet!N181>0,Timesheet!J181,\"\")","v":""},"",{"$f":"IFERROR(VLOOKUP(G181,IF(G181=3165,AL$2:AM$2,ESG!A$2:D$54),IF(G181=3165,2,4),0),0)","v":0},{"$f":"IF(Timesheet!P181>0,Timesheet!G181,\"\")","v":""},{"$f":"IF(Timesheet!P181>0,Timesheet!J181,\"\")","v":""},"",{"$f":"IFERROR(VLOOKUP(K181,IF(K181=3165,AL$2:AM$2,ESG!A$2:E$54),IF(K181=3165,2,5),0),0)","v":0},{"$f":"IF(Timesheet!R181>0,Timesheet!G181,\"\")","v":""},{"$f":"IF(Timesheet!R181>0,Timesheet!J181,\"\")","v":""},{"$f":"IFERROR(VLOOKUP(M181,ESG!M$2:N$13,2,FALSE),N181)","v":""},{"$f":"IFERROR(VLOOKUP(O181,IF(O181=3165,AL$2:AM$2,ESG!A$2:F$54),IF(O181=3165,2,6),0),0)","v":0},{"$f":"IF(Timesheet!T181>0,Timesheet!G181,\"\")","v":""},{"$f":"IF(Timesheet!T181>0,Timesheet!J181,\"\")","v":""},{"$f":"IFERROR(VLOOKUP(Q181,ESG!M$2:N$13,2,FALSE),R181)","v":""},{"$f":"IFERROR(VLOOKUP(S181,IF(S181=3165,AL$2:AM$2,ESG!A$2:G$54),IF(S181=3165,2,7),0),0)","v":0},{"$f":"IF(Timesheet!V181>0,Timesheet!G181,\"\")","v":""},{"$f":"IF(Timesheet!V181>0,Timesheet!J181,\"\")","v":""},{"$f":"IFERROR(VLOOKUP(U181,ESG!M$2:N$13,2,FALSE),V181)","v":""},{"$f":"IFERROR(VLOOKUP(W181,IF(W181=3165,AL$2:AM$2,ESG!A$2:H$54),IF(W181=3165,2,8),0),0)","v":0},{"$f":"IF(Timesheet!X181>0,Timesheet!G181,\"\")","v":""},{"$f":"IF(Timesheet!X181>0,Timesheet!J181,\"\")","v":""},"",{"$f":"IFERROR(VLOOKUP(AA181,IF(AA181=3165,AL$2:AM$2,ESG!A$2:I$54),IF(AA181=3165,2,9),0),0)","v":0},{"$f":"IF(Timesheet!Z181>0,Timesheet!G181,\"\")","v":""},{"$f":"IF(Timesheet!Z181>0,Timesheet!J181,\"\")","v":""},"",{"$f":"IFERROR(VLOOKUP(AE181,IF(AE181=3165,AL$2:AM$2,ESG!A$2:J$54),IF(AE181=3165,2,10),0),0)","v":0},{"$f":"IF(Timesheet!AB181>0,Timesheet!G181,\"\")","v":""},{"$f":"IF(Timesheet!AB181>0,Timesheet!J181,\"\")","v":""},"",{"$f":"IFERROR(VLOOKUP(AI181,IF(AI181=3165,AL$2:AM$2,ESG!A$2:K$54),IF(AI181=3165,2,11),0),0)","v":0}]
[{"$f":"IF(Timesheet!L182>0,Timesheet!G182,\"\")","v":""},{"$f":"IF(Timesheet!L182>0,Timesheet!J182,\"\")","v":""},"",{"$f":"IFERROR(VLOOKUP(C182,IF(C182=3165,AL$2:AM$2,ESG!A$2:C$54),IF(C182=3165,2,3),0),0)","v":0},{"$f":"IF(Timesheet!N182>0,Timesheet!G182,\"\")","v":""},{"$f":"IF(Timesheet!N182>0,Timesheet!J182,\"\")","v":""},"",{"$f":"IFERROR(VLOOKUP(G182,IF(G182=3165,AL$2:AM$2,ESG!A$2:D$54),IF(G182=3165,2,4),0),0)","v":0},{"$f":"IF(Timesheet!P182>0,Timesheet!G182,\"\")","v":""},{"$f":"IF(Timesheet!P182>0,Timesheet!J182,\"\")","v":""},"",{"$f":"IFERROR(VLOOKUP(K182,IF(K182=3165,AL$2:AM$2,ESG!A$2:E$54),IF(K182=3165,2,5),0),0)","v":0},{"$f":"IF(Timesheet!R182>0,Timesheet!G182,\"\")","v":""},{"$f":"IF(Timesheet!R182>0,Timesheet!J182,\"\")","v":""},{"$f":"IFERROR(VLOOKUP(M182,ESG!M$2:N$13,2,FALSE),N182)","v":""},{"$f":"IFERROR(VLOOKUP(O182,IF(O182=3165,AL$2:AM$2,ESG!A$2:F$54),IF(O182=3165,2,6),0),0)","v":0},{"$f":"IF(Timesheet!T182>0,Timesheet!G182,\"\")","v":""},{"$f":"IF(Timesheet!T182>0,Timesheet!J182,\"\")","v":""},{"$f":"IFERROR(VLOOKUP(Q182,ESG!M$2:N$13,2,FALSE),R182)","v":""},{"$f":"IFERROR(VLOOKUP(S182,IF(S182=3165,AL$2:AM$2,ESG!A$2:G$54),IF(S182=3165,2,7),0),0)","v":0},{"$f":"IF(Timesheet!V182>0,Timesheet!G182,\"\")","v":""},{"$f":"IF(Timesheet!V182>0,Timesheet!J182,\"\")","v":""},{"$f":"IFERROR(VLOOKUP(U182,ESG!M$2:N$13,2,FALSE),V182)","v":""},{"$f":"IFERROR(VLOOKUP(W182,IF(W182=3165,AL$2:AM$2,ESG!A$2:H$54),IF(W182=3165,2,8),0),0)","v":0},{"$f":"IF(Timesheet!X182>0,Timesheet!G182,\"\")","v":""},{"$f":"IF(Timesheet!X182>0,Timesheet!J182,\"\")","v":""},"",{"$f":"IFERROR(VLOOKUP(AA182,IF(AA182=3165,AL$2:AM$2,ESG!A$2:I$54),IF(AA182=3165,2,9),0),0)","v":0},{"$f":"IF(Timesheet!Z182>0,Timesheet!G182,\"\")","v":""},{"$f":"IF(Timesheet!Z182>0,Timesheet!J182,\"\")","v":""},"",{"$f":"IFERROR(VLOOKUP(AE182,IF(AE182=3165,AL$2:AM$2,ESG!A$2:J$54),IF(AE182=3165,2,10),0),0)","v":0},{"$f":"IF(Timesheet!AB182>0,Timesheet!G182,\"\")","v":""},{"$f":"IF(Timesheet!AB182>0,Timesheet!J182,\"\")","v":""},"",{"$f":"IFERROR(VLOOKUP(AI182,IF(AI182=3165,AL$2:AM$2,ESG!A$2:K$54),IF(AI182=3165,2,11),0),0)","v":0}]
[{"$f":"IF(Timesheet!L183>0,Timesheet!G183,\"\")","v":""},{"$f":"IF(Timesheet!L183>0,Timesheet!J183,\"\")","v":""},"",{"$f":"IFERROR(VLOOKUP(C183,IF(C183=3165,AL$2:AM$2,ESG!A$2:C$54),IF(C183=3165,2,3),0),0)","v":0},{"$f":"IF(Timesheet!N183>0,Timesheet!G183,\"\")","v":""},{"$f":"IF(Timesheet!N183>0,Timesheet!J183,\"\")","v":""},"",{"$f":"IFERROR(VLOOKUP(G183,IF(G183=3165,AL$2:AM$2,ESG!A$2:D$54),IF(G183=3165,2,4),0),0)","v":0},{"$f":"IF(Timesheet!P183>0,Timesheet!G183,\"\")","v":""},{"$f":"IF(Timesheet!P183>0,Timesheet!J183,\"\")","v":""},"",{"$f":"IFERROR(VLOOKUP(K183,IF(K183=3165,AL$2:AM$2,ESG!A$2:E$54),IF(K183=3165,2,5),0),0)","v":0},{"$f":"IF(Timesheet!R183>0,Timesheet!G183,\"\")","v":""},{"$f":"IF(Timesheet!R183>0,Timesheet!J183,\"\")","v":""},{"$f":"IFERROR(VLOOKUP(M183,ESG!M$2:N$13,2,FALSE),N183)","v":""},{"$f":"IFERROR(VLOOKUP(O183,IF(O183=3165,AL$2:AM$2,ESG!A$2:F$54),IF(O183=3165,2,6),0),0)","v":0},{"$f":"IF(Timesheet!T183>0,Timesheet!G183,\"\")","v":""},{"$f":"IF(Timesheet!T183>0,Timesheet!J183,\"\")","v":""},{"$f":"IFERROR(VLOOKUP(Q183,ESG!M$2:N$13,2,FALSE),R183)","v":""},{"$f":"IFERROR(VLOOKUP(S183,IF(S183=3165,AL$2:AM$2,ESG!A$2:G$54),IF(S183=3165,2,7),0),0)","v":0},{"$f":"IF(Timesheet!V183>0,Timesheet!G183,\"\")","v":""},{"$f":"IF(Timesheet!V183>0,Timesheet!J183,\"\")","v":""},{"$f":"IFERROR(VLOOKUP(U183,ESG!M$2:N$13,2,FALSE),V183)","v":""},{"$f":"IFERROR(VLOOKUP(W183,IF(W183=3165,AL$2:AM$2,ESG!A$2:H$54),IF(W183=3165,2,8),0),0)","v":0},{"$f":"IF(Timesheet!X183>0,Timesheet!G183,\"\")","v":""},{"$f":"IF(Timesheet!X183>0,Timesheet!J183,\"\")","v":""},"",{"$f":"IFERROR(VLOOKUP(AA183,IF(AA183=3165,AL$2:AM$2,ESG!A$2:I$54),IF(AA183=3165,2,9),0),0)","v":0},{"$f":"IF(Timesheet!Z183>0,Timesheet!G183,\"\")","v":""},{"$f":"IF(Timesheet!Z183>0,Timesheet!J183,\"\")","v":""},"",{"$f":"IFERROR(VLOOKUP(AE183,IF(AE183=3165,AL$2:AM$2,ESG!A$2:J$54),IF(AE183=3165,2,10),0),0)","v":0},{"$f":"IF(Timesheet!AB183>0,Timesheet!G183,\"\")","v":""},{"$f":"IF(Timesheet!AB183>0,Timesheet!J183,\"\")","v":""},"",{"$f":"IFERROR(VLOOKUP(AI183,IF(AI183=3165,AL$2:AM$2,ESG!A$2:K$54),IF(AI183=3165,2,11),0),0)","v":0}]
[{"$f":"IF(Timesheet!L184>0,Timesheet!G184,\"\")","v":""},{"$f":"IF(Timesheet!L184>0,Timesheet!J184,\"\")","v":""},"",{"$f":"IFERROR(VLOOKUP(C184,IF(C184=3165,AL$2:AM$2,ESG!A$2:C$54),IF(C184=3165,2,3),0),0)","v":0},{"$f":"IF(Timesheet!N184>0,Timesheet!G184,\"\")","v":""},{"$f":"IF(Timesheet!N184>0,Timesheet!J184,\"\")","v":""},"",{"$f":"IFERROR(VLOOKUP(G184,IF(G184=3165,AL$2:AM$2,ESG!A$2:D$54),IF(G184=3165,2,4),0),0)","v":0},{"$f":"IF(Timesheet!P184>0,Timesheet!G184,\"\")","v":""},{"$f":"IF(Timesheet!P184>0,Timesheet!J184,\"\")","v":""},"",{"$f":"IFERROR(VLOOKUP(K184,IF(K184=3165,AL$2:AM$2,ESG!A$2:E$54),IF(K184=3165,2,5),0),0)","v":0},{"$f":"IF(Timesheet!R184>0,Timesheet!G184,\"\")","v":""},{"$f":"IF(Timesheet!R184>0,Timesheet!J184,\"\")","v":""},{"$f":"IFERROR(VLOOKUP(M184,ESG!M$2:N$13,2,FALSE),N184)","v":""},{"$f":"IFERROR(VLOOKUP(O184,IF(O184=3165,AL$2:AM$2,ESG!A$2:F$54),IF(O184=3165,2,6),0),0)","v":0},{"$f":"IF(Timesheet!T184>0,Timesheet!G184,\"\")","v":""},{"$f":"IF(Timesheet!T184>0,Timesheet!J184,\"\")","v":""},{"$f":"IFERROR(VLOOKUP(Q184,ESG!M$2:N$13,2,FALSE),R184)","v":""},{"$f":"IFERROR(VLOOKUP(S184,IF(S184=3165,AL$2:AM$2,ESG!A$2:G$54),IF(S184=3165,2,7),0),0)","v":0},{"$f":"IF(Timesheet!V184>0,Timesheet!G184,\"\")","v":""},{"$f":"IF(Timesheet!V184>0,Timesheet!J184,\"\")","v":""},{"$f":"IFERROR(VLOOKUP(U184,ESG!M$2:N$13,2,FALSE),V184)","v":""},{"$f":"IFERROR(VLOOKUP(W184,IF(W184=3165,AL$2:AM$2,ESG!A$2:H$54),IF(W184=3165,2,8),0),0)","v":0},{"$f":"IF(Timesheet!X184>0,Timesheet!G184,\"\")","v":""},{"$f":"IF(Timesheet!X184>0,Timesheet!J184,\"\")","v":""},"",{"$f":"IFERROR(VLOOKUP(AA184,IF(AA184=3165,AL$2:AM$2,ESG!A$2:I$54),IF(AA184=3165,2,9),0),0)","v":0},{"$f":"IF(Timesheet!Z184>0,Timesheet!G184,\"\")","v":""},{"$f":"IF(Timesheet!Z184>0,Timesheet!J184,\"\")","v":""},"",{"$f":"IFERROR(VLOOKUP(AE184,IF(AE184=3165,AL$2:AM$2,ESG!A$2:J$54),IF(AE184=3165,2,10),0),0)","v":0},{"$f":"IF(Timesheet!AB184>0,Timesheet!G184,\"\")","v":""},{"$f":"IF(Timesheet!AB184>0,Timesheet!J184,\"\")","v":""},"",{"$f":"IFERROR(VLOOKUP(AI184,IF(AI184=3165,AL$2:AM$2,ESG!A$2:K$54),IF(AI184=3165,2,11),0),0)","v":0}]
[{"$f":"IF(Timesheet!L185>0,Timesheet!G185,\"\")","v":""},{"$f":"IF(Timesheet!L185>0,Timesheet!J185,\"\")","v":""},"",{"$f":"IFERROR(VLOOKUP(C185,IF(C185=3165,AL$2:AM$2,ESG!A$2:C$54),IF(C185=3165,2,3),0),0)","v":0},{"$f":"IF(Timesheet!N185>0,Timesheet!G185,\"\")","v":""},{"$f":"IF(Timesheet!N185>0,Timesheet!J185,\"\")","v":""},"",{"$f":"IFERROR(VLOOKUP(G185,IF(G185=3165,AL$2:AM$2,ESG!A$2:D$54),IF(G185=3165,2,4),0),0)","v":0},{"$f":"IF(Timesheet!P185>0,Timesheet!G185,\"\")","v":""},{"$f":"IF(Timesheet!P185>0,Timesheet!J185,\"\")","v":""},"",{"$f":"IFERROR(VLOOKUP(K185,IF(K185=3165,AL$2:AM$2,ESG!A$2:E$54),IF(K185=3165,2,5),0),0)","v":0},{"$f":"IF(Timesheet!R185>0,Timesheet!G185,\"\")","v":""},{"$f":"IF(Timesheet!R185>0,Timesheet!J185,\"\")","v":""},{"$f":"IFERROR(VLOOKUP(M185,ESG!M$2:N$13,2,FALSE),N185)","v":""},{"$f":"IFERROR(VLOOKUP(O185,IF(O185=3165,AL$2:AM$2,ESG!A$2:F$54),IF(O185=3165,2,6),0),0)","v":0},{"$f":"IF(Timesheet!T185>0,Timesheet!G185,\"\")","v":""},{"$f":"IF(Timesheet!T185>0,Timesheet!J185,\"\")","v":""},{"$f":"IFERROR(VLOOKUP(Q185,ESG!M$2:N$13,2,FALSE),R185)","v":""},{"$f":"IFERROR(VLOOKUP(S185,IF(S185=3165,AL$2:AM$2,ESG!A$2:G$54),IF(S185=3165,2,7),0),0)","v":0},{"$f":"IF(Timesheet!V185>0,Timesheet!G185,\"\")","v":""},{"$f":"IF(Timesheet!V185>0,Timesheet!J185,\"\")","v":""},{"$f":"IFERROR(VLOOKUP(U185,ESG!M$2:N$13,2,FALSE),V185)","v":""},{"$f":"IFERROR(VLOOKUP(W185,IF(W185=3165,AL$2:AM$2,ESG!A$2:H$54),IF(W185=3165,2,8),0),0)","v":0},{"$f":"IF(Timesheet!X185>0,Timesheet!G185,\"\")","v":""},{"$f":"IF(Timesheet!X185>0,Timesheet!J185,\"\")","v":""},"",{"$f":"IFERROR(VLOOKUP(AA185,IF(AA185=3165,AL$2:AM$2,ESG!A$2:I$54),IF(AA185=3165,2,9),0),0)","v":0},{"$f":"IF(Timesheet!Z185>0,Timesheet!G185,\"\")","v":""},{"$f":"IF(Timesheet!Z185>0,Timesheet!J185,\"\")","v":""},"",{"$f":"IFERROR(VLOOKUP(AE185,IF(AE185=3165,AL$2:AM$2,ESG!A$2:J$54),IF(AE185=3165,2,10),0),0)","v":0},{"$f":"IF(Timesheet!AB185>0,Timesheet!G185,\"\")","v":""},{"$f":"IF(Timesheet!AB185>0,Timesheet!J185,\"\")","v":""},"",{"$f":"IFERROR(VLOOKUP(AI185,IF(AI185=3165,AL$2:AM$2,ESG!A$2:K$54),IF(AI185=3165,2,11),0),0)","v":0}]
[{"$f":"IF(Timesheet!L186>0,Timesheet!G186,\"\")","v":""},{"$f":"IF(Timesheet!L186>0,Timesheet!J186,\"\")","v":""},"",{"$f":"IFERROR(VLOOKUP(C186,IF(C186=3165,AL$2:AM$2,ESG!A$2:C$54),IF(C186=3165,2,3),0),0)","v":0},{"$f":"IF(Timesheet!N186>0,Timesheet!G186,\"\")","v":""},{"$f":"IF(Timesheet!N186>0,Timesheet!J186,\"\")","v":""},"",{"$f":"IFERROR(VLOOKUP(G186,IF(G186=3165,AL$2:AM$2,ESG!A$2:D$54),IF(G186=3165,2,4),0),0)","v":0},{"$f":"IF(Timesheet!P186>0,Timesheet!G186,\"\")","v":""},{"$f":"IF(Timesheet!P186>0,Timesheet!J186,\"\")","v":""},"",{"$f":"IFERROR(VLOOKUP(K186,IF(K186=3165,AL$2:AM$2,ESG!A$2:E$54),IF(K186=3165,2,5),0),0)","v":0},{"$f":"IF(Timesheet!R186>0,Timesheet!G186,\"\")","v":""},{"$f":"IF(Timesheet!R186>0,Timesheet!J186,\"\")","v":""},{"$f":"IFERROR(VLOOKUP(M186,ESG!M$2:N$13,2,FALSE),N186)","v":""},{"$f":"IFERROR(VLOOKUP(O186,IF(O186=3165,AL$2:AM$2,ESG!A$2:F$54),IF(O186=3165,2,6),0),0)","v":0},{"$f":"IF(Timesheet!T186>0,Timesheet!G186,\"\")","v":""},{"$f":"IF(Timesheet!T186>0,Timesheet!J186,\"\")","v":""},{"$f":"IFERROR(VLOOKUP(Q186,ESG!M$2:N$13,2,FALSE),R186)","v":""},{"$f":"IFERROR(VLOOKUP(S186,IF(S186=3165,AL$2:AM$2,ESG!A$2:G$54),IF(S186=3165,2,7),0),0)","v":0},{"$f":"IF(Timesheet!V186>0,Timesheet!G186,\"\")","v":""},{"$f":"IF(Timesheet!V186>0,Timesheet!J186,\"\")","v":""},{"$f":"IFERROR(VLOOKUP(U186,ESG!M$2:N$13,2,FALSE),V186)","v":""},{"$f":"IFERROR(VLOOKUP(W186,IF(W186=3165,AL$2:AM$2,ESG!A$2:H$54),IF(W186=3165,2,8),0),0)","v":0},{"$f":"IF(Timesheet!X186>0,Timesheet!G186,\"\")","v":""},{"$f":"IF(Timesheet!X186>0,Timesheet!J186,\"\")","v":""},"",{"$f":"IFERROR(VLOOKUP(AA186,IF(AA186=3165,AL$2:AM$2,ESG!A$2:I$54),IF(AA186=3165,2,9),0),0)","v":0},{"$f":"IF(Timesheet!Z186>0,Timesheet!G186,\"\")","v":""},{"$f":"IF(Timesheet!Z186>0,Timesheet!J186,\"\")","v":""},"",{"$f":"IFERROR(VLOOKUP(AE186,IF(AE186=3165,AL$2:AM$2,ESG!A$2:J$54),IF(AE186=3165,2,10),0),0)","v":0},{"$f":"IF(Timesheet!AB186>0,Timesheet!G186,\"\")","v":""},{"$f":"IF(Timesheet!AB186>0,Timesheet!J186,\"\")","v":""},"",{"$f":"IFERROR(VLOOKUP(AI186,IF(AI186=3165,AL$2:AM$2,ESG!A$2:K$54),IF(AI186=3165,2,11),0),0)","v":0}]
[{"$f":"IF(Timesheet!L187>0,Timesheet!G187,\"\")","v":""},{"$f":"IF(Timesheet!L187>0,Timesheet!J187,\"\")","v":""},"",{"$f":"IFERROR(VLOOKUP(C187,IF(C187=3165,AL$2:AM$2,ESG!A$2:C$54),IF(C187=3165,2,3),0),0)","v":0},{"$f":"IF(Timesheet!N187>0,Timesheet!G187,\"\")","v":""},{"$f":"IF(Timesheet!N187>0,Timesheet!J187,\"\")","v":""},"",{"$f":"IFERROR(VLOOKUP(G187,IF(G187=3165,AL$2:AM$2,ESG!A$2:D$54),IF(G187=3165,2,4),0),0)","v":0},{"$f":"IF(Timesheet!P187>0,Timesheet!G187,\"\")","v":""},{"$f":"IF(Timesheet!P187>0,Timesheet!J187,\"\")","v":""},"",{"$f":"IFERROR(VLOOKUP(K187,IF(K187=3165,AL$2:AM$2,ESG!A$2:E$54),IF(K187=3165,2,5),0),0)","v":0},{"$f":"IF(Timesheet!R187>0,Timesheet!G187,\"\")","v":""},{"$f":"IF(Timesheet!R187>0,Timesheet!J187,\"\")","v":""},{"$f":"IFERROR(VLOOKUP(M187,ESG!M$2:N$13,2,FALSE),N187)","v":""},{"$f":"IFERROR(VLOOKUP(O187,IF(O187=3165,AL$2:AM$2,ESG!A$2:F$54),IF(O187=3165,2,6),0),0)","v":0},{"$f":"IF(Timesheet!T187>0,Timesheet!G187,\"\")","v":""},{"$f":"IF(Timesheet!T187>0,Timesheet!J187,\"\")","v":""},{"$f":"IFERROR(VLOOKUP(Q187,ESG!M$2:N$13,2,FALSE),R187)","v":""},{"$f":"IFERROR(VLOOKUP(S187,IF(S187=3165,AL$2:AM$2,ESG!A$2:G$54),IF(S187=3165,2,7),0),0)","v":0},{"$f":"IF(Timesheet!V187>0,Timesheet!G187,\"\")","v":""},{"$f":"IF(Timesheet!V187>0,Timesheet!J187,\"\")","v":""},{"$f":"IFERROR(VLOOKUP(U187,ESG!M$2:N$13,2,FALSE),V187)","v":""},{"$f":"IFERROR(VLOOKUP(W187,IF(W187=3165,AL$2:AM$2,ESG!A$2:H$54),IF(W187=3165,2,8),0),0)","v":0},{"$f":"IF(Timesheet!X187>0,Timesheet!G187,\"\")","v":""},{"$f":"IF(Timesheet!X187>0,Timesheet!J187,\"\")","v":""},"",{"$f":"IFERROR(VLOOKUP(AA187,IF(AA187=3165,AL$2:AM$2,ESG!A$2:I$54),IF(AA187=3165,2,9),0),0)","v":0},{"$f":"IF(Timesheet!Z187>0,Timesheet!G187,\"\")","v":""},{"$f":"IF(Timesheet!Z187>0,Timesheet!J187,\"\")","v":""},"",{"$f":"IFERROR(VLOOKUP(AE187,IF(AE187=3165,AL$2:AM$2,ESG!A$2:J$54),IF(AE187=3165,2,10),0),0)","v":0},{"$f":"IF(Timesheet!AB187>0,Timesheet!G187,\"\")","v":""},{"$f":"IF(Timesheet!AB187>0,Timesheet!J187,\"\")","v":""},"",{"$f":"IFERROR(VLOOKUP(AI187,IF(AI187=3165,AL$2:AM$2,ESG!A$2:K$54),IF(AI187=3165,2,11),0),0)","v":0}]
[{"$f":"IF(Timesheet!L188>0,Timesheet!G188,\"\")","v":""},{"$f":"IF(Timesheet!L188>0,Timesheet!J188,\"\")","v":""},"",{"$f":"IFERROR(VLOOKUP(C188,IF(C188=3165,AL$2:AM$2,ESG!A$2:C$54),IF(C188=3165,2,3),0),0)","v":0},{"$f":"IF(Timesheet!N188>0,Timesheet!G188,\"\")","v":""},{"$f":"IF(Timesheet!N188>0,Timesheet!J188,\"\")","v":""},"",{"$f":"IFERROR(VLOOKUP(G188,IF(G188=3165,AL$2:AM$2,ESG!A$2:D$54),IF(G188=3165,2,4),0),0)","v":0},{"$f":"IF(Timesheet!P188>0,Timesheet!G188,\"\")","v":""},{"$f":"IF(Timesheet!P188>0,Timesheet!J188,\"\")","v":""},"",{"$f":"IFERROR(VLOOKUP(K188,IF(K188=3165,AL$2:AM$2,ESG!A$2:E$54),IF(K188=3165,2,5),0),0)","v":0},{"$f":"IF(Timesheet!R188>0,Timesheet!G188,\"\")","v":""},{"$f":"IF(Timesheet!R188>0,Timesheet!J188,\"\")","v":""},{"$f":"IFERROR(VLOOKUP(M188,ESG!M$2:N$13,2,FALSE),N188)","v":""},{"$f":"IFERROR(VLOOKUP(O188,IF(O188=3165,AL$2:AM$2,ESG!A$2:F$54),IF(O188=3165,2,6),0),0)","v":0},{"$f":"IF(Timesheet!T188>0,Timesheet!G188,\"\")","v":""},{"$f":"IF(Timesheet!T188>0,Timesheet!J188,\"\")","v":""},{"$f":"IFERROR(VLOOKUP(Q188,ESG!M$2:N$13,2,FALSE),R188)","v":""},{"$f":"IFERROR(VLOOKUP(S188,IF(S188=3165,AL$2:AM$2,ESG!A$2:G$54),IF(S188=3165,2,7),0),0)","v":0},{"$f":"IF(Timesheet!V188>0,Timesheet!G188,\"\")","v":""},{"$f":"IF(Timesheet!V188>0,Timesheet!J188,\"\")","v":""},{"$f":"IFERROR(VLOOKUP(U188,ESG!M$2:N$13,2,FALSE),V188)","v":""},{"$f":"IFERROR(VLOOKUP(W188,IF(W188=3165,AL$2:AM$2,ESG!A$2:H$54),IF(W188=3165,2,8),0),0)","v":0},{"$f":"IF(Timesheet!X188>0,Timesheet!G188,\"\")","v":""},{"$f":"IF(Timesheet!X188>0,Timesheet!J188,\"\")","v":""},"",{"$f":"IFERROR(VLOOKUP(AA188,IF(AA188=3165,AL$2:AM$2,ESG!A$2:I$54),IF(AA188=3165,2,9),0),0)","v":0},{"$f":"IF(Timesheet!Z188>0,Timesheet!G188,\"\")","v":""},{"$f":"IF(Timesheet!Z188>0,Timesheet!J188,\"\")","v":""},"",{"$f":"IFERROR(VLOOKUP(AE188,IF(AE188=3165,AL$2:AM$2,ESG!A$2:J$54),IF(AE188=3165,2,10),0),0)","v":0},{"$f":"IF(Timesheet!AB188>0,Timesheet!G188,\"\")","v":""},{"$f":"IF(Timesheet!AB188>0,Timesheet!J188,\"\")","v":""},"",{"$f":"IFERROR(VLOOKUP(AI188,IF(AI188=3165,AL$2:AM$2,ESG!A$2:K$54),IF(AI188=3165,2,11),0),0)","v":0}]
[{"$f":"IF(Timesheet!L189>0,Timesheet!G189,\"\")","v":""},{"$f":"IF(Timesheet!L189>0,Timesheet!J189,\"\")","v":""},"",{"$f":"IFERROR(VLOOKUP(C189,IF(C189=3165,AL$2:AM$2,ESG!A$2:C$54),IF(C189=3165,2,3),0),0)","v":0},{"$f":"IF(Timesheet!N189>0,Timesheet!G189,\"\")","v":""},{"$f":"IF(Timesheet!N189>0,Timesheet!J189,\"\")","v":""},"",{"$f":"IFERROR(VLOOKUP(G189,IF(G189=3165,AL$2:AM$2,ESG!A$2:D$54),IF(G189=3165,2,4),0),0)","v":0},{"$f":"IF(Timesheet!P189>0,Timesheet!G189,\"\")","v":""},{"$f":"IF(Timesheet!P189>0,Timesheet!J189,\"\")","v":""},"",{"$f":"IFERROR(VLOOKUP(K189,IF(K189=3165,AL$2:AM$2,ESG!A$2:E$54),IF(K189=3165,2,5),0),0)","v":0},{"$f":"IF(Timesheet!R189>0,Timesheet!G189,\"\")","v":""},{"$f":"IF(Timesheet!R189>0,Timesheet!J189,\"\")","v":""},{"$f":"IFERROR(VLOOKUP(M189,ESG!M$2:N$13,2,FALSE),N189)","v":""},{"$f":"IFERROR(VLOOKUP(O189,IF(O189=3165,AL$2:AM$2,ESG!A$2:F$54),IF(O189=3165,2,6),0),0)","v":0},{"$f":"IF(Timesheet!T189>0,Timesheet!G189,\"\")","v":""},{"$f":"IF(Timesheet!T189>0,Timesheet!J189,\"\")","v":""},{"$f":"IFERROR(VLOOKUP(Q189,ESG!M$2:N$13,2,FALSE),R189)","v":""},{"$f":"IFERROR(VLOOKUP(S189,IF(S189=3165,AL$2:AM$2,ESG!A$2:G$54),IF(S189=3165,2,7),0),0)","v":0},{"$f":"IF(Timesheet!V189>0,Timesheet!G189,\"\")","v":""},{"$f":"IF(Timesheet!V189>0,Timesheet!J189,\"\")","v":""},{"$f":"IFERROR(VLOOKUP(U189,ESG!M$2:N$13,2,FALSE),V189)","v":""},{"$f":"IFERROR(VLOOKUP(W189,IF(W189=3165,AL$2:AM$2,ESG!A$2:H$54),IF(W189=3165,2,8),0),0)","v":0},{"$f":"IF(Timesheet!X189>0,Timesheet!G189,\"\")","v":""},{"$f":"IF(Timesheet!X189>0,Timesheet!J189,\"\")","v":""},"",{"$f":"IFERROR(VLOOKUP(AA189,IF(AA189=3165,AL$2:AM$2,ESG!A$2:I$54),IF(AA189=3165,2,9),0),0)","v":0},{"$f":"IF(Timesheet!Z189>0,Timesheet!G189,\"\")","v":""},{"$f":"IF(Timesheet!Z189>0,Timesheet!J189,\"\")","v":""},"",{"$f":"IFERROR(VLOOKUP(AE189,IF(AE189=3165,AL$2:AM$2,ESG!A$2:J$54),IF(AE189=3165,2,10),0),0)","v":0},{"$f":"IF(Timesheet!AB189>0,Timesheet!G189,\"\")","v":""},{"$f":"IF(Timesheet!AB189>0,Timesheet!J189,\"\")","v":""},"",{"$f":"IFERROR(VLOOKUP(AI189,IF(AI189=3165,AL$2:AM$2,ESG!A$2:K$54),IF(AI189=3165,2,11),0),0)","v":0}]
[{"$f":"IF(Timesheet!L190>0,Timesheet!G190,\"\")","v":""},{"$f":"IF(Timesheet!L190>0,Timesheet!J190,\"\")","v":""},"",{"$f":"IFERROR(VLOOKUP(C190,IF(C190=3165,AL$2:AM$2,ESG!A$2:C$54),IF(C190=3165,2,3),0),0)","v":0},{"$f":"IF(Timesheet!N190>0,Timesheet!G190,\"\")","v":""},{"$f":"IF(Timesheet!N190>0,Timesheet!J190,\"\")","v":""},"",{"$f":"IFERROR(VLOOKUP(G190,IF(G190=3165,AL$2:AM$2,ESG!A$2:D$54),IF(G190=3165,2,4),0),0)","v":0},{"$f":"IF(Timesheet!P190>0,Timesheet!G190,\"\")","v":""},{"$f":"IF(Timesheet!P190>0,Timesheet!J190,\"\")","v":""},"",{"$f":"IFERROR(VLOOKUP(K190,IF(K190=3165,AL$2:AM$2,ESG!A$2:E$54),IF(K190=3165,2,5),0),0)","v":0},{"$f":"IF(Timesheet!R190>0,Timesheet!G190,\"\")","v":""},{"$f":"IF(Timesheet!R190>0,Timesheet!J190,\"\")","v":""},{"$f":"IFERROR(VLOOKUP(M190,ESG!M$2:N$13,2,FALSE),N190)","v":""},{"$f":"IFERROR(VLOOKUP(O190,IF(O190=3165,AL$2:AM$2,ESG!A$2:F$54),IF(O190=3165,2,6),0),0)","v":0},{"$f":"IF(Timesheet!T190>0,Timesheet!G190,\"\")","v":""},{"$f":"IF(Timesheet!T190>0,Timesheet!J190,\"\")","v":""},{"$f":"IFERROR(VLOOKUP(Q190,ESG!M$2:N$13,2,FALSE),R190)","v":""},{"$f":"IFERROR(VLOOKUP(S190,IF(S190=3165,AL$2:AM$2,ESG!A$2:G$54),IF(S190=3165,2,7),0),0)","v":0},{"$f":"IF(Timesheet!V190>0,Timesheet!G190,\"\")","v":""},{"$f":"IF(Timesheet!V190>0,Timesheet!J190,\"\")","v":""},{"$f":"IFERROR(VLOOKUP(U190,ESG!M$2:N$13,2,FALSE),V190)","v":""},{"$f":"IFERROR(VLOOKUP(W190,IF(W190=3165,AL$2:AM$2,ESG!A$2:H$54),IF(W190=3165,2,8),0),0)","v":0},{"$f":"IF(Timesheet!X190>0,Timesheet!G190,\"\")","v":""},{"$f":"IF(Timesheet!X190>0,Timesheet!J190,\"\")","v":""},"",{"$f":"IFERROR(VLOOKUP(AA190,IF(AA190=3165,AL$2:AM$2,ESG!A$2:I$54),IF(AA190=3165,2,9),0),0)","v":0},{"$f":"IF(Timesheet!Z190>0,Timesheet!G190,\"\")","v":""},{"$f":"IF(Timesheet!Z190>0,Timesheet!J190,\"\")","v":""},"",{"$f":"IFERROR(VLOOKUP(AE190,IF(AE190=3165,AL$2:AM$2,ESG!A$2:J$54),IF(AE190=3165,2,10),0),0)","v":0},{"$f":"IF(Timesheet!AB190>0,Timesheet!G190,\"\")","v":""},{"$f":"IF(Timesheet!AB190>0,Timesheet!J190,\"\")","v":""},"",{"$f":"IFERROR(VLOOKUP(AI190,IF(AI190=3165,AL$2:AM$2,ESG!A$2:K$54),IF(AI190=3165,2,11),0),0)","v":0}]
[{"$f":"IF(Timesheet!L191>0,Timesheet!G191,\"\")","v":""},{"$f":"IF(Timesheet!L191>0,Timesheet!J191,\"\")","v":""},"",{"$f":"IFERROR(VLOOKUP(C191,IF(C191=3165,AL$2:AM$2,ESG!A$2:C$54),IF(C191=3165,2,3),0),0)","v":0},{"$f":"IF(Timesheet!N191>0,Timesheet!G191,\"\")","v":""},{"$f":"IF(Timesheet!N191>0,Timesheet!J191,\"\")","v":""},"",{"$f":"IFERROR(VLOOKUP(G191,IF(G191=3165,AL$2:AM$2,ESG!A$2:D$54),IF(G191=3165,2,4),0),0)","v":0},{"$f":"IF(Timesheet!P191>0,Timesheet!G191,\"\")","v":""},{"$f":"IF(Timesheet!P191>0,Timesheet!J191,\"\")","v":""},"",{"$f":"IFERROR(VLOOKUP(K191,IF(K191=3165,AL$2:AM$2,ESG!A$2:E$54),IF(K191=3165,2,5),0),0)","v":0},{"$f":"IF(Timesheet!R191>0,Timesheet!G191,\"\")","v":""},{"$f":"IF(Timesheet!R191>0,Timesheet!J191,\"\")","v":""},{"$f":"IFERROR(VLOOKUP(M191,ESG!M$2:N$13,2,FALSE),N191)","v":""},{"$f":"IFERROR(VLOOKUP(O191,IF(O191=3165,AL$2:AM$2,ESG!A$2:F$54),IF(O191=3165,2,6),0),0)","v":0},{"$f":"IF(Timesheet!T191>0,Timesheet!G191,\"\")","v":""},{"$f":"IF(Timesheet!T191>0,Timesheet!J191,\"\")","v":""},{"$f":"IFERROR(VLOOKUP(Q191,ESG!M$2:N$13,2,FALSE),R191)","v":""},{"$f":"IFERROR(VLOOKUP(S191,IF(S191=3165,AL$2:AM$2,ESG!A$2:G$54),IF(S191=3165,2,7),0),0)","v":0},{"$f":"IF(Timesheet!V191>0,Timesheet!G191,\"\")","v":""},{"$f":"IF(Timesheet!V191>0,Timesheet!J191,\"\")","v":""},{"$f":"IFERROR(VLOOKUP(U191,ESG!M$2:N$13,2,FALSE),V191)","v":""},{"$f":"IFERROR(VLOOKUP(W191,IF(W191=3165,AL$2:AM$2,ESG!A$2:H$54),IF(W191=3165,2,8),0),0)","v":0},{"$f":"IF(Timesheet!X191>0,Timesheet!G191,\"\")","v":""},{"$f":"IF(Timesheet!X191>0,Timesheet!J191,\"\")","v":""},"",{"$f":"IFERROR(VLOOKUP(AA191,IF(AA191=3165,AL$2:AM$2,ESG!A$2:I$54),IF(AA191=3165,2,9),0),0)","v":0},{"$f":"IF(Timesheet!Z191>0,Timesheet!G191,\"\")","v":""},{"$f":"IF(Timesheet!Z191>0,Timesheet!J191,\"\")","v":""},"",{"$f":"IFERROR(VLOOKUP(AE191,IF(AE191=3165,AL$2:AM$2,ESG!A$2:J$54),IF(AE191=3165,2,10),0),0)","v":0},{"$f":"IF(Timesheet!AB191>0,Timesheet!G191,\"\")","v":""},{"$f":"IF(Timesheet!AB191>0,Timesheet!J191,\"\")","v":""},"",{"$f":"IFERROR(VLOOKUP(AI191,IF(AI191=3165,AL$2:AM$2,ESG!A$2:K$54),IF(AI191=3165,2,11),0),0)","v":0}]
[{"$f":"IF(Timesheet!L192>0,Timesheet!G192,\"\")","v":""},{"$f":"IF(Timesheet!L192>0,Timesheet!J192,\"\")","v":""},"",{"$f":"IFERROR(VLOOKUP(C192,IF(C192=3165,AL$2:AM$2,ESG!A$2:C$54),IF(C192=3165,2,3),0),0)","v":0},{"$f":"IF(Timesheet!N192>0,Timesheet!G192,\"\")","v":""},{"$f":"IF(Timesheet!N192>0,Timesheet!J192,\"\")","v":""},"",{"$f":"IFERROR(VLOOKUP(G192,IF(G192=3165,AL$2:AM$2,ESG!A$2:D$54),IF(G192=3165,2,4),0),0)","v":0},{"$f":"IF(Timesheet!P192>0,Timesheet!G192,\"\")","v":""},{"$f":"IF(Timesheet!P192>0,Timesheet!J192,\"\")","v":""},"",{"$f":"IFERROR(VLOOKUP(K192,IF(K192=3165,AL$2:AM$2,ESG!A$2:E$54),IF(K192=3165,2,5),0),0)","v":0},{"$f":"IF(Timesheet!R192>0,Timesheet!G192,\"\")","v":""},{"$f":"IF(Timesheet!R192>0,Timesheet!J192,\"\")","v":""},{"$f":"IFERROR(VLOOKUP(M192,ESG!M$2:N$13,2,FALSE),N192)","v":""},{"$f":"IFERROR(VLOOKUP(O192,IF(O192=3165,AL$2:AM$2,ESG!A$2:F$54),IF(O192=3165,2,6),0),0)","v":0},{"$f":"IF(Timesheet!T192>0,Timesheet!G192,\"\")","v":""},{"$f":"IF(Timesheet!T192>0,Timesheet!J192,\"\")","v":""},{"$f":"IFERROR(VLOOKUP(Q192,ESG!M$2:N$13,2,FALSE),R192)","v":""},{"$f":"IFERROR(VLOOKUP(S192,IF(S192=3165,AL$2:AM$2,ESG!A$2:G$54),IF(S192=3165,2,7),0),0)","v":0},{"$f":"IF(Timesheet!V192>0,Timesheet!G192,\"\")","v":""},{"$f":"IF(Timesheet!V192>0,Timesheet!J192,\"\")","v":""},{"$f":"IFERROR(VLOOKUP(U192,ESG!M$2:N$13,2,FALSE),V192)","v":""},{"$f":"IFERROR(VLOOKUP(W192,IF(W192=3165,AL$2:AM$2,ESG!A$2:H$54),IF(W192=3165,2,8),0),0)","v":0},{"$f":"IF(Timesheet!X192>0,Timesheet!G192,\"\")","v":""},{"$f":"IF(Timesheet!X192>0,Timesheet!J192,\"\")","v":""},"",{"$f":"IFERROR(VLOOKUP(AA192,IF(AA192=3165,AL$2:AM$2,ESG!A$2:I$54),IF(AA192=3165,2,9),0),0)","v":0},{"$f":"IF(Timesheet!Z192>0,Timesheet!G192,\"\")","v":""},{"$f":"IF(Timesheet!Z192>0,Timesheet!J192,\"\")","v":""},"",{"$f":"IFERROR(VLOOKUP(AE192,IF(AE192=3165,AL$2:AM$2,ESG!A$2:J$54),IF(AE192=3165,2,10),0),0)","v":0},{"$f":"IF(Timesheet!AB192>0,Timesheet!G192,\"\")","v":""},{"$f":"IF(Timesheet!AB192>0,Timesheet!J192,\"\")","v":""},"",{"$f":"IFERROR(VLOOKUP(AI192,IF(AI192=3165,AL$2:AM$2,ESG!A$2:K$54),IF(AI192=3165,2,11),0),0)","v":0}]
[{"$f":"IF(Timesheet!L193>0,Timesheet!G193,\"\")","v":""},{"$f":"IF(Timesheet!L193>0,Timesheet!J193,\"\")","v":""},"",{"$f":"IFERROR(VLOOKUP(C193,IF(C193=3165,AL$2:AM$2,ESG!A$2:C$54),IF(C193=3165,2,3),0),0)","v":0},{"$f":"IF(Timesheet!N193>0,Timesheet!G193,\"\")","v":""},{"$f":"IF(Timesheet!N193>0,Timesheet!J193,\"\")","v":""},"",{"$f":"IFERROR(VLOOKUP(G193,IF(G193=3165,AL$2:AM$2,ESG!A$2:D$54),IF(G193=3165,2,4),0),0)","v":0},{"$f":"IF(Timesheet!P193>0,Timesheet!G193,\"\")","v":""},{"$f":"IF(Timesheet!P193>0,Timesheet!J193,\"\")","v":""},"",{"$f":"IFERROR(VLOOKUP(K193,IF(K193=3165,AL$2:AM$2,ESG!A$2:E$54),IF(K193=3165,2,5),0),0)","v":0},{"$f":"IF(Timesheet!R193>0,Timesheet!G193,\"\")","v":""},{"$f":"IF(Timesheet!R193>0,Timesheet!J193,\"\")","v":""},{"$f":"IFERROR(VLOOKUP(M193,ESG!M$2:N$13,2,FALSE),N193)","v":""},{"$f":"IFERROR(VLOOKUP(O193,IF(O193=3165,AL$2:AM$2,ESG!A$2:F$54),IF(O193=3165,2,6),0),0)","v":0},{"$f":"IF(Timesheet!T193>0,Timesheet!G193,\"\")","v":""},{"$f":"IF(Timesheet!T193>0,Timesheet!J193,\"\")","v":""},{"$f":"IFERROR(VLOOKUP(Q193,ESG!M$2:N$13,2,FALSE),R193)","v":""},{"$f":"IFERROR(VLOOKUP(S193,IF(S193=3165,AL$2:AM$2,ESG!A$2:G$54),IF(S193=3165,2,7),0),0)","v":0},{"$f":"IF(Timesheet!V193>0,Timesheet!G193,\"\")","v":""},{"$f":"IF(Timesheet!V193>0,Timesheet!J193,\"\")","v":""},{"$f":"IFERROR(VLOOKUP(U193,ESG!M$2:N$13,2,FALSE),V193)","v":""},{"$f":"IFERROR(VLOOKUP(W193,IF(W193=3165,AL$2:AM$2,ESG!A$2:H$54),IF(W193=3165,2,8),0),0)","v":0},{"$f":"IF(Timesheet!X193>0,Timesheet!G193,\"\")","v":""},{"$f":"IF(Timesheet!X193>0,Timesheet!J193,\"\")","v":""},"",{"$f":"IFERROR(VLOOKUP(AA193,IF(AA193=3165,AL$2:AM$2,ESG!A$2:I$54),IF(AA193=3165,2,9),0),0)","v":0},{"$f":"IF(Timesheet!Z193>0,Timesheet!G193,\"\")","v":""},{"$f":"IF(Timesheet!Z193>0,Timesheet!J193,\"\")","v":""},"",{"$f":"IFERROR(VLOOKUP(AE193,IF(AE193=3165,AL$2:AM$2,ESG!A$2:J$54),IF(AE193=3165,2,10),0),0)","v":0},{"$f":"IF(Timesheet!AB193>0,Timesheet!G193,\"\")","v":""},{"$f":"IF(Timesheet!AB193>0,Timesheet!J193,\"\")","v":""},"",{"$f":"IFERROR(VLOOKUP(AI193,IF(AI193=3165,AL$2:AM$2,ESG!A$2:K$54),IF(AI193=3165,2,11),0),0)","v":0}]
[{"$f":"IF(Timesheet!L194>0,Timesheet!G194,\"\")","v":""},{"$f":"IF(Timesheet!L194>0,Timesheet!J194,\"\")","v":""},"",{"$f":"IFERROR(VLOOKUP(C194,IF(C194=3165,AL$2:AM$2,ESG!A$2:C$54),IF(C194=3165,2,3),0),0)","v":0},{"$f":"IF(Timesheet!N194>0,Timesheet!G194,\"\")","v":""},{"$f":"IF(Timesheet!N194>0,Timesheet!J194,\"\")","v":""},"",{"$f":"IFERROR(VLOOKUP(G194,IF(G194=3165,AL$2:AM$2,ESG!A$2:D$54),IF(G194=3165,2,4),0),0)","v":0},{"$f":"IF(Timesheet!P194>0,Timesheet!G194,\"\")","v":""},{"$f":"IF(Timesheet!P194>0,Timesheet!J194,\"\")","v":""},"",{"$f":"IFERROR(VLOOKUP(K194,IF(K194=3165,AL$2:AM$2,ESG!A$2:E$54),IF(K194=3165,2,5),0),0)","v":0},{"$f":"IF(Timesheet!R194>0,Timesheet!G194,\"\")","v":""},{"$f":"IF(Timesheet!R194>0,Timesheet!J194,\"\")","v":""},{"$f":"IFERROR(VLOOKUP(M194,ESG!M$2:N$13,2,FALSE),N194)","v":""},{"$f":"IFERROR(VLOOKUP(O194,IF(O194=3165,AL$2:AM$2,ESG!A$2:F$54),IF(O194=3165,2,6),0),0)","v":0},{"$f":"IF(Timesheet!T194>0,Timesheet!G194,\"\")","v":""},{"$f":"IF(Timesheet!T194>0,Timesheet!J194,\"\")","v":""},{"$f":"IFERROR(VLOOKUP(Q194,ESG!M$2:N$13,2,FALSE),R194)","v":""},{"$f":"IFERROR(VLOOKUP(S194,IF(S194=3165,AL$2:AM$2,ESG!A$2:G$54),IF(S194=3165,2,7),0),0)","v":0},{"$f":"IF(Timesheet!V194>0,Timesheet!G194,\"\")","v":""},{"$f":"IF(Timesheet!V194>0,Timesheet!J194,\"\")","v":""},{"$f":"IFERROR(VLOOKUP(U194,ESG!M$2:N$13,2,FALSE),V194)","v":""},{"$f":"IFERROR(VLOOKUP(W194,IF(W194=3165,AL$2:AM$2,ESG!A$2:H$54),IF(W194=3165,2,8),0),0)","v":0},{"$f":"IF(Timesheet!X194>0,Timesheet!G194,\"\")","v":""},{"$f":"IF(Timesheet!X194>0,Timesheet!J194,\"\")","v":""},"",{"$f":"IFERROR(VLOOKUP(AA194,IF(AA194=3165,AL$2:AM$2,ESG!A$2:I$54),IF(AA194=3165,2,9),0),0)","v":0},{"$f":"IF(Timesheet!Z194>0,Timesheet!G194,\"\")","v":""},{"$f":"IF(Timesheet!Z194>0,Timesheet!J194,\"\")","v":""},"",{"$f":"IFERROR(VLOOKUP(AE194,IF(AE194=3165,AL$2:AM$2,ESG!A$2:J$54),IF(AE194=3165,2,10),0),0)","v":0},{"$f":"IF(Timesheet!AB194>0,Timesheet!G194,\"\")","v":""},{"$f":"IF(Timesheet!AB194>0,Timesheet!J194,\"\")","v":""},"",{"$f":"IFERROR(VLOOKUP(AI194,IF(AI194=3165,AL$2:AM$2,ESG!A$2:K$54),IF(AI194=3165,2,11),0),0)","v":0}]
[{"$f":"IF(Timesheet!L195>0,Timesheet!G195,\"\")","v":""},{"$f":"IF(Timesheet!L195>0,Timesheet!J195,\"\")","v":""},"",{"$f":"IFERROR(VLOOKUP(C195,IF(C195=3165,AL$2:AM$2,ESG!A$2:C$54),IF(C195=3165,2,3),0),0)","v":0},{"$f":"IF(Timesheet!N195>0,Timesheet!G195,\"\")","v":""},{"$f":"IF(Timesheet!N195>0,Timesheet!J195,\"\")","v":""},"",{"$f":"IFERROR(VLOOKUP(G195,IF(G195=3165,AL$2:AM$2,ESG!A$2:D$54),IF(G195=3165,2,4),0),0)","v":0},{"$f":"IF(Timesheet!P195>0,Timesheet!G195,\"\")","v":""},{"$f":"IF(Timesheet!P195>0,Timesheet!J195,\"\")","v":""},"",{"$f":"IFERROR(VLOOKUP(K195,IF(K195=3165,AL$2:AM$2,ESG!A$2:E$54),IF(K195=3165,2,5),0),0)","v":0},{"$f":"IF(Timesheet!R195>0,Timesheet!G195,\"\")","v":""},{"$f":"IF(Timesheet!R195>0,Timesheet!J195,\"\")","v":""},{"$f":"IFERROR(VLOOKUP(M195,ESG!M$2:N$13,2,FALSE),N195)","v":""},{"$f":"IFERROR(VLOOKUP(O195,IF(O195=3165,AL$2:AM$2,ESG!A$2:F$54),IF(O195=3165,2,6),0),0)","v":0},{"$f":"IF(Timesheet!T195>0,Timesheet!G195,\"\")","v":""},{"$f":"IF(Timesheet!T195>0,Timesheet!J195,\"\")","v":""},{"$f":"IFERROR(VLOOKUP(Q195,ESG!M$2:N$13,2,FALSE),R195)","v":""},{"$f":"IFERROR(VLOOKUP(S195,IF(S195=3165,AL$2:AM$2,ESG!A$2:G$54),IF(S195=3165,2,7),0),0)","v":0},{"$f":"IF(Timesheet!V195>0,Timesheet!G195,\"\")","v":""},{"$f":"IF(Timesheet!V195>0,Timesheet!J195,\"\")","v":""},{"$f":"IFERROR(VLOOKUP(U195,ESG!M$2:N$13,2,FALSE),V195)","v":""},{"$f":"IFERROR(VLOOKUP(W195,IF(W195=3165,AL$2:AM$2,ESG!A$2:H$54),IF(W195=3165,2,8),0),0)","v":0},{"$f":"IF(Timesheet!X195>0,Timesheet!G195,\"\")","v":""},{"$f":"IF(Timesheet!X195>0,Timesheet!J195,\"\")","v":""},"",{"$f":"IFERROR(VLOOKUP(AA195,IF(AA195=3165,AL$2:AM$2,ESG!A$2:I$54),IF(AA195=3165,2,9),0),0)","v":0},{"$f":"IF(Timesheet!Z195>0,Timesheet!G195,\"\")","v":""},{"$f":"IF(Timesheet!Z195>0,Timesheet!J195,\"\")","v":""},"",{"$f":"IFERROR(VLOOKUP(AE195,IF(AE195=3165,AL$2:AM$2,ESG!A$2:J$54),IF(AE195=3165,2,10),0),0)","v":0},{"$f":"IF(Timesheet!AB195>0,Timesheet!G195,\"\")","v":""},{"$f":"IF(Timesheet!AB195>0,Timesheet!J195,\"\")","v":""},"",{"$f":"IFERROR(VLOOKUP(AI195,IF(AI195=3165,AL$2:AM$2,ESG!A$2:K$54),IF(AI195=3165,2,11),0),0)","v":0}]
[{"$f":"IF(Timesheet!L196>0,Timesheet!G196,\"\")","v":""},{"$f":"IF(Timesheet!L196>0,Timesheet!J196,\"\")","v":""},{"$f":"B196","v":""},{"$f":"IFERROR(VLOOKUP(C196,IF(C196=3165,AL$2:AM$2,ESG!A$2:C$54),IF(C196=3165,2,3),0),0)","v":0},{"$f":"IF(Timesheet!N196>0,Timesheet!G196,\"\")","v":""},{"$f":"IF(Timesheet!N196>0,Timesheet!J196,\"\")","v":""},{"$f":"F196","v":""},{"$f":"IFERROR(VLOOKUP(G196,IF(G196=3165,AL$2:AM$2,ESG!A$2:D$54),IF(G196=3165,2,4),0),0)","v":0},{"$f":"IF(Timesheet!P196>0,Timesheet!G196,\"\")","v":""},{"$f":"IF(Timesheet!P196>0,Timesheet!J196,\"\")","v":""},{"$f":"J196","v":""},{"$f":"IFERROR(VLOOKUP(K196,IF(K196=3165,AL$2:AM$2,ESG!A$2:E$54),IF(K196=3165,2,5),0),0)","v":0},{"$f":"IF(Timesheet!R196>0,Timesheet!G196,\"\")","v":""},{"$f":"IF(Timesheet!R196>0,Timesheet!J196,\"\")","v":""},{"$f":"IFERROR(VLOOKUP(M196,ESG!M$2:N$13,2,FALSE),N196)","v":""},{"$f":"IFERROR(VLOOKUP(O196,IF(O196=3165,AL$2:AM$2,ESG!A$2:F$54),IF(O196=3165,2,6),0),0)","v":0},{"$f":"IF(Timesheet!T196>0,Timesheet!G196,\"\")","v":""},{"$f":"IF(Timesheet!T196>0,Timesheet!J196,\"\")","v":""},{"$f":"IFERROR(VLOOKUP(Q196,ESG!M$2:N$13,2,FALSE),R196)","v":""},{"$f":"IFERROR(VLOOKUP(S196,IF(S196=3165,AL$2:AM$2,ESG!A$2:G$54),IF(S196=3165,2,7),0),0)","v":0},{"$f":"IF(Timesheet!V196>0,Timesheet!G196,\"\")","v":""},{"$f":"IF(Timesheet!V196>0,Timesheet!J196,\"\")","v":""},{"$f":"IFERROR(VLOOKUP(U196,ESG!M$2:N$13,2,FALSE),V196)","v":""},{"$f":"IFERROR(VLOOKUP(W196,IF(W196=3165,AL$2:AM$2,ESG!A$2:H$54),IF(W196=3165,2,8),0),0)","v":0},{"$f":"IF(Timesheet!X196>0,Timesheet!G196,\"\")","v":""},{"$f":"IF(Timesheet!X196>0,Timesheet!J196,\"\")","v":""},{"$f":"Z196","v":""},{"$f":"IFERROR(VLOOKUP(AA196,IF(AA196=3165,AL$2:AM$2,ESG!A$2:I$54),IF(AA196=3165,2,9),0),0)","v":0},{"$f":"IF(Timesheet!Z196>0,Timesheet!G196,\"\")","v":""},{"$f":"IF(Timesheet!Z196>0,Timesheet!J196,\"\")","v":""},{"$f":"AD196","v":""},{"$f":"IFERROR(VLOOKUP(AE196,IF(AE196=3165,AL$2:AM$2,ESG!A$2:J$54),IF(AE196=3165,2,10),0),0)","v":0},{"$f":"IF(Timesheet!AB196>0,Timesheet!G196,\"\")","v":""},{"$f":"IF(Timesheet!AB196>0,Timesheet!J196,\"\")","v":""},{"$f":"AH196","v":""},{"$f":"IFERROR(VLOOKUP(AI196,IF(AI196=3165,AL$2:AM$2,ESG!A$2:K$54),IF(AI196=3165,2,11),0),0)","v":0}]
[{"$f":"IF(Timesheet!L197>0,Timesheet!G197,\"\")","v":""},{"$f":"IF(Timesheet!L197>0,Timesheet!J197,\"\")","v":""},"",{"$f":"IFERROR(VLOOKUP(C197,IF(C197=3165,AL$2:AM$2,ESG!A$2:C$54),IF(C197=3165,2,3),0),0)","v":0},{"$f":"IF(Timesheet!N197>0,Timesheet!G197,\"\")","v":""},{"$f":"IF(Timesheet!N197>0,Timesheet!J197,\"\")","v":""},"",{"$f":"IFERROR(VLOOKUP(G197,IF(G197=3165,AL$2:AM$2,ESG!A$2:D$54),IF(G197=3165,2,4),0),0)","v":0},{"$f":"IF(Timesheet!P197>0,Timesheet!G197,\"\")","v":""},{"$f":"IF(Timesheet!P197>0,Timesheet!J197,\"\")","v":""},"",{"$f":"IFERROR(VLOOKUP(K197,IF(K197=3165,AL$2:AM$2,ESG!A$2:E$54),IF(K197=3165,2,5),0),0)","v":0},{"$f":"IF(Timesheet!R197>0,Timesheet!G197,\"\")","v":""},{"$f":"IF(Timesheet!R197>0,Timesheet!J197,\"\")","v":""},{"$f":"IFERROR(VLOOKUP(M197,ESG!M$2:N$13,2,FALSE),N197)","v":""},{"$f":"IFERROR(VLOOKUP(O197,IF(O197=3165,AL$2:AM$2,ESG!A$2:F$54),IF(O197=3165,2,6),0),0)","v":0},{"$f":"IF(Timesheet!T197>0,Timesheet!G197,\"\")","v":""},{"$f":"IF(Timesheet!T197>0,Timesheet!J197,\"\")","v":""},{"$f":"IFERROR(VLOOKUP(Q197,ESG!M$2:N$13,2,FALSE),R197)","v":""},{"$f":"IFERROR(VLOOKUP(S197,IF(S197=3165,AL$2:AM$2,ESG!A$2:G$54),IF(S197=3165,2,7),0),0)","v":0},{"$f":"IF(Timesheet!V197>0,Timesheet!G197,\"\")","v":""},{"$f":"IF(Timesheet!V197>0,Timesheet!J197,\"\")","v":""},{"$f":"IFERROR(VLOOKUP(U197,ESG!M$2:N$13,2,FALSE),V197)","v":""},{"$f":"IFERROR(VLOOKUP(W197,IF(W197=3165,AL$2:AM$2,ESG!A$2:H$54),IF(W197=3165,2,8),0),0)","v":0},{"$f":"IF(Timesheet!X197>0,Timesheet!G197,\"\")","v":""},{"$f":"IF(Timesheet!X197>0,Timesheet!J197,\"\")","v":""},"",{"$f":"IFERROR(VLOOKUP(AA197,IF(AA197=3165,AL$2:AM$2,ESG!A$2:I$54),IF(AA197=3165,2,9),0),0)","v":0},{"$f":"IF(Timesheet!Z197>0,Timesheet!G197,\"\")","v":""},{"$f":"IF(Timesheet!Z197>0,Timesheet!J197,\"\")","v":""},"",{"$f":"IFERROR(VLOOKUP(AE197,IF(AE197=3165,AL$2:AM$2,ESG!A$2:J$54),IF(AE197=3165,2,10),0),0)","v":0},{"$f":"IF(Timesheet!AB197>0,Timesheet!G197,\"\")","v":""},{"$f":"IF(Timesheet!AB197>0,Timesheet!J197,\"\")","v":""},"",{"$f":"IFERROR(VLOOKUP(AI197,IF(AI197=3165,AL$2:AM$2,ESG!A$2:K$54),IF(AI197=3165,2,11),0),0)","v":0}]
[{"$f":"IF(Timesheet!L198>0,Timesheet!G198,\"\")","v":""},{"$f":"IF(Timesheet!L198>0,Timesheet!J198,\"\")","v":""},"",{"$f":"IFERROR(VLOOKUP(C198,IF(C198=3165,AL$2:AM$2,ESG!A$2:C$54),IF(C198=3165,2,3),0),0)","v":0},{"$f":"IF(Timesheet!N198>0,Timesheet!G198,\"\")","v":""},{"$f":"IF(Timesheet!N198>0,Timesheet!J198,\"\")","v":""},"",{"$f":"IFERROR(VLOOKUP(G198,IF(G198=3165,AL$2:AM$2,ESG!A$2:D$54),IF(G198=3165,2,4),0),0)","v":0},{"$f":"IF(Timesheet!P198>0,Timesheet!G198,\"\")","v":""},{"$f":"IF(Timesheet!P198>0,Timesheet!J198,\"\")","v":""},"",{"$f":"IFERROR(VLOOKUP(K198,IF(K198=3165,AL$2:AM$2,ESG!A$2:E$54),IF(K198=3165,2,5),0),0)","v":0},{"$f":"IF(Timesheet!R198>0,Timesheet!G198,\"\")","v":""},{"$f":"IF(Timesheet!R198>0,Timesheet!J198,\"\")","v":""},{"$f":"IFERROR(VLOOKUP(M198,ESG!M$2:N$13,2,FALSE),N198)","v":""},{"$f":"IFERROR(VLOOKUP(O198,IF(O198=3165,AL$2:AM$2,ESG!A$2:F$54),IF(O198=3165,2,6),0),0)","v":0},{"$f":"IF(Timesheet!T198>0,Timesheet!G198,\"\")","v":""},{"$f":"IF(Timesheet!T198>0,Timesheet!J198,\"\")","v":""},{"$f":"IFERROR(VLOOKUP(Q198,ESG!M$2:N$13,2,FALSE),R198)","v":""},{"$f":"IFERROR(VLOOKUP(S198,IF(S198=3165,AL$2:AM$2,ESG!A$2:G$54),IF(S198=3165,2,7),0),0)","v":0},{"$f":"IF(Timesheet!V198>0,Timesheet!G198,\"\")","v":""},{"$f":"IF(Timesheet!V198>0,Timesheet!J198,\"\")","v":""},{"$f":"IFERROR(VLOOKUP(U198,ESG!M$2:N$13,2,FALSE),V198)","v":""},{"$f":"IFERROR(VLOOKUP(W198,IF(W198=3165,AL$2:AM$2,ESG!A$2:H$54),IF(W198=3165,2,8),0),0)","v":0},{"$f":"IF(Timesheet!X198>0,Timesheet!G198,\"\")","v":""},{"$f":"IF(Timesheet!X198>0,Timesheet!J198,\"\")","v":""},"",{"$f":"IFERROR(VLOOKUP(AA198,IF(AA198=3165,AL$2:AM$2,ESG!A$2:I$54),IF(AA198=3165,2,9),0),0)","v":0},{"$f":"IF(Timesheet!Z198>0,Timesheet!G198,\"\")","v":""},{"$f":"IF(Timesheet!Z198>0,Timesheet!J198,\"\")","v":""},"",{"$f":"IFERROR(VLOOKUP(AE198,IF(AE198=3165,AL$2:AM$2,ESG!A$2:J$54),IF(AE198=3165,2,10),0),0)","v":0},{"$f":"IF(Timesheet!AB198>0,Timesheet!G198,\"\")","v":""},{"$f":"IF(Timesheet!AB198>0,Timesheet!J198,\"\")","v":""},"",{"$f":"IFERROR(VLOOKUP(AI198,IF(AI198=3165,AL$2:AM$2,ESG!A$2:K$54),IF(AI198=3165,2,11),0),0)","v":0}]
[{"$f":"IF(Timesheet!L199>0,Timesheet!G199,\"\")","v":""},{"$f":"IF(Timesheet!L199>0,Timesheet!J199,\"\")","v":""},"",{"$f":"IFERROR(VLOOKUP(C199,IF(C199=3165,AL$2:AM$2,ESG!A$2:C$54),IF(C199=3165,2,3),0),0)","v":0},{"$f":"IF(Timesheet!N199>0,Timesheet!G199,\"\")","v":""},{"$f":"IF(Timesheet!N199>0,Timesheet!J199,\"\")","v":""},"",{"$f":"IFERROR(VLOOKUP(G199,IF(G199=3165,AL$2:AM$2,ESG!A$2:D$54),IF(G199=3165,2,4),0),0)","v":0},{"$f":"IF(Timesheet!P199>0,Timesheet!G199,\"\")","v":""},{"$f":"IF(Timesheet!P199>0,Timesheet!J199,\"\")","v":""},"",{"$f":"IFERROR(VLOOKUP(K199,IF(K199=3165,AL$2:AM$2,ESG!A$2:E$54),IF(K199=3165,2,5),0),0)","v":0},{"$f":"IF(Timesheet!R199>0,Timesheet!G199,\"\")","v":""},{"$f":"IF(Timesheet!R199>0,Timesheet!J199,\"\")","v":""},{"$f":"IFERROR(VLOOKUP(M199,ESG!M$2:N$13,2,FALSE),N199)","v":""},{"$f":"IFERROR(VLOOKUP(O199,IF(O199=3165,AL$2:AM$2,ESG!A$2:F$54),IF(O199=3165,2,6),0),0)","v":0},{"$f":"IF(Timesheet!T199>0,Timesheet!G199,\"\")","v":""},{"$f":"IF(Timesheet!T199>0,Timesheet!J199,\"\")","v":""},{"$f":"IFERROR(VLOOKUP(Q199,ESG!M$2:N$13,2,FALSE),R199)","v":""},{"$f":"IFERROR(VLOOKUP(S199,IF(S199=3165,AL$2:AM$2,ESG!A$2:G$54),IF(S199=3165,2,7),0),0)","v":0},{"$f":"IF(Timesheet!V199>0,Timesheet!G199,\"\")","v":""},{"$f":"IF(Timesheet!V199>0,Timesheet!J199,\"\")","v":""},{"$f":"IFERROR(VLOOKUP(U199,ESG!M$2:N$13,2,FALSE),V199)","v":""},{"$f":"IFERROR(VLOOKUP(W199,IF(W199=3165,AL$2:AM$2,ESG!A$2:H$54),IF(W199=3165,2,8),0),0)","v":0},{"$f":"IF(Timesheet!X199>0,Timesheet!G199,\"\")","v":""},{"$f":"IF(Timesheet!X199>0,Timesheet!J199,\"\")","v":""},"",{"$f":"IFERROR(VLOOKUP(AA199,IF(AA199=3165,AL$2:AM$2,ESG!A$2:I$54),IF(AA199=3165,2,9),0),0)","v":0},{"$f":"IF(Timesheet!Z199>0,Timesheet!G199,\"\")","v":""},{"$f":"IF(Timesheet!Z199>0,Timesheet!J199,\"\")","v":""},"",{"$f":"IFERROR(VLOOKUP(AE199,IF(AE199=3165,AL$2:AM$2,ESG!A$2:J$54),IF(AE199=3165,2,10),0),0)","v":0},{"$f":"IF(Timesheet!AB199>0,Timesheet!G199,\"\")","v":""},{"$f":"IF(Timesheet!AB199>0,Timesheet!J199,\"\")","v":""},"",{"$f":"IFERROR(VLOOKUP(AI199,IF(AI199=3165,AL$2:AM$2,ESG!A$2:K$54),IF(AI199=3165,2,11),0),0)","v":0}]
[{"$f":"IF(Timesheet!L200>0,Timesheet!G200,\"\")","v":""},{"$f":"IF(Timesheet!L200>0,Timesheet!J200,\"\")","v":""},"",{"$f":"IFERROR(VLOOKUP(C200,IF(C200=3165,AL$2:AM$2,ESG!A$2:C$54),IF(C200=3165,2,3),0),0)","v":0},{"$f":"IF(Timesheet!N200>0,Timesheet!G200,\"\")","v":""},{"$f":"IF(Timesheet!N200>0,Timesheet!J200,\"\")","v":""},"",{"$f":"IFERROR(VLOOKUP(G200,IF(G200=3165,AL$2:AM$2,ESG!A$2:D$54),IF(G200=3165,2,4),0),0)","v":0},{"$f":"IF(Timesheet!P200>0,Timesheet!G200,\"\")","v":""},{"$f":"IF(Timesheet!P200>0,Timesheet!J200,\"\")","v":""},"",{"$f":"IFERROR(VLOOKUP(K200,IF(K200=3165,AL$2:AM$2,ESG!A$2:E$54),IF(K200=3165,2,5),0),0)","v":0},{"$f":"IF(Timesheet!R200>0,Timesheet!G200,\"\")","v":""},{"$f":"IF(Timesheet!R200>0,Timesheet!J200,\"\")","v":""},{"$f":"IFERROR(VLOOKUP(M200,ESG!M$2:N$13,2,FALSE),N200)","v":""},{"$f":"IFERROR(VLOOKUP(O200,IF(O200=3165,AL$2:AM$2,ESG!A$2:F$54),IF(O200=3165,2,6),0),0)","v":0},{"$f":"IF(Timesheet!T200>0,Timesheet!G200,\"\")","v":""},{"$f":"IF(Timesheet!T200>0,Timesheet!J200,\"\")","v":""},{"$f":"IFERROR(VLOOKUP(Q200,ESG!M$2:N$13,2,FALSE),R200)","v":""},{"$f":"IFERROR(VLOOKUP(S200,IF(S200=3165,AL$2:AM$2,ESG!A$2:G$54),IF(S200=3165,2,7),0),0)","v":0},{"$f":"IF(Timesheet!V200>0,Timesheet!G200,\"\")","v":""},{"$f":"IF(Timesheet!V200>0,Timesheet!J200,\"\")","v":""},{"$f":"IFERROR(VLOOKUP(U200,ESG!M$2:N$13,2,FALSE),V200)","v":""},{"$f":"IFERROR(VLOOKUP(W200,IF(W200=3165,AL$2:AM$2,ESG!A$2:H$54),IF(W200=3165,2,8),0),0)","v":0},{"$f":"IF(Timesheet!X200>0,Timesheet!G200,\"\")","v":""},{"$f":"IF(Timesheet!X200>0,Timesheet!J200,\"\")","v":""},"",{"$f":"IFERROR(VLOOKUP(AA200,IF(AA200=3165,AL$2:AM$2,ESG!A$2:I$54),IF(AA200=3165,2,9),0),0)","v":0},{"$f":"IF(Timesheet!Z200>0,Timesheet!G200,\"\")","v":""},{"$f":"IF(Timesheet!Z200>0,Timesheet!J200,\"\")","v":""},"",{"$f":"IFERROR(VLOOKUP(AE200,IF(AE200=3165,AL$2:AM$2,ESG!A$2:J$54),IF(AE200=3165,2,10),0),0)","v":0},{"$f":"IF(Timesheet!AB200>0,Timesheet!G200,\"\")","v":""},{"$f":"IF(Timesheet!AB200>0,Timesheet!J200,\"\")","v":""},"",{"$f":"IFERROR(VLOOKUP(AI200,IF(AI200=3165,AL$2:AM$2,ESG!A$2:K$54),IF(AI200=3165,2,11),0),0)","v":0}]
[{"$f":"IF(Timesheet!L201>0,Timesheet!G201,\"\")","v":""},{"$f":"IF(Timesheet!L201>0,Timesheet!J201,\"\")","v":""},"",{"$f":"IFERROR(VLOOKUP(C201,IF(C201=3165,AL$2:AM$2,ESG!A$2:C$54),IF(C201=3165,2,3),0),0)","v":0},{"$f":"IF(Timesheet!N201>0,Timesheet!G201,\"\")","v":""},{"$f":"IF(Timesheet!N201>0,Timesheet!J201,\"\")","v":""},"",{"$f":"IFERROR(VLOOKUP(G201,IF(G201=3165,AL$2:AM$2,ESG!A$2:D$54),IF(G201=3165,2,4),0),0)","v":0},{"$f":"IF(Timesheet!P201>0,Timesheet!G201,\"\")","v":""},{"$f":"IF(Timesheet!P201>0,Timesheet!J201,\"\")","v":""},"",{"$f":"IFERROR(VLOOKUP(K201,IF(K201=3165,AL$2:AM$2,ESG!A$2:E$54),IF(K201=3165,2,5),0),0)","v":0},{"$f":"IF(Timesheet!R201>0,Timesheet!G201,\"\")","v":""},{"$f":"IF(Timesheet!R201>0,Timesheet!J201,\"\")","v":""},{"$f":"IFERROR(VLOOKUP(M201,ESG!M$2:N$13,2,FALSE),N201)","v":""},{"$f":"IFERROR(VLOOKUP(O201,IF(O201=3165,AL$2:AM$2,ESG!A$2:F$54),IF(O201=3165,2,6),0),0)","v":0},{"$f":"IF(Timesheet!T201>0,Timesheet!G201,\"\")","v":""},{"$f":"IF(Timesheet!T201>0,Timesheet!J201,\"\")","v":""},{"$f":"IFERROR(VLOOKUP(Q201,ESG!M$2:N$13,2,FALSE),R201)","v":""},{"$f":"IFERROR(VLOOKUP(S201,IF(S201=3165,AL$2:AM$2,ESG!A$2:G$54),IF(S201=3165,2,7),0),0)","v":0},{"$f":"IF(Timesheet!V201>0,Timesheet!G201,\"\")","v":""},{"$f":"IF(Timesheet!V201>0,Timesheet!J201,\"\")","v":""},{"$f":"IFERROR(VLOOKUP(U201,ESG!M$2:N$13,2,FALSE),V201)","v":""},{"$f":"IFERROR(VLOOKUP(W201,IF(W201=3165,AL$2:AM$2,ESG!A$2:H$54),IF(W201=3165,2,8),0),0)","v":0},{"$f":"IF(Timesheet!X201>0,Timesheet!G201,\"\")","v":""},{"$f":"IF(Timesheet!X201>0,Timesheet!J201,\"\")","v":""},"",{"$f":"IFERROR(VLOOKUP(AA201,IF(AA201=3165,AL$2:AM$2,ESG!A$2:I$54),IF(AA201=3165,2,9),0),0)","v":0},{"$f":"IF(Timesheet!Z201>0,Timesheet!G201,\"\")","v":""},{"$f":"IF(Timesheet!Z201>0,Timesheet!J201,\"\")","v":""},"",{"$f":"IFERROR(VLOOKUP(AE201,IF(AE201=3165,AL$2:AM$2,ESG!A$2:J$54),IF(AE201=3165,2,10),0),0)","v":0},{"$f":"IF(Timesheet!AB201>0,Timesheet!G201,\"\")","v":""},{"$f":"IF(Timesheet!AB201>0,Timesheet!J201,\"\")","v":""},"",{"$f":"IFERROR(VLOOKUP(AI201,IF(AI201=3165,AL$2:AM$2,ESG!A$2:K$54),IF(AI201=3165,2,11),0),0)","v":0}]
[{"$f":"IF(Timesheet!L202>0,Timesheet!G202,\"\")","v":""},{"$f":"IF(Timesheet!L202>0,Timesheet!J202,\"\")","v":""},"",{"$f":"IFERROR(VLOOKUP(C202,IF(C202=3165,AL$2:AM$2,ESG!A$2:C$54),IF(C202=3165,2,3),0),0)","v":0},{"$f":"IF(Timesheet!N202>0,Timesheet!G202,\"\")","v":""},{"$f":"IF(Timesheet!N202>0,Timesheet!J202,\"\")","v":""},"",{"$f":"IFERROR(VLOOKUP(G202,IF(G202=3165,AL$2:AM$2,ESG!A$2:D$54),IF(G202=3165,2,4),0),0)","v":0},{"$f":"IF(Timesheet!P202>0,Timesheet!G202,\"\")","v":""},{"$f":"IF(Timesheet!P202>0,Timesheet!J202,\"\")","v":""},"",{"$f":"IFERROR(VLOOKUP(K202,IF(K202=3165,AL$2:AM$2,ESG!A$2:E$54),IF(K202=3165,2,5),0),0)","v":0},{"$f":"IF(Timesheet!R202>0,Timesheet!G202,\"\")","v":""},{"$f":"IF(Timesheet!R202>0,Timesheet!J202,\"\")","v":""},{"$f":"IFERROR(VLOOKUP(M202,ESG!M$2:N$13,2,FALSE),N202)","v":""},{"$f":"IFERROR(VLOOKUP(O202,IF(O202=3165,AL$2:AM$2,ESG!A$2:F$54),IF(O202=3165,2,6),0),0)","v":0},{"$f":"IF(Timesheet!T202>0,Timesheet!G202,\"\")","v":""},{"$f":"IF(Timesheet!T202>0,Timesheet!J202,\"\")","v":""},{"$f":"IFERROR(VLOOKUP(Q202,ESG!M$2:N$13,2,FALSE),R202)","v":""},{"$f":"IFERROR(VLOOKUP(S202,IF(S202=3165,AL$2:AM$2,ESG!A$2:G$54),IF(S202=3165,2,7),0),0)","v":0},{"$f":"IF(Timesheet!V202>0,Timesheet!G202,\"\")","v":""},{"$f":"IF(Timesheet!V202>0,Timesheet!J202,\"\")","v":""},{"$f":"IFERROR(VLOOKUP(U202,ESG!M$2:N$13,2,FALSE),V202)","v":""},{"$f":"IFERROR(VLOOKUP(W202,IF(W202=3165,AL$2:AM$2,ESG!A$2:H$54),IF(W202=3165,2,8),0),0)","v":0},{"$f":"IF(Timesheet!X202>0,Timesheet!G202,\"\")","v":""},{"$f":"IF(Timesheet!X202>0,Timesheet!J202,\"\")","v":""},"",{"$f":"IFERROR(VLOOKUP(AA202,IF(AA202=3165,AL$2:AM$2,ESG!A$2:I$54),IF(AA202=3165,2,9),0),0)","v":0},{"$f":"IF(Timesheet!Z202>0,Timesheet!G202,\"\")","v":""},{"$f":"IF(Timesheet!Z202>0,Timesheet!J202,\"\")","v":""},"",{"$f":"IFERROR(VLOOKUP(AE202,IF(AE202=3165,AL$2:AM$2,ESG!A$2:J$54),IF(AE202=3165,2,10),0),0)","v":0},{"$f":"IF(Timesheet!AB202>0,Timesheet!G202,\"\")","v":""},{"$f":"IF(Timesheet!AB202>0,Timesheet!J202,\"\")","v":""},"",{"$f":"IFERROR(VLOOKUP(AI202,IF(AI202=3165,AL$2:AM$2,ESG!A$2:K$54),IF(AI202=3165,2,11),0),0)","v":0}]
[{"$f":"IF(Timesheet!L203>0,Timesheet!G203,\"\")","v":""},{"$f":"IF(Timesheet!L203>0,Timesheet!J203,\"\")","v":""},"",{"$f":"IFERROR(VLOOKUP(C203,IF(C203=3165,AL$2:AM$2,ESG!A$2:C$54),IF(C203=3165,2,3),0),0)","v":0},{"$f":"IF(Timesheet!N203>0,Timesheet!G203,\"\")","v":""},{"$f":"IF(Timesheet!N203>0,Timesheet!J203,\"\")","v":""},"",{"$f":"IFERROR(VLOOKUP(G203,IF(G203=3165,AL$2:AM$2,ESG!A$2:D$54),IF(G203=3165,2,4),0),0)","v":0},{"$f":"IF(Timesheet!P203>0,Timesheet!G203,\"\")","v":""},{"$f":"IF(Timesheet!P203>0,Timesheet!J203,\"\")","v":""},"",{"$f":"IFERROR(VLOOKUP(K203,IF(K203=3165,AL$2:AM$2,ESG!A$2:E$54),IF(K203=3165,2,5),0),0)","v":0},{"$f":"IF(Timesheet!R203>0,Timesheet!G203,\"\")","v":""},{"$f":"IF(Timesheet!R203>0,Timesheet!J203,\"\")","v":""},{"$f":"IFERROR(VLOOKUP(M203,ESG!M$2:N$13,2,FALSE),N203)","v":""},{"$f":"IFERROR(VLOOKUP(O203,IF(O203=3165,AL$2:AM$2,ESG!A$2:F$54),IF(O203=3165,2,6),0),0)","v":0},{"$f":"IF(Timesheet!T203>0,Timesheet!G203,\"\")","v":""},{"$f":"IF(Timesheet!T203>0,Timesheet!J203,\"\")","v":""},{"$f":"IFERROR(VLOOKUP(Q203,ESG!M$2:N$13,2,FALSE),R203)","v":""},{"$f":"IFERROR(VLOOKUP(S203,IF(S203=3165,AL$2:AM$2,ESG!A$2:G$54),IF(S203=3165,2,7),0),0)","v":0},{"$f":"IF(Timesheet!V203>0,Timesheet!G203,\"\")","v":""},{"$f":"IF(Timesheet!V203>0,Timesheet!J203,\"\")","v":""},{"$f":"IFERROR(VLOOKUP(U203,ESG!M$2:N$13,2,FALSE),V203)","v":""},{"$f":"IFERROR(VLOOKUP(W203,IF(W203=3165,AL$2:AM$2,ESG!A$2:H$54),IF(W203=3165,2,8),0),0)","v":0},{"$f":"IF(Timesheet!X203>0,Timesheet!G203,\"\")","v":""},{"$f":"IF(Timesheet!X203>0,Timesheet!J203,\"\")","v":""},"",{"$f":"IFERROR(VLOOKUP(AA203,IF(AA203=3165,AL$2:AM$2,ESG!A$2:I$54),IF(AA203=3165,2,9),0),0)","v":0},{"$f":"IF(Timesheet!Z203>0,Timesheet!G203,\"\")","v":""},{"$f":"IF(Timesheet!Z203>0,Timesheet!J203,\"\")","v":""},"",{"$f":"IFERROR(VLOOKUP(AE203,IF(AE203=3165,AL$2:AM$2,ESG!A$2:J$54),IF(AE203=3165,2,10),0),0)","v":0},{"$f":"IF(Timesheet!AB203>0,Timesheet!G203,\"\")","v":""},{"$f":"IF(Timesheet!AB203>0,Timesheet!J203,\"\")","v":""},"",{"$f":"IFERROR(VLOOKUP(AI203,IF(AI203=3165,AL$2:AM$2,ESG!A$2:K$54),IF(AI203=3165,2,11),0),0)","v":0}]
[{"$f":"IF(Timesheet!L204>0,Timesheet!G204,\"\")","v":""},{"$f":"IF(Timesheet!L204>0,Timesheet!J204,\"\")","v":""},"",{"$f":"IFERROR(VLOOKUP(C204,IF(C204=3165,AL$2:AM$2,ESG!A$2:C$54),IF(C204=3165,2,3),0),0)","v":0},{"$f":"IF(Timesheet!N204>0,Timesheet!G204,\"\")","v":""},{"$f":"IF(Timesheet!N204>0,Timesheet!J204,\"\")","v":""},"",{"$f":"IFERROR(VLOOKUP(G204,IF(G204=3165,AL$2:AM$2,ESG!A$2:D$54),IF(G204=3165,2,4),0),0)","v":0},{"$f":"IF(Timesheet!P204>0,Timesheet!G204,\"\")","v":""},{"$f":"IF(Timesheet!P204>0,Timesheet!J204,\"\")","v":""},"",{"$f":"IFERROR(VLOOKUP(K204,IF(K204=3165,AL$2:AM$2,ESG!A$2:E$54),IF(K204=3165,2,5),0),0)","v":0},{"$f":"IF(Timesheet!R204>0,Timesheet!G204,\"\")","v":""},{"$f":"IF(Timesheet!R204>0,Timesheet!J204,\"\")","v":""},{"$f":"IFERROR(VLOOKUP(M204,ESG!M$2:N$13,2,FALSE),N204)","v":""},{"$f":"IFERROR(VLOOKUP(O204,IF(O204=3165,AL$2:AM$2,ESG!A$2:F$54),IF(O204=3165,2,6),0),0)","v":0},{"$f":"IF(Timesheet!T204>0,Timesheet!G204,\"\")","v":""},{"$f":"IF(Timesheet!T204>0,Timesheet!J204,\"\")","v":""},{"$f":"IFERROR(VLOOKUP(Q204,ESG!M$2:N$13,2,FALSE),R204)","v":""},{"$f":"IFERROR(VLOOKUP(S204,IF(S204=3165,AL$2:AM$2,ESG!A$2:G$54),IF(S204=3165,2,7),0),0)","v":0},{"$f":"IF(Timesheet!V204>0,Timesheet!G204,\"\")","v":""},{"$f":"IF(Timesheet!V204>0,Timesheet!J204,\"\")","v":""},{"$f":"IFERROR(VLOOKUP(U204,ESG!M$2:N$13,2,FALSE),V204)","v":""},{"$f":"IFERROR(VLOOKUP(W204,IF(W204=3165,AL$2:AM$2,ESG!A$2:H$54),IF(W204=3165,2,8),0),0)","v":0},{"$f":"IF(Timesheet!X204>0,Timesheet!G204,\"\")","v":""},{"$f":"IF(Timesheet!X204>0,Timesheet!J204,\"\")","v":""},"",{"$f":"IFERROR(VLOOKUP(AA204,IF(AA204=3165,AL$2:AM$2,ESG!A$2:I$54),IF(AA204=3165,2,9),0),0)","v":0},{"$f":"IF(Timesheet!Z204>0,Timesheet!G204,\"\")","v":""},{"$f":"IF(Timesheet!Z204>0,Timesheet!J204,\"\")","v":""},"",{"$f":"IFERROR(VLOOKUP(AE204,IF(AE204=3165,AL$2:AM$2,ESG!A$2:J$54),IF(AE204=3165,2,10),0),0)","v":0},{"$f":"IF(Timesheet!AB204>0,Timesheet!G204,\"\")","v":""},{"$f":"IF(Timesheet!AB204>0,Timesheet!J204,\"\")","v":""},"",{"$f":"IFERROR(VLOOKUP(AI204,IF(AI204=3165,AL$2:AM$2,ESG!A$2:K$54),IF(AI204=3165,2,11),0),0)","v":0}]
[{"$f":"IF(Timesheet!L205>0,Timesheet!G205,\"\")","v":""},{"$f":"IF(Timesheet!L205>0,Timesheet!J205,\"\")","v":""},"",{"$f":"IFERROR(VLOOKUP(C205,IF(C205=3165,AL$2:AM$2,ESG!A$2:C$54),IF(C205=3165,2,3),0),0)","v":0},{"$f":"IF(Timesheet!N205>0,Timesheet!G205,\"\")","v":""},{"$f":"IF(Timesheet!N205>0,Timesheet!J205,\"\")","v":""},"",{"$f":"IFERROR(VLOOKUP(G205,IF(G205=3165,AL$2:AM$2,ESG!A$2:D$54),IF(G205=3165,2,4),0),0)","v":0},{"$f":"IF(Timesheet!P205>0,Timesheet!G205,\"\")","v":""},{"$f":"IF(Timesheet!P205>0,Timesheet!J205,\"\")","v":""},"",{"$f":"IFERROR(VLOOKUP(K205,IF(K205=3165,AL$2:AM$2,ESG!A$2:E$54),IF(K205=3165,2,5),0),0)","v":0},{"$f":"IF(Timesheet!R205>0,Timesheet!G205,\"\")","v":""},{"$f":"IF(Timesheet!R205>0,Timesheet!J205,\"\")","v":""},{"$f":"IFERROR(VLOOKUP(M205,ESG!M$2:N$13,2,FALSE),N205)","v":""},{"$f":"IFERROR(VLOOKUP(O205,IF(O205=3165,AL$2:AM$2,ESG!A$2:F$54),IF(O205=3165,2,6),0),0)","v":0},{"$f":"IF(Timesheet!T205>0,Timesheet!G205,\"\")","v":""},{"$f":"IF(Timesheet!T205>0,Timesheet!J205,\"\")","v":""},{"$f":"IFERROR(VLOOKUP(Q205,ESG!M$2:N$13,2,FALSE),R205)","v":""},{"$f":"IFERROR(VLOOKUP(S205,IF(S205=3165,AL$2:AM$2,ESG!A$2:G$54),IF(S205=3165,2,7),0),0)","v":0},{"$f":"IF(Timesheet!V205>0,Timesheet!G205,\"\")","v":""},{"$f":"IF(Timesheet!V205>0,Timesheet!J205,\"\")","v":""},{"$f":"IFERROR(VLOOKUP(U205,ESG!M$2:N$13,2,FALSE),V205)","v":""},{"$f":"IFERROR(VLOOKUP(W205,IF(W205=3165,AL$2:AM$2,ESG!A$2:H$54),IF(W205=3165,2,8),0),0)","v":0},{"$f":"IF(Timesheet!X205>0,Timesheet!G205,\"\")","v":""},{"$f":"IF(Timesheet!X205>0,Timesheet!J205,\"\")","v":""},"",{"$f":"IFERROR(VLOOKUP(AA205,IF(AA205=3165,AL$2:AM$2,ESG!A$2:I$54),IF(AA205=3165,2,9),0),0)","v":0},{"$f":"IF(Timesheet!Z205>0,Timesheet!G205,\"\")","v":""},{"$f":"IF(Timesheet!Z205>0,Timesheet!J205,\"\")","v":""},"",{"$f":"IFERROR(VLOOKUP(AE205,IF(AE205=3165,AL$2:AM$2,ESG!A$2:J$54),IF(AE205=3165,2,10),0),0)","v":0},{"$f":"IF(Timesheet!AB205>0,Timesheet!G205,\"\")","v":""},{"$f":"IF(Timesheet!AB205>0,Timesheet!J205,\"\")","v":""},"",{"$f":"IFERROR(VLOOKUP(AI205,IF(AI205=3165,AL$2:AM$2,ESG!A$2:K$54),IF(AI205=3165,2,11),0),0)","v":0}]
[{"$f":"IF(Timesheet!L206>0,Timesheet!G206,\"\")","v":""},{"$f":"IF(Timesheet!L206>0,Timesheet!J206,\"\")","v":""},"",{"$f":"IFERROR(VLOOKUP(C206,IF(C206=3165,AL$2:AM$2,ESG!A$2:C$54),IF(C206=3165,2,3),0),0)","v":0},{"$f":"IF(Timesheet!N206>0,Timesheet!G206,\"\")","v":""},{"$f":"IF(Timesheet!N206>0,Timesheet!J206,\"\")","v":""},"",{"$f":"IFERROR(VLOOKUP(G206,IF(G206=3165,AL$2:AM$2,ESG!A$2:D$54),IF(G206=3165,2,4),0),0)","v":0},{"$f":"IF(Timesheet!P206>0,Timesheet!G206,\"\")","v":""},{"$f":"IF(Timesheet!P206>0,Timesheet!J206,\"\")","v":""},"",{"$f":"IFERROR(VLOOKUP(K206,IF(K206=3165,AL$2:AM$2,ESG!A$2:E$54),IF(K206=3165,2,5),0),0)","v":0},{"$f":"IF(Timesheet!R206>0,Timesheet!G206,\"\")","v":""},{"$f":"IF(Timesheet!R206>0,Timesheet!J206,\"\")","v":""},{"$f":"IFERROR(VLOOKUP(M206,ESG!M$2:N$13,2,FALSE),N206)","v":""},{"$f":"IFERROR(VLOOKUP(O206,IF(O206=3165,AL$2:AM$2,ESG!A$2:F$54),IF(O206=3165,2,6),0),0)","v":0},{"$f":"IF(Timesheet!T206>0,Timesheet!G206,\"\")","v":""},{"$f":"IF(Timesheet!T206>0,Timesheet!J206,\"\")","v":""},{"$f":"IFERROR(VLOOKUP(Q206,ESG!M$2:N$13,2,FALSE),R206)","v":""},{"$f":"IFERROR(VLOOKUP(S206,IF(S206=3165,AL$2:AM$2,ESG!A$2:G$54),IF(S206=3165,2,7),0),0)","v":0},{"$f":"IF(Timesheet!V206>0,Timesheet!G206,\"\")","v":""},{"$f":"IF(Timesheet!V206>0,Timesheet!J206,\"\")","v":""},{"$f":"IFERROR(VLOOKUP(U206,ESG!M$2:N$13,2,FALSE),V206)","v":""},{"$f":"IFERROR(VLOOKUP(W206,IF(W206=3165,AL$2:AM$2,ESG!A$2:H$54),IF(W206=3165,2,8),0),0)","v":0},{"$f":"IF(Timesheet!X206>0,Timesheet!G206,\"\")","v":""},{"$f":"IF(Timesheet!X206>0,Timesheet!J206,\"\")","v":""},"",{"$f":"IFERROR(VLOOKUP(AA206,IF(AA206=3165,AL$2:AM$2,ESG!A$2:I$54),IF(AA206=3165,2,9),0),0)","v":0},{"$f":"IF(Timesheet!Z206>0,Timesheet!G206,\"\")","v":""},{"$f":"IF(Timesheet!Z206>0,Timesheet!J206,\"\")","v":""},"",{"$f":"IFERROR(VLOOKUP(AE206,IF(AE206=3165,AL$2:AM$2,ESG!A$2:J$54),IF(AE206=3165,2,10),0),0)","v":0},{"$f":"IF(Timesheet!AB206>0,Timesheet!G206,\"\")","v":""},{"$f":"IF(Timesheet!AB206>0,Timesheet!J206,\"\")","v":""},"",{"$f":"IFERROR(VLOOKUP(AI206,IF(AI206=3165,AL$2:AM$2,ESG!A$2:K$54),IF(AI206=3165,2,11),0),0)","v":0}]
[{"$f":"IF(Timesheet!L207>0,Timesheet!G207,\"\")","v":""},{"$f":"IF(Timesheet!L207>0,Timesheet!J207,\"\")","v":""},"",{"$f":"IFERROR(VLOOKUP(C207,IF(C207=3165,AL$2:AM$2,ESG!A$2:C$54),IF(C207=3165,2,3),0),0)","v":0},{"$f":"IF(Timesheet!N207>0,Timesheet!G207,\"\")","v":""},{"$f":"IF(Timesheet!N207>0,Timesheet!J207,\"\")","v":""},"",{"$f":"IFERROR(VLOOKUP(G207,IF(G207=3165,AL$2:AM$2,ESG!A$2:D$54),IF(G207=3165,2,4),0),0)","v":0},{"$f":"IF(Timesheet!P207>0,Timesheet!G207,\"\")","v":""},{"$f":"IF(Timesheet!P207>0,Timesheet!J207,\"\")","v":""},"",{"$f":"IFERROR(VLOOKUP(K207,IF(K207=3165,AL$2:AM$2,ESG!A$2:E$54),IF(K207=3165,2,5),0),0)","v":0},{"$f":"IF(Timesheet!R207>0,Timesheet!G207,\"\")","v":""},{"$f":"IF(Timesheet!R207>0,Timesheet!J207,\"\")","v":""},{"$f":"IFERROR(VLOOKUP(M207,ESG!M$2:N$13,2,FALSE),N207)","v":""},{"$f":"IFERROR(VLOOKUP(O207,IF(O207=3165,AL$2:AM$2,ESG!A$2:F$54),IF(O207=3165,2,6),0),0)","v":0},{"$f":"IF(Timesheet!T207>0,Timesheet!G207,\"\")","v":""},{"$f":"IF(Timesheet!T207>0,Timesheet!J207,\"\")","v":""},{"$f":"IFERROR(VLOOKUP(Q207,ESG!M$2:N$13,2,FALSE),R207)","v":""},{"$f":"IFERROR(VLOOKUP(S207,IF(S207=3165,AL$2:AM$2,ESG!A$2:G$54),IF(S207=3165,2,7),0),0)","v":0},{"$f":"IF(Timesheet!V207>0,Timesheet!G207,\"\")","v":""},{"$f":"IF(Timesheet!V207>0,Timesheet!J207,\"\")","v":""},{"$f":"IFERROR(VLOOKUP(U207,ESG!M$2:N$13,2,FALSE),V207)","v":""},{"$f":"IFERROR(VLOOKUP(W207,IF(W207=3165,AL$2:AM$2,ESG!A$2:H$54),IF(W207=3165,2,8),0),0)","v":0},{"$f":"IF(Timesheet!X207>0,Timesheet!G207,\"\")","v":""},{"$f":"IF(Timesheet!X207>0,Timesheet!J207,\"\")","v":""},"",{"$f":"IFERROR(VLOOKUP(AA207,IF(AA207=3165,AL$2:AM$2,ESG!A$2:I$54),IF(AA207=3165,2,9),0),0)","v":0},{"$f":"IF(Timesheet!Z207>0,Timesheet!G207,\"\")","v":""},{"$f":"IF(Timesheet!Z207>0,Timesheet!J207,\"\")","v":""},"",{"$f":"IFERROR(VLOOKUP(AE207,IF(AE207=3165,AL$2:AM$2,ESG!A$2:J$54),IF(AE207=3165,2,10),0),0)","v":0},{"$f":"IF(Timesheet!AB207>0,Timesheet!G207,\"\")","v":""},{"$f":"IF(Timesheet!AB207>0,Timesheet!J207,\"\")","v":""},"",{"$f":"IFERROR(VLOOKUP(AI207,IF(AI207=3165,AL$2:AM$2,ESG!A$2:K$54),IF(AI207=3165,2,11),0),0)","v":0}]
[{"$f":"IF(Timesheet!L208>0,Timesheet!G208,\"\")","v":""},{"$f":"IF(Timesheet!L208>0,Timesheet!J208,\"\")","v":""},"",{"$f":"IFERROR(VLOOKUP(C208,IF(C208=3165,AL$2:AM$2,ESG!A$2:C$54),IF(C208=3165,2,3),0),0)","v":0},{"$f":"IF(Timesheet!N208>0,Timesheet!G208,\"\")","v":""},{"$f":"IF(Timesheet!N208>0,Timesheet!J208,\"\")","v":""},"",{"$f":"IFERROR(VLOOKUP(G208,IF(G208=3165,AL$2:AM$2,ESG!A$2:D$54),IF(G208=3165,2,4),0),0)","v":0},{"$f":"IF(Timesheet!P208>0,Timesheet!G208,\"\")","v":""},{"$f":"IF(Timesheet!P208>0,Timesheet!J208,\"\")","v":""},"",{"$f":"IFERROR(VLOOKUP(K208,IF(K208=3165,AL$2:AM$2,ESG!A$2:E$54),IF(K208=3165,2,5),0),0)","v":0},{"$f":"IF(Timesheet!R208>0,Timesheet!G208,\"\")","v":""},{"$f":"IF(Timesheet!R208>0,Timesheet!J208,\"\")","v":""},{"$f":"IFERROR(VLOOKUP(M208,ESG!M$2:N$13,2,FALSE),N208)","v":""},{"$f":"IFERROR(VLOOKUP(O208,IF(O208=3165,AL$2:AM$2,ESG!A$2:F$54),IF(O208=3165,2,6),0),0)","v":0},{"$f":"IF(Timesheet!T208>0,Timesheet!G208,\"\")","v":""},{"$f":"IF(Timesheet!T208>0,Timesheet!J208,\"\")","v":""},{"$f":"IFERROR(VLOOKUP(Q208,ESG!M$2:N$13,2,FALSE),R208)","v":""},{"$f":"IFERROR(VLOOKUP(S208,IF(S208=3165,AL$2:AM$2,ESG!A$2:G$54),IF(S208=3165,2,7),0),0)","v":0},{"$f":"IF(Timesheet!V208>0,Timesheet!G208,\"\")","v":""},{"$f":"IF(Timesheet!V208>0,Timesheet!J208,\"\")","v":""},{"$f":"IFERROR(VLOOKUP(U208,ESG!M$2:N$13,2,FALSE),V208)","v":""},{"$f":"IFERROR(VLOOKUP(W208,IF(W208=3165,AL$2:AM$2,ESG!A$2:H$54),IF(W208=3165,2,8),0),0)","v":0},{"$f":"IF(Timesheet!X208>0,Timesheet!G208,\"\")","v":""},{"$f":"IF(Timesheet!X208>0,Timesheet!J208,\"\")","v":""},"",{"$f":"IFERROR(VLOOKUP(AA208,IF(AA208=3165,AL$2:AM$2,ESG!A$2:I$54),IF(AA208=3165,2,9),0),0)","v":0},{"$f":"IF(Timesheet!Z208>0,Timesheet!G208,\"\")","v":""},{"$f":"IF(Timesheet!Z208>0,Timesheet!J208,\"\")","v":""},"",{"$f":"IFERROR(VLOOKUP(AE208,IF(AE208=3165,AL$2:AM$2,ESG!A$2:J$54),IF(AE208=3165,2,10),0),0)","v":0},{"$f":"IF(Timesheet!AB208>0,Timesheet!G208,\"\")","v":""},{"$f":"IF(Timesheet!AB208>0,Timesheet!J208,\"\")","v":""},"",{"$f":"IFERROR(VLOOKUP(AI208,IF(AI208=3165,AL$2:AM$2,ESG!A$2:K$54),IF(AI208=3165,2,11),0),0)","v":0}]
[{"$f":"IF(Timesheet!L209>0,Timesheet!G209,\"\")","v":""},{"$f":"IF(Timesheet!L209>0,Timesheet!J209,\"\")","v":""},"",{"$f":"IFERROR(VLOOKUP(C209,IF(C209=3165,AL$2:AM$2,ESG!A$2:C$54),IF(C209=3165,2,3),0),0)","v":0},{"$f":"IF(Timesheet!N209>0,Timesheet!G209,\"\")","v":""},{"$f":"IF(Timesheet!N209>0,Timesheet!J209,\"\")","v":""},"",{"$f":"IFERROR(VLOOKUP(G209,IF(G209=3165,AL$2:AM$2,ESG!A$2:D$54),IF(G209=3165,2,4),0),0)","v":0},{"$f":"IF(Timesheet!P209>0,Timesheet!G209,\"\")","v":""},{"$f":"IF(Timesheet!P209>0,Timesheet!J209,\"\")","v":""},"",{"$f":"IFERROR(VLOOKUP(K209,IF(K209=3165,AL$2:AM$2,ESG!A$2:E$54),IF(K209=3165,2,5),0),0)","v":0},{"$f":"IF(Timesheet!R209>0,Timesheet!G209,\"\")","v":""},{"$f":"IF(Timesheet!R209>0,Timesheet!J209,\"\")","v":""},{"$f":"IFERROR(VLOOKUP(M209,ESG!M$2:N$13,2,FALSE),N209)","v":""},{"$f":"IFERROR(VLOOKUP(O209,IF(O209=3165,AL$2:AM$2,ESG!A$2:F$54),IF(O209=3165,2,6),0),0)","v":0},{"$f":"IF(Timesheet!T209>0,Timesheet!G209,\"\")","v":""},{"$f":"IF(Timesheet!T209>0,Timesheet!J209,\"\")","v":""},{"$f":"IFERROR(VLOOKUP(Q209,ESG!M$2:N$13,2,FALSE),R209)","v":""},{"$f":"IFERROR(VLOOKUP(S209,IF(S209=3165,AL$2:AM$2,ESG!A$2:G$54),IF(S209=3165,2,7),0),0)","v":0},{"$f":"IF(Timesheet!V209>0,Timesheet!G209,\"\")","v":""},{"$f":"IF(Timesheet!V209>0,Timesheet!J209,\"\")","v":""},{"$f":"IFERROR(VLOOKUP(U209,ESG!M$2:N$13,2,FALSE),V209)","v":""},{"$f":"IFERROR(VLOOKUP(W209,IF(W209=3165,AL$2:AM$2,ESG!A$2:H$54),IF(W209=3165,2,8),0),0)","v":0},{"$f":"IF(Timesheet!X209>0,Timesheet!G209,\"\")","v":""},{"$f":"IF(Timesheet!X209>0,Timesheet!J209,\"\")","v":""},"",{"$f":"IFERROR(VLOOKUP(AA209,IF(AA209=3165,AL$2:AM$2,ESG!A$2:I$54),IF(AA209=3165,2,9),0),0)","v":0},{"$f":"IF(Timesheet!Z209>0,Timesheet!G209,\"\")","v":""},{"$f":"IF(Timesheet!Z209>0,Timesheet!J209,\"\")","v":""},"",{"$f":"IFERROR(VLOOKUP(AE209,IF(AE209=3165,AL$2:AM$2,ESG!A$2:J$54),IF(AE209=3165,2,10),0),0)","v":0},{"$f":"IF(Timesheet!AB209>0,Timesheet!G209,\"\")","v":""},{"$f":"IF(Timesheet!AB209>0,Timesheet!J209,\"\")","v":""},"",{"$f":"IFERROR(VLOOKUP(AI209,IF(AI209=3165,AL$2:AM$2,ESG!A$2:K$54),IF(AI209=3165,2,11),0),0)","v":0}]
[{"$f":"IF(Timesheet!L210>0,Timesheet!G210,\"\")","v":""},{"$f":"IF(Timesheet!L210>0,Timesheet!J210,\"\")","v":""},"",{"$f":"IFERROR(VLOOKUP(C210,IF(C210=3165,AL$2:AM$2,ESG!A$2:C$54),IF(C210=3165,2,3),0),0)","v":0},{"$f":"IF(Timesheet!N210>0,Timesheet!G210,\"\")","v":""},{"$f":"IF(Timesheet!N210>0,Timesheet!J210,\"\")","v":""},"",{"$f":"IFERROR(VLOOKUP(G210,IF(G210=3165,AL$2:AM$2,ESG!A$2:D$54),IF(G210=3165,2,4),0),0)","v":0},{"$f":"IF(Timesheet!P210>0,Timesheet!G210,\"\")","v":""},{"$f":"IF(Timesheet!P210>0,Timesheet!J210,\"\")","v":""},"",{"$f":"IFERROR(VLOOKUP(K210,IF(K210=3165,AL$2:AM$2,ESG!A$2:E$54),IF(K210=3165,2,5),0),0)","v":0},{"$f":"IF(Timesheet!R210>0,Timesheet!G210,\"\")","v":""},{"$f":"IF(Timesheet!R210>0,Timesheet!J210,\"\")","v":""},{"$f":"IFERROR(VLOOKUP(M210,ESG!M$2:N$13,2,FALSE),N210)","v":""},{"$f":"IFERROR(VLOOKUP(O210,IF(O210=3165,AL$2:AM$2,ESG!A$2:F$54),IF(O210=3165,2,6),0),0)","v":0},{"$f":"IF(Timesheet!T210>0,Timesheet!G210,\"\")","v":""},{"$f":"IF(Timesheet!T210>0,Timesheet!J210,\"\")","v":""},{"$f":"IFERROR(VLOOKUP(Q210,ESG!M$2:N$13,2,FALSE),R210)","v":""},{"$f":"IFERROR(VLOOKUP(S210,IF(S210=3165,AL$2:AM$2,ESG!A$2:G$54),IF(S210=3165,2,7),0),0)","v":0},{"$f":"IF(Timesheet!V210>0,Timesheet!G210,\"\")","v":""},{"$f":"IF(Timesheet!V210>0,Timesheet!J210,\"\")","v":""},{"$f":"IFERROR(VLOOKUP(U210,ESG!M$2:N$13,2,FALSE),V210)","v":""},{"$f":"IFERROR(VLOOKUP(W210,IF(W210=3165,AL$2:AM$2,ESG!A$2:H$54),IF(W210=3165,2,8),0),0)","v":0},{"$f":"IF(Timesheet!X210>0,Timesheet!G210,\"\")","v":""},{"$f":"IF(Timesheet!X210>0,Timesheet!J210,\"\")","v":""},"",{"$f":"IFERROR(VLOOKUP(AA210,IF(AA210=3165,AL$2:AM$2,ESG!A$2:I$54),IF(AA210=3165,2,9),0),0)","v":0},{"$f":"IF(Timesheet!Z210>0,Timesheet!G210,\"\")","v":""},{"$f":"IF(Timesheet!Z210>0,Timesheet!J210,\"\")","v":""},"",{"$f":"IFERROR(VLOOKUP(AE210,IF(AE210=3165,AL$2:AM$2,ESG!A$2:J$54),IF(AE210=3165,2,10),0),0)","v":0},{"$f":"IF(Timesheet!AB210>0,Timesheet!G210,\"\")","v":""},{"$f":"IF(Timesheet!AB210>0,Timesheet!J210,\"\")","v":""},"",{"$f":"IFERROR(VLOOKUP(AI210,IF(AI210=3165,AL$2:AM$2,ESG!A$2:K$54),IF(AI210=3165,2,11),0),0)","v":0}]
[{"$f":"IF(Timesheet!L211>0,Timesheet!G211,\"\")","v":""},{"$f":"IF(Timesheet!L211>0,Timesheet!J211,\"\")","v":""},"",{"$f":"IFERROR(VLOOKUP(C211,IF(C211=3165,AL$2:AM$2,ESG!A$2:C$54),IF(C211=3165,2,3),0),0)","v":0},{"$f":"IF(Timesheet!N211>0,Timesheet!G211,\"\")","v":""},{"$f":"IF(Timesheet!N211>0,Timesheet!J211,\"\")","v":""},"",{"$f":"IFERROR(VLOOKUP(G211,IF(G211=3165,AL$2:AM$2,ESG!A$2:D$54),IF(G211=3165,2,4),0),0)","v":0},{"$f":"IF(Timesheet!P211>0,Timesheet!G211,\"\")","v":""},{"$f":"IF(Timesheet!P211>0,Timesheet!J211,\"\")","v":""},"",{"$f":"IFERROR(VLOOKUP(K211,IF(K211=3165,AL$2:AM$2,ESG!A$2:E$54),IF(K211=3165,2,5),0),0)","v":0},{"$f":"IF(Timesheet!R211>0,Timesheet!G211,\"\")","v":""},{"$f":"IF(Timesheet!R211>0,Timesheet!J211,\"\")","v":""},{"$f":"IFERROR(VLOOKUP(M211,ESG!M$2:N$13,2,FALSE),N211)","v":""},{"$f":"IFERROR(VLOOKUP(O211,IF(O211=3165,AL$2:AM$2,ESG!A$2:F$54),IF(O211=3165,2,6),0),0)","v":0},{"$f":"IF(Timesheet!T211>0,Timesheet!G211,\"\")","v":""},{"$f":"IF(Timesheet!T211>0,Timesheet!J211,\"\")","v":""},{"$f":"IFERROR(VLOOKUP(Q211,ESG!M$2:N$13,2,FALSE),R211)","v":""},{"$f":"IFERROR(VLOOKUP(S211,IF(S211=3165,AL$2:AM$2,ESG!A$2:G$54),IF(S211=3165,2,7),0),0)","v":0},{"$f":"IF(Timesheet!V211>0,Timesheet!G211,\"\")","v":""},{"$f":"IF(Timesheet!V211>0,Timesheet!J211,\"\")","v":""},{"$f":"IFERROR(VLOOKUP(U211,ESG!M$2:N$13,2,FALSE),V211)","v":""},{"$f":"IFERROR(VLOOKUP(W211,IF(W211=3165,AL$2:AM$2,ESG!A$2:H$54),IF(W211=3165,2,8),0),0)","v":0},{"$f":"IF(Timesheet!X211>0,Timesheet!G211,\"\")","v":""},{"$f":"IF(Timesheet!X211>0,Timesheet!J211,\"\")","v":""},"",{"$f":"IFERROR(VLOOKUP(AA211,IF(AA211=3165,AL$2:AM$2,ESG!A$2:I$54),IF(AA211=3165,2,9),0),0)","v":0},{"$f":"IF(Timesheet!Z211>0,Timesheet!G211,\"\")","v":""},{"$f":"IF(Timesheet!Z211>0,Timesheet!J211,\"\")","v":""},"",{"$f":"IFERROR(VLOOKUP(AE211,IF(AE211=3165,AL$2:AM$2,ESG!A$2:J$54),IF(AE211=3165,2,10),0),0)","v":0},{"$f":"IF(Timesheet!AB211>0,Timesheet!G211,\"\")","v":""},{"$f":"IF(Timesheet!AB211>0,Timesheet!J211,\"\")","v":""},"",{"$f":"IFERROR(VLOOKUP(AI211,IF(AI211=3165,AL$2:AM$2,ESG!A$2:K$54),IF(AI211=3165,2,11),0),0)","v":0}]
[{"$f":"IF(Timesheet!L212>0,Timesheet!G212,\"\")","v":""},{"$f":"IF(Timesheet!L212>0,Timesheet!J212,\"\")","v":""},"",{"$f":"IFERROR(VLOOKUP(C212,IF(C212=3165,AL$2:AM$2,ESG!A$2:C$54),IF(C212=3165,2,3),0),0)","v":0},{"$f":"IF(Timesheet!N212>0,Timesheet!G212,\"\")","v":""},{"$f":"IF(Timesheet!N212>0,Timesheet!J212,\"\")","v":""},"",{"$f":"IFERROR(VLOOKUP(G212,IF(G212=3165,AL$2:AM$2,ESG!A$2:D$54),IF(G212=3165,2,4),0),0)","v":0},{"$f":"IF(Timesheet!P212>0,Timesheet!G212,\"\")","v":""},{"$f":"IF(Timesheet!P212>0,Timesheet!J212,\"\")","v":""},"",{"$f":"IFERROR(VLOOKUP(K212,IF(K212=3165,AL$2:AM$2,ESG!A$2:E$54),IF(K212=3165,2,5),0),0)","v":0},{"$f":"IF(Timesheet!R212>0,Timesheet!G212,\"\")","v":""},{"$f":"IF(Timesheet!R212>0,Timesheet!J212,\"\")","v":""},{"$f":"IFERROR(VLOOKUP(M212,ESG!M$2:N$13,2,FALSE),N212)","v":""},{"$f":"IFERROR(VLOOKUP(O212,IF(O212=3165,AL$2:AM$2,ESG!A$2:F$54),IF(O212=3165,2,6),0),0)","v":0},{"$f":"IF(Timesheet!T212>0,Timesheet!G212,\"\")","v":""},{"$f":"IF(Timesheet!T212>0,Timesheet!J212,\"\")","v":""},{"$f":"IFERROR(VLOOKUP(Q212,ESG!M$2:N$13,2,FALSE),R212)","v":""},{"$f":"IFERROR(VLOOKUP(S212,IF(S212=3165,AL$2:AM$2,ESG!A$2:G$54),IF(S212=3165,2,7),0),0)","v":0},{"$f":"IF(Timesheet!V212>0,Timesheet!G212,\"\")","v":""},{"$f":"IF(Timesheet!V212>0,Timesheet!J212,\"\")","v":""},{"$f":"IFERROR(VLOOKUP(U212,ESG!M$2:N$13,2,FALSE),V212)","v":""},{"$f":"IFERROR(VLOOKUP(W212,IF(W212=3165,AL$2:AM$2,ESG!A$2:H$54),IF(W212=3165,2,8),0),0)","v":0},{"$f":"IF(Timesheet!X212>0,Timesheet!G212,\"\")","v":""},{"$f":"IF(Timesheet!X212>0,Timesheet!J212,\"\")","v":""},"",{"$f":"IFERROR(VLOOKUP(AA212,IF(AA212=3165,AL$2:AM$2,ESG!A$2:I$54),IF(AA212=3165,2,9),0),0)","v":0},{"$f":"IF(Timesheet!Z212>0,Timesheet!G212,\"\")","v":""},{"$f":"IF(Timesheet!Z212>0,Timesheet!J212,\"\")","v":""},"",{"$f":"IFERROR(VLOOKUP(AE212,IF(AE212=3165,AL$2:AM$2,ESG!A$2:J$54),IF(AE212=3165,2,10),0),0)","v":0},{"$f":"IF(Timesheet!AB212>0,Timesheet!G212,\"\")","v":""},{"$f":"IF(Timesheet!AB212>0,Timesheet!J212,\"\")","v":""},"",{"$f":"IFERROR(VLOOKUP(AI212,IF(AI212=3165,AL$2:AM$2,ESG!A$2:K$54),IF(AI212=3165,2,11),0),0)","v":0}]
[{"$f":"IF(Timesheet!L213>0,Timesheet!G213,\"\")","v":""},{"$f":"IF(Timesheet!L213>0,Timesheet!J213,\"\")","v":""},"",{"$f":"IFERROR(VLOOKUP(C213,IF(C213=3165,AL$2:AM$2,ESG!A$2:C$54),IF(C213=3165,2,3),0),0)","v":0},{"$f":"IF(Timesheet!N213>0,Timesheet!G213,\"\")","v":""},{"$f":"IF(Timesheet!N213>0,Timesheet!J213,\"\")","v":""},"",{"$f":"IFERROR(VLOOKUP(G213,IF(G213=3165,AL$2:AM$2,ESG!A$2:D$54),IF(G213=3165,2,4),0),0)","v":0},{"$f":"IF(Timesheet!P213>0,Timesheet!G213,\"\")","v":""},{"$f":"IF(Timesheet!P213>0,Timesheet!J213,\"\")","v":""},"",{"$f":"IFERROR(VLOOKUP(K213,IF(K213=3165,AL$2:AM$2,ESG!A$2:E$54),IF(K213=3165,2,5),0),0)","v":0},{"$f":"IF(Timesheet!R213>0,Timesheet!G213,\"\")","v":""},{"$f":"IF(Timesheet!R213>0,Timesheet!J213,\"\")","v":""},{"$f":"IFERROR(VLOOKUP(M213,ESG!M$2:N$13,2,FALSE),N213)","v":""},{"$f":"IFERROR(VLOOKUP(O213,IF(O213=3165,AL$2:AM$2,ESG!A$2:F$54),IF(O213=3165,2,6),0),0)","v":0},{"$f":"IF(Timesheet!T213>0,Timesheet!G213,\"\")","v":""},{"$f":"IF(Timesheet!T213>0,Timesheet!J213,\"\")","v":""},{"$f":"IFERROR(VLOOKUP(Q213,ESG!M$2:N$13,2,FALSE),R213)","v":""},{"$f":"IFERROR(VLOOKUP(S213,IF(S213=3165,AL$2:AM$2,ESG!A$2:G$54),IF(S213=3165,2,7),0),0)","v":0},{"$f":"IF(Timesheet!V213>0,Timesheet!G213,\"\")","v":""},{"$f":"IF(Timesheet!V213>0,Timesheet!J213,\"\")","v":""},{"$f":"IFERROR(VLOOKUP(U213,ESG!M$2:N$13,2,FALSE),V213)","v":""},{"$f":"IFERROR(VLOOKUP(W213,IF(W213=3165,AL$2:AM$2,ESG!A$2:H$54),IF(W213=3165,2,8),0),0)","v":0},{"$f":"IF(Timesheet!X213>0,Timesheet!G213,\"\")","v":""},{"$f":"IF(Timesheet!X213>0,Timesheet!J213,\"\")","v":""},"",{"$f":"IFERROR(VLOOKUP(AA213,IF(AA213=3165,AL$2:AM$2,ESG!A$2:I$54),IF(AA213=3165,2,9),0),0)","v":0},{"$f":"IF(Timesheet!Z213>0,Timesheet!G213,\"\")","v":""},{"$f":"IF(Timesheet!Z213>0,Timesheet!J213,\"\")","v":""},"",{"$f":"IFERROR(VLOOKUP(AE213,IF(AE213=3165,AL$2:AM$2,ESG!A$2:J$54),IF(AE213=3165,2,10),0),0)","v":0},{"$f":"IF(Timesheet!AB213>0,Timesheet!G213,\"\")","v":""},{"$f":"IF(Timesheet!AB213>0,Timesheet!J213,\"\")","v":""},"",{"$f":"IFERROR(VLOOKUP(AI213,IF(AI213=3165,AL$2:AM$2,ESG!A$2:K$54),IF(AI213=3165,2,11),0),0)","v":0}]
[{"$f":"IF(Timesheet!L214>0,Timesheet!G214,\"\")","v":""},{"$f":"IF(Timesheet!L214>0,Timesheet!J214,\"\")","v":""},"",{"$f":"IFERROR(VLOOKUP(C214,IF(C214=3165,AL$2:AM$2,ESG!A$2:C$54),IF(C214=3165,2,3),0),0)","v":0},{"$f":"IF(Timesheet!N214>0,Timesheet!G214,\"\")","v":""},{"$f":"IF(Timesheet!N214>0,Timesheet!J214,\"\")","v":""},"",{"$f":"IFERROR(VLOOKUP(G214,IF(G214=3165,AL$2:AM$2,ESG!A$2:D$54),IF(G214=3165,2,4),0),0)","v":0},{"$f":"IF(Timesheet!P214>0,Timesheet!G214,\"\")","v":""},{"$f":"IF(Timesheet!P214>0,Timesheet!J214,\"\")","v":""},"",{"$f":"IFERROR(VLOOKUP(K214,IF(K214=3165,AL$2:AM$2,ESG!A$2:E$54),IF(K214=3165,2,5),0),0)","v":0},{"$f":"IF(Timesheet!R214>0,Timesheet!G214,\"\")","v":""},{"$f":"IF(Timesheet!R214>0,Timesheet!J214,\"\")","v":""},{"$f":"IFERROR(VLOOKUP(M214,ESG!M$2:N$13,2,FALSE),N214)","v":""},{"$f":"IFERROR(VLOOKUP(O214,IF(O214=3165,AL$2:AM$2,ESG!A$2:F$54),IF(O214=3165,2,6),0),0)","v":0},{"$f":"IF(Timesheet!T214>0,Timesheet!G214,\"\")","v":""},{"$f":"IF(Timesheet!T214>0,Timesheet!J214,\"\")","v":""},{"$f":"IFERROR(VLOOKUP(Q214,ESG!M$2:N$13,2,FALSE),R214)","v":""},{"$f":"IFERROR(VLOOKUP(S214,IF(S214=3165,AL$2:AM$2,ESG!A$2:G$54),IF(S214=3165,2,7),0),0)","v":0},{"$f":"IF(Timesheet!V214>0,Timesheet!G214,\"\")","v":""},{"$f":"IF(Timesheet!V214>0,Timesheet!J214,\"\")","v":""},{"$f":"IFERROR(VLOOKUP(U214,ESG!M$2:N$13,2,FALSE),V214)","v":""},{"$f":"IFERROR(VLOOKUP(W214,IF(W214=3165,AL$2:AM$2,ESG!A$2:H$54),IF(W214=3165,2,8),0),0)","v":0},{"$f":"IF(Timesheet!X214>0,Timesheet!G214,\"\")","v":""},{"$f":"IF(Timesheet!X214>0,Timesheet!J214,\"\")","v":""},"",{"$f":"IFERROR(VLOOKUP(AA214,IF(AA214=3165,AL$2:AM$2,ESG!A$2:I$54),IF(AA214=3165,2,9),0),0)","v":0},{"$f":"IF(Timesheet!Z214>0,Timesheet!G214,\"\")","v":""},{"$f":"IF(Timesheet!Z214>0,Timesheet!J214,\"\")","v":""},"",{"$f":"IFERROR(VLOOKUP(AE214,IF(AE214=3165,AL$2:AM$2,ESG!A$2:J$54),IF(AE214=3165,2,10),0),0)","v":0},{"$f":"IF(Timesheet!AB214>0,Timesheet!G214,\"\")","v":""},{"$f":"IF(Timesheet!AB214>0,Timesheet!J214,\"\")","v":""},"",{"$f":"IFERROR(VLOOKUP(AI214,IF(AI214=3165,AL$2:AM$2,ESG!A$2:K$54),IF(AI214=3165,2,11),0),0)","v":0}]
[{"$f":"IF(Timesheet!L215>0,Timesheet!G215,\"\")","v":""},{"$f":"IF(Timesheet!L215>0,Timesheet!J215,\"\")","v":""},"",{"$f":"IFERROR(VLOOKUP(C215,IF(C215=3165,AL$2:AM$2,ESG!A$2:C$54),IF(C215=3165,2,3),0),0)","v":0},{"$f":"IF(Timesheet!N215>0,Timesheet!G215,\"\")","v":""},{"$f":"IF(Timesheet!N215>0,Timesheet!J215,\"\")","v":""},"",{"$f":"IFERROR(VLOOKUP(G215,IF(G215=3165,AL$2:AM$2,ESG!A$2:D$54),IF(G215=3165,2,4),0),0)","v":0},{"$f":"IF(Timesheet!P215>0,Timesheet!G215,\"\")","v":""},{"$f":"IF(Timesheet!P215>0,Timesheet!J215,\"\")","v":""},"",{"$f":"IFERROR(VLOOKUP(K215,IF(K215=3165,AL$2:AM$2,ESG!A$2:E$54),IF(K215=3165,2,5),0),0)","v":0},{"$f":"IF(Timesheet!R215>0,Timesheet!G215,\"\")","v":""},{"$f":"IF(Timesheet!R215>0,Timesheet!J215,\"\")","v":""},{"$f":"IFERROR(VLOOKUP(M215,ESG!M$2:N$13,2,FALSE),N215)","v":""},{"$f":"IFERROR(VLOOKUP(O215,IF(O215=3165,AL$2:AM$2,ESG!A$2:F$54),IF(O215=3165,2,6),0),0)","v":0},{"$f":"IF(Timesheet!T215>0,Timesheet!G215,\"\")","v":""},{"$f":"IF(Timesheet!T215>0,Timesheet!J215,\"\")","v":""},{"$f":"IFERROR(VLOOKUP(Q215,ESG!M$2:N$13,2,FALSE),R215)","v":""},{"$f":"IFERROR(VLOOKUP(S215,IF(S215=3165,AL$2:AM$2,ESG!A$2:G$54),IF(S215=3165,2,7),0),0)","v":0},{"$f":"IF(Timesheet!V215>0,Timesheet!G215,\"\")","v":""},{"$f":"IF(Timesheet!V215>0,Timesheet!J215,\"\")","v":""},{"$f":"IFERROR(VLOOKUP(U215,ESG!M$2:N$13,2,FALSE),V215)","v":""},{"$f":"IFERROR(VLOOKUP(W215,IF(W215=3165,AL$2:AM$2,ESG!A$2:H$54),IF(W215=3165,2,8),0),0)","v":0},{"$f":"IF(Timesheet!X215>0,Timesheet!G215,\"\")","v":""},{"$f":"IF(Timesheet!X215>0,Timesheet!J215,\"\")","v":""},"",{"$f":"IFERROR(VLOOKUP(AA215,IF(AA215=3165,AL$2:AM$2,ESG!A$2:I$54),IF(AA215=3165,2,9),0),0)","v":0},{"$f":"IF(Timesheet!Z215>0,Timesheet!G215,\"\")","v":""},{"$f":"IF(Timesheet!Z215>0,Timesheet!J215,\"\")","v":""},"",{"$f":"IFERROR(VLOOKUP(AE215,IF(AE215=3165,AL$2:AM$2,ESG!A$2:J$54),IF(AE215=3165,2,10),0),0)","v":0},{"$f":"IF(Timesheet!AB215>0,Timesheet!G215,\"\")","v":""},{"$f":"IF(Timesheet!AB215>0,Timesheet!J215,\"\")","v":""},"",{"$f":"IFERROR(VLOOKUP(AI215,IF(AI215=3165,AL$2:AM$2,ESG!A$2:K$54),IF(AI215=3165,2,11),0),0)","v":0}]
[{"$f":"IF(Timesheet!L216>0,Timesheet!G216,\"\")","v":""},{"$f":"IF(Timesheet!L216>0,Timesheet!J216,\"\")","v":""},"",{"$f":"IFERROR(VLOOKUP(C216,IF(C216=3165,AL$2:AM$2,ESG!A$2:C$54),IF(C216=3165,2,3),0),0)","v":0},{"$f":"IF(Timesheet!N216>0,Timesheet!G216,\"\")","v":""},{"$f":"IF(Timesheet!N216>0,Timesheet!J216,\"\")","v":""},"",{"$f":"IFERROR(VLOOKUP(G216,IF(G216=3165,AL$2:AM$2,ESG!A$2:D$54),IF(G216=3165,2,4),0),0)","v":0},{"$f":"IF(Timesheet!P216>0,Timesheet!G216,\"\")","v":""},{"$f":"IF(Timesheet!P216>0,Timesheet!J216,\"\")","v":""},"",{"$f":"IFERROR(VLOOKUP(K216,IF(K216=3165,AL$2:AM$2,ESG!A$2:E$54),IF(K216=3165,2,5),0),0)","v":0},{"$f":"IF(Timesheet!R216>0,Timesheet!G216,\"\")","v":""},{"$f":"IF(Timesheet!R216>0,Timesheet!J216,\"\")","v":""},{"$f":"IFERROR(VLOOKUP(M216,ESG!M$2:N$13,2,FALSE),N216)","v":""},{"$f":"IFERROR(VLOOKUP(O216,IF(O216=3165,AL$2:AM$2,ESG!A$2:F$54),IF(O216=3165,2,6),0),0)","v":0},{"$f":"IF(Timesheet!T216>0,Timesheet!G216,\"\")","v":""},{"$f":"IF(Timesheet!T216>0,Timesheet!J216,\"\")","v":""},{"$f":"IFERROR(VLOOKUP(Q216,ESG!M$2:N$13,2,FALSE),R216)","v":""},{"$f":"IFERROR(VLOOKUP(S216,IF(S216=3165,AL$2:AM$2,ESG!A$2:G$54),IF(S216=3165,2,7),0),0)","v":0},{"$f":"IF(Timesheet!V216>0,Timesheet!G216,\"\")","v":""},{"$f":"IF(Timesheet!V216>0,Timesheet!J216,\"\")","v":""},{"$f":"IFERROR(VLOOKUP(U216,ESG!M$2:N$13,2,FALSE),V216)","v":""},{"$f":"IFERROR(VLOOKUP(W216,IF(W216=3165,AL$2:AM$2,ESG!A$2:H$54),IF(W216=3165,2,8),0),0)","v":0},{"$f":"IF(Timesheet!X216>0,Timesheet!G216,\"\")","v":""},{"$f":"IF(Timesheet!X216>0,Timesheet!J216,\"\")","v":""},"",{"$f":"IFERROR(VLOOKUP(AA216,IF(AA216=3165,AL$2:AM$2,ESG!A$2:I$54),IF(AA216=3165,2,9),0),0)","v":0},{"$f":"IF(Timesheet!Z216>0,Timesheet!G216,\"\")","v":""},{"$f":"IF(Timesheet!Z216>0,Timesheet!J216,\"\")","v":""},"",{"$f":"IFERROR(VLOOKUP(AE216,IF(AE216=3165,AL$2:AM$2,ESG!A$2:J$54),IF(AE216=3165,2,10),0),0)","v":0},{"$f":"IF(Timesheet!AB216>0,Timesheet!G216,\"\")","v":""},{"$f":"IF(Timesheet!AB216>0,Timesheet!J216,\"\")","v":""},"",{"$f":"IFERROR(VLOOKUP(AI216,IF(AI216=3165,AL$2:AM$2,ESG!A$2:K$54),IF(AI216=3165,2,11),0),0)","v":0}]
[{"$f":"IF(Timesheet!L217>0,Timesheet!G217,\"\")","v":""},{"$f":"IF(Timesheet!L217>0,Timesheet!J217,\"\")","v":""},"",{"$f":"IFERROR(VLOOKUP(C217,IF(C217=3165,AL$2:AM$2,ESG!A$2:C$54),IF(C217=3165,2,3),0),0)","v":0},{"$f":"IF(Timesheet!N217>0,Timesheet!G217,\"\")","v":""},{"$f":"IF(Timesheet!N217>0,Timesheet!J217,\"\")","v":""},"",{"$f":"IFERROR(VLOOKUP(G217,IF(G217=3165,AL$2:AM$2,ESG!A$2:D$54),IF(G217=3165,2,4),0),0)","v":0},{"$f":"IF(Timesheet!P217>0,Timesheet!G217,\"\")","v":""},{"$f":"IF(Timesheet!P217>0,Timesheet!J217,\"\")","v":""},"",{"$f":"IFERROR(VLOOKUP(K217,IF(K217=3165,AL$2:AM$2,ESG!A$2:E$54),IF(K217=3165,2,5),0),0)","v":0},{"$f":"IF(Timesheet!R217>0,Timesheet!G217,\"\")","v":""},{"$f":"IF(Timesheet!R217>0,Timesheet!J217,\"\")","v":""},{"$f":"IFERROR(VLOOKUP(M217,ESG!M$2:N$13,2,FALSE),N217)","v":""},{"$f":"IFERROR(VLOOKUP(O217,IF(O217=3165,AL$2:AM$2,ESG!A$2:F$54),IF(O217=3165,2,6),0),0)","v":0},{"$f":"IF(Timesheet!T217>0,Timesheet!G217,\"\")","v":""},{"$f":"IF(Timesheet!T217>0,Timesheet!J217,\"\")","v":""},{"$f":"IFERROR(VLOOKUP(Q217,ESG!M$2:N$13,2,FALSE),R217)","v":""},{"$f":"IFERROR(VLOOKUP(S217,IF(S217=3165,AL$2:AM$2,ESG!A$2:G$54),IF(S217=3165,2,7),0),0)","v":0},{"$f":"IF(Timesheet!V217>0,Timesheet!G217,\"\")","v":""},{"$f":"IF(Timesheet!V217>0,Timesheet!J217,\"\")","v":""},{"$f":"IFERROR(VLOOKUP(U217,ESG!M$2:N$13,2,FALSE),V217)","v":""},{"$f":"IFERROR(VLOOKUP(W217,IF(W217=3165,AL$2:AM$2,ESG!A$2:H$54),IF(W217=3165,2,8),0),0)","v":0},{"$f":"IF(Timesheet!X217>0,Timesheet!G217,\"\")","v":""},{"$f":"IF(Timesheet!X217>0,Timesheet!J217,\"\")","v":""},"",{"$f":"IFERROR(VLOOKUP(AA217,IF(AA217=3165,AL$2:AM$2,ESG!A$2:I$54),IF(AA217=3165,2,9),0),0)","v":0},{"$f":"IF(Timesheet!Z217>0,Timesheet!G217,\"\")","v":""},{"$f":"IF(Timesheet!Z217>0,Timesheet!J217,\"\")","v":""},"",{"$f":"IFERROR(VLOOKUP(AE217,IF(AE217=3165,AL$2:AM$2,ESG!A$2:J$54),IF(AE217=3165,2,10),0),0)","v":0},{"$f":"IF(Timesheet!AB217>0,Timesheet!G217,\"\")","v":""},{"$f":"IF(Timesheet!AB217>0,Timesheet!J217,\"\")","v":""},"",{"$f":"IFERROR(VLOOKUP(AI217,IF(AI217=3165,AL$2:AM$2,ESG!A$2:K$54),IF(AI217=3165,2,11),0),0)","v":0}]
[{"$f":"IF(Timesheet!L218>0,Timesheet!G218,\"\")","v":""},{"$f":"IF(Timesheet!L218>0,Timesheet!J218,\"\")","v":""},"",{"$f":"IFERROR(VLOOKUP(C218,IF(C218=3165,AL$2:AM$2,ESG!A$2:C$54),IF(C218=3165,2,3),0),0)","v":0},{"$f":"IF(Timesheet!N218>0,Timesheet!G218,\"\")","v":""},{"$f":"IF(Timesheet!N218>0,Timesheet!J218,\"\")","v":""},"",{"$f":"IFERROR(VLOOKUP(G218,IF(G218=3165,AL$2:AM$2,ESG!A$2:D$54),IF(G218=3165,2,4),0),0)","v":0},{"$f":"IF(Timesheet!P218>0,Timesheet!G218,\"\")","v":""},{"$f":"IF(Timesheet!P218>0,Timesheet!J218,\"\")","v":""},"",{"$f":"IFERROR(VLOOKUP(K218,IF(K218=3165,AL$2:AM$2,ESG!A$2:E$54),IF(K218=3165,2,5),0),0)","v":0},{"$f":"IF(Timesheet!R218>0,Timesheet!G218,\"\")","v":""},{"$f":"IF(Timesheet!R218>0,Timesheet!J218,\"\")","v":""},{"$f":"IFERROR(VLOOKUP(M218,ESG!M$2:N$13,2,FALSE),N218)","v":""},{"$f":"IFERROR(VLOOKUP(O218,IF(O218=3165,AL$2:AM$2,ESG!A$2:F$54),IF(O218=3165,2,6),0),0)","v":0},{"$f":"IF(Timesheet!T218>0,Timesheet!G218,\"\")","v":""},{"$f":"IF(Timesheet!T218>0,Timesheet!J218,\"\")","v":""},{"$f":"IFERROR(VLOOKUP(Q218,ESG!M$2:N$13,2,FALSE),R218)","v":""},{"$f":"IFERROR(VLOOKUP(S218,IF(S218=3165,AL$2:AM$2,ESG!A$2:G$54),IF(S218=3165,2,7),0),0)","v":0},{"$f":"IF(Timesheet!V218>0,Timesheet!G218,\"\")","v":""},{"$f":"IF(Timesheet!V218>0,Timesheet!J218,\"\")","v":""},{"$f":"IFERROR(VLOOKUP(U218,ESG!M$2:N$13,2,FALSE),V218)","v":""},{"$f":"IFERROR(VLOOKUP(W218,IF(W218=3165,AL$2:AM$2,ESG!A$2:H$54),IF(W218=3165,2,8),0),0)","v":0},{"$f":"IF(Timesheet!X218>0,Timesheet!G218,\"\")","v":""},{"$f":"IF(Timesheet!X218>0,Timesheet!J218,\"\")","v":""},"",{"$f":"IFERROR(VLOOKUP(AA218,IF(AA218=3165,AL$2:AM$2,ESG!A$2:I$54),IF(AA218=3165,2,9),0),0)","v":0},{"$f":"IF(Timesheet!Z218>0,Timesheet!G218,\"\")","v":""},{"$f":"IF(Timesheet!Z218>0,Timesheet!J218,\"\")","v":""},"",{"$f":"IFERROR(VLOOKUP(AE218,IF(AE218=3165,AL$2:AM$2,ESG!A$2:J$54),IF(AE218=3165,2,10),0),0)","v":0},{"$f":"IF(Timesheet!AB218>0,Timesheet!G218,\"\")","v":""},{"$f":"IF(Timesheet!AB218>0,Timesheet!J218,\"\")","v":""},"",{"$f":"IFERROR(VLOOKUP(AI218,IF(AI218=3165,AL$2:AM$2,ESG!A$2:K$54),IF(AI218=3165,2,11),0),0)","v":0}]
[{"$f":"IF(Timesheet!L219>0,Timesheet!G219,\"\")","v":""},{"$f":"IF(Timesheet!L219>0,Timesheet!J219,\"\")","v":""},"",{"$f":"IFERROR(VLOOKUP(C219,IF(C219=3165,AL$2:AM$2,ESG!A$2:C$54),IF(C219=3165,2,3),0),0)","v":0},{"$f":"IF(Timesheet!N219>0,Timesheet!G219,\"\")","v":""},{"$f":"IF(Timesheet!N219>0,Timesheet!J219,\"\")","v":""},"",{"$f":"IFERROR(VLOOKUP(G219,IF(G219=3165,AL$2:AM$2,ESG!A$2:D$54),IF(G219=3165,2,4),0),0)","v":0},{"$f":"IF(Timesheet!P219>0,Timesheet!G219,\"\")","v":""},{"$f":"IF(Timesheet!P219>0,Timesheet!J219,\"\")","v":""},"",{"$f":"IFERROR(VLOOKUP(K219,IF(K219=3165,AL$2:AM$2,ESG!A$2:E$54),IF(K219=3165,2,5),0),0)","v":0},{"$f":"IF(Timesheet!R219>0,Timesheet!G219,\"\")","v":""},{"$f":"IF(Timesheet!R219>0,Timesheet!J219,\"\")","v":""},{"$f":"IFERROR(VLOOKUP(M219,ESG!M$2:N$13,2,FALSE),N219)","v":""},{"$f":"IFERROR(VLOOKUP(O219,IF(O219=3165,AL$2:AM$2,ESG!A$2:F$54),IF(O219=3165,2,6),0),0)","v":0},{"$f":"IF(Timesheet!T219>0,Timesheet!G219,\"\")","v":""},{"$f":"IF(Timesheet!T219>0,Timesheet!J219,\"\")","v":""},{"$f":"IFERROR(VLOOKUP(Q219,ESG!M$2:N$13,2,FALSE),R219)","v":""},{"$f":"IFERROR(VLOOKUP(S219,IF(S219=3165,AL$2:AM$2,ESG!A$2:G$54),IF(S219=3165,2,7),0),0)","v":0},{"$f":"IF(Timesheet!V219>0,Timesheet!G219,\"\")","v":""},{"$f":"IF(Timesheet!V219>0,Timesheet!J219,\"\")","v":""},{"$f":"IFERROR(VLOOKUP(U219,ESG!M$2:N$13,2,FALSE),V219)","v":""},{"$f":"IFERROR(VLOOKUP(W219,IF(W219=3165,AL$2:AM$2,ESG!A$2:H$54),IF(W219=3165,2,8),0),0)","v":0},{"$f":"IF(Timesheet!X219>0,Timesheet!G219,\"\")","v":""},{"$f":"IF(Timesheet!X219>0,Timesheet!J219,\"\")","v":""},"",{"$f":"IFERROR(VLOOKUP(AA219,IF(AA219=3165,AL$2:AM$2,ESG!A$2:I$54),IF(AA219=3165,2,9),0),0)","v":0},{"$f":"IF(Timesheet!Z219>0,Timesheet!G219,\"\")","v":""},{"$f":"IF(Timesheet!Z219>0,Timesheet!J219,\"\")","v":""},"",{"$f":"IFERROR(VLOOKUP(AE219,IF(AE219=3165,AL$2:AM$2,ESG!A$2:J$54),IF(AE219=3165,2,10),0),0)","v":0},{"$f":"IF(Timesheet!AB219>0,Timesheet!G219,\"\")","v":""},{"$f":"IF(Timesheet!AB219>0,Timesheet!J219,\"\")","v":""},"",{"$f":"IFERROR(VLOOKUP(AI219,IF(AI219=3165,AL$2:AM$2,ESG!A$2:K$54),IF(AI219=3165,2,11),0),0)","v":0}]
[{"$f":"IF(Timesheet!L220>0,Timesheet!G220,\"\")","v":""},{"$f":"IF(Timesheet!L220>0,Timesheet!J220,\"\")","v":""},"",{"$f":"IFERROR(VLOOKUP(C220,IF(C220=3165,AL$2:AM$2,ESG!A$2:C$54),IF(C220=3165,2,3),0),0)","v":0},{"$f":"IF(Timesheet!N220>0,Timesheet!G220,\"\")","v":""},{"$f":"IF(Timesheet!N220>0,Timesheet!J220,\"\")","v":""},"",{"$f":"IFERROR(VLOOKUP(G220,IF(G220=3165,AL$2:AM$2,ESG!A$2:D$54),IF(G220=3165,2,4),0),0)","v":0},{"$f":"IF(Timesheet!P220>0,Timesheet!G220,\"\")","v":""},{"$f":"IF(Timesheet!P220>0,Timesheet!J220,\"\")","v":""},"",{"$f":"IFERROR(VLOOKUP(K220,IF(K220=3165,AL$2:AM$2,ESG!A$2:E$54),IF(K220=3165,2,5),0),0)","v":0},{"$f":"IF(Timesheet!R220>0,Timesheet!G220,\"\")","v":""},{"$f":"IF(Timesheet!R220>0,Timesheet!J220,\"\")","v":""},{"$f":"IFERROR(VLOOKUP(M220,ESG!M$2:N$13,2,FALSE),N220)","v":""},{"$f":"IFERROR(VLOOKUP(O220,IF(O220=3165,AL$2:AM$2,ESG!A$2:F$54),IF(O220=3165,2,6),0),0)","v":0},{"$f":"IF(Timesheet!T220>0,Timesheet!G220,\"\")","v":""},{"$f":"IF(Timesheet!T220>0,Timesheet!J220,\"\")","v":""},{"$f":"IFERROR(VLOOKUP(Q220,ESG!M$2:N$13,2,FALSE),R220)","v":""},{"$f":"IFERROR(VLOOKUP(S220,IF(S220=3165,AL$2:AM$2,ESG!A$2:G$54),IF(S220=3165,2,7),0),0)","v":0},{"$f":"IF(Timesheet!V220>0,Timesheet!G220,\"\")","v":""},{"$f":"IF(Timesheet!V220>0,Timesheet!J220,\"\")","v":""},{"$f":"IFERROR(VLOOKUP(U220,ESG!M$2:N$13,2,FALSE),V220)","v":""},{"$f":"IFERROR(VLOOKUP(W220,IF(W220=3165,AL$2:AM$2,ESG!A$2:H$54),IF(W220=3165,2,8),0),0)","v":0},{"$f":"IF(Timesheet!X220>0,Timesheet!G220,\"\")","v":""},{"$f":"IF(Timesheet!X220>0,Timesheet!J220,\"\")","v":""},"",{"$f":"IFERROR(VLOOKUP(AA220,IF(AA220=3165,AL$2:AM$2,ESG!A$2:I$54),IF(AA220=3165,2,9),0),0)","v":0},{"$f":"IF(Timesheet!Z220>0,Timesheet!G220,\"\")","v":""},{"$f":"IF(Timesheet!Z220>0,Timesheet!J220,\"\")","v":""},"",{"$f":"IFERROR(VLOOKUP(AE220,IF(AE220=3165,AL$2:AM$2,ESG!A$2:J$54),IF(AE220=3165,2,10),0),0)","v":0},{"$f":"IF(Timesheet!AB220>0,Timesheet!G220,\"\")","v":""},{"$f":"IF(Timesheet!AB220>0,Timesheet!J220,\"\")","v":""},"",{"$f":"IFERROR(VLOOKUP(AI220,IF(AI220=3165,AL$2:AM$2,ESG!A$2:K$54),IF(AI220=3165,2,11),0),0)","v":0}]
[{"$f":"IF(Timesheet!L221>0,Timesheet!G221,\"\")","v":""},{"$f":"IF(Timesheet!L221>0,Timesheet!J221,\"\")","v":""},"",{"$f":"IFERROR(VLOOKUP(C221,IF(C221=3165,AL$2:AM$2,ESG!A$2:C$54),IF(C221=3165,2,3),0),0)","v":0},{"$f":"IF(Timesheet!N221>0,Timesheet!G221,\"\")","v":""},{"$f":"IF(Timesheet!N221>0,Timesheet!J221,\"\")","v":""},"",{"$f":"IFERROR(VLOOKUP(G221,IF(G221=3165,AL$2:AM$2,ESG!A$2:D$54),IF(G221=3165,2,4),0),0)","v":0},{"$f":"IF(Timesheet!P221>0,Timesheet!G221,\"\")","v":""},{"$f":"IF(Timesheet!P221>0,Timesheet!J221,\"\")","v":""},"",{"$f":"IFERROR(VLOOKUP(K221,IF(K221=3165,AL$2:AM$2,ESG!A$2:E$54),IF(K221=3165,2,5),0),0)","v":0},{"$f":"IF(Timesheet!R221>0,Timesheet!G221,\"\")","v":""},{"$f":"IF(Timesheet!R221>0,Timesheet!J221,\"\")","v":""},{"$f":"IFERROR(VLOOKUP(M221,ESG!M$2:N$13,2,FALSE),N221)","v":""},{"$f":"IFERROR(VLOOKUP(O221,IF(O221=3165,AL$2:AM$2,ESG!A$2:F$54),IF(O221=3165,2,6),0),0)","v":0},{"$f":"IF(Timesheet!T221>0,Timesheet!G221,\"\")","v":""},{"$f":"IF(Timesheet!T221>0,Timesheet!J221,\"\")","v":""},{"$f":"IFERROR(VLOOKUP(Q221,ESG!M$2:N$13,2,FALSE),R221)","v":""},{"$f":"IFERROR(VLOOKUP(S221,IF(S221=3165,AL$2:AM$2,ESG!A$2:G$54),IF(S221=3165,2,7),0),0)","v":0},{"$f":"IF(Timesheet!V221>0,Timesheet!G221,\"\")","v":""},{"$f":"IF(Timesheet!V221>0,Timesheet!J221,\"\")","v":""},{"$f":"IFERROR(VLOOKUP(U221,ESG!M$2:N$13,2,FALSE),V221)","v":""},{"$f":"IFERROR(VLOOKUP(W221,IF(W221=3165,AL$2:AM$2,ESG!A$2:H$54),IF(W221=3165,2,8),0),0)","v":0},{"$f":"IF(Timesheet!X221>0,Timesheet!G221,\"\")","v":""},{"$f":"IF(Timesheet!X221>0,Timesheet!J221,\"\")","v":""},"",{"$f":"IFERROR(VLOOKUP(AA221,IF(AA221=3165,AL$2:AM$2,ESG!A$2:I$54),IF(AA221=3165,2,9),0),0)","v":0},{"$f":"IF(Timesheet!Z221>0,Timesheet!G221,\"\")","v":""},{"$f":"IF(Timesheet!Z221>0,Timesheet!J221,\"\")","v":""},"",{"$f":"IFERROR(VLOOKUP(AE221,IF(AE221=3165,AL$2:AM$2,ESG!A$2:J$54),IF(AE221=3165,2,10),0),0)","v":0},{"$f":"IF(Timesheet!AB221>0,Timesheet!G221,\"\")","v":""},{"$f":"IF(Timesheet!AB221>0,Timesheet!J221,\"\")","v":""},"",{"$f":"IFERROR(VLOOKUP(AI221,IF(AI221=3165,AL$2:AM$2,ESG!A$2:K$54),IF(AI221=3165,2,11),0),0)","v":0}]
[{"$f":"IF(Timesheet!L222>0,Timesheet!G222,\"\")","v":""},{"$f":"IF(Timesheet!L222>0,Timesheet!J222,\"\")","v":""},"",{"$f":"IFERROR(VLOOKUP(C222,IF(C222=3165,AL$2:AM$2,ESG!A$2:C$54),IF(C222=3165,2,3),0),0)","v":0},{"$f":"IF(Timesheet!N222>0,Timesheet!G222,\"\")","v":""},{"$f":"IF(Timesheet!N222>0,Timesheet!J222,\"\")","v":""},"",{"$f":"IFERROR(VLOOKUP(G222,IF(G222=3165,AL$2:AM$2,ESG!A$2:D$54),IF(G222=3165,2,4),0),0)","v":0},{"$f":"IF(Timesheet!P222>0,Timesheet!G222,\"\")","v":""},{"$f":"IF(Timesheet!P222>0,Timesheet!J222,\"\")","v":""},"",{"$f":"IFERROR(VLOOKUP(K222,IF(K222=3165,AL$2:AM$2,ESG!A$2:E$54),IF(K222=3165,2,5),0),0)","v":0},{"$f":"IF(Timesheet!R222>0,Timesheet!G222,\"\")","v":""},{"$f":"IF(Timesheet!R222>0,Timesheet!J222,\"\")","v":""},{"$f":"IFERROR(VLOOKUP(M222,ESG!M$2:N$13,2,FALSE),N222)","v":""},{"$f":"IFERROR(VLOOKUP(O222,IF(O222=3165,AL$2:AM$2,ESG!A$2:F$54),IF(O222=3165,2,6),0),0)","v":0},{"$f":"IF(Timesheet!T222>0,Timesheet!G222,\"\")","v":""},{"$f":"IF(Timesheet!T222>0,Timesheet!J222,\"\")","v":""},{"$f":"IFERROR(VLOOKUP(Q222,ESG!M$2:N$13,2,FALSE),R222)","v":""},{"$f":"IFERROR(VLOOKUP(S222,IF(S222=3165,AL$2:AM$2,ESG!A$2:G$54),IF(S222=3165,2,7),0),0)","v":0},{"$f":"IF(Timesheet!V222>0,Timesheet!G222,\"\")","v":""},{"$f":"IF(Timesheet!V222>0,Timesheet!J222,\"\")","v":""},{"$f":"IFERROR(VLOOKUP(U222,ESG!M$2:N$13,2,FALSE),V222)","v":""},{"$f":"IFERROR(VLOOKUP(W222,IF(W222=3165,AL$2:AM$2,ESG!A$2:H$54),IF(W222=3165,2,8),0),0)","v":0},{"$f":"IF(Timesheet!X222>0,Timesheet!G222,\"\")","v":""},{"$f":"IF(Timesheet!X222>0,Timesheet!J222,\"\")","v":""},"",{"$f":"IFERROR(VLOOKUP(AA222,IF(AA222=3165,AL$2:AM$2,ESG!A$2:I$54),IF(AA222=3165,2,9),0),0)","v":0},{"$f":"IF(Timesheet!Z222>0,Timesheet!G222,\"\")","v":""},{"$f":"IF(Timesheet!Z222>0,Timesheet!J222,\"\")","v":""},"",{"$f":"IFERROR(VLOOKUP(AE222,IF(AE222=3165,AL$2:AM$2,ESG!A$2:J$54),IF(AE222=3165,2,10),0),0)","v":0},{"$f":"IF(Timesheet!AB222>0,Timesheet!G222,\"\")","v":""},{"$f":"IF(Timesheet!AB222>0,Timesheet!J222,\"\")","v":""},"",{"$f":"IFERROR(VLOOKUP(AI222,IF(AI222=3165,AL$2:AM$2,ESG!A$2:K$54),IF(AI222=3165,2,11),0),0)","v":0}]
[{"$f":"IF(Timesheet!L223>0,Timesheet!G223,\"\")","v":""},{"$f":"IF(Timesheet!L223>0,Timesheet!J223,\"\")","v":""},"",{"$f":"IFERROR(VLOOKUP(C223,IF(C223=3165,AL$2:AM$2,ESG!A$2:C$54),IF(C223=3165,2,3),0),0)","v":0},{"$f":"IF(Timesheet!N223>0,Timesheet!G223,\"\")","v":""},{"$f":"IF(Timesheet!N223>0,Timesheet!J223,\"\")","v":""},"",{"$f":"IFERROR(VLOOKUP(G223,IF(G223=3165,AL$2:AM$2,ESG!A$2:D$54),IF(G223=3165,2,4),0),0)","v":0},{"$f":"IF(Timesheet!P223>0,Timesheet!G223,\"\")","v":""},{"$f":"IF(Timesheet!P223>0,Timesheet!J223,\"\")","v":""},"",{"$f":"IFERROR(VLOOKUP(K223,IF(K223=3165,AL$2:AM$2,ESG!A$2:E$54),IF(K223=3165,2,5),0),0)","v":0},{"$f":"IF(Timesheet!R223>0,Timesheet!G223,\"\")","v":""},{"$f":"IF(Timesheet!R223>0,Timesheet!J223,\"\")","v":""},{"$f":"IFERROR(VLOOKUP(M223,ESG!M$2:N$13,2,FALSE),N223)","v":""},{"$f":"IFERROR(VLOOKUP(O223,IF(O223=3165,AL$2:AM$2,ESG!A$2:F$54),IF(O223=3165,2,6),0),0)","v":0},{"$f":"IF(Timesheet!T223>0,Timesheet!G223,\"\")","v":""},{"$f":"IF(Timesheet!T223>0,Timesheet!J223,\"\")","v":""},{"$f":"IFERROR(VLOOKUP(Q223,ESG!M$2:N$13,2,FALSE),R223)","v":""},{"$f":"IFERROR(VLOOKUP(S223,IF(S223=3165,AL$2:AM$2,ESG!A$2:G$54),IF(S223=3165,2,7),0),0)","v":0},{"$f":"IF(Timesheet!V223>0,Timesheet!G223,\"\")","v":""},{"$f":"IF(Timesheet!V223>0,Timesheet!J223,\"\")","v":""},{"$f":"IFERROR(VLOOKUP(U223,ESG!M$2:N$13,2,FALSE),V223)","v":""},{"$f":"IFERROR(VLOOKUP(W223,IF(W223=3165,AL$2:AM$2,ESG!A$2:H$54),IF(W223=3165,2,8),0),0)","v":0},{"$f":"IF(Timesheet!X223>0,Timesheet!G223,\"\")","v":""},{"$f":"IF(Timesheet!X223>0,Timesheet!J223,\"\")","v":""},"",{"$f":"IFERROR(VLOOKUP(AA223,IF(AA223=3165,AL$2:AM$2,ESG!A$2:I$54),IF(AA223=3165,2,9),0),0)","v":0},{"$f":"IF(Timesheet!Z223>0,Timesheet!G223,\"\")","v":""},{"$f":"IF(Timesheet!Z223>0,Timesheet!J223,\"\")","v":""},"",{"$f":"IFERROR(VLOOKUP(AE223,IF(AE223=3165,AL$2:AM$2,ESG!A$2:J$54),IF(AE223=3165,2,10),0),0)","v":0},{"$f":"IF(Timesheet!AB223>0,Timesheet!G223,\"\")","v":""},{"$f":"IF(Timesheet!AB223>0,Timesheet!J223,\"\")","v":""},"",{"$f":"IFERROR(VLOOKUP(AI223,IF(AI223=3165,AL$2:AM$2,ESG!A$2:K$54),IF(AI223=3165,2,11),0),0)","v":0}]
[{"$f":"IF(Timesheet!L224>0,Timesheet!G224,\"\")","v":""},{"$f":"IF(Timesheet!L224>0,Timesheet!J224,\"\")","v":""},"",{"$f":"IFERROR(VLOOKUP(C224,IF(C224=3165,AL$2:AM$2,ESG!A$2:C$54),IF(C224=3165,2,3),0),0)","v":0},{"$f":"IF(Timesheet!N224>0,Timesheet!G224,\"\")","v":""},{"$f":"IF(Timesheet!N224>0,Timesheet!J224,\"\")","v":""},"",{"$f":"IFERROR(VLOOKUP(G224,IF(G224=3165,AL$2:AM$2,ESG!A$2:D$54),IF(G224=3165,2,4),0),0)","v":0},{"$f":"IF(Timesheet!P224>0,Timesheet!G224,\"\")","v":""},{"$f":"IF(Timesheet!P224>0,Timesheet!J224,\"\")","v":""},"",{"$f":"IFERROR(VLOOKUP(K224,IF(K224=3165,AL$2:AM$2,ESG!A$2:E$54),IF(K224=3165,2,5),0),0)","v":0},{"$f":"IF(Timesheet!R224>0,Timesheet!G224,\"\")","v":""},{"$f":"IF(Timesheet!R224>0,Timesheet!J224,\"\")","v":""},{"$f":"IFERROR(VLOOKUP(M224,ESG!M$2:N$13,2,FALSE),N224)","v":""},{"$f":"IFERROR(VLOOKUP(O224,IF(O224=3165,AL$2:AM$2,ESG!A$2:F$54),IF(O224=3165,2,6),0),0)","v":0},{"$f":"IF(Timesheet!T224>0,Timesheet!G224,\"\")","v":""},{"$f":"IF(Timesheet!T224>0,Timesheet!J224,\"\")","v":""},{"$f":"IFERROR(VLOOKUP(Q224,ESG!M$2:N$13,2,FALSE),R224)","v":""},{"$f":"IFERROR(VLOOKUP(S224,IF(S224=3165,AL$2:AM$2,ESG!A$2:G$54),IF(S224=3165,2,7),0),0)","v":0},{"$f":"IF(Timesheet!V224>0,Timesheet!G224,\"\")","v":""},{"$f":"IF(Timesheet!V224>0,Timesheet!J224,\"\")","v":""},{"$f":"IFERROR(VLOOKUP(U224,ESG!M$2:N$13,2,FALSE),V224)","v":""},{"$f":"IFERROR(VLOOKUP(W224,IF(W224=3165,AL$2:AM$2,ESG!A$2:H$54),IF(W224=3165,2,8),0),0)","v":0},{"$f":"IF(Timesheet!X224>0,Timesheet!G224,\"\")","v":""},{"$f":"IF(Timesheet!X224>0,Timesheet!J224,\"\")","v":""},"",{"$f":"IFERROR(VLOOKUP(AA224,IF(AA224=3165,AL$2:AM$2,ESG!A$2:I$54),IF(AA224=3165,2,9),0),0)","v":0},{"$f":"IF(Timesheet!Z224>0,Timesheet!G224,\"\")","v":""},{"$f":"IF(Timesheet!Z224>0,Timesheet!J224,\"\")","v":""},"",{"$f":"IFERROR(VLOOKUP(AE224,IF(AE224=3165,AL$2:AM$2,ESG!A$2:J$54),IF(AE224=3165,2,10),0),0)","v":0},{"$f":"IF(Timesheet!AB224>0,Timesheet!G224,\"\")","v":""},{"$f":"IF(Timesheet!AB224>0,Timesheet!J224,\"\")","v":""},"",{"$f":"IFERROR(VLOOKUP(AI224,IF(AI224=3165,AL$2:AM$2,ESG!A$2:K$54),IF(AI224=3165,2,11),0),0)","v":0}]
[{"$f":"IF(Timesheet!L225>0,Timesheet!G225,\"\")","v":""},{"$f":"IF(Timesheet!L225>0,Timesheet!J225,\"\")","v":""},"",{"$f":"IFERROR(VLOOKUP(C225,IF(C225=3165,AL$2:AM$2,ESG!A$2:C$54),IF(C225=3165,2,3),0),0)","v":0},{"$f":"IF(Timesheet!N225>0,Timesheet!G225,\"\")","v":""},{"$f":"IF(Timesheet!N225>0,Timesheet!J225,\"\")","v":""},"",{"$f":"IFERROR(VLOOKUP(G225,IF(G225=3165,AL$2:AM$2,ESG!A$2:D$54),IF(G225=3165,2,4),0),0)","v":0},{"$f":"IF(Timesheet!P225>0,Timesheet!G225,\"\")","v":""},{"$f":"IF(Timesheet!P225>0,Timesheet!J225,\"\")","v":""},"",{"$f":"IFERROR(VLOOKUP(K225,IF(K225=3165,AL$2:AM$2,ESG!A$2:E$54),IF(K225=3165,2,5),0),0)","v":0},{"$f":"IF(Timesheet!R225>0,Timesheet!G225,\"\")","v":""},{"$f":"IF(Timesheet!R225>0,Timesheet!J225,\"\")","v":""},{"$f":"IFERROR(VLOOKUP(M225,ESG!M$2:N$13,2,FALSE),N225)","v":""},{"$f":"IFERROR(VLOOKUP(O225,IF(O225=3165,AL$2:AM$2,ESG!A$2:F$54),IF(O225=3165,2,6),0),0)","v":0},{"$f":"IF(Timesheet!T225>0,Timesheet!G225,\"\")","v":""},{"$f":"IF(Timesheet!T225>0,Timesheet!J225,\"\")","v":""},{"$f":"IFERROR(VLOOKUP(Q225,ESG!M$2:N$13,2,FALSE),R225)","v":""},{"$f":"IFERROR(VLOOKUP(S225,IF(S225=3165,AL$2:AM$2,ESG!A$2:G$54),IF(S225=3165,2,7),0),0)","v":0},{"$f":"IF(Timesheet!V225>0,Timesheet!G225,\"\")","v":""},{"$f":"IF(Timesheet!V225>0,Timesheet!J225,\"\")","v":""},{"$f":"IFERROR(VLOOKUP(U225,ESG!M$2:N$13,2,FALSE),V225)","v":""},{"$f":"IFERROR(VLOOKUP(W225,IF(W225=3165,AL$2:AM$2,ESG!A$2:H$54),IF(W225=3165,2,8),0),0)","v":0},{"$f":"IF(Timesheet!X225>0,Timesheet!G225,\"\")","v":""},{"$f":"IF(Timesheet!X225>0,Timesheet!J225,\"\")","v":""},"",{"$f":"IFERROR(VLOOKUP(AA225,IF(AA225=3165,AL$2:AM$2,ESG!A$2:I$54),IF(AA225=3165,2,9),0),0)","v":0},{"$f":"IF(Timesheet!Z225>0,Timesheet!G225,\"\")","v":""},{"$f":"IF(Timesheet!Z225>0,Timesheet!J225,\"\")","v":""},"",{"$f":"IFERROR(VLOOKUP(AE225,IF(AE225=3165,AL$2:AM$2,ESG!A$2:J$54),IF(AE225=3165,2,10),0),0)","v":0},{"$f":"IF(Timesheet!AB225>0,Timesheet!G225,\"\")","v":""},{"$f":"IF(Timesheet!AB225>0,Timesheet!J225,\"\")","v":""},"",{"$f":"IFERROR(VLOOKUP(AI225,IF(AI225=3165,AL$2:AM$2,ESG!A$2:K$54),IF(AI225=3165,2,11),0),0)","v":0}]
[{"$f":"IF(Timesheet!L226>0,Timesheet!G226,\"\")","v":""},{"$f":"IF(Timesheet!L226>0,Timesheet!J226,\"\")","v":""},"",{"$f":"IFERROR(VLOOKUP(C226,IF(C226=3165,AL$2:AM$2,ESG!A$2:C$54),IF(C226=3165,2,3),0),0)","v":0},{"$f":"IF(Timesheet!N226>0,Timesheet!G226,\"\")","v":""},{"$f":"IF(Timesheet!N226>0,Timesheet!J226,\"\")","v":""},"",{"$f":"IFERROR(VLOOKUP(G226,IF(G226=3165,AL$2:AM$2,ESG!A$2:D$54),IF(G226=3165,2,4),0),0)","v":0},{"$f":"IF(Timesheet!P226>0,Timesheet!G226,\"\")","v":""},{"$f":"IF(Timesheet!P226>0,Timesheet!J226,\"\")","v":""},"",{"$f":"IFERROR(VLOOKUP(K226,IF(K226=3165,AL$2:AM$2,ESG!A$2:E$54),IF(K226=3165,2,5),0),0)","v":0},{"$f":"IF(Timesheet!R226>0,Timesheet!G226,\"\")","v":""},{"$f":"IF(Timesheet!R226>0,Timesheet!J226,\"\")","v":""},{"$f":"IFERROR(VLOOKUP(M226,ESG!M$2:N$13,2,FALSE),N226)","v":""},{"$f":"IFERROR(VLOOKUP(O226,IF(O226=3165,AL$2:AM$2,ESG!A$2:F$54),IF(O226=3165,2,6),0),0)","v":0},{"$f":"IF(Timesheet!T226>0,Timesheet!G226,\"\")","v":""},{"$f":"IF(Timesheet!T226>0,Timesheet!J226,\"\")","v":""},{"$f":"IFERROR(VLOOKUP(Q226,ESG!M$2:N$13,2,FALSE),R226)","v":""},{"$f":"IFERROR(VLOOKUP(S226,IF(S226=3165,AL$2:AM$2,ESG!A$2:G$54),IF(S226=3165,2,7),0),0)","v":0},{"$f":"IF(Timesheet!V226>0,Timesheet!G226,\"\")","v":""},{"$f":"IF(Timesheet!V226>0,Timesheet!J226,\"\")","v":""},{"$f":"IFERROR(VLOOKUP(U226,ESG!M$2:N$13,2,FALSE),V226)","v":""},{"$f":"IFERROR(VLOOKUP(W226,IF(W226=3165,AL$2:AM$2,ESG!A$2:H$54),IF(W226=3165,2,8),0),0)","v":0},{"$f":"IF(Timesheet!X226>0,Timesheet!G226,\"\")","v":""},{"$f":"IF(Timesheet!X226>0,Timesheet!J226,\"\")","v":""},"",{"$f":"IFERROR(VLOOKUP(AA226,IF(AA226=3165,AL$2:AM$2,ESG!A$2:I$54),IF(AA226=3165,2,9),0),0)","v":0},{"$f":"IF(Timesheet!Z226>0,Timesheet!G226,\"\")","v":""},{"$f":"IF(Timesheet!Z226>0,Timesheet!J226,\"\")","v":""},"",{"$f":"IFERROR(VLOOKUP(AE226,IF(AE226=3165,AL$2:AM$2,ESG!A$2:J$54),IF(AE226=3165,2,10),0),0)","v":0},{"$f":"IF(Timesheet!AB226>0,Timesheet!G226,\"\")","v":""},{"$f":"IF(Timesheet!AB226>0,Timesheet!J226,\"\")","v":""},"",{"$f":"IFERROR(VLOOKUP(AI226,IF(AI226=3165,AL$2:AM$2,ESG!A$2:K$54),IF(AI226=3165,2,11),0),0)","v":0}]
[{"$f":"IF(Timesheet!L227>0,Timesheet!G227,\"\")","v":""},{"$f":"IF(Timesheet!L227>0,Timesheet!J227,\"\")","v":""},"",{"$f":"IFERROR(VLOOKUP(C227,IF(C227=3165,AL$2:AM$2,ESG!A$2:C$54),IF(C227=3165,2,3),0),0)","v":0},{"$f":"IF(Timesheet!N227>0,Timesheet!G227,\"\")","v":""},{"$f":"IF(Timesheet!N227>0,Timesheet!J227,\"\")","v":""},"",{"$f":"IFERROR(VLOOKUP(G227,IF(G227=3165,AL$2:AM$2,ESG!A$2:D$54),IF(G227=3165,2,4),0),0)","v":0},{"$f":"IF(Timesheet!P227>0,Timesheet!G227,\"\")","v":""},{"$f":"IF(Timesheet!P227>0,Timesheet!J227,\"\")","v":""},"",{"$f":"IFERROR(VLOOKUP(K227,IF(K227=3165,AL$2:AM$2,ESG!A$2:E$54),IF(K227=3165,2,5),0),0)","v":0},{"$f":"IF(Timesheet!R227>0,Timesheet!G227,\"\")","v":""},{"$f":"IF(Timesheet!R227>0,Timesheet!J227,\"\")","v":""},{"$f":"IFERROR(VLOOKUP(M227,ESG!M$2:N$13,2,FALSE),N227)","v":""},{"$f":"IFERROR(VLOOKUP(O227,IF(O227=3165,AL$2:AM$2,ESG!A$2:F$54),IF(O227=3165,2,6),0),0)","v":0},{"$f":"IF(Timesheet!T227>0,Timesheet!G227,\"\")","v":""},{"$f":"IF(Timesheet!T227>0,Timesheet!J227,\"\")","v":""},{"$f":"IFERROR(VLOOKUP(Q227,ESG!M$2:N$13,2,FALSE),R227)","v":""},{"$f":"IFERROR(VLOOKUP(S227,IF(S227=3165,AL$2:AM$2,ESG!A$2:G$54),IF(S227=3165,2,7),0),0)","v":0},{"$f":"IF(Timesheet!V227>0,Timesheet!G227,\"\")","v":""},{"$f":"IF(Timesheet!V227>0,Timesheet!J227,\"\")","v":""},{"$f":"IFERROR(VLOOKUP(U227,ESG!M$2:N$13,2,FALSE),V227)","v":""},{"$f":"IFERROR(VLOOKUP(W227,IF(W227=3165,AL$2:AM$2,ESG!A$2:H$54),IF(W227=3165,2,8),0),0)","v":0},{"$f":"IF(Timesheet!X227>0,Timesheet!G227,\"\")","v":""},{"$f":"IF(Timesheet!X227>0,Timesheet!J227,\"\")","v":""},"",{"$f":"IFERROR(VLOOKUP(AA227,IF(AA227=3165,AL$2:AM$2,ESG!A$2:I$54),IF(AA227=3165,2,9),0),0)","v":0},{"$f":"IF(Timesheet!Z227>0,Timesheet!G227,\"\")","v":""},{"$f":"IF(Timesheet!Z227>0,Timesheet!J227,\"\")","v":""},"",{"$f":"IFERROR(VLOOKUP(AE227,IF(AE227=3165,AL$2:AM$2,ESG!A$2:J$54),IF(AE227=3165,2,10),0),0)","v":0},{"$f":"IF(Timesheet!AB227>0,Timesheet!G227,\"\")","v":""},{"$f":"IF(Timesheet!AB227>0,Timesheet!J227,\"\")","v":""},"",{"$f":"IFERROR(VLOOKUP(AI227,IF(AI227=3165,AL$2:AM$2,ESG!A$2:K$54),IF(AI227=3165,2,11),0),0)","v":0}]
[{"$f":"IF(Timesheet!L228>0,Timesheet!G228,\"\")","v":""},{"$f":"IF(Timesheet!L228>0,Timesheet!J228,\"\")","v":""},"",{"$f":"IFERROR(VLOOKUP(C228,IF(C228=3165,AL$2:AM$2,ESG!A$2:C$54),IF(C228=3165,2,3),0),0)","v":0},{"$f":"IF(Timesheet!N228>0,Timesheet!G228,\"\")","v":""},{"$f":"IF(Timesheet!N228>0,Timesheet!J228,\"\")","v":""},"",{"$f":"IFERROR(VLOOKUP(G228,IF(G228=3165,AL$2:AM$2,ESG!A$2:D$54),IF(G228=3165,2,4),0),0)","v":0},{"$f":"IF(Timesheet!P228>0,Timesheet!G228,\"\")","v":""},{"$f":"IF(Timesheet!P228>0,Timesheet!J228,\"\")","v":""},"",{"$f":"IFERROR(VLOOKUP(K228,IF(K228=3165,AL$2:AM$2,ESG!A$2:E$54),IF(K228=3165,2,5),0),0)","v":0},{"$f":"IF(Timesheet!R228>0,Timesheet!G228,\"\")","v":""},{"$f":"IF(Timesheet!R228>0,Timesheet!J228,\"\")","v":""},{"$f":"IFERROR(VLOOKUP(M228,ESG!M$2:N$13,2,FALSE),N228)","v":""},{"$f":"IFERROR(VLOOKUP(O228,IF(O228=3165,AL$2:AM$2,ESG!A$2:F$54),IF(O228=3165,2,6),0),0)","v":0},{"$f":"IF(Timesheet!T228>0,Timesheet!G228,\"\")","v":""},{"$f":"IF(Timesheet!T228>0,Timesheet!J228,\"\")","v":""},{"$f":"IFERROR(VLOOKUP(Q228,ESG!M$2:N$13,2,FALSE),R228)","v":""},{"$f":"IFERROR(VLOOKUP(S228,IF(S228=3165,AL$2:AM$2,ESG!A$2:G$54),IF(S228=3165,2,7),0),0)","v":0},{"$f":"IF(Timesheet!V228>0,Timesheet!G228,\"\")","v":""},{"$f":"IF(Timesheet!V228>0,Timesheet!J228,\"\")","v":""},{"$f":"IFERROR(VLOOKUP(U228,ESG!M$2:N$13,2,FALSE),V228)","v":""},{"$f":"IFERROR(VLOOKUP(W228,IF(W228=3165,AL$2:AM$2,ESG!A$2:H$54),IF(W228=3165,2,8),0),0)","v":0},{"$f":"IF(Timesheet!X228>0,Timesheet!G228,\"\")","v":""},{"$f":"IF(Timesheet!X228>0,Timesheet!J228,\"\")","v":""},"",{"$f":"IFERROR(VLOOKUP(AA228,IF(AA228=3165,AL$2:AM$2,ESG!A$2:I$54),IF(AA228=3165,2,9),0),0)","v":0},{"$f":"IF(Timesheet!Z228>0,Timesheet!G228,\"\")","v":""},{"$f":"IF(Timesheet!Z228>0,Timesheet!J228,\"\")","v":""},"",{"$f":"IFERROR(VLOOKUP(AE228,IF(AE228=3165,AL$2:AM$2,ESG!A$2:J$54),IF(AE228=3165,2,10),0),0)","v":0},{"$f":"IF(Timesheet!AB228>0,Timesheet!G228,\"\")","v":""},{"$f":"IF(Timesheet!AB228>0,Timesheet!J228,\"\")","v":""},"",{"$f":"IFERROR(VLOOKUP(AI228,IF(AI228=3165,AL$2:AM$2,ESG!A$2:K$54),IF(AI228=3165,2,11),0),0)","v":0}]
[{"$f":"IF(Timesheet!L229>0,Timesheet!G229,\"\")","v":""},{"$f":"IF(Timesheet!L229>0,Timesheet!J229,\"\")","v":""},"",{"$f":"IFERROR(VLOOKUP(C229,IF(C229=3165,AL$2:AM$2,ESG!A$2:C$54),IF(C229=3165,2,3),0),0)","v":0},{"$f":"IF(Timesheet!N229>0,Timesheet!G229,\"\")","v":""},{"$f":"IF(Timesheet!N229>0,Timesheet!J229,\"\")","v":""},"",{"$f":"IFERROR(VLOOKUP(G229,IF(G229=3165,AL$2:AM$2,ESG!A$2:D$54),IF(G229=3165,2,4),0),0)","v":0},{"$f":"IF(Timesheet!P229>0,Timesheet!G229,\"\")","v":""},{"$f":"IF(Timesheet!P229>0,Timesheet!J229,\"\")","v":""},"",{"$f":"IFERROR(VLOOKUP(K229,IF(K229=3165,AL$2:AM$2,ESG!A$2:E$54),IF(K229=3165,2,5),0),0)","v":0},{"$f":"IF(Timesheet!R229>0,Timesheet!G229,\"\")","v":""},{"$f":"IF(Timesheet!R229>0,Timesheet!J229,\"\")","v":""},{"$f":"IFERROR(VLOOKUP(M229,ESG!M$2:N$13,2,FALSE),N229)","v":""},{"$f":"IFERROR(VLOOKUP(O229,IF(O229=3165,AL$2:AM$2,ESG!A$2:F$54),IF(O229=3165,2,6),0),0)","v":0},{"$f":"IF(Timesheet!T229>0,Timesheet!G229,\"\")","v":""},{"$f":"IF(Timesheet!T229>0,Timesheet!J229,\"\")","v":""},{"$f":"IFERROR(VLOOKUP(Q229,ESG!M$2:N$13,2,FALSE),R229)","v":""},{"$f":"IFERROR(VLOOKUP(S229,IF(S229=3165,AL$2:AM$2,ESG!A$2:G$54),IF(S229=3165,2,7),0),0)","v":0},{"$f":"IF(Timesheet!V229>0,Timesheet!G229,\"\")","v":""},{"$f":"IF(Timesheet!V229>0,Timesheet!J229,\"\")","v":""},{"$f":"IFERROR(VLOOKUP(U229,ESG!M$2:N$13,2,FALSE),V229)","v":""},{"$f":"IFERROR(VLOOKUP(W229,IF(W229=3165,AL$2:AM$2,ESG!A$2:H$54),IF(W229=3165,2,8),0),0)","v":0},{"$f":"IF(Timesheet!X229>0,Timesheet!G229,\"\")","v":""},{"$f":"IF(Timesheet!X229>0,Timesheet!J229,\"\")","v":""},"",{"$f":"IFERROR(VLOOKUP(AA229,IF(AA229=3165,AL$2:AM$2,ESG!A$2:I$54),IF(AA229=3165,2,9),0),0)","v":0},{"$f":"IF(Timesheet!Z229>0,Timesheet!G229,\"\")","v":""},{"$f":"IF(Timesheet!Z229>0,Timesheet!J229,\"\")","v":""},"",{"$f":"IFERROR(VLOOKUP(AE229,IF(AE229=3165,AL$2:AM$2,ESG!A$2:J$54),IF(AE229=3165,2,10),0),0)","v":0},{"$f":"IF(Timesheet!AB229>0,Timesheet!G229,\"\")","v":""},{"$f":"IF(Timesheet!AB229>0,Timesheet!J229,\"\")","v":""},"",{"$f":"IFERROR(VLOOKUP(AI229,IF(AI229=3165,AL$2:AM$2,ESG!A$2:K$54),IF(AI229=3165,2,11),0),0)","v":0}]
[{"$f":"IF(Timesheet!L230>0,Timesheet!G230,\"\")","v":""},{"$f":"IF(Timesheet!L230>0,Timesheet!J230,\"\")","v":""},"",{"$f":"IFERROR(VLOOKUP(C230,IF(C230=3165,AL$2:AM$2,ESG!A$2:C$54),IF(C230=3165,2,3),0),0)","v":0},{"$f":"IF(Timesheet!N230>0,Timesheet!G230,\"\")","v":""},{"$f":"IF(Timesheet!N230>0,Timesheet!J230,\"\")","v":""},"",{"$f":"IFERROR(VLOOKUP(G230,IF(G230=3165,AL$2:AM$2,ESG!A$2:D$54),IF(G230=3165,2,4),0),0)","v":0},{"$f":"IF(Timesheet!P230>0,Timesheet!G230,\"\")","v":""},{"$f":"IF(Timesheet!P230>0,Timesheet!J230,\"\")","v":""},"",{"$f":"IFERROR(VLOOKUP(K230,IF(K230=3165,AL$2:AM$2,ESG!A$2:E$54),IF(K230=3165,2,5),0),0)","v":0},{"$f":"IF(Timesheet!R230>0,Timesheet!G230,\"\")","v":""},{"$f":"IF(Timesheet!R230>0,Timesheet!J230,\"\")","v":""},{"$f":"IFERROR(VLOOKUP(M230,ESG!M$2:N$13,2,FALSE),N230)","v":""},{"$f":"IFERROR(VLOOKUP(O230,IF(O230=3165,AL$2:AM$2,ESG!A$2:F$54),IF(O230=3165,2,6),0),0)","v":0},{"$f":"IF(Timesheet!T230>0,Timesheet!G230,\"\")","v":""},{"$f":"IF(Timesheet!T230>0,Timesheet!J230,\"\")","v":""},{"$f":"IFERROR(VLOOKUP(Q230,ESG!M$2:N$13,2,FALSE),R230)","v":""},{"$f":"IFERROR(VLOOKUP(S230,IF(S230=3165,AL$2:AM$2,ESG!A$2:G$54),IF(S230=3165,2,7),0),0)","v":0},{"$f":"IF(Timesheet!V230>0,Timesheet!G230,\"\")","v":""},{"$f":"IF(Timesheet!V230>0,Timesheet!J230,\"\")","v":""},{"$f":"IFERROR(VLOOKUP(U230,ESG!M$2:N$13,2,FALSE),V230)","v":""},{"$f":"IFERROR(VLOOKUP(W230,IF(W230=3165,AL$2:AM$2,ESG!A$2:H$54),IF(W230=3165,2,8),0),0)","v":0},{"$f":"IF(Timesheet!X230>0,Timesheet!G230,\"\")","v":""},{"$f":"IF(Timesheet!X230>0,Timesheet!J230,\"\")","v":""},"",{"$f":"IFERROR(VLOOKUP(AA230,IF(AA230=3165,AL$2:AM$2,ESG!A$2:I$54),IF(AA230=3165,2,9),0),0)","v":0},{"$f":"IF(Timesheet!Z230>0,Timesheet!G230,\"\")","v":""},{"$f":"IF(Timesheet!Z230>0,Timesheet!J230,\"\")","v":""},"",{"$f":"IFERROR(VLOOKUP(AE230,IF(AE230=3165,AL$2:AM$2,ESG!A$2:J$54),IF(AE230=3165,2,10),0),0)","v":0},{"$f":"IF(Timesheet!AB230>0,Timesheet!G230,\"\")","v":""},{"$f":"IF(Timesheet!AB230>0,Timesheet!J230,\"\")","v":""},"",{"$f":"IFERROR(VLOOKUP(AI230,IF(AI230=3165,AL$2:AM$2,ESG!A$2:K$54),IF(AI230=3165,2,11),0),0)","v":0}]
[{"$f":"IF(Timesheet!L231>0,Timesheet!G231,\"\")","v":""},{"$f":"IF(Timesheet!L231>0,Timesheet!J231,\"\")","v":""},"",{"$f":"IFERROR(VLOOKUP(C231,IF(C231=3165,AL$2:AM$2,ESG!A$2:C$54),IF(C231=3165,2,3),0),0)","v":0},{"$f":"IF(Timesheet!N231>0,Timesheet!G231,\"\")","v":""},{"$f":"IF(Timesheet!N231>0,Timesheet!J231,\"\")","v":""},"",{"$f":"IFERROR(VLOOKUP(G231,IF(G231=3165,AL$2:AM$2,ESG!A$2:D$54),IF(G231=3165,2,4),0),0)","v":0},{"$f":"IF(Timesheet!P231>0,Timesheet!G231,\"\")","v":""},{"$f":"IF(Timesheet!P231>0,Timesheet!J231,\"\")","v":""},"",{"$f":"IFERROR(VLOOKUP(K231,IF(K231=3165,AL$2:AM$2,ESG!A$2:E$54),IF(K231=3165,2,5),0),0)","v":0},{"$f":"IF(Timesheet!R231>0,Timesheet!G231,\"\")","v":""},{"$f":"IF(Timesheet!R231>0,Timesheet!J231,\"\")","v":""},{"$f":"IFERROR(VLOOKUP(M231,ESG!M$2:N$13,2,FALSE),N231)","v":""},{"$f":"IFERROR(VLOOKUP(O231,IF(O231=3165,AL$2:AM$2,ESG!A$2:F$54),IF(O231=3165,2,6),0),0)","v":0},{"$f":"IF(Timesheet!T231>0,Timesheet!G231,\"\")","v":""},{"$f":"IF(Timesheet!T231>0,Timesheet!J231,\"\")","v":""},{"$f":"IFERROR(VLOOKUP(Q231,ESG!M$2:N$13,2,FALSE),R231)","v":""},{"$f":"IFERROR(VLOOKUP(S231,IF(S231=3165,AL$2:AM$2,ESG!A$2:G$54),IF(S231=3165,2,7),0),0)","v":0},{"$f":"IF(Timesheet!V231>0,Timesheet!G231,\"\")","v":""},{"$f":"IF(Timesheet!V231>0,Timesheet!J231,\"\")","v":""},{"$f":"IFERROR(VLOOKUP(U231,ESG!M$2:N$13,2,FALSE),V231)","v":""},{"$f":"IFERROR(VLOOKUP(W231,IF(W231=3165,AL$2:AM$2,ESG!A$2:H$54),IF(W231=3165,2,8),0),0)","v":0},{"$f":"IF(Timesheet!X231>0,Timesheet!G231,\"\")","v":""},{"$f":"IF(Timesheet!X231>0,Timesheet!J231,\"\")","v":""},"",{"$f":"IFERROR(VLOOKUP(AA231,IF(AA231=3165,AL$2:AM$2,ESG!A$2:I$54),IF(AA231=3165,2,9),0),0)","v":0},{"$f":"IF(Timesheet!Z231>0,Timesheet!G231,\"\")","v":""},{"$f":"IF(Timesheet!Z231>0,Timesheet!J231,\"\")","v":""},"",{"$f":"IFERROR(VLOOKUP(AE231,IF(AE231=3165,AL$2:AM$2,ESG!A$2:J$54),IF(AE231=3165,2,10),0),0)","v":0},{"$f":"IF(Timesheet!AB231>0,Timesheet!G231,\"\")","v":""},{"$f":"IF(Timesheet!AB231>0,Timesheet!J231,\"\")","v":""},"",{"$f":"IFERROR(VLOOKUP(AI231,IF(AI231=3165,AL$2:AM$2,ESG!A$2:K$54),IF(AI231=3165,2,11),0),0)","v":0}]
[{"$f":"IF(Timesheet!L232>0,Timesheet!G232,\"\")","v":""},{"$f":"IF(Timesheet!L232>0,Timesheet!J232,\"\")","v":""},"",{"$f":"IFERROR(VLOOKUP(C232,IF(C232=3165,AL$2:AM$2,ESG!A$2:C$54),IF(C232=3165,2,3),0),0)","v":0},{"$f":"IF(Timesheet!N232>0,Timesheet!G232,\"\")","v":""},{"$f":"IF(Timesheet!N232>0,Timesheet!J232,\"\")","v":""},"",{"$f":"IFERROR(VLOOKUP(G232,IF(G232=3165,AL$2:AM$2,ESG!A$2:D$54),IF(G232=3165,2,4),0),0)","v":0},{"$f":"IF(Timesheet!P232>0,Timesheet!G232,\"\")","v":""},{"$f":"IF(Timesheet!P232>0,Timesheet!J232,\"\")","v":""},"",{"$f":"IFERROR(VLOOKUP(K232,IF(K232=3165,AL$2:AM$2,ESG!A$2:E$54),IF(K232=3165,2,5),0),0)","v":0},{"$f":"IF(Timesheet!R232>0,Timesheet!G232,\"\")","v":""},{"$f":"IF(Timesheet!R232>0,Timesheet!J232,\"\")","v":""},{"$f":"IFERROR(VLOOKUP(M232,ESG!M$2:N$13,2,FALSE),N232)","v":""},{"$f":"IFERROR(VLOOKUP(O232,IF(O232=3165,AL$2:AM$2,ESG!A$2:F$54),IF(O232=3165,2,6),0),0)","v":0},{"$f":"IF(Timesheet!T232>0,Timesheet!G232,\"\")","v":""},{"$f":"IF(Timesheet!T232>0,Timesheet!J232,\"\")","v":""},{"$f":"IFERROR(VLOOKUP(Q232,ESG!M$2:N$13,2,FALSE),R232)","v":""},{"$f":"IFERROR(VLOOKUP(S232,IF(S232=3165,AL$2:AM$2,ESG!A$2:G$54),IF(S232=3165,2,7),0),0)","v":0},{"$f":"IF(Timesheet!V232>0,Timesheet!G232,\"\")","v":""},{"$f":"IF(Timesheet!V232>0,Timesheet!J232,\"\")","v":""},{"$f":"IFERROR(VLOOKUP(U232,ESG!M$2:N$13,2,FALSE),V232)","v":""},{"$f":"IFERROR(VLOOKUP(W232,IF(W232=3165,AL$2:AM$2,ESG!A$2:H$54),IF(W232=3165,2,8),0),0)","v":0},{"$f":"IF(Timesheet!X232>0,Timesheet!G232,\"\")","v":""},{"$f":"IF(Timesheet!X232>0,Timesheet!J232,\"\")","v":""},"",{"$f":"IFERROR(VLOOKUP(AA232,IF(AA232=3165,AL$2:AM$2,ESG!A$2:I$54),IF(AA232=3165,2,9),0),0)","v":0},{"$f":"IF(Timesheet!Z232>0,Timesheet!G232,\"\")","v":""},{"$f":"IF(Timesheet!Z232>0,Timesheet!J232,\"\")","v":""},"",{"$f":"IFERROR(VLOOKUP(AE232,IF(AE232=3165,AL$2:AM$2,ESG!A$2:J$54),IF(AE232=3165,2,10),0),0)","v":0},{"$f":"IF(Timesheet!AB232>0,Timesheet!G232,\"\")","v":""},{"$f":"IF(Timesheet!AB232>0,Timesheet!J232,\"\")","v":""},"",{"$f":"IFERROR(VLOOKUP(AI232,IF(AI232=3165,AL$2:AM$2,ESG!A$2:K$54),IF(AI232=3165,2,11),0),0)","v":0}]
[{"$f":"IF(Timesheet!L233>0,Timesheet!G233,\"\")","v":""},{"$f":"IF(Timesheet!L233>0,Timesheet!J233,\"\")","v":""},"",{"$f":"IFERROR(VLOOKUP(C233,IF(C233=3165,AL$2:AM$2,ESG!A$2:C$54),IF(C233=3165,2,3),0),0)","v":0},{"$f":"IF(Timesheet!N233>0,Timesheet!G233,\"\")","v":""},{"$f":"IF(Timesheet!N233>0,Timesheet!J233,\"\")","v":""},"",{"$f":"IFERROR(VLOOKUP(G233,IF(G233=3165,AL$2:AM$2,ESG!A$2:D$54),IF(G233=3165,2,4),0),0)","v":0},{"$f":"IF(Timesheet!P233>0,Timesheet!G233,\"\")","v":""},{"$f":"IF(Timesheet!P233>0,Timesheet!J233,\"\")","v":""},"",{"$f":"IFERROR(VLOOKUP(K233,IF(K233=3165,AL$2:AM$2,ESG!A$2:E$54),IF(K233=3165,2,5),0),0)","v":0},{"$f":"IF(Timesheet!R233>0,Timesheet!G233,\"\")","v":""},{"$f":"IF(Timesheet!R233>0,Timesheet!J233,\"\")","v":""},{"$f":"IFERROR(VLOOKUP(M233,ESG!M$2:N$13,2,FALSE),N233)","v":""},{"$f":"IFERROR(VLOOKUP(O233,IF(O233=3165,AL$2:AM$2,ESG!A$2:F$54),IF(O233=3165,2,6),0),0)","v":0},{"$f":"IF(Timesheet!T233>0,Timesheet!G233,\"\")","v":""},{"$f":"IF(Timesheet!T233>0,Timesheet!J233,\"\")","v":""},{"$f":"IFERROR(VLOOKUP(Q233,ESG!M$2:N$13,2,FALSE),R233)","v":""},{"$f":"IFERROR(VLOOKUP(S233,IF(S233=3165,AL$2:AM$2,ESG!A$2:G$54),IF(S233=3165,2,7),0),0)","v":0},{"$f":"IF(Timesheet!V233>0,Timesheet!G233,\"\")","v":""},{"$f":"IF(Timesheet!V233>0,Timesheet!J233,\"\")","v":""},{"$f":"IFERROR(VLOOKUP(U233,ESG!M$2:N$13,2,FALSE),V233)","v":""},{"$f":"IFERROR(VLOOKUP(W233,IF(W233=3165,AL$2:AM$2,ESG!A$2:H$54),IF(W233=3165,2,8),0),0)","v":0},{"$f":"IF(Timesheet!X233>0,Timesheet!G233,\"\")","v":""},{"$f":"IF(Timesheet!X233>0,Timesheet!J233,\"\")","v":""},"",{"$f":"IFERROR(VLOOKUP(AA233,IF(AA233=3165,AL$2:AM$2,ESG!A$2:I$54),IF(AA233=3165,2,9),0),0)","v":0},{"$f":"IF(Timesheet!Z233>0,Timesheet!G233,\"\")","v":""},{"$f":"IF(Timesheet!Z233>0,Timesheet!J233,\"\")","v":""},"",{"$f":"IFERROR(VLOOKUP(AE233,IF(AE233=3165,AL$2:AM$2,ESG!A$2:J$54),IF(AE233=3165,2,10),0),0)","v":0},{"$f":"IF(Timesheet!AB233>0,Timesheet!G233,\"\")","v":""},{"$f":"IF(Timesheet!AB233>0,Timesheet!J233,\"\")","v":""},"",{"$f":"IFERROR(VLOOKUP(AI233,IF(AI233=3165,AL$2:AM$2,ESG!A$2:K$54),IF(AI233=3165,2,11),0),0)","v":0}]
[{"$f":"IF(Timesheet!L234>0,Timesheet!G234,\"\")","v":""},{"$f":"IF(Timesheet!L234>0,Timesheet!J234,\"\")","v":""},"",{"$f":"IFERROR(VLOOKUP(C234,IF(C234=3165,AL$2:AM$2,ESG!A$2:C$54),IF(C234=3165,2,3),0),0)","v":0},{"$f":"IF(Timesheet!N234>0,Timesheet!G234,\"\")","v":""},{"$f":"IF(Timesheet!N234>0,Timesheet!J234,\"\")","v":""},"",{"$f":"IFERROR(VLOOKUP(G234,IF(G234=3165,AL$2:AM$2,ESG!A$2:D$54),IF(G234=3165,2,4),0),0)","v":0},{"$f":"IF(Timesheet!P234>0,Timesheet!G234,\"\")","v":""},{"$f":"IF(Timesheet!P234>0,Timesheet!J234,\"\")","v":""},"",{"$f":"IFERROR(VLOOKUP(K234,IF(K234=3165,AL$2:AM$2,ESG!A$2:E$54),IF(K234=3165,2,5),0),0)","v":0},{"$f":"IF(Timesheet!R234>0,Timesheet!G234,\"\")","v":""},{"$f":"IF(Timesheet!R234>0,Timesheet!J234,\"\")","v":""},{"$f":"IFERROR(VLOOKUP(M234,ESG!M$2:N$13,2,FALSE),N234)","v":""},{"$f":"IFERROR(VLOOKUP(O234,IF(O234=3165,AL$2:AM$2,ESG!A$2:F$54),IF(O234=3165,2,6),0),0)","v":0},{"$f":"IF(Timesheet!T234>0,Timesheet!G234,\"\")","v":""},{"$f":"IF(Timesheet!T234>0,Timesheet!J234,\"\")","v":""},{"$f":"IFERROR(VLOOKUP(Q234,ESG!M$2:N$13,2,FALSE),R234)","v":""},{"$f":"IFERROR(VLOOKUP(S234,IF(S234=3165,AL$2:AM$2,ESG!A$2:G$54),IF(S234=3165,2,7),0),0)","v":0},{"$f":"IF(Timesheet!V234>0,Timesheet!G234,\"\")","v":""},{"$f":"IF(Timesheet!V234>0,Timesheet!J234,\"\")","v":""},{"$f":"IFERROR(VLOOKUP(U234,ESG!M$2:N$13,2,FALSE),V234)","v":""},{"$f":"IFERROR(VLOOKUP(W234,IF(W234=3165,AL$2:AM$2,ESG!A$2:H$54),IF(W234=3165,2,8),0),0)","v":0},{"$f":"IF(Timesheet!X234>0,Timesheet!G234,\"\")","v":""},{"$f":"IF(Timesheet!X234>0,Timesheet!J234,\"\")","v":""},"",{"$f":"IFERROR(VLOOKUP(AA234,IF(AA234=3165,AL$2:AM$2,ESG!A$2:I$54),IF(AA234=3165,2,9),0),0)","v":0},{"$f":"IF(Timesheet!Z234>0,Timesheet!G234,\"\")","v":""},{"$f":"IF(Timesheet!Z234>0,Timesheet!J234,\"\")","v":""},"",{"$f":"IFERROR(VLOOKUP(AE234,IF(AE234=3165,AL$2:AM$2,ESG!A$2:J$54),IF(AE234=3165,2,10),0),0)","v":0},{"$f":"IF(Timesheet!AB234>0,Timesheet!G234,\"\")","v":""},{"$f":"IF(Timesheet!AB234>0,Timesheet!J234,\"\")","v":""},"",{"$f":"IFERROR(VLOOKUP(AI234,IF(AI234=3165,AL$2:AM$2,ESG!A$2:K$54),IF(AI234=3165,2,11),0),0)","v":0}]
[{"$f":"IF(Timesheet!L235>0,Timesheet!G235,\"\")","v":""},{"$f":"IF(Timesheet!L235>0,Timesheet!J235,\"\")","v":""},"",{"$f":"IFERROR(VLOOKUP(C235,IF(C235=3165,AL$2:AM$2,ESG!A$2:C$54),IF(C235=3165,2,3),0),0)","v":0},{"$f":"IF(Timesheet!N235>0,Timesheet!G235,\"\")","v":""},{"$f":"IF(Timesheet!N235>0,Timesheet!J235,\"\")","v":""},"",{"$f":"IFERROR(VLOOKUP(G235,IF(G235=3165,AL$2:AM$2,ESG!A$2:D$54),IF(G235=3165,2,4),0),0)","v":0},{"$f":"IF(Timesheet!P235>0,Timesheet!G235,\"\")","v":""},{"$f":"IF(Timesheet!P235>0,Timesheet!J235,\"\")","v":""},"",{"$f":"IFERROR(VLOOKUP(K235,IF(K235=3165,AL$2:AM$2,ESG!A$2:E$54),IF(K235=3165,2,5),0),0)","v":0},{"$f":"IF(Timesheet!R235>0,Timesheet!G235,\"\")","v":""},{"$f":"IF(Timesheet!R235>0,Timesheet!J235,\"\")","v":""},{"$f":"IFERROR(VLOOKUP(M235,ESG!M$2:N$13,2,FALSE),N235)","v":""},{"$f":"IFERROR(VLOOKUP(O235,IF(O235=3165,AL$2:AM$2,ESG!A$2:F$54),IF(O235=3165,2,6),0),0)","v":0},{"$f":"IF(Timesheet!T235>0,Timesheet!G235,\"\")","v":""},{"$f":"IF(Timesheet!T235>0,Timesheet!J235,\"\")","v":""},{"$f":"IFERROR(VLOOKUP(Q235,ESG!M$2:N$13,2,FALSE),R235)","v":""},{"$f":"IFERROR(VLOOKUP(S235,IF(S235=3165,AL$2:AM$2,ESG!A$2:G$54),IF(S235=3165,2,7),0),0)","v":0},{"$f":"IF(Timesheet!V235>0,Timesheet!G235,\"\")","v":""},{"$f":"IF(Timesheet!V235>0,Timesheet!J235,\"\")","v":""},{"$f":"IFERROR(VLOOKUP(U235,ESG!M$2:N$13,2,FALSE),V235)","v":""},{"$f":"IFERROR(VLOOKUP(W235,IF(W235=3165,AL$2:AM$2,ESG!A$2:H$54),IF(W235=3165,2,8),0),0)","v":0},{"$f":"IF(Timesheet!X235>0,Timesheet!G235,\"\")","v":""},{"$f":"IF(Timesheet!X235>0,Timesheet!J235,\"\")","v":""},"",{"$f":"IFERROR(VLOOKUP(AA235,IF(AA235=3165,AL$2:AM$2,ESG!A$2:I$54),IF(AA235=3165,2,9),0),0)","v":0},{"$f":"IF(Timesheet!Z235>0,Timesheet!G235,\"\")","v":""},{"$f":"IF(Timesheet!Z235>0,Timesheet!J235,\"\")","v":""},"",{"$f":"IFERROR(VLOOKUP(AE235,IF(AE235=3165,AL$2:AM$2,ESG!A$2:J$54),IF(AE235=3165,2,10),0),0)","v":0},{"$f":"IF(Timesheet!AB235>0,Timesheet!G235,\"\")","v":""},{"$f":"IF(Timesheet!AB235>0,Timesheet!J235,\"\")","v":""},"",{"$f":"IFERROR(VLOOKUP(AI235,IF(AI235=3165,AL$2:AM$2,ESG!A$2:K$54),IF(AI235=3165,2,11),0),0)","v":0}]
[{"$f":"IF(Timesheet!L236>0,Timesheet!G236,\"\")","v":""},{"$f":"IF(Timesheet!L236>0,Timesheet!J236,\"\")","v":""},"",{"$f":"IFERROR(VLOOKUP(C236,IF(C236=3165,AL$2:AM$2,ESG!A$2:C$54),IF(C236=3165,2,3),0),0)","v":0},{"$f":"IF(Timesheet!N236>0,Timesheet!G236,\"\")","v":""},{"$f":"IF(Timesheet!N236>0,Timesheet!J236,\"\")","v":""},"",{"$f":"IFERROR(VLOOKUP(G236,IF(G236=3165,AL$2:AM$2,ESG!A$2:D$54),IF(G236=3165,2,4),0),0)","v":0},{"$f":"IF(Timesheet!P236>0,Timesheet!G236,\"\")","v":""},{"$f":"IF(Timesheet!P236>0,Timesheet!J236,\"\")","v":""},"",{"$f":"IFERROR(VLOOKUP(K236,IF(K236=3165,AL$2:AM$2,ESG!A$2:E$54),IF(K236=3165,2,5),0),0)","v":0},{"$f":"IF(Timesheet!R236>0,Timesheet!G236,\"\")","v":""},{"$f":"IF(Timesheet!R236>0,Timesheet!J236,\"\")","v":""},{"$f":"IFERROR(VLOOKUP(M236,ESG!M$2:N$13,2,FALSE),N236)","v":""},{"$f":"IFERROR(VLOOKUP(O236,IF(O236=3165,AL$2:AM$2,ESG!A$2:F$54),IF(O236=3165,2,6),0),0)","v":0},{"$f":"IF(Timesheet!T236>0,Timesheet!G236,\"\")","v":""},{"$f":"IF(Timesheet!T236>0,Timesheet!J236,\"\")","v":""},{"$f":"IFERROR(VLOOKUP(Q236,ESG!M$2:N$13,2,FALSE),R236)","v":""},{"$f":"IFERROR(VLOOKUP(S236,IF(S236=3165,AL$2:AM$2,ESG!A$2:G$54),IF(S236=3165,2,7),0),0)","v":0},{"$f":"IF(Timesheet!V236>0,Timesheet!G236,\"\")","v":""},{"$f":"IF(Timesheet!V236>0,Timesheet!J236,\"\")","v":""},{"$f":"IFERROR(VLOOKUP(U236,ESG!M$2:N$13,2,FALSE),V236)","v":""},{"$f":"IFERROR(VLOOKUP(W236,IF(W236=3165,AL$2:AM$2,ESG!A$2:H$54),IF(W236=3165,2,8),0),0)","v":0},{"$f":"IF(Timesheet!X236>0,Timesheet!G236,\"\")","v":""},{"$f":"IF(Timesheet!X236>0,Timesheet!J236,\"\")","v":""},"",{"$f":"IFERROR(VLOOKUP(AA236,IF(AA236=3165,AL$2:AM$2,ESG!A$2:I$54),IF(AA236=3165,2,9),0),0)","v":0},{"$f":"IF(Timesheet!Z236>0,Timesheet!G236,\"\")","v":""},{"$f":"IF(Timesheet!Z236>0,Timesheet!J236,\"\")","v":""},"",{"$f":"IFERROR(VLOOKUP(AE236,IF(AE236=3165,AL$2:AM$2,ESG!A$2:J$54),IF(AE236=3165,2,10),0),0)","v":0},{"$f":"IF(Timesheet!AB236>0,Timesheet!G236,\"\")","v":""},{"$f":"IF(Timesheet!AB236>0,Timesheet!J236,\"\")","v":""},"",{"$f":"IFERROR(VLOOKUP(AI236,IF(AI236=3165,AL$2:AM$2,ESG!A$2:K$54),IF(AI236=3165,2,11),0),0)","v":0}]
[{"$f":"IF(Timesheet!L237>0,Timesheet!G237,\"\")","v":""},{"$f":"IF(Timesheet!L237>0,Timesheet!J237,\"\")","v":""},"",{"$f":"IFERROR(VLOOKUP(C237,IF(C237=3165,AL$2:AM$2,ESG!A$2:C$54),IF(C237=3165,2,3),0),0)","v":0},{"$f":"IF(Timesheet!N237>0,Timesheet!G237,\"\")","v":""},{"$f":"IF(Timesheet!N237>0,Timesheet!J237,\"\")","v":""},"",{"$f":"IFERROR(VLOOKUP(G237,IF(G237=3165,AL$2:AM$2,ESG!A$2:D$54),IF(G237=3165,2,4),0),0)","v":0},{"$f":"IF(Timesheet!P237>0,Timesheet!G237,\"\")","v":""},{"$f":"IF(Timesheet!P237>0,Timesheet!J237,\"\")","v":""},"",{"$f":"IFERROR(VLOOKUP(K237,IF(K237=3165,AL$2:AM$2,ESG!A$2:E$54),IF(K237=3165,2,5),0),0)","v":0},{"$f":"IF(Timesheet!R237>0,Timesheet!G237,\"\")","v":""},{"$f":"IF(Timesheet!R237>0,Timesheet!J237,\"\")","v":""},{"$f":"IFERROR(VLOOKUP(M237,ESG!M$2:N$13,2,FALSE),N237)","v":""},{"$f":"IFERROR(VLOOKUP(O237,IF(O237=3165,AL$2:AM$2,ESG!A$2:F$54),IF(O237=3165,2,6),0),0)","v":0},{"$f":"IF(Timesheet!T237>0,Timesheet!G237,\"\")","v":""},{"$f":"IF(Timesheet!T237>0,Timesheet!J237,\"\")","v":""},{"$f":"IFERROR(VLOOKUP(Q237,ESG!M$2:N$13,2,FALSE),R237)","v":""},{"$f":"IFERROR(VLOOKUP(S237,IF(S237=3165,AL$2:AM$2,ESG!A$2:G$54),IF(S237=3165,2,7),0),0)","v":0},{"$f":"IF(Timesheet!V237>0,Timesheet!G237,\"\")","v":""},{"$f":"IF(Timesheet!V237>0,Timesheet!J237,\"\")","v":""},{"$f":"IFERROR(VLOOKUP(U237,ESG!M$2:N$13,2,FALSE),V237)","v":""},{"$f":"IFERROR(VLOOKUP(W237,IF(W237=3165,AL$2:AM$2,ESG!A$2:H$54),IF(W237=3165,2,8),0),0)","v":0},{"$f":"IF(Timesheet!X237>0,Timesheet!G237,\"\")","v":""},{"$f":"IF(Timesheet!X237>0,Timesheet!J237,\"\")","v":""},"",{"$f":"IFERROR(VLOOKUP(AA237,IF(AA237=3165,AL$2:AM$2,ESG!A$2:I$54),IF(AA237=3165,2,9),0),0)","v":0},{"$f":"IF(Timesheet!Z237>0,Timesheet!G237,\"\")","v":""},{"$f":"IF(Timesheet!Z237>0,Timesheet!J237,\"\")","v":""},"",{"$f":"IFERROR(VLOOKUP(AE237,IF(AE237=3165,AL$2:AM$2,ESG!A$2:J$54),IF(AE237=3165,2,10),0),0)","v":0},{"$f":"IF(Timesheet!AB237>0,Timesheet!G237,\"\")","v":""},{"$f":"IF(Timesheet!AB237>0,Timesheet!J237,\"\")","v":""},"",{"$f":"IFERROR(VLOOKUP(AI237,IF(AI237=3165,AL$2:AM$2,ESG!A$2:K$54),IF(AI237=3165,2,11),0),0)","v":0}]
[{"$f":"IF(Timesheet!L238>0,Timesheet!G238,\"\")","v":""},{"$f":"IF(Timesheet!L238>0,Timesheet!J238,\"\")","v":""},"",{"$f":"IFERROR(VLOOKUP(C238,IF(C238=3165,AL$2:AM$2,ESG!A$2:C$54),IF(C238=3165,2,3),0),0)","v":0},{"$f":"IF(Timesheet!N238>0,Timesheet!G238,\"\")","v":""},{"$f":"IF(Timesheet!N238>0,Timesheet!J238,\"\")","v":""},"",{"$f":"IFERROR(VLOOKUP(G238,IF(G238=3165,AL$2:AM$2,ESG!A$2:D$54),IF(G238=3165,2,4),0),0)","v":0},{"$f":"IF(Timesheet!P238>0,Timesheet!G238,\"\")","v":""},{"$f":"IF(Timesheet!P238>0,Timesheet!J238,\"\")","v":""},"",{"$f":"IFERROR(VLOOKUP(K238,IF(K238=3165,AL$2:AM$2,ESG!A$2:E$54),IF(K238=3165,2,5),0),0)","v":0},{"$f":"IF(Timesheet!R238>0,Timesheet!G238,\"\")","v":""},{"$f":"IF(Timesheet!R238>0,Timesheet!J238,\"\")","v":""},{"$f":"IFERROR(VLOOKUP(M238,ESG!M$2:N$13,2,FALSE),N238)","v":""},{"$f":"IFERROR(VLOOKUP(O238,IF(O238=3165,AL$2:AM$2,ESG!A$2:F$54),IF(O238=3165,2,6),0),0)","v":0},{"$f":"IF(Timesheet!T238>0,Timesheet!G238,\"\")","v":""},{"$f":"IF(Timesheet!T238>0,Timesheet!J238,\"\")","v":""},{"$f":"IFERROR(VLOOKUP(Q238,ESG!M$2:N$13,2,FALSE),R238)","v":""},{"$f":"IFERROR(VLOOKUP(S238,IF(S238=3165,AL$2:AM$2,ESG!A$2:G$54),IF(S238=3165,2,7),0),0)","v":0},{"$f":"IF(Timesheet!V238>0,Timesheet!G238,\"\")","v":""},{"$f":"IF(Timesheet!V238>0,Timesheet!J238,\"\")","v":""},{"$f":"IFERROR(VLOOKUP(U238,ESG!M$2:N$13,2,FALSE),V238)","v":""},{"$f":"IFERROR(VLOOKUP(W238,IF(W238=3165,AL$2:AM$2,ESG!A$2:H$54),IF(W238=3165,2,8),0),0)","v":0},{"$f":"IF(Timesheet!X238>0,Timesheet!G238,\"\")","v":""},{"$f":"IF(Timesheet!X238>0,Timesheet!J238,\"\")","v":""},"",{"$f":"IFERROR(VLOOKUP(AA238,IF(AA238=3165,AL$2:AM$2,ESG!A$2:I$54),IF(AA238=3165,2,9),0),0)","v":0},{"$f":"IF(Timesheet!Z238>0,Timesheet!G238,\"\")","v":""},{"$f":"IF(Timesheet!Z238>0,Timesheet!J238,\"\")","v":""},"",{"$f":"IFERROR(VLOOKUP(AE238,IF(AE238=3165,AL$2:AM$2,ESG!A$2:J$54),IF(AE238=3165,2,10),0),0)","v":0},{"$f":"IF(Timesheet!AB238>0,Timesheet!G238,\"\")","v":""},{"$f":"IF(Timesheet!AB238>0,Timesheet!J238,\"\")","v":""},"",{"$f":"IFERROR(VLOOKUP(AI238,IF(AI238=3165,AL$2:AM$2,ESG!A$2:K$54),IF(AI238=3165,2,11),0),0)","v":0}]
[{"$f":"IF(Timesheet!L239>0,Timesheet!G239,\"\")","v":""},{"$f":"IF(Timesheet!L239>0,Timesheet!J239,\"\")","v":""},"",{"$f":"IFERROR(VLOOKUP(C239,IF(C239=3165,AL$2:AM$2,ESG!A$2:C$54),IF(C239=3165,2,3),0),0)","v":0},{"$f":"IF(Timesheet!N239>0,Timesheet!G239,\"\")","v":""},{"$f":"IF(Timesheet!N239>0,Timesheet!J239,\"\")","v":""},"",{"$f":"IFERROR(VLOOKUP(G239,IF(G239=3165,AL$2:AM$2,ESG!A$2:D$54),IF(G239=3165,2,4),0),0)","v":0},{"$f":"IF(Timesheet!P239>0,Timesheet!G239,\"\")","v":""},{"$f":"IF(Timesheet!P239>0,Timesheet!J239,\"\")","v":""},"",{"$f":"IFERROR(VLOOKUP(K239,IF(K239=3165,AL$2:AM$2,ESG!A$2:E$54),IF(K239=3165,2,5),0),0)","v":0},{"$f":"IF(Timesheet!R239>0,Timesheet!G239,\"\")","v":""},{"$f":"IF(Timesheet!R239>0,Timesheet!J239,\"\")","v":""},{"$f":"IFERROR(VLOOKUP(M239,ESG!M$2:N$13,2,FALSE),N239)","v":""},{"$f":"IFERROR(VLOOKUP(O239,IF(O239=3165,AL$2:AM$2,ESG!A$2:F$54),IF(O239=3165,2,6),0),0)","v":0},{"$f":"IF(Timesheet!T239>0,Timesheet!G239,\"\")","v":""},{"$f":"IF(Timesheet!T239>0,Timesheet!J239,\"\")","v":""},{"$f":"IFERROR(VLOOKUP(Q239,ESG!M$2:N$13,2,FALSE),R239)","v":""},{"$f":"IFERROR(VLOOKUP(S239,IF(S239=3165,AL$2:AM$2,ESG!A$2:G$54),IF(S239=3165,2,7),0),0)","v":0},{"$f":"IF(Timesheet!V239>0,Timesheet!G239,\"\")","v":""},{"$f":"IF(Timesheet!V239>0,Timesheet!J239,\"\")","v":""},{"$f":"IFERROR(VLOOKUP(U239,ESG!M$2:N$13,2,FALSE),V239)","v":""},{"$f":"IFERROR(VLOOKUP(W239,IF(W239=3165,AL$2:AM$2,ESG!A$2:H$54),IF(W239=3165,2,8),0),0)","v":0},{"$f":"IF(Timesheet!X239>0,Timesheet!G239,\"\")","v":""},{"$f":"IF(Timesheet!X239>0,Timesheet!J239,\"\")","v":""},"",{"$f":"IFERROR(VLOOKUP(AA239,IF(AA239=3165,AL$2:AM$2,ESG!A$2:I$54),IF(AA239=3165,2,9),0),0)","v":0},{"$f":"IF(Timesheet!Z239>0,Timesheet!G239,\"\")","v":""},{"$f":"IF(Timesheet!Z239>0,Timesheet!J239,\"\")","v":""},"",{"$f":"IFERROR(VLOOKUP(AE239,IF(AE239=3165,AL$2:AM$2,ESG!A$2:J$54),IF(AE239=3165,2,10),0),0)","v":0},{"$f":"IF(Timesheet!AB239>0,Timesheet!G239,\"\")","v":""},{"$f":"IF(Timesheet!AB239>0,Timesheet!J239,\"\")","v":""},"",{"$f":"IFERROR(VLOOKUP(AI239,IF(AI239=3165,AL$2:AM$2,ESG!A$2:K$54),IF(AI239=3165,2,11),0),0)","v":0}]
[{"$f":"IF(Timesheet!L240>0,Timesheet!G240,\"\")","v":""},{"$f":"IF(Timesheet!L240>0,Timesheet!J240,\"\")","v":""},"",{"$f":"IFERROR(VLOOKUP(C240,IF(C240=3165,AL$2:AM$2,ESG!A$2:C$54),IF(C240=3165,2,3),0),0)","v":0},{"$f":"IF(Timesheet!N240>0,Timesheet!G240,\"\")","v":""},{"$f":"IF(Timesheet!N240>0,Timesheet!J240,\"\")","v":""},"",{"$f":"IFERROR(VLOOKUP(G240,IF(G240=3165,AL$2:AM$2,ESG!A$2:D$54),IF(G240=3165,2,4),0),0)","v":0},{"$f":"IF(Timesheet!P240>0,Timesheet!G240,\"\")","v":""},{"$f":"IF(Timesheet!P240>0,Timesheet!J240,\"\")","v":""},"",{"$f":"IFERROR(VLOOKUP(K240,IF(K240=3165,AL$2:AM$2,ESG!A$2:E$54),IF(K240=3165,2,5),0),0)","v":0},{"$f":"IF(Timesheet!R240>0,Timesheet!G240,\"\")","v":""},{"$f":"IF(Timesheet!R240>0,Timesheet!J240,\"\")","v":""},{"$f":"IFERROR(VLOOKUP(M240,ESG!M$2:N$13,2,FALSE),N240)","v":""},{"$f":"IFERROR(VLOOKUP(O240,IF(O240=3165,AL$2:AM$2,ESG!A$2:F$54),IF(O240=3165,2,6),0),0)","v":0},{"$f":"IF(Timesheet!T240>0,Timesheet!G240,\"\")","v":""},{"$f":"IF(Timesheet!T240>0,Timesheet!J240,\"\")","v":""},{"$f":"IFERROR(VLOOKUP(Q240,ESG!M$2:N$13,2,FALSE),R240)","v":""},{"$f":"IFERROR(VLOOKUP(S240,IF(S240=3165,AL$2:AM$2,ESG!A$2:G$54),IF(S240=3165,2,7),0),0)","v":0},{"$f":"IF(Timesheet!V240>0,Timesheet!G240,\"\")","v":""},{"$f":"IF(Timesheet!V240>0,Timesheet!J240,\"\")","v":""},{"$f":"IFERROR(VLOOKUP(U240,ESG!M$2:N$13,2,FALSE),V240)","v":""},{"$f":"IFERROR(VLOOKUP(W240,IF(W240=3165,AL$2:AM$2,ESG!A$2:H$54),IF(W240=3165,2,8),0),0)","v":0},{"$f":"IF(Timesheet!X240>0,Timesheet!G240,\"\")","v":""},{"$f":"IF(Timesheet!X240>0,Timesheet!J240,\"\")","v":""},"",{"$f":"IFERROR(VLOOKUP(AA240,IF(AA240=3165,AL$2:AM$2,ESG!A$2:I$54),IF(AA240=3165,2,9),0),0)","v":0},{"$f":"IF(Timesheet!Z240>0,Timesheet!G240,\"\")","v":""},{"$f":"IF(Timesheet!Z240>0,Timesheet!J240,\"\")","v":""},"",{"$f":"IFERROR(VLOOKUP(AE240,IF(AE240=3165,AL$2:AM$2,ESG!A$2:J$54),IF(AE240=3165,2,10),0),0)","v":0},{"$f":"IF(Timesheet!AB240>0,Timesheet!G240,\"\")","v":""},{"$f":"IF(Timesheet!AB240>0,Timesheet!J240,\"\")","v":""},"",{"$f":"IFERROR(VLOOKUP(AI240,IF(AI240=3165,AL$2:AM$2,ESG!A$2:K$54),IF(AI240=3165,2,11),0),0)","v":0}]
[{"$f":"IF(Timesheet!L241>0,Timesheet!G241,\"\")","v":""},{"$f":"IF(Timesheet!L241>0,Timesheet!J241,\"\")","v":""},"",{"$f":"IFERROR(VLOOKUP(C241,IF(C241=3165,AL$2:AM$2,ESG!A$2:C$54),IF(C241=3165,2,3),0),0)","v":0},{"$f":"IF(Timesheet!N241>0,Timesheet!G241,\"\")","v":""},{"$f":"IF(Timesheet!N241>0,Timesheet!J241,\"\")","v":""},"",{"$f":"IFERROR(VLOOKUP(G241,IF(G241=3165,AL$2:AM$2,ESG!A$2:D$54),IF(G241=3165,2,4),0),0)","v":0},{"$f":"IF(Timesheet!P241>0,Timesheet!G241,\"\")","v":""},{"$f":"IF(Timesheet!P241>0,Timesheet!J241,\"\")","v":""},"",{"$f":"IFERROR(VLOOKUP(K241,IF(K241=3165,AL$2:AM$2,ESG!A$2:E$54),IF(K241=3165,2,5),0),0)","v":0},{"$f":"IF(Timesheet!R241>0,Timesheet!G241,\"\")","v":""},{"$f":"IF(Timesheet!R241>0,Timesheet!J241,\"\")","v":""},{"$f":"IFERROR(VLOOKUP(M241,ESG!M$2:N$13,2,FALSE),N241)","v":""},{"$f":"IFERROR(VLOOKUP(O241,IF(O241=3165,AL$2:AM$2,ESG!A$2:F$54),IF(O241=3165,2,6),0),0)","v":0},{"$f":"IF(Timesheet!T241>0,Timesheet!G241,\"\")","v":""},{"$f":"IF(Timesheet!T241>0,Timesheet!J241,\"\")","v":""},{"$f":"IFERROR(VLOOKUP(Q241,ESG!M$2:N$13,2,FALSE),R241)","v":""},{"$f":"IFERROR(VLOOKUP(S241,IF(S241=3165,AL$2:AM$2,ESG!A$2:G$54),IF(S241=3165,2,7),0),0)","v":0},{"$f":"IF(Timesheet!V241>0,Timesheet!G241,\"\")","v":""},{"$f":"IF(Timesheet!V241>0,Timesheet!J241,\"\")","v":""},{"$f":"IFERROR(VLOOKUP(U241,ESG!M$2:N$13,2,FALSE),V241)","v":""},{"$f":"IFERROR(VLOOKUP(W241,IF(W241=3165,AL$2:AM$2,ESG!A$2:H$54),IF(W241=3165,2,8),0),0)","v":0},{"$f":"IF(Timesheet!X241>0,Timesheet!G241,\"\")","v":""},{"$f":"IF(Timesheet!X241>0,Timesheet!J241,\"\")","v":""},"",{"$f":"IFERROR(VLOOKUP(AA241,IF(AA241=3165,AL$2:AM$2,ESG!A$2:I$54),IF(AA241=3165,2,9),0),0)","v":0},{"$f":"IF(Timesheet!Z241>0,Timesheet!G241,\"\")","v":""},{"$f":"IF(Timesheet!Z241>0,Timesheet!J241,\"\")","v":""},"",{"$f":"IFERROR(VLOOKUP(AE241,IF(AE241=3165,AL$2:AM$2,ESG!A$2:J$54),IF(AE241=3165,2,10),0),0)","v":0},{"$f":"IF(Timesheet!AB241>0,Timesheet!G241,\"\")","v":""},{"$f":"IF(Timesheet!AB241>0,Timesheet!J241,\"\")","v":""},"",{"$f":"IFERROR(VLOOKUP(AI241,IF(AI241=3165,AL$2:AM$2,ESG!A$2:K$54),IF(AI241=3165,2,11),0),0)","v":0}]
[{"$f":"IF(Timesheet!L242>0,Timesheet!G242,\"\")","v":""},{"$f":"IF(Timesheet!L242>0,Timesheet!J242,\"\")","v":""},"",{"$f":"IFERROR(VLOOKUP(C242,IF(C242=3165,AL$2:AM$2,ESG!A$2:C$54),IF(C242=3165,2,3),0),0)","v":0},{"$f":"IF(Timesheet!N242>0,Timesheet!G242,\"\")","v":""},{"$f":"IF(Timesheet!N242>0,Timesheet!J242,\"\")","v":""},"",{"$f":"IFERROR(VLOOKUP(G242,IF(G242=3165,AL$2:AM$2,ESG!A$2:D$54),IF(G242=3165,2,4),0),0)","v":0},{"$f":"IF(Timesheet!P242>0,Timesheet!G242,\"\")","v":""},{"$f":"IF(Timesheet!P242>0,Timesheet!J242,\"\")","v":""},"",{"$f":"IFERROR(VLOOKUP(K242,IF(K242=3165,AL$2:AM$2,ESG!A$2:E$54),IF(K242=3165,2,5),0),0)","v":0},{"$f":"IF(Timesheet!R242>0,Timesheet!G242,\"\")","v":""},{"$f":"IF(Timesheet!R242>0,Timesheet!J242,\"\")","v":""},{"$f":"IFERROR(VLOOKUP(M242,ESG!M$2:N$13,2,FALSE),N242)","v":""},{"$f":"IFERROR(VLOOKUP(O242,IF(O242=3165,AL$2:AM$2,ESG!A$2:F$54),IF(O242=3165,2,6),0),0)","v":0},{"$f":"IF(Timesheet!T242>0,Timesheet!G242,\"\")","v":""},{"$f":"IF(Timesheet!T242>0,Timesheet!J242,\"\")","v":""},{"$f":"IFERROR(VLOOKUP(Q242,ESG!M$2:N$13,2,FALSE),R242)","v":""},{"$f":"IFERROR(VLOOKUP(S242,IF(S242=3165,AL$2:AM$2,ESG!A$2:G$54),IF(S242=3165,2,7),0),0)","v":0},{"$f":"IF(Timesheet!V242>0,Timesheet!G242,\"\")","v":""},{"$f":"IF(Timesheet!V242>0,Timesheet!J242,\"\")","v":""},{"$f":"IFERROR(VLOOKUP(U242,ESG!M$2:N$13,2,FALSE),V242)","v":""},{"$f":"IFERROR(VLOOKUP(W242,IF(W242=3165,AL$2:AM$2,ESG!A$2:H$54),IF(W242=3165,2,8),0),0)","v":0},{"$f":"IF(Timesheet!X242>0,Timesheet!G242,\"\")","v":""},{"$f":"IF(Timesheet!X242>0,Timesheet!J242,\"\")","v":""},"",{"$f":"IFERROR(VLOOKUP(AA242,IF(AA242=3165,AL$2:AM$2,ESG!A$2:I$54),IF(AA242=3165,2,9),0),0)","v":0},{"$f":"IF(Timesheet!Z242>0,Timesheet!G242,\"\")","v":""},{"$f":"IF(Timesheet!Z242>0,Timesheet!J242,\"\")","v":""},"",{"$f":"IFERROR(VLOOKUP(AE242,IF(AE242=3165,AL$2:AM$2,ESG!A$2:J$54),IF(AE242=3165,2,10),0),0)","v":0},{"$f":"IF(Timesheet!AB242>0,Timesheet!G242,\"\")","v":""},{"$f":"IF(Timesheet!AB242>0,Timesheet!J242,\"\")","v":""},"",{"$f":"IFERROR(VLOOKUP(AI242,IF(AI242=3165,AL$2:AM$2,ESG!A$2:K$54),IF(AI242=3165,2,11),0),0)","v":0}]
[{"$f":"IF(Timesheet!L243>0,Timesheet!G243,\"\")","v":""},{"$f":"IF(Timesheet!L243>0,Timesheet!J243,\"\")","v":""},"",{"$f":"IFERROR(VLOOKUP(C243,IF(C243=3165,AL$2:AM$2,ESG!A$2:C$54),IF(C243=3165,2,3),0),0)","v":0},{"$f":"IF(Timesheet!N243>0,Timesheet!G243,\"\")","v":""},{"$f":"IF(Timesheet!N243>0,Timesheet!J243,\"\")","v":""},"",{"$f":"IFERROR(VLOOKUP(G243,IF(G243=3165,AL$2:AM$2,ESG!A$2:D$54),IF(G243=3165,2,4),0),0)","v":0},{"$f":"IF(Timesheet!P243>0,Timesheet!G243,\"\")","v":""},{"$f":"IF(Timesheet!P243>0,Timesheet!J243,\"\")","v":""},"",{"$f":"IFERROR(VLOOKUP(K243,IF(K243=3165,AL$2:AM$2,ESG!A$2:E$54),IF(K243=3165,2,5),0),0)","v":0},{"$f":"IF(Timesheet!R243>0,Timesheet!G243,\"\")","v":""},{"$f":"IF(Timesheet!R243>0,Timesheet!J243,\"\")","v":""},{"$f":"IFERROR(VLOOKUP(M243,ESG!M$2:N$13,2,FALSE),N243)","v":""},{"$f":"IFERROR(VLOOKUP(O243,IF(O243=3165,AL$2:AM$2,ESG!A$2:F$54),IF(O243=3165,2,6),0),0)","v":0},{"$f":"IF(Timesheet!T243>0,Timesheet!G243,\"\")","v":""},{"$f":"IF(Timesheet!T243>0,Timesheet!J243,\"\")","v":""},{"$f":"IFERROR(VLOOKUP(Q243,ESG!M$2:N$13,2,FALSE),R243)","v":""},{"$f":"IFERROR(VLOOKUP(S243,IF(S243=3165,AL$2:AM$2,ESG!A$2:G$54),IF(S243=3165,2,7),0),0)","v":0},{"$f":"IF(Timesheet!V243>0,Timesheet!G243,\"\")","v":""},{"$f":"IF(Timesheet!V243>0,Timesheet!J243,\"\")","v":""},{"$f":"IFERROR(VLOOKUP(U243,ESG!M$2:N$13,2,FALSE),V243)","v":""},{"$f":"IFERROR(VLOOKUP(W243,IF(W243=3165,AL$2:AM$2,ESG!A$2:H$54),IF(W243=3165,2,8),0),0)","v":0},{"$f":"IF(Timesheet!X243>0,Timesheet!G243,\"\")","v":""},{"$f":"IF(Timesheet!X243>0,Timesheet!J243,\"\")","v":""},"",{"$f":"IFERROR(VLOOKUP(AA243,IF(AA243=3165,AL$2:AM$2,ESG!A$2:I$54),IF(AA243=3165,2,9),0),0)","v":0},{"$f":"IF(Timesheet!Z243>0,Timesheet!G243,\"\")","v":""},{"$f":"IF(Timesheet!Z243>0,Timesheet!J243,\"\")","v":""},"",{"$f":"IFERROR(VLOOKUP(AE243,IF(AE243=3165,AL$2:AM$2,ESG!A$2:J$54),IF(AE243=3165,2,10),0),0)","v":0},{"$f":"IF(Timesheet!AB243>0,Timesheet!G243,\"\")","v":""},{"$f":"IF(Timesheet!AB243>0,Timesheet!J243,\"\")","v":""},"",{"$f":"IFERROR(VLOOKUP(AI243,IF(AI243=3165,AL$2:AM$2,ESG!A$2:K$54),IF(AI243=3165,2,11),0),0)","v":0}]
[{"$f":"IF(Timesheet!L244>0,Timesheet!G244,\"\")","v":""},{"$f":"IF(Timesheet!L244>0,Timesheet!J244,\"\")","v":""},"",{"$f":"IFERROR(VLOOKUP(C244,IF(C244=3165,AL$2:AM$2,ESG!A$2:C$54),IF(C244=3165,2,3),0),0)","v":0},{"$f":"IF(Timesheet!N244>0,Timesheet!G244,\"\")","v":""},{"$f":"IF(Timesheet!N244>0,Timesheet!J244,\"\")","v":""},"",{"$f":"IFERROR(VLOOKUP(G244,IF(G244=3165,AL$2:AM$2,ESG!A$2:D$54),IF(G244=3165,2,4),0),0)","v":0},{"$f":"IF(Timesheet!P244>0,Timesheet!G244,\"\")","v":""},{"$f":"IF(Timesheet!P244>0,Timesheet!J244,\"\")","v":""},"",{"$f":"IFERROR(VLOOKUP(K244,IF(K244=3165,AL$2:AM$2,ESG!A$2:E$54),IF(K244=3165,2,5),0),0)","v":0},{"$f":"IF(Timesheet!R244>0,Timesheet!G244,\"\")","v":""},{"$f":"IF(Timesheet!R244>0,Timesheet!J244,\"\")","v":""},{"$f":"IFERROR(VLOOKUP(M244,ESG!M$2:N$13,2,FALSE),N244)","v":""},{"$f":"IFERROR(VLOOKUP(O244,IF(O244=3165,AL$2:AM$2,ESG!A$2:F$54),IF(O244=3165,2,6),0),0)","v":0},{"$f":"IF(Timesheet!T244>0,Timesheet!G244,\"\")","v":""},{"$f":"IF(Timesheet!T244>0,Timesheet!J244,\"\")","v":""},{"$f":"IFERROR(VLOOKUP(Q244,ESG!M$2:N$13,2,FALSE),R244)","v":""},{"$f":"IFERROR(VLOOKUP(S244,IF(S244=3165,AL$2:AM$2,ESG!A$2:G$54),IF(S244=3165,2,7),0),0)","v":0},{"$f":"IF(Timesheet!V244>0,Timesheet!G244,\"\")","v":""},{"$f":"IF(Timesheet!V244>0,Timesheet!J244,\"\")","v":""},{"$f":"IFERROR(VLOOKUP(U244,ESG!M$2:N$13,2,FALSE),V244)","v":""},{"$f":"IFERROR(VLOOKUP(W244,IF(W244=3165,AL$2:AM$2,ESG!A$2:H$54),IF(W244=3165,2,8),0),0)","v":0},{"$f":"IF(Timesheet!X244>0,Timesheet!G244,\"\")","v":""},{"$f":"IF(Timesheet!X244>0,Timesheet!J244,\"\")","v":""},"",{"$f":"IFERROR(VLOOKUP(AA244,IF(AA244=3165,AL$2:AM$2,ESG!A$2:I$54),IF(AA244=3165,2,9),0),0)","v":0},{"$f":"IF(Timesheet!Z244>0,Timesheet!G244,\"\")","v":""},{"$f":"IF(Timesheet!Z244>0,Timesheet!J244,\"\")","v":""},"",{"$f":"IFERROR(VLOOKUP(AE244,IF(AE244=3165,AL$2:AM$2,ESG!A$2:J$54),IF(AE244=3165,2,10),0),0)","v":0},{"$f":"IF(Timesheet!AB244>0,Timesheet!G244,\"\")","v":""},{"$f":"IF(Timesheet!AB244>0,Timesheet!J244,\"\")","v":""},"",{"$f":"IFERROR(VLOOKUP(AI244,IF(AI244=3165,AL$2:AM$2,ESG!A$2:K$54),IF(AI244=3165,2,11),0),0)","v":0}]
[{"$f":"IF(Timesheet!L245>0,Timesheet!G245,\"\")","v":""},{"$f":"IF(Timesheet!L245>0,Timesheet!J245,\"\")","v":""},"",{"$f":"IFERROR(VLOOKUP(C245,IF(C245=3165,AL$2:AM$2,ESG!A$2:C$54),IF(C245=3165,2,3),0),0)","v":0},{"$f":"IF(Timesheet!N245>0,Timesheet!G245,\"\")","v":""},{"$f":"IF(Timesheet!N245>0,Timesheet!J245,\"\")","v":""},"",{"$f":"IFERROR(VLOOKUP(G245,IF(G245=3165,AL$2:AM$2,ESG!A$2:D$54),IF(G245=3165,2,4),0),0)","v":0},{"$f":"IF(Timesheet!P245>0,Timesheet!G245,\"\")","v":""},{"$f":"IF(Timesheet!P245>0,Timesheet!J245,\"\")","v":""},"",{"$f":"IFERROR(VLOOKUP(K245,IF(K245=3165,AL$2:AM$2,ESG!A$2:E$54),IF(K245=3165,2,5),0),0)","v":0},{"$f":"IF(Timesheet!R245>0,Timesheet!G245,\"\")","v":""},{"$f":"IF(Timesheet!R245>0,Timesheet!J245,\"\")","v":""},{"$f":"IFERROR(VLOOKUP(M245,ESG!M$2:N$13,2,FALSE),N245)","v":""},{"$f":"IFERROR(VLOOKUP(O245,IF(O245=3165,AL$2:AM$2,ESG!A$2:F$54),IF(O245=3165,2,6),0),0)","v":0},{"$f":"IF(Timesheet!T245>0,Timesheet!G245,\"\")","v":""},{"$f":"IF(Timesheet!T245>0,Timesheet!J245,\"\")","v":""},{"$f":"IFERROR(VLOOKUP(Q245,ESG!M$2:N$13,2,FALSE),R245)","v":""},{"$f":"IFERROR(VLOOKUP(S245,IF(S245=3165,AL$2:AM$2,ESG!A$2:G$54),IF(S245=3165,2,7),0),0)","v":0},{"$f":"IF(Timesheet!V245>0,Timesheet!G245,\"\")","v":""},{"$f":"IF(Timesheet!V245>0,Timesheet!J245,\"\")","v":""},{"$f":"IFERROR(VLOOKUP(U245,ESG!M$2:N$13,2,FALSE),V245)","v":""},{"$f":"IFERROR(VLOOKUP(W245,IF(W245=3165,AL$2:AM$2,ESG!A$2:H$54),IF(W245=3165,2,8),0),0)","v":0},{"$f":"IF(Timesheet!X245>0,Timesheet!G245,\"\")","v":""},{"$f":"IF(Timesheet!X245>0,Timesheet!J245,\"\")","v":""},"",{"$f":"IFERROR(VLOOKUP(AA245,IF(AA245=3165,AL$2:AM$2,ESG!A$2:I$54),IF(AA245=3165,2,9),0),0)","v":0},{"$f":"IF(Timesheet!Z245>0,Timesheet!G245,\"\")","v":""},{"$f":"IF(Timesheet!Z245>0,Timesheet!J245,\"\")","v":""},"",{"$f":"IFERROR(VLOOKUP(AE245,IF(AE245=3165,AL$2:AM$2,ESG!A$2:J$54),IF(AE245=3165,2,10),0),0)","v":0},{"$f":"IF(Timesheet!AB245>0,Timesheet!G245,\"\")","v":""},{"$f":"IF(Timesheet!AB245>0,Timesheet!J245,\"\")","v":""},"",{"$f":"IFERROR(VLOOKUP(AI245,IF(AI245=3165,AL$2:AM$2,ESG!A$2:K$54),IF(AI245=3165,2,11),0),0)","v":0}]
[{"$f":"IF(Timesheet!L246>0,Timesheet!G246,\"\")","v":""},{"$f":"IF(Timesheet!L246>0,Timesheet!J246,\"\")","v":""},"",{"$f":"IFERROR(VLOOKUP(C246,IF(C246=3165,AL$2:AM$2,ESG!A$2:C$54),IF(C246=3165,2,3),0),0)","v":0},{"$f":"IF(Timesheet!N246>0,Timesheet!G246,\"\")","v":""},{"$f":"IF(Timesheet!N246>0,Timesheet!J246,\"\")","v":""},"",{"$f":"IFERROR(VLOOKUP(G246,IF(G246=3165,AL$2:AM$2,ESG!A$2:D$54),IF(G246=3165,2,4),0),0)","v":0},{"$f":"IF(Timesheet!P246>0,Timesheet!G246,\"\")","v":""},{"$f":"IF(Timesheet!P246>0,Timesheet!J246,\"\")","v":""},"",{"$f":"IFERROR(VLOOKUP(K246,IF(K246=3165,AL$2:AM$2,ESG!A$2:E$54),IF(K246=3165,2,5),0),0)","v":0},{"$f":"IF(Timesheet!R246>0,Timesheet!G246,\"\")","v":""},{"$f":"IF(Timesheet!R246>0,Timesheet!J246,\"\")","v":""},{"$f":"IFERROR(VLOOKUP(M246,ESG!M$2:N$13,2,FALSE),N246)","v":""},{"$f":"IFERROR(VLOOKUP(O246,IF(O246=3165,AL$2:AM$2,ESG!A$2:F$54),IF(O246=3165,2,6),0),0)","v":0},{"$f":"IF(Timesheet!T246>0,Timesheet!G246,\"\")","v":""},{"$f":"IF(Timesheet!T246>0,Timesheet!J246,\"\")","v":""},{"$f":"IFERROR(VLOOKUP(Q246,ESG!M$2:N$13,2,FALSE),R246)","v":""},{"$f":"IFERROR(VLOOKUP(S246,IF(S246=3165,AL$2:AM$2,ESG!A$2:G$54),IF(S246=3165,2,7),0),0)","v":0},{"$f":"IF(Timesheet!V246>0,Timesheet!G246,\"\")","v":""},{"$f":"IF(Timesheet!V246>0,Timesheet!J246,\"\")","v":""},{"$f":"IFERROR(VLOOKUP(U246,ESG!M$2:N$13,2,FALSE),V246)","v":""},{"$f":"IFERROR(VLOOKUP(W246,IF(W246=3165,AL$2:AM$2,ESG!A$2:H$54),IF(W246=3165,2,8),0),0)","v":0},{"$f":"IF(Timesheet!X246>0,Timesheet!G246,\"\")","v":""},{"$f":"IF(Timesheet!X246>0,Timesheet!J246,\"\")","v":""},"",{"$f":"IFERROR(VLOOKUP(AA246,IF(AA246=3165,AL$2:AM$2,ESG!A$2:I$54),IF(AA246=3165,2,9),0),0)","v":0},{"$f":"IF(Timesheet!Z246>0,Timesheet!G246,\"\")","v":""},{"$f":"IF(Timesheet!Z246>0,Timesheet!J246,\"\")","v":""},"",{"$f":"IFERROR(VLOOKUP(AE246,IF(AE246=3165,AL$2:AM$2,ESG!A$2:J$54),IF(AE246=3165,2,10),0),0)","v":0},{"$f":"IF(Timesheet!AB246>0,Timesheet!G246,\"\")","v":""},{"$f":"IF(Timesheet!AB246>0,Timesheet!J246,\"\")","v":""},"",{"$f":"IFERROR(VLOOKUP(AI246,IF(AI246=3165,AL$2:AM$2,ESG!A$2:K$54),IF(AI246=3165,2,11),0),0)","v":0}]
[{"$f":"IF(Timesheet!L247>0,Timesheet!G247,\"\")","v":""},{"$f":"IF(Timesheet!L247>0,Timesheet!J247,\"\")","v":""},"",{"$f":"IFERROR(VLOOKUP(C247,IF(C247=3165,AL$2:AM$2,ESG!A$2:C$54),IF(C247=3165,2,3),0),0)","v":0},{"$f":"IF(Timesheet!N247>0,Timesheet!G247,\"\")","v":""},{"$f":"IF(Timesheet!N247>0,Timesheet!J247,\"\")","v":""},"",{"$f":"IFERROR(VLOOKUP(G247,IF(G247=3165,AL$2:AM$2,ESG!A$2:D$54),IF(G247=3165,2,4),0),0)","v":0},{"$f":"IF(Timesheet!P247>0,Timesheet!G247,\"\")","v":""},{"$f":"IF(Timesheet!P247>0,Timesheet!J247,\"\")","v":""},"",{"$f":"IFERROR(VLOOKUP(K247,IF(K247=3165,AL$2:AM$2,ESG!A$2:E$54),IF(K247=3165,2,5),0),0)","v":0},{"$f":"IF(Timesheet!R247>0,Timesheet!G247,\"\")","v":""},{"$f":"IF(Timesheet!R247>0,Timesheet!J247,\"\")","v":""},{"$f":"IFERROR(VLOOKUP(M247,ESG!M$2:N$13,2,FALSE),N247)","v":""},{"$f":"IFERROR(VLOOKUP(O247,IF(O247=3165,AL$2:AM$2,ESG!A$2:F$54),IF(O247=3165,2,6),0),0)","v":0},{"$f":"IF(Timesheet!T247>0,Timesheet!G247,\"\")","v":""},{"$f":"IF(Timesheet!T247>0,Timesheet!J247,\"\")","v":""},{"$f":"IFERROR(VLOOKUP(Q247,ESG!M$2:N$13,2,FALSE),R247)","v":""},{"$f":"IFERROR(VLOOKUP(S247,IF(S247=3165,AL$2:AM$2,ESG!A$2:G$54),IF(S247=3165,2,7),0),0)","v":0},{"$f":"IF(Timesheet!V247>0,Timesheet!G247,\"\")","v":""},{"$f":"IF(Timesheet!V247>0,Timesheet!J247,\"\")","v":""},{"$f":"IFERROR(VLOOKUP(U247,ESG!M$2:N$13,2,FALSE),V247)","v":""},{"$f":"IFERROR(VLOOKUP(W247,IF(W247=3165,AL$2:AM$2,ESG!A$2:H$54),IF(W247=3165,2,8),0),0)","v":0},{"$f":"IF(Timesheet!X247>0,Timesheet!G247,\"\")","v":""},{"$f":"IF(Timesheet!X247>0,Timesheet!J247,\"\")","v":""},"",{"$f":"IFERROR(VLOOKUP(AA247,IF(AA247=3165,AL$2:AM$2,ESG!A$2:I$54),IF(AA247=3165,2,9),0),0)","v":0},{"$f":"IF(Timesheet!Z247>0,Timesheet!G247,\"\")","v":""},{"$f":"IF(Timesheet!Z247>0,Timesheet!J247,\"\")","v":""},"",{"$f":"IFERROR(VLOOKUP(AE247,IF(AE247=3165,AL$2:AM$2,ESG!A$2:J$54),IF(AE247=3165,2,10),0),0)","v":0},{"$f":"IF(Timesheet!AB247>0,Timesheet!G247,\"\")","v":""},{"$f":"IF(Timesheet!AB247>0,Timesheet!J247,\"\")","v":""},"",{"$f":"IFERROR(VLOOKUP(AI247,IF(AI247=3165,AL$2:AM$2,ESG!A$2:K$54),IF(AI247=3165,2,11),0),0)","v":0}]
[{"$f":"IF(Timesheet!L248>0,Timesheet!G248,\"\")","v":""},{"$f":"IF(Timesheet!L248>0,Timesheet!J248,\"\")","v":""},"",{"$f":"IFERROR(VLOOKUP(C248,IF(C248=3165,AL$2:AM$2,ESG!A$2:C$54),IF(C248=3165,2,3),0),0)","v":0},{"$f":"IF(Timesheet!N248>0,Timesheet!G248,\"\")","v":""},{"$f":"IF(Timesheet!N248>0,Timesheet!J248,\"\")","v":""},"",{"$f":"IFERROR(VLOOKUP(G248,IF(G248=3165,AL$2:AM$2,ESG!A$2:D$54),IF(G248=3165,2,4),0),0)","v":0},{"$f":"IF(Timesheet!P248>0,Timesheet!G248,\"\")","v":""},{"$f":"IF(Timesheet!P248>0,Timesheet!J248,\"\")","v":""},"",{"$f":"IFERROR(VLOOKUP(K248,IF(K248=3165,AL$2:AM$2,ESG!A$2:E$54),IF(K248=3165,2,5),0),0)","v":0},{"$f":"IF(Timesheet!R248>0,Timesheet!G248,\"\")","v":""},{"$f":"IF(Timesheet!R248>0,Timesheet!J248,\"\")","v":""},{"$f":"IFERROR(VLOOKUP(M248,ESG!M$2:N$13,2,FALSE),N248)","v":""},{"$f":"IFERROR(VLOOKUP(O248,IF(O248=3165,AL$2:AM$2,ESG!A$2:F$54),IF(O248=3165,2,6),0),0)","v":0},{"$f":"IF(Timesheet!T248>0,Timesheet!G248,\"\")","v":""},{"$f":"IF(Timesheet!T248>0,Timesheet!J248,\"\")","v":""},{"$f":"IFERROR(VLOOKUP(Q248,ESG!M$2:N$13,2,FALSE),R248)","v":""},{"$f":"IFERROR(VLOOKUP(S248,IF(S248=3165,AL$2:AM$2,ESG!A$2:G$54),IF(S248=3165,2,7),0),0)","v":0},{"$f":"IF(Timesheet!V248>0,Timesheet!G248,\"\")","v":""},{"$f":"IF(Timesheet!V248>0,Timesheet!J248,\"\")","v":""},{"$f":"IFERROR(VLOOKUP(U248,ESG!M$2:N$13,2,FALSE),V248)","v":""},{"$f":"IFERROR(VLOOKUP(W248,IF(W248=3165,AL$2:AM$2,ESG!A$2:H$54),IF(W248=3165,2,8),0),0)","v":0},{"$f":"IF(Timesheet!X248>0,Timesheet!G248,\"\")","v":""},{"$f":"IF(Timesheet!X248>0,Timesheet!J248,\"\")","v":""},"",{"$f":"IFERROR(VLOOKUP(AA248,IF(AA248=3165,AL$2:AM$2,ESG!A$2:I$54),IF(AA248=3165,2,9),0),0)","v":0},{"$f":"IF(Timesheet!Z248>0,Timesheet!G248,\"\")","v":""},{"$f":"IF(Timesheet!Z248>0,Timesheet!J248,\"\")","v":""},"",{"$f":"IFERROR(VLOOKUP(AE248,IF(AE248=3165,AL$2:AM$2,ESG!A$2:J$54),IF(AE248=3165,2,10),0),0)","v":0},{"$f":"IF(Timesheet!AB248>0,Timesheet!G248,\"\")","v":""},{"$f":"IF(Timesheet!AB248>0,Timesheet!J248,\"\")","v":""},"",{"$f":"IFERROR(VLOOKUP(AI248,IF(AI248=3165,AL$2:AM$2,ESG!A$2:K$54),IF(AI248=3165,2,11),0),0)","v":0}]
[{"$f":"IF(Timesheet!L249>0,Timesheet!G249,\"\")","v":""},{"$f":"IF(Timesheet!L249>0,Timesheet!J249,\"\")","v":""},"",{"$f":"IFERROR(VLOOKUP(C249,IF(C249=3165,AL$2:AM$2,ESG!A$2:C$54),IF(C249=3165,2,3),0),0)","v":0},{"$f":"IF(Timesheet!N249>0,Timesheet!G249,\"\")","v":""},{"$f":"IF(Timesheet!N249>0,Timesheet!J249,\"\")","v":""},"",{"$f":"IFERROR(VLOOKUP(G249,IF(G249=3165,AL$2:AM$2,ESG!A$2:D$54),IF(G249=3165,2,4),0),0)","v":0},{"$f":"IF(Timesheet!P249>0,Timesheet!G249,\"\")","v":""},{"$f":"IF(Timesheet!P249>0,Timesheet!J249,\"\")","v":""},"",{"$f":"IFERROR(VLOOKUP(K249,IF(K249=3165,AL$2:AM$2,ESG!A$2:E$54),IF(K249=3165,2,5),0),0)","v":0},{"$f":"IF(Timesheet!R249>0,Timesheet!G249,\"\")","v":""},{"$f":"IF(Timesheet!R249>0,Timesheet!J249,\"\")","v":""},{"$f":"IFERROR(VLOOKUP(M249,ESG!M$2:N$13,2,FALSE),N249)","v":""},{"$f":"IFERROR(VLOOKUP(O249,IF(O249=3165,AL$2:AM$2,ESG!A$2:F$54),IF(O249=3165,2,6),0),0)","v":0},{"$f":"IF(Timesheet!T249>0,Timesheet!G249,\"\")","v":""},{"$f":"IF(Timesheet!T249>0,Timesheet!J249,\"\")","v":""},{"$f":"IFERROR(VLOOKUP(Q249,ESG!M$2:N$13,2,FALSE),R249)","v":""},{"$f":"IFERROR(VLOOKUP(S249,IF(S249=3165,AL$2:AM$2,ESG!A$2:G$54),IF(S249=3165,2,7),0),0)","v":0},{"$f":"IF(Timesheet!V249>0,Timesheet!G249,\"\")","v":""},{"$f":"IF(Timesheet!V249>0,Timesheet!J249,\"\")","v":""},{"$f":"IFERROR(VLOOKUP(U249,ESG!M$2:N$13,2,FALSE),V249)","v":""},{"$f":"IFERROR(VLOOKUP(W249,IF(W249=3165,AL$2:AM$2,ESG!A$2:H$54),IF(W249=3165,2,8),0),0)","v":0},{"$f":"IF(Timesheet!X249>0,Timesheet!G249,\"\")","v":""},{"$f":"IF(Timesheet!X249>0,Timesheet!J249,\"\")","v":""},"",{"$f":"IFERROR(VLOOKUP(AA249,IF(AA249=3165,AL$2:AM$2,ESG!A$2:I$54),IF(AA249=3165,2,9),0),0)","v":0},{"$f":"IF(Timesheet!Z249>0,Timesheet!G249,\"\")","v":""},{"$f":"IF(Timesheet!Z249>0,Timesheet!J249,\"\")","v":""},"",{"$f":"IFERROR(VLOOKUP(AE249,IF(AE249=3165,AL$2:AM$2,ESG!A$2:J$54),IF(AE249=3165,2,10),0),0)","v":0},{"$f":"IF(Timesheet!AB249>0,Timesheet!G249,\"\")","v":""},{"$f":"IF(Timesheet!AB249>0,Timesheet!J249,\"\")","v":""},"",{"$f":"IFERROR(VLOOKUP(AI249,IF(AI249=3165,AL$2:AM$2,ESG!A$2:K$54),IF(AI249=3165,2,11),0),0)","v":0}]
[{"$f":"IF(Timesheet!L250>0,Timesheet!G250,\"\")","v":""},{"$f":"IF(Timesheet!L250>0,Timesheet!J250,\"\")","v":""},"",{"$f":"IFERROR(VLOOKUP(C250,IF(C250=3165,AL$2:AM$2,ESG!A$2:C$54),IF(C250=3165,2,3),0),0)","v":0},{"$f":"IF(Timesheet!N250>0,Timesheet!G250,\"\")","v":""},{"$f":"IF(Timesheet!N250>0,Timesheet!J250,\"\")","v":""},"",{"$f":"IFERROR(VLOOKUP(G250,IF(G250=3165,AL$2:AM$2,ESG!A$2:D$54),IF(G250=3165,2,4),0),0)","v":0},{"$f":"IF(Timesheet!P250>0,Timesheet!G250,\"\")","v":""},{"$f":"IF(Timesheet!P250>0,Timesheet!J250,\"\")","v":""},"",{"$f":"IFERROR(VLOOKUP(K250,IF(K250=3165,AL$2:AM$2,ESG!A$2:E$54),IF(K250=3165,2,5),0),0)","v":0},{"$f":"IF(Timesheet!R250>0,Timesheet!G250,\"\")","v":""},{"$f":"IF(Timesheet!R250>0,Timesheet!J250,\"\")","v":""},{"$f":"IFERROR(VLOOKUP(M250,ESG!M$2:N$13,2,FALSE),N250)","v":""},{"$f":"IFERROR(VLOOKUP(O250,IF(O250=3165,AL$2:AM$2,ESG!A$2:F$54),IF(O250=3165,2,6),0),0)","v":0},{"$f":"IF(Timesheet!T250>0,Timesheet!G250,\"\")","v":""},{"$f":"IF(Timesheet!T250>0,Timesheet!J250,\"\")","v":""},{"$f":"IFERROR(VLOOKUP(Q250,ESG!M$2:N$13,2,FALSE),R250)","v":""},{"$f":"IFERROR(VLOOKUP(S250,IF(S250=3165,AL$2:AM$2,ESG!A$2:G$54),IF(S250=3165,2,7),0),0)","v":0},{"$f":"IF(Timesheet!V250>0,Timesheet!G250,\"\")","v":""},{"$f":"IF(Timesheet!V250>0,Timesheet!J250,\"\")","v":""},{"$f":"IFERROR(VLOOKUP(U250,ESG!M$2:N$13,2,FALSE),V250)","v":""},{"$f":"IFERROR(VLOOKUP(W250,IF(W250=3165,AL$2:AM$2,ESG!A$2:H$54),IF(W250=3165,2,8),0),0)","v":0},{"$f":"IF(Timesheet!X250>0,Timesheet!G250,\"\")","v":""},{"$f":"IF(Timesheet!X250>0,Timesheet!J250,\"\")","v":""},"",{"$f":"IFERROR(VLOOKUP(AA250,IF(AA250=3165,AL$2:AM$2,ESG!A$2:I$54),IF(AA250=3165,2,9),0),0)","v":0},{"$f":"IF(Timesheet!Z250>0,Timesheet!G250,\"\")","v":""},{"$f":"IF(Timesheet!Z250>0,Timesheet!J250,\"\")","v":""},"",{"$f":"IFERROR(VLOOKUP(AE250,IF(AE250=3165,AL$2:AM$2,ESG!A$2:J$54),IF(AE250=3165,2,10),0),0)","v":0},{"$f":"IF(Timesheet!AB250>0,Timesheet!G250,\"\")","v":""},{"$f":"IF(Timesheet!AB250>0,Timesheet!J250,\"\")","v":""},"",{"$f":"IFERROR(VLOOKUP(AI250,IF(AI250=3165,AL$2:AM$2,ESG!A$2:K$54),IF(AI250=3165,2,11),0),0)","v":0}]
[{"$f":"IF(Timesheet!L251>0,Timesheet!G251,\"\")","v":""},{"$f":"IF(Timesheet!L251>0,Timesheet!J251,\"\")","v":""},"",{"$f":"IFERROR(VLOOKUP(C251,IF(C251=3165,AL$2:AM$2,ESG!A$2:C$54),IF(C251=3165,2,3),0),0)","v":0},{"$f":"IF(Timesheet!N251>0,Timesheet!G251,\"\")","v":""},{"$f":"IF(Timesheet!N251>0,Timesheet!J251,\"\")","v":""},"",{"$f":"IFERROR(VLOOKUP(G251,IF(G251=3165,AL$2:AM$2,ESG!A$2:D$54),IF(G251=3165,2,4),0),0)","v":0},{"$f":"IF(Timesheet!P251>0,Timesheet!G251,\"\")","v":""},{"$f":"IF(Timesheet!P251>0,Timesheet!J251,\"\")","v":""},"",{"$f":"IFERROR(VLOOKUP(K251,IF(K251=3165,AL$2:AM$2,ESG!A$2:E$54),IF(K251=3165,2,5),0),0)","v":0},{"$f":"IF(Timesheet!R251>0,Timesheet!G251,\"\")","v":""},{"$f":"IF(Timesheet!R251>0,Timesheet!J251,\"\")","v":""},{"$f":"IFERROR(VLOOKUP(M251,ESG!M$2:N$13,2,FALSE),N251)","v":""},{"$f":"IFERROR(VLOOKUP(O251,IF(O251=3165,AL$2:AM$2,ESG!A$2:F$54),IF(O251=3165,2,6),0),0)","v":0},{"$f":"IF(Timesheet!T251>0,Timesheet!G251,\"\")","v":""},{"$f":"IF(Timesheet!T251>0,Timesheet!J251,\"\")","v":""},{"$f":"IFERROR(VLOOKUP(Q251,ESG!M$2:N$13,2,FALSE),R251)","v":""},{"$f":"IFERROR(VLOOKUP(S251,IF(S251=3165,AL$2:AM$2,ESG!A$2:G$54),IF(S251=3165,2,7),0),0)","v":0},{"$f":"IF(Timesheet!V251>0,Timesheet!G251,\"\")","v":""},{"$f":"IF(Timesheet!V251>0,Timesheet!J251,\"\")","v":""},{"$f":"IFERROR(VLOOKUP(U251,ESG!M$2:N$13,2,FALSE),V251)","v":""},{"$f":"IFERROR(VLOOKUP(W251,IF(W251=3165,AL$2:AM$2,ESG!A$2:H$54),IF(W251=3165,2,8),0),0)","v":0},{"$f":"IF(Timesheet!X251>0,Timesheet!G251,\"\")","v":""},{"$f":"IF(Timesheet!X251>0,Timesheet!J251,\"\")","v":""},"",{"$f":"IFERROR(VLOOKUP(AA251,IF(AA251=3165,AL$2:AM$2,ESG!A$2:I$54),IF(AA251=3165,2,9),0),0)","v":0},{"$f":"IF(Timesheet!Z251>0,Timesheet!G251,\"\")","v":""},{"$f":"IF(Timesheet!Z251>0,Timesheet!J251,\"\")","v":""},"",{"$f":"IFERROR(VLOOKUP(AE251,IF(AE251=3165,AL$2:AM$2,ESG!A$2:J$54),IF(AE251=3165,2,10),0),0)","v":0},{"$f":"IF(Timesheet!AB251>0,Timesheet!G251,\"\")","v":""},{"$f":"IF(Timesheet!AB251>0,Timesheet!J251,\"\")","v":""},"",{"$f":"IFERROR(VLOOKUP(AI251,IF(AI251=3165,AL$2:AM$2,ESG!A$2:K$54),IF(AI251=3165,2,11),0),0)","v":0}]
[{"$f":"IF(Timesheet!L252>0,Timesheet!G252,\"\")","v":""},{"$f":"IF(Timesheet!L252>0,Timesheet!J252,\"\")","v":""},"",{"$f":"IFERROR(VLOOKUP(C252,IF(C252=3165,AL$2:AM$2,ESG!A$2:C$54),IF(C252=3165,2,3),0),0)","v":0},{"$f":"IF(Timesheet!N252>0,Timesheet!G252,\"\")","v":""},{"$f":"IF(Timesheet!N252>0,Timesheet!J252,\"\")","v":""},"",{"$f":"IFERROR(VLOOKUP(G252,IF(G252=3165,AL$2:AM$2,ESG!A$2:D$54),IF(G252=3165,2,4),0),0)","v":0},{"$f":"IF(Timesheet!P252>0,Timesheet!G252,\"\")","v":""},{"$f":"IF(Timesheet!P252>0,Timesheet!J252,\"\")","v":""},"",{"$f":"IFERROR(VLOOKUP(K252,IF(K252=3165,AL$2:AM$2,ESG!A$2:E$54),IF(K252=3165,2,5),0),0)","v":0},{"$f":"IF(Timesheet!R252>0,Timesheet!G252,\"\")","v":""},{"$f":"IF(Timesheet!R252>0,Timesheet!J252,\"\")","v":""},{"$f":"IFERROR(VLOOKUP(M252,ESG!M$2:N$13,2,FALSE),N252)","v":""},{"$f":"IFERROR(VLOOKUP(O252,IF(O252=3165,AL$2:AM$2,ESG!A$2:F$54),IF(O252=3165,2,6),0),0)","v":0},{"$f":"IF(Timesheet!T252>0,Timesheet!G252,\"\")","v":""},{"$f":"IF(Timesheet!T252>0,Timesheet!J252,\"\")","v":""},{"$f":"IFERROR(VLOOKUP(Q252,ESG!M$2:N$13,2,FALSE),R252)","v":""},{"$f":"IFERROR(VLOOKUP(S252,IF(S252=3165,AL$2:AM$2,ESG!A$2:G$54),IF(S252=3165,2,7),0),0)","v":0},{"$f":"IF(Timesheet!V252>0,Timesheet!G252,\"\")","v":""},{"$f":"IF(Timesheet!V252>0,Timesheet!J252,\"\")","v":""},{"$f":"IFERROR(VLOOKUP(U252,ESG!M$2:N$13,2,FALSE),V252)","v":""},{"$f":"IFERROR(VLOOKUP(W252,IF(W252=3165,AL$2:AM$2,ESG!A$2:H$54),IF(W252=3165,2,8),0),0)","v":0},{"$f":"IF(Timesheet!X252>0,Timesheet!G252,\"\")","v":""},{"$f":"IF(Timesheet!X252>0,Timesheet!J252,\"\")","v":""},"",{"$f":"IFERROR(VLOOKUP(AA252,IF(AA252=3165,AL$2:AM$2,ESG!A$2:I$54),IF(AA252=3165,2,9),0),0)","v":0},{"$f":"IF(Timesheet!Z252>0,Timesheet!G252,\"\")","v":""},{"$f":"IF(Timesheet!Z252>0,Timesheet!J252,\"\")","v":""},"",{"$f":"IFERROR(VLOOKUP(AE252,IF(AE252=3165,AL$2:AM$2,ESG!A$2:J$54),IF(AE252=3165,2,10),0),0)","v":0},{"$f":"IF(Timesheet!AB252>0,Timesheet!G252,\"\")","v":""},{"$f":"IF(Timesheet!AB252>0,Timesheet!J252,\"\")","v":""},"",{"$f":"IFERROR(VLOOKUP(AI252,IF(AI252=3165,AL$2:AM$2,ESG!A$2:K$54),IF(AI252=3165,2,11),0),0)","v":0}]
[{"$f":"IF(Timesheet!L253>0,Timesheet!G253,\"\")","v":""},{"$f":"IF(Timesheet!L253>0,Timesheet!J253,\"\")","v":""},"",{"$f":"IFERROR(VLOOKUP(C253,IF(C253=3165,AL$2:AM$2,ESG!A$2:C$54),IF(C253=3165,2,3),0),0)","v":0},{"$f":"IF(Timesheet!N253>0,Timesheet!G253,\"\")","v":""},{"$f":"IF(Timesheet!N253>0,Timesheet!J253,\"\")","v":""},"",{"$f":"IFERROR(VLOOKUP(G253,IF(G253=3165,AL$2:AM$2,ESG!A$2:D$54),IF(G253=3165,2,4),0),0)","v":0},{"$f":"IF(Timesheet!P253>0,Timesheet!G253,\"\")","v":""},{"$f":"IF(Timesheet!P253>0,Timesheet!J253,\"\")","v":""},"",{"$f":"IFERROR(VLOOKUP(K253,IF(K253=3165,AL$2:AM$2,ESG!A$2:E$54),IF(K253=3165,2,5),0),0)","v":0},{"$f":"IF(Timesheet!R253>0,Timesheet!G253,\"\")","v":""},{"$f":"IF(Timesheet!R253>0,Timesheet!J253,\"\")","v":""},{"$f":"IFERROR(VLOOKUP(M253,ESG!M$2:N$13,2,FALSE),N253)","v":""},{"$f":"IFERROR(VLOOKUP(O253,IF(O253=3165,AL$2:AM$2,ESG!A$2:F$54),IF(O253=3165,2,6),0),0)","v":0},{"$f":"IF(Timesheet!T253>0,Timesheet!G253,\"\")","v":""},{"$f":"IF(Timesheet!T253>0,Timesheet!J253,\"\")","v":""},{"$f":"IFERROR(VLOOKUP(Q253,ESG!M$2:N$13,2,FALSE),R253)","v":""},{"$f":"IFERROR(VLOOKUP(S253,IF(S253=3165,AL$2:AM$2,ESG!A$2:G$54),IF(S253=3165,2,7),0),0)","v":0},{"$f":"IF(Timesheet!V253>0,Timesheet!G253,\"\")","v":""},{"$f":"IF(Timesheet!V253>0,Timesheet!J253,\"\")","v":""},{"$f":"IFERROR(VLOOKUP(U253,ESG!M$2:N$13,2,FALSE),V253)","v":""},{"$f":"IFERROR(VLOOKUP(W253,IF(W253=3165,AL$2:AM$2,ESG!A$2:H$54),IF(W253=3165,2,8),0),0)","v":0},{"$f":"IF(Timesheet!X253>0,Timesheet!G253,\"\")","v":""},{"$f":"IF(Timesheet!X253>0,Timesheet!J253,\"\")","v":""},"",{"$f":"IFERROR(VLOOKUP(AA253,IF(AA253=3165,AL$2:AM$2,ESG!A$2:I$54),IF(AA253=3165,2,9),0),0)","v":0},{"$f":"IF(Timesheet!Z253>0,Timesheet!G253,\"\")","v":""},{"$f":"IF(Timesheet!Z253>0,Timesheet!J253,\"\")","v":""},"",{"$f":"IFERROR(VLOOKUP(AE253,IF(AE253=3165,AL$2:AM$2,ESG!A$2:J$54),IF(AE253=3165,2,10),0),0)","v":0},{"$f":"IF(Timesheet!AB253>0,Timesheet!G253,\"\")","v":""},{"$f":"IF(Timesheet!AB253>0,Timesheet!J253,\"\")","v":""},"",{"$f":"IFERROR(VLOOKUP(AI253,IF(AI253=3165,AL$2:AM$2,ESG!A$2:K$54),IF(AI253=3165,2,11),0),0)","v":0}]
[{"$f":"IF(Timesheet!L254>0,Timesheet!G254,\"\")","v":""},{"$f":"IF(Timesheet!L254>0,Timesheet!J254,\"\")","v":""},"",{"$f":"IFERROR(VLOOKUP(C254,IF(C254=3165,AL$2:AM$2,ESG!A$2:C$54),IF(C254=3165,2,3),0),0)","v":0},{"$f":"IF(Timesheet!N254>0,Timesheet!G254,\"\")","v":""},{"$f":"IF(Timesheet!N254>0,Timesheet!J254,\"\")","v":""},"",{"$f":"IFERROR(VLOOKUP(G254,IF(G254=3165,AL$2:AM$2,ESG!A$2:D$54),IF(G254=3165,2,4),0),0)","v":0},{"$f":"IF(Timesheet!P254>0,Timesheet!G254,\"\")","v":""},{"$f":"IF(Timesheet!P254>0,Timesheet!J254,\"\")","v":""},"",{"$f":"IFERROR(VLOOKUP(K254,IF(K254=3165,AL$2:AM$2,ESG!A$2:E$54),IF(K254=3165,2,5),0),0)","v":0},{"$f":"IF(Timesheet!R254>0,Timesheet!G254,\"\")","v":""},{"$f":"IF(Timesheet!R254>0,Timesheet!J254,\"\")","v":""},{"$f":"IFERROR(VLOOKUP(M254,ESG!M$2:N$13,2,FALSE),N254)","v":""},{"$f":"IFERROR(VLOOKUP(O254,IF(O254=3165,AL$2:AM$2,ESG!A$2:F$54),IF(O254=3165,2,6),0),0)","v":0},{"$f":"IF(Timesheet!T254>0,Timesheet!G254,\"\")","v":""},{"$f":"IF(Timesheet!T254>0,Timesheet!J254,\"\")","v":""},{"$f":"IFERROR(VLOOKUP(Q254,ESG!M$2:N$13,2,FALSE),R254)","v":""},{"$f":"IFERROR(VLOOKUP(S254,IF(S254=3165,AL$2:AM$2,ESG!A$2:G$54),IF(S254=3165,2,7),0),0)","v":0},{"$f":"IF(Timesheet!V254>0,Timesheet!G254,\"\")","v":""},{"$f":"IF(Timesheet!V254>0,Timesheet!J254,\"\")","v":""},{"$f":"IFERROR(VLOOKUP(U254,ESG!M$2:N$13,2,FALSE),V254)","v":""},{"$f":"IFERROR(VLOOKUP(W254,IF(W254=3165,AL$2:AM$2,ESG!A$2:H$54),IF(W254=3165,2,8),0),0)","v":0},{"$f":"IF(Timesheet!X254>0,Timesheet!G254,\"\")","v":""},{"$f":"IF(Timesheet!X254>0,Timesheet!J254,\"\")","v":""},"",{"$f":"IFERROR(VLOOKUP(AA254,IF(AA254=3165,AL$2:AM$2,ESG!A$2:I$54),IF(AA254=3165,2,9),0),0)","v":0},{"$f":"IF(Timesheet!Z254>0,Timesheet!G254,\"\")","v":""},{"$f":"IF(Timesheet!Z254>0,Timesheet!J254,\"\")","v":""},"",{"$f":"IFERROR(VLOOKUP(AE254,IF(AE254=3165,AL$2:AM$2,ESG!A$2:J$54),IF(AE254=3165,2,10),0),0)","v":0},{"$f":"IF(Timesheet!AB254>0,Timesheet!G254,\"\")","v":""},{"$f":"IF(Timesheet!AB254>0,Timesheet!J254,\"\")","v":""},"",{"$f":"IFERROR(VLOOKUP(AI254,IF(AI254=3165,AL$2:AM$2,ESG!A$2:K$54),IF(AI254=3165,2,11),0),0)","v":0}]
[{"$f":"IF(Timesheet!L255>0,Timesheet!G255,\"\")","v":""},{"$f":"IF(Timesheet!L255>0,Timesheet!J255,\"\")","v":""},"",{"$f":"IFERROR(VLOOKUP(C255,IF(C255=3165,AL$2:AM$2,ESG!A$2:C$54),IF(C255=3165,2,3),0),0)","v":0},{"$f":"IF(Timesheet!N255>0,Timesheet!G255,\"\")","v":""},{"$f":"IF(Timesheet!N255>0,Timesheet!J255,\"\")","v":""},"",{"$f":"IFERROR(VLOOKUP(G255,IF(G255=3165,AL$2:AM$2,ESG!A$2:D$54),IF(G255=3165,2,4),0),0)","v":0},{"$f":"IF(Timesheet!P255>0,Timesheet!G255,\"\")","v":""},{"$f":"IF(Timesheet!P255>0,Timesheet!J255,\"\")","v":""},"",{"$f":"IFERROR(VLOOKUP(K255,IF(K255=3165,AL$2:AM$2,ESG!A$2:E$54),IF(K255=3165,2,5),0),0)","v":0},{"$f":"IF(Timesheet!R255>0,Timesheet!G255,\"\")","v":""},{"$f":"IF(Timesheet!R255>0,Timesheet!J255,\"\")","v":""},{"$f":"IFERROR(VLOOKUP(M255,ESG!M$2:N$13,2,FALSE),N255)","v":""},{"$f":"IFERROR(VLOOKUP(O255,IF(O255=3165,AL$2:AM$2,ESG!A$2:F$54),IF(O255=3165,2,6),0),0)","v":0},{"$f":"IF(Timesheet!T255>0,Timesheet!G255,\"\")","v":""},{"$f":"IF(Timesheet!T255>0,Timesheet!J255,\"\")","v":""},{"$f":"IFERROR(VLOOKUP(Q255,ESG!M$2:N$13,2,FALSE),R255)","v":""},{"$f":"IFERROR(VLOOKUP(S255,IF(S255=3165,AL$2:AM$2,ESG!A$2:G$54),IF(S255=3165,2,7),0),0)","v":0},{"$f":"IF(Timesheet!V255>0,Timesheet!G255,\"\")","v":""},{"$f":"IF(Timesheet!V255>0,Timesheet!J255,\"\")","v":""},{"$f":"IFERROR(VLOOKUP(U255,ESG!M$2:N$13,2,FALSE),V255)","v":""},{"$f":"IFERROR(VLOOKUP(W255,IF(W255=3165,AL$2:AM$2,ESG!A$2:H$54),IF(W255=3165,2,8),0),0)","v":0},{"$f":"IF(Timesheet!X255>0,Timesheet!G255,\"\")","v":""},{"$f":"IF(Timesheet!X255>0,Timesheet!J255,\"\")","v":""},"",{"$f":"IFERROR(VLOOKUP(AA255,IF(AA255=3165,AL$2:AM$2,ESG!A$2:I$54),IF(AA255=3165,2,9),0),0)","v":0},{"$f":"IF(Timesheet!Z255>0,Timesheet!G255,\"\")","v":""},{"$f":"IF(Timesheet!Z255>0,Timesheet!J255,\"\")","v":""},"",{"$f":"IFERROR(VLOOKUP(AE255,IF(AE255=3165,AL$2:AM$2,ESG!A$2:J$54),IF(AE255=3165,2,10),0),0)","v":0},{"$f":"IF(Timesheet!AB255>0,Timesheet!G255,\"\")","v":""},{"$f":"IF(Timesheet!AB255>0,Timesheet!J255,\"\")","v":""},"",{"$f":"IFERROR(VLOOKUP(AI255,IF(AI255=3165,AL$2:AM$2,ESG!A$2:K$54),IF(AI255=3165,2,11),0),0)","v":0}]
[{"$f":"IF(Timesheet!L256>0,Timesheet!G256,\"\")","v":""},{"$f":"IF(Timesheet!L256>0,Timesheet!J256,\"\")","v":""},"",{"$f":"IFERROR(VLOOKUP(C256,IF(C256=3165,AL$2:AM$2,ESG!A$2:C$54),IF(C256=3165,2,3),0),0)","v":0},{"$f":"IF(Timesheet!N256>0,Timesheet!G256,\"\")","v":""},{"$f":"IF(Timesheet!N256>0,Timesheet!J256,\"\")","v":""},"",{"$f":"IFERROR(VLOOKUP(G256,IF(G256=3165,AL$2:AM$2,ESG!A$2:D$54),IF(G256=3165,2,4),0),0)","v":0},{"$f":"IF(Timesheet!P256>0,Timesheet!G256,\"\")","v":""},{"$f":"IF(Timesheet!P256>0,Timesheet!J256,\"\")","v":""},"",{"$f":"IFERROR(VLOOKUP(K256,IF(K256=3165,AL$2:AM$2,ESG!A$2:E$54),IF(K256=3165,2,5),0),0)","v":0},{"$f":"IF(Timesheet!R256>0,Timesheet!G256,\"\")","v":""},{"$f":"IF(Timesheet!R256>0,Timesheet!J256,\"\")","v":""},{"$f":"IFERROR(VLOOKUP(M256,ESG!M$2:N$13,2,FALSE),N256)","v":""},{"$f":"IFERROR(VLOOKUP(O256,IF(O256=3165,AL$2:AM$2,ESG!A$2:F$54),IF(O256=3165,2,6),0),0)","v":0},{"$f":"IF(Timesheet!T256>0,Timesheet!G256,\"\")","v":""},{"$f":"IF(Timesheet!T256>0,Timesheet!J256,\"\")","v":""},{"$f":"IFERROR(VLOOKUP(Q256,ESG!M$2:N$13,2,FALSE),R256)","v":""},{"$f":"IFERROR(VLOOKUP(S256,IF(S256=3165,AL$2:AM$2,ESG!A$2:G$54),IF(S256=3165,2,7),0),0)","v":0},{"$f":"IF(Timesheet!V256>0,Timesheet!G256,\"\")","v":""},{"$f":"IF(Timesheet!V256>0,Timesheet!J256,\"\")","v":""},{"$f":"IFERROR(VLOOKUP(U256,ESG!M$2:N$13,2,FALSE),V256)","v":""},{"$f":"IFERROR(VLOOKUP(W256,IF(W256=3165,AL$2:AM$2,ESG!A$2:H$54),IF(W256=3165,2,8),0),0)","v":0},{"$f":"IF(Timesheet!X256>0,Timesheet!G256,\"\")","v":""},{"$f":"IF(Timesheet!X256>0,Timesheet!J256,\"\")","v":""},"",{"$f":"IFERROR(VLOOKUP(AA256,IF(AA256=3165,AL$2:AM$2,ESG!A$2:I$54),IF(AA256=3165,2,9),0),0)","v":0},{"$f":"IF(Timesheet!Z256>0,Timesheet!G256,\"\")","v":""},{"$f":"IF(Timesheet!Z256>0,Timesheet!J256,\"\")","v":""},"",{"$f":"IFERROR(VLOOKUP(AE256,IF(AE256=3165,AL$2:AM$2,ESG!A$2:J$54),IF(AE256=3165,2,10),0),0)","v":0},{"$f":"IF(Timesheet!AB256>0,Timesheet!G256,\"\")","v":""},{"$f":"IF(Timesheet!AB256>0,Timesheet!J256,\"\")","v":""},"",{"$f":"IFERROR(VLOOKUP(AI256,IF(AI256=3165,AL$2:AM$2,ESG!A$2:K$54),IF(AI256=3165,2,11),0),0)","v":0}]
[{"$f":"IF(Timesheet!L257>0,Timesheet!G257,\"\")","v":""},{"$f":"IF(Timesheet!L257>0,Timesheet!J257,\"\")","v":""},"",{"$f":"IFERROR(VLOOKUP(C257,IF(C257=3165,AL$2:AM$2,ESG!A$2:C$54),IF(C257=3165,2,3),0),0)","v":0},{"$f":"IF(Timesheet!N257>0,Timesheet!G257,\"\")","v":""},{"$f":"IF(Timesheet!N257>0,Timesheet!J257,\"\")","v":""},"",{"$f":"IFERROR(VLOOKUP(G257,IF(G257=3165,AL$2:AM$2,ESG!A$2:D$54),IF(G257=3165,2,4),0),0)","v":0},{"$f":"IF(Timesheet!P257>0,Timesheet!G257,\"\")","v":""},{"$f":"IF(Timesheet!P257>0,Timesheet!J257,\"\")","v":""},"",{"$f":"IFERROR(VLOOKUP(K257,IF(K257=3165,AL$2:AM$2,ESG!A$2:E$54),IF(K257=3165,2,5),0),0)","v":0},{"$f":"IF(Timesheet!R257>0,Timesheet!G257,\"\")","v":""},{"$f":"IF(Timesheet!R257>0,Timesheet!J257,\"\")","v":""},{"$f":"IFERROR(VLOOKUP(M257,ESG!M$2:N$13,2,FALSE),N257)","v":""},{"$f":"IFERROR(VLOOKUP(O257,IF(O257=3165,AL$2:AM$2,ESG!A$2:F$54),IF(O257=3165,2,6),0),0)","v":0},{"$f":"IF(Timesheet!T257>0,Timesheet!G257,\"\")","v":""},{"$f":"IF(Timesheet!T257>0,Timesheet!J257,\"\")","v":""},{"$f":"IFERROR(VLOOKUP(Q257,ESG!M$2:N$13,2,FALSE),R257)","v":""},{"$f":"IFERROR(VLOOKUP(S257,IF(S257=3165,AL$2:AM$2,ESG!A$2:G$54),IF(S257=3165,2,7),0),0)","v":0},{"$f":"IF(Timesheet!V257>0,Timesheet!G257,\"\")","v":""},{"$f":"IF(Timesheet!V257>0,Timesheet!J257,\"\")","v":""},{"$f":"IFERROR(VLOOKUP(U257,ESG!M$2:N$13,2,FALSE),V257)","v":""},{"$f":"IFERROR(VLOOKUP(W257,IF(W257=3165,AL$2:AM$2,ESG!A$2:H$54),IF(W257=3165,2,8),0),0)","v":0},{"$f":"IF(Timesheet!X257>0,Timesheet!G257,\"\")","v":""},{"$f":"IF(Timesheet!X257>0,Timesheet!J257,\"\")","v":""},"",{"$f":"IFERROR(VLOOKUP(AA257,IF(AA257=3165,AL$2:AM$2,ESG!A$2:I$54),IF(AA257=3165,2,9),0),0)","v":0},{"$f":"IF(Timesheet!Z257>0,Timesheet!G257,\"\")","v":""},{"$f":"IF(Timesheet!Z257>0,Timesheet!J257,\"\")","v":""},"",{"$f":"IFERROR(VLOOKUP(AE257,IF(AE257=3165,AL$2:AM$2,ESG!A$2:J$54),IF(AE257=3165,2,10),0),0)","v":0},{"$f":"IF(Timesheet!AB257>0,Timesheet!G257,\"\")","v":""},{"$f":"IF(Timesheet!AB257>0,Timesheet!J257,\"\")","v":""},"",{"$f":"IFERROR(VLOOKUP(AI257,IF(AI257=3165,AL$2:AM$2,ESG!A$2:K$54),IF(AI257=3165,2,11),0),0)","v":0}]
[{"$f":"IF(Timesheet!L258>0,Timesheet!G258,\"\")","v":""},{"$f":"IF(Timesheet!L258>0,Timesheet!J258,\"\")","v":""},"",{"$f":"IFERROR(VLOOKUP(C258,IF(C258=3165,AL$2:AM$2,ESG!A$2:C$54),IF(C258=3165,2,3),0),0)","v":0},{"$f":"IF(Timesheet!N258>0,Timesheet!G258,\"\")","v":""},{"$f":"IF(Timesheet!N258>0,Timesheet!J258,\"\")","v":""},"",{"$f":"IFERROR(VLOOKUP(G258,IF(G258=3165,AL$2:AM$2,ESG!A$2:D$54),IF(G258=3165,2,4),0),0)","v":0},{"$f":"IF(Timesheet!P258>0,Timesheet!G258,\"\")","v":""},{"$f":"IF(Timesheet!P258>0,Timesheet!J258,\"\")","v":""},"",{"$f":"IFERROR(VLOOKUP(K258,IF(K258=3165,AL$2:AM$2,ESG!A$2:E$54),IF(K258=3165,2,5),0),0)","v":0},{"$f":"IF(Timesheet!R258>0,Timesheet!G258,\"\")","v":""},{"$f":"IF(Timesheet!R258>0,Timesheet!J258,\"\")","v":""},{"$f":"IFERROR(VLOOKUP(M258,ESG!M$2:N$13,2,FALSE),N258)","v":""},{"$f":"IFERROR(VLOOKUP(O258,IF(O258=3165,AL$2:AM$2,ESG!A$2:F$54),IF(O258=3165,2,6),0),0)","v":0},{"$f":"IF(Timesheet!T258>0,Timesheet!G258,\"\")","v":""},{"$f":"IF(Timesheet!T258>0,Timesheet!J258,\"\")","v":""},{"$f":"IFERROR(VLOOKUP(Q258,ESG!M$2:N$13,2,FALSE),R258)","v":""},{"$f":"IFERROR(VLOOKUP(S258,IF(S258=3165,AL$2:AM$2,ESG!A$2:G$54),IF(S258=3165,2,7),0),0)","v":0},{"$f":"IF(Timesheet!V258>0,Timesheet!G258,\"\")","v":""},{"$f":"IF(Timesheet!V258>0,Timesheet!J258,\"\")","v":""},{"$f":"IFERROR(VLOOKUP(U258,ESG!M$2:N$13,2,FALSE),V258)","v":""},{"$f":"IFERROR(VLOOKUP(W258,IF(W258=3165,AL$2:AM$2,ESG!A$2:H$54),IF(W258=3165,2,8),0),0)","v":0},{"$f":"IF(Timesheet!X258>0,Timesheet!G258,\"\")","v":""},{"$f":"IF(Timesheet!X258>0,Timesheet!J258,\"\")","v":""},"",{"$f":"IFERROR(VLOOKUP(AA258,IF(AA258=3165,AL$2:AM$2,ESG!A$2:I$54),IF(AA258=3165,2,9),0),0)","v":0},{"$f":"IF(Timesheet!Z258>0,Timesheet!G258,\"\")","v":""},{"$f":"IF(Timesheet!Z258>0,Timesheet!J258,\"\")","v":""},"",{"$f":"IFERROR(VLOOKUP(AE258,IF(AE258=3165,AL$2:AM$2,ESG!A$2:J$54),IF(AE258=3165,2,10),0),0)","v":0},{"$f":"IF(Timesheet!AB258>0,Timesheet!G258,\"\")","v":""},{"$f":"IF(Timesheet!AB258>0,Timesheet!J258,\"\")","v":""},"",{"$f":"IFERROR(VLOOKUP(AI258,IF(AI258=3165,AL$2:AM$2,ESG!A$2:K$54),IF(AI258=3165,2,11),0),0)","v":0}]
[{"$f":"IF(Timesheet!L259>0,Timesheet!G259,\"\")","v":""},{"$f":"IF(Timesheet!L259>0,Timesheet!J259,\"\")","v":""},"",{"$f":"IFERROR(VLOOKUP(C259,IF(C259=3165,AL$2:AM$2,ESG!A$2:C$54),IF(C259=3165,2,3),0),0)","v":0},{"$f":"IF(Timesheet!N259>0,Timesheet!G259,\"\")","v":""},{"$f":"IF(Timesheet!N259>0,Timesheet!J259,\"\")","v":""},"",{"$f":"IFERROR(VLOOKUP(G259,IF(G259=3165,AL$2:AM$2,ESG!A$2:D$54),IF(G259=3165,2,4),0),0)","v":0},{"$f":"IF(Timesheet!P259>0,Timesheet!G259,\"\")","v":""},{"$f":"IF(Timesheet!P259>0,Timesheet!J259,\"\")","v":""},"",{"$f":"IFERROR(VLOOKUP(K259,IF(K259=3165,AL$2:AM$2,ESG!A$2:E$54),IF(K259=3165,2,5),0),0)","v":0},{"$f":"IF(Timesheet!R259>0,Timesheet!G259,\"\")","v":""},{"$f":"IF(Timesheet!R259>0,Timesheet!J259,\"\")","v":""},{"$f":"IFERROR(VLOOKUP(M259,ESG!M$2:N$13,2,FALSE),N259)","v":""},{"$f":"IFERROR(VLOOKUP(O259,IF(O259=3165,AL$2:AM$2,ESG!A$2:F$54),IF(O259=3165,2,6),0),0)","v":0},{"$f":"IF(Timesheet!T259>0,Timesheet!G259,\"\")","v":""},{"$f":"IF(Timesheet!T259>0,Timesheet!J259,\"\")","v":""},{"$f":"IFERROR(VLOOKUP(Q259,ESG!M$2:N$13,2,FALSE),R259)","v":""},{"$f":"IFERROR(VLOOKUP(S259,IF(S259=3165,AL$2:AM$2,ESG!A$2:G$54),IF(S259=3165,2,7),0),0)","v":0},{"$f":"IF(Timesheet!V259>0,Timesheet!G259,\"\")","v":""},{"$f":"IF(Timesheet!V259>0,Timesheet!J259,\"\")","v":""},{"$f":"IFERROR(VLOOKUP(U259,ESG!M$2:N$13,2,FALSE),V259)","v":""},{"$f":"IFERROR(VLOOKUP(W259,IF(W259=3165,AL$2:AM$2,ESG!A$2:H$54),IF(W259=3165,2,8),0),0)","v":0},{"$f":"IF(Timesheet!X259>0,Timesheet!G259,\"\")","v":""},{"$f":"IF(Timesheet!X259>0,Timesheet!J259,\"\")","v":""},"",{"$f":"IFERROR(VLOOKUP(AA259,IF(AA259=3165,AL$2:AM$2,ESG!A$2:I$54),IF(AA259=3165,2,9),0),0)","v":0},{"$f":"IF(Timesheet!Z259>0,Timesheet!G259,\"\")","v":""},{"$f":"IF(Timesheet!Z259>0,Timesheet!J259,\"\")","v":""},"",{"$f":"IFERROR(VLOOKUP(AE259,IF(AE259=3165,AL$2:AM$2,ESG!A$2:J$54),IF(AE259=3165,2,10),0),0)","v":0},{"$f":"IF(Timesheet!AB259>0,Timesheet!G259,\"\")","v":""},{"$f":"IF(Timesheet!AB259>0,Timesheet!J259,\"\")","v":""},"",{"$f":"IFERROR(VLOOKUP(AI259,IF(AI259=3165,AL$2:AM$2,ESG!A$2:K$54),IF(AI259=3165,2,11),0),0)","v":0}]
[{"$f":"IF(Timesheet!L260>0,Timesheet!G260,\"\")","v":""},{"$f":"IF(Timesheet!L260>0,Timesheet!J260,\"\")","v":""},{"$f":"B260","v":""},{"$f":"IFERROR(VLOOKUP(C260,IF(C260=3165,AL$2:AM$2,ESG!A$2:C$54),IF(C260=3165,2,3),0),0)","v":0},{"$f":"IF(Timesheet!N260>0,Timesheet!G260,\"\")","v":""},{"$f":"IF(Timesheet!N260>0,Timesheet!J260,\"\")","v":""},{"$f":"F260","v":""},{"$f":"IFERROR(VLOOKUP(G260,IF(G260=3165,AL$2:AM$2,ESG!A$2:D$54),IF(G260=3165,2,4),0),0)","v":0},{"$f":"IF(Timesheet!P260>0,Timesheet!G260,\"\")","v":""},{"$f":"IF(Timesheet!P260>0,Timesheet!J260,\"\")","v":""},{"$f":"J260","v":""},{"$f":"IFERROR(VLOOKUP(K260,IF(K260=3165,AL$2:AM$2,ESG!A$2:E$54),IF(K260=3165,2,5),0),0)","v":0},{"$f":"IF(Timesheet!R260>0,Timesheet!G260,\"\")","v":""},{"$f":"IF(Timesheet!R260>0,Timesheet!J260,\"\")","v":""},{"$f":"IFERROR(VLOOKUP(M260,ESG!M$2:N$13,2,FALSE),N260)","v":""},{"$f":"IFERROR(VLOOKUP(O260,IF(O260=3165,AL$2:AM$2,ESG!A$2:F$54),IF(O260=3165,2,6),0),0)","v":0},{"$f":"IF(Timesheet!T260>0,Timesheet!G260,\"\")","v":""},{"$f":"IF(Timesheet!T260>0,Timesheet!J260,\"\")","v":""},{"$f":"IFERROR(VLOOKUP(Q260,ESG!M$2:N$13,2,FALSE),R260)","v":""},{"$f":"IFERROR(VLOOKUP(S260,IF(S260=3165,AL$2:AM$2,ESG!A$2:G$54),IF(S260=3165,2,7),0),0)","v":0},{"$f":"IF(Timesheet!V260>0,Timesheet!G260,\"\")","v":""},{"$f":"IF(Timesheet!V260>0,Timesheet!J260,\"\")","v":""},{"$f":"IFERROR(VLOOKUP(U260,ESG!M$2:N$13,2,FALSE),V260)","v":""},{"$f":"IFERROR(VLOOKUP(W260,IF(W260=3165,AL$2:AM$2,ESG!A$2:H$54),IF(W260=3165,2,8),0),0)","v":0},{"$f":"IF(Timesheet!X260>0,Timesheet!G260,\"\")","v":""},{"$f":"IF(Timesheet!X260>0,Timesheet!J260,\"\")","v":""},{"$f":"Z260","v":""},{"$f":"IFERROR(VLOOKUP(AA260,IF(AA260=3165,AL$2:AM$2,ESG!A$2:I$54),IF(AA260=3165,2,9),0),0)","v":0},{"$f":"IF(Timesheet!Z260>0,Timesheet!G260,\"\")","v":""},{"$f":"IF(Timesheet!Z260>0,Timesheet!J260,\"\")","v":""},{"$f":"AD260","v":""},{"$f":"IFERROR(VLOOKUP(AE260,IF(AE260=3165,AL$2:AM$2,ESG!A$2:J$54),IF(AE260=3165,2,10),0),0)","v":0},{"$f":"IF(Timesheet!AB260>0,Timesheet!G260,\"\")","v":""},{"$f":"IF(Timesheet!AB260>0,Timesheet!J260,\"\")","v":""},{"$f":"AH260","v":""},{"$f":"IFERROR(VLOOKUP(AI260,IF(AI260=3165,AL$2:AM$2,ESG!A$2:K$54),IF(AI260=3165,2,11),0),0)","v":0}]
[{"$f":"IF(Timesheet!L261>0,Timesheet!G261,\"\")","v":""},{"$f":"IF(Timesheet!L261>0,Timesheet!J261,\"\")","v":""},"",{"$f":"IFERROR(VLOOKUP(C261,IF(C261=3165,AL$2:AM$2,ESG!A$2:C$54),IF(C261=3165,2,3),0),0)","v":0},{"$f":"IF(Timesheet!N261>0,Timesheet!G261,\"\")","v":""},{"$f":"IF(Timesheet!N261>0,Timesheet!J261,\"\")","v":""},"",{"$f":"IFERROR(VLOOKUP(G261,IF(G261=3165,AL$2:AM$2,ESG!A$2:D$54),IF(G261=3165,2,4),0),0)","v":0},{"$f":"IF(Timesheet!P261>0,Timesheet!G261,\"\")","v":""},{"$f":"IF(Timesheet!P261>0,Timesheet!J261,\"\")","v":""},"",{"$f":"IFERROR(VLOOKUP(K261,IF(K261=3165,AL$2:AM$2,ESG!A$2:E$54),IF(K261=3165,2,5),0),0)","v":0},{"$f":"IF(Timesheet!R261>0,Timesheet!G261,\"\")","v":""},{"$f":"IF(Timesheet!R261>0,Timesheet!J261,\"\")","v":""},{"$f":"IFERROR(VLOOKUP(M261,ESG!M$2:N$13,2,FALSE),N261)","v":""},{"$f":"IFERROR(VLOOKUP(O261,IF(O261=3165,AL$2:AM$2,ESG!A$2:F$54),IF(O261=3165,2,6),0),0)","v":0},{"$f":"IF(Timesheet!T261>0,Timesheet!G261,\"\")","v":""},{"$f":"IF(Timesheet!T261>0,Timesheet!J261,\"\")","v":""},{"$f":"IFERROR(VLOOKUP(Q261,ESG!M$2:N$13,2,FALSE),R261)","v":""},{"$f":"IFERROR(VLOOKUP(S261,IF(S261=3165,AL$2:AM$2,ESG!A$2:G$54),IF(S261=3165,2,7),0),0)","v":0},{"$f":"IF(Timesheet!V261>0,Timesheet!G261,\"\")","v":""},{"$f":"IF(Timesheet!V261>0,Timesheet!J261,\"\")","v":""},{"$f":"IFERROR(VLOOKUP(U261,ESG!M$2:N$13,2,FALSE),V261)","v":""},{"$f":"IFERROR(VLOOKUP(W261,IF(W261=3165,AL$2:AM$2,ESG!A$2:H$54),IF(W261=3165,2,8),0),0)","v":0},{"$f":"IF(Timesheet!X261>0,Timesheet!G261,\"\")","v":""},{"$f":"IF(Timesheet!X261>0,Timesheet!J261,\"\")","v":""},"",{"$f":"IFERROR(VLOOKUP(AA261,IF(AA261=3165,AL$2:AM$2,ESG!A$2:I$54),IF(AA261=3165,2,9),0),0)","v":0},{"$f":"IF(Timesheet!Z261>0,Timesheet!G261,\"\")","v":""},{"$f":"IF(Timesheet!Z261>0,Timesheet!J261,\"\")","v":""},"",{"$f":"IFERROR(VLOOKUP(AE261,IF(AE261=3165,AL$2:AM$2,ESG!A$2:J$54),IF(AE261=3165,2,10),0),0)","v":0},{"$f":"IF(Timesheet!AB261>0,Timesheet!G261,\"\")","v":""},{"$f":"IF(Timesheet!AB261>0,Timesheet!J261,\"\")","v":""},"",{"$f":"IFERROR(VLOOKUP(AI261,IF(AI261=3165,AL$2:AM$2,ESG!A$2:K$54),IF(AI261=3165,2,11),0),0)","v":0}]
[{"$f":"IF(Timesheet!L262>0,Timesheet!G262,\"\")","v":""},{"$f":"IF(Timesheet!L262>0,Timesheet!J262,\"\")","v":""},"",{"$f":"IFERROR(VLOOKUP(C262,IF(C262=3165,AL$2:AM$2,ESG!A$2:C$54),IF(C262=3165,2,3),0),0)","v":0},{"$f":"IF(Timesheet!N262>0,Timesheet!G262,\"\")","v":""},{"$f":"IF(Timesheet!N262>0,Timesheet!J262,\"\")","v":""},"",{"$f":"IFERROR(VLOOKUP(G262,IF(G262=3165,AL$2:AM$2,ESG!A$2:D$54),IF(G262=3165,2,4),0),0)","v":0},{"$f":"IF(Timesheet!P262>0,Timesheet!G262,\"\")","v":""},{"$f":"IF(Timesheet!P262>0,Timesheet!J262,\"\")","v":""},"",{"$f":"IFERROR(VLOOKUP(K262,IF(K262=3165,AL$2:AM$2,ESG!A$2:E$54),IF(K262=3165,2,5),0),0)","v":0},{"$f":"IF(Timesheet!R262>0,Timesheet!G262,\"\")","v":""},{"$f":"IF(Timesheet!R262>0,Timesheet!J262,\"\")","v":""},{"$f":"IFERROR(VLOOKUP(M262,ESG!M$2:N$13,2,FALSE),N262)","v":""},{"$f":"IFERROR(VLOOKUP(O262,IF(O262=3165,AL$2:AM$2,ESG!A$2:F$54),IF(O262=3165,2,6),0),0)","v":0},{"$f":"IF(Timesheet!T262>0,Timesheet!G262,\"\")","v":""},{"$f":"IF(Timesheet!T262>0,Timesheet!J262,\"\")","v":""},{"$f":"IFERROR(VLOOKUP(Q262,ESG!M$2:N$13,2,FALSE),R262)","v":""},{"$f":"IFERROR(VLOOKUP(S262,IF(S262=3165,AL$2:AM$2,ESG!A$2:G$54),IF(S262=3165,2,7),0),0)","v":0},{"$f":"IF(Timesheet!V262>0,Timesheet!G262,\"\")","v":""},{"$f":"IF(Timesheet!V262>0,Timesheet!J262,\"\")","v":""},{"$f":"IFERROR(VLOOKUP(U262,ESG!M$2:N$13,2,FALSE),V262)","v":""},{"$f":"IFERROR(VLOOKUP(W262,IF(W262=3165,AL$2:AM$2,ESG!A$2:H$54),IF(W262=3165,2,8),0),0)","v":0},{"$f":"IF(Timesheet!X262>0,Timesheet!G262,\"\")","v":""},{"$f":"IF(Timesheet!X262>0,Timesheet!J262,\"\")","v":""},"",{"$f":"IFERROR(VLOOKUP(AA262,IF(AA262=3165,AL$2:AM$2,ESG!A$2:I$54),IF(AA262=3165,2,9),0),0)","v":0},{"$f":"IF(Timesheet!Z262>0,Timesheet!G262,\"\")","v":""},{"$f":"IF(Timesheet!Z262>0,Timesheet!J262,\"\")","v":""},"",{"$f":"IFERROR(VLOOKUP(AE262,IF(AE262=3165,AL$2:AM$2,ESG!A$2:J$54),IF(AE262=3165,2,10),0),0)","v":0},{"$f":"IF(Timesheet!AB262>0,Timesheet!G262,\"\")","v":""},{"$f":"IF(Timesheet!AB262>0,Timesheet!J262,\"\")","v":""},"",{"$f":"IFERROR(VLOOKUP(AI262,IF(AI262=3165,AL$2:AM$2,ESG!A$2:K$54),IF(AI262=3165,2,11),0),0)","v":0}]
[{"$f":"IF(Timesheet!L263>0,Timesheet!G263,\"\")","v":""},{"$f":"IF(Timesheet!L263>0,Timesheet!J263,\"\")","v":""},"",{"$f":"IFERROR(VLOOKUP(C263,IF(C263=3165,AL$2:AM$2,ESG!A$2:C$54),IF(C263=3165,2,3),0),0)","v":0},{"$f":"IF(Timesheet!N263>0,Timesheet!G263,\"\")","v":""},{"$f":"IF(Timesheet!N263>0,Timesheet!J263,\"\")","v":""},"",{"$f":"IFERROR(VLOOKUP(G263,IF(G263=3165,AL$2:AM$2,ESG!A$2:D$54),IF(G263=3165,2,4),0),0)","v":0},{"$f":"IF(Timesheet!P263>0,Timesheet!G263,\"\")","v":""},{"$f":"IF(Timesheet!P263>0,Timesheet!J263,\"\")","v":""},"",{"$f":"IFERROR(VLOOKUP(K263,IF(K263=3165,AL$2:AM$2,ESG!A$2:E$54),IF(K263=3165,2,5),0),0)","v":0},{"$f":"IF(Timesheet!R263>0,Timesheet!G263,\"\")","v":""},{"$f":"IF(Timesheet!R263>0,Timesheet!J263,\"\")","v":""},{"$f":"IFERROR(VLOOKUP(M263,ESG!M$2:N$13,2,FALSE),N263)","v":""},{"$f":"IFERROR(VLOOKUP(O263,IF(O263=3165,AL$2:AM$2,ESG!A$2:F$54),IF(O263=3165,2,6),0),0)","v":0},{"$f":"IF(Timesheet!T263>0,Timesheet!G263,\"\")","v":""},{"$f":"IF(Timesheet!T263>0,Timesheet!J263,\"\")","v":""},{"$f":"IFERROR(VLOOKUP(Q263,ESG!M$2:N$13,2,FALSE),R263)","v":""},{"$f":"IFERROR(VLOOKUP(S263,IF(S263=3165,AL$2:AM$2,ESG!A$2:G$54),IF(S263=3165,2,7),0),0)","v":0},{"$f":"IF(Timesheet!V263>0,Timesheet!G263,\"\")","v":""},{"$f":"IF(Timesheet!V263>0,Timesheet!J263,\"\")","v":""},{"$f":"IFERROR(VLOOKUP(U263,ESG!M$2:N$13,2,FALSE),V263)","v":""},{"$f":"IFERROR(VLOOKUP(W263,IF(W263=3165,AL$2:AM$2,ESG!A$2:H$54),IF(W263=3165,2,8),0),0)","v":0},{"$f":"IF(Timesheet!X263>0,Timesheet!G263,\"\")","v":""},{"$f":"IF(Timesheet!X263>0,Timesheet!J263,\"\")","v":""},"",{"$f":"IFERROR(VLOOKUP(AA263,IF(AA263=3165,AL$2:AM$2,ESG!A$2:I$54),IF(AA263=3165,2,9),0),0)","v":0},{"$f":"IF(Timesheet!Z263>0,Timesheet!G263,\"\")","v":""},{"$f":"IF(Timesheet!Z263>0,Timesheet!J263,\"\")","v":""},"",{"$f":"IFERROR(VLOOKUP(AE263,IF(AE263=3165,AL$2:AM$2,ESG!A$2:J$54),IF(AE263=3165,2,10),0),0)","v":0},{"$f":"IF(Timesheet!AB263>0,Timesheet!G263,\"\")","v":""},{"$f":"IF(Timesheet!AB263>0,Timesheet!J263,\"\")","v":""},"",{"$f":"IFERROR(VLOOKUP(AI263,IF(AI263=3165,AL$2:AM$2,ESG!A$2:K$54),IF(AI263=3165,2,11),0),0)","v":0}]
[{"$f":"IF(Timesheet!L264>0,Timesheet!G264,\"\")","v":""},{"$f":"IF(Timesheet!L264>0,Timesheet!J264,\"\")","v":""},"",{"$f":"IFERROR(VLOOKUP(C264,IF(C264=3165,AL$2:AM$2,ESG!A$2:C$54),IF(C264=3165,2,3),0),0)","v":0},{"$f":"IF(Timesheet!N264>0,Timesheet!G264,\"\")","v":""},{"$f":"IF(Timesheet!N264>0,Timesheet!J264,\"\")","v":""},"",{"$f":"IFERROR(VLOOKUP(G264,IF(G264=3165,AL$2:AM$2,ESG!A$2:D$54),IF(G264=3165,2,4),0),0)","v":0},{"$f":"IF(Timesheet!P264>0,Timesheet!G264,\"\")","v":""},{"$f":"IF(Timesheet!P264>0,Timesheet!J264,\"\")","v":""},"",{"$f":"IFERROR(VLOOKUP(K264,IF(K264=3165,AL$2:AM$2,ESG!A$2:E$54),IF(K264=3165,2,5),0),0)","v":0},{"$f":"IF(Timesheet!R264>0,Timesheet!G264,\"\")","v":""},{"$f":"IF(Timesheet!R264>0,Timesheet!J264,\"\")","v":""},{"$f":"IFERROR(VLOOKUP(M264,ESG!M$2:N$13,2,FALSE),N264)","v":""},{"$f":"IFERROR(VLOOKUP(O264,IF(O264=3165,AL$2:AM$2,ESG!A$2:F$54),IF(O264=3165,2,6),0),0)","v":0},{"$f":"IF(Timesheet!T264>0,Timesheet!G264,\"\")","v":""},{"$f":"IF(Timesheet!T264>0,Timesheet!J264,\"\")","v":""},{"$f":"IFERROR(VLOOKUP(Q264,ESG!M$2:N$13,2,FALSE),R264)","v":""},{"$f":"IFERROR(VLOOKUP(S264,IF(S264=3165,AL$2:AM$2,ESG!A$2:G$54),IF(S264=3165,2,7),0),0)","v":0},{"$f":"IF(Timesheet!V264>0,Timesheet!G264,\"\")","v":""},{"$f":"IF(Timesheet!V264>0,Timesheet!J264,\"\")","v":""},{"$f":"IFERROR(VLOOKUP(U264,ESG!M$2:N$13,2,FALSE),V264)","v":""},{"$f":"IFERROR(VLOOKUP(W264,IF(W264=3165,AL$2:AM$2,ESG!A$2:H$54),IF(W264=3165,2,8),0),0)","v":0},{"$f":"IF(Timesheet!X264>0,Timesheet!G264,\"\")","v":""},{"$f":"IF(Timesheet!X264>0,Timesheet!J264,\"\")","v":""},"",{"$f":"IFERROR(VLOOKUP(AA264,IF(AA264=3165,AL$2:AM$2,ESG!A$2:I$54),IF(AA264=3165,2,9),0),0)","v":0},{"$f":"IF(Timesheet!Z264>0,Timesheet!G264,\"\")","v":""},{"$f":"IF(Timesheet!Z264>0,Timesheet!J264,\"\")","v":""},"",{"$f":"IFERROR(VLOOKUP(AE264,IF(AE264=3165,AL$2:AM$2,ESG!A$2:J$54),IF(AE264=3165,2,10),0),0)","v":0},{"$f":"IF(Timesheet!AB264>0,Timesheet!G264,\"\")","v":""},{"$f":"IF(Timesheet!AB264>0,Timesheet!J264,\"\")","v":""},"",{"$f":"IFERROR(VLOOKUP(AI264,IF(AI264=3165,AL$2:AM$2,ESG!A$2:K$54),IF(AI264=3165,2,11),0),0)","v":0}]
[{"$f":"IF(Timesheet!L265>0,Timesheet!G265,\"\")","v":""},{"$f":"IF(Timesheet!L265>0,Timesheet!J265,\"\")","v":""},"",{"$f":"IFERROR(VLOOKUP(C265,IF(C265=3165,AL$2:AM$2,ESG!A$2:C$54),IF(C265=3165,2,3),0),0)","v":0},{"$f":"IF(Timesheet!N265>0,Timesheet!G265,\"\")","v":""},{"$f":"IF(Timesheet!N265>0,Timesheet!J265,\"\")","v":""},"",{"$f":"IFERROR(VLOOKUP(G265,IF(G265=3165,AL$2:AM$2,ESG!A$2:D$54),IF(G265=3165,2,4),0),0)","v":0},{"$f":"IF(Timesheet!P265>0,Timesheet!G265,\"\")","v":""},{"$f":"IF(Timesheet!P265>0,Timesheet!J265,\"\")","v":""},"",{"$f":"IFERROR(VLOOKUP(K265,IF(K265=3165,AL$2:AM$2,ESG!A$2:E$54),IF(K265=3165,2,5),0),0)","v":0},{"$f":"IF(Timesheet!R265>0,Timesheet!G265,\"\")","v":""},{"$f":"IF(Timesheet!R265>0,Timesheet!J265,\"\")","v":""},{"$f":"IFERROR(VLOOKUP(M265,ESG!M$2:N$13,2,FALSE),N265)","v":""},{"$f":"IFERROR(VLOOKUP(O265,IF(O265=3165,AL$2:AM$2,ESG!A$2:F$54),IF(O265=3165,2,6),0),0)","v":0},{"$f":"IF(Timesheet!T265>0,Timesheet!G265,\"\")","v":""},{"$f":"IF(Timesheet!T265>0,Timesheet!J265,\"\")","v":""},{"$f":"IFERROR(VLOOKUP(Q265,ESG!M$2:N$13,2,FALSE),R265)","v":""},{"$f":"IFERROR(VLOOKUP(S265,IF(S265=3165,AL$2:AM$2,ESG!A$2:G$54),IF(S265=3165,2,7),0),0)","v":0},{"$f":"IF(Timesheet!V265>0,Timesheet!G265,\"\")","v":""},{"$f":"IF(Timesheet!V265>0,Timesheet!J265,\"\")","v":""},{"$f":"IFERROR(VLOOKUP(U265,ESG!M$2:N$13,2,FALSE),V265)","v":""},{"$f":"IFERROR(VLOOKUP(W265,IF(W265=3165,AL$2:AM$2,ESG!A$2:H$54),IF(W265=3165,2,8),0),0)","v":0},{"$f":"IF(Timesheet!X265>0,Timesheet!G265,\"\")","v":""},{"$f":"IF(Timesheet!X265>0,Timesheet!J265,\"\")","v":""},"",{"$f":"IFERROR(VLOOKUP(AA265,IF(AA265=3165,AL$2:AM$2,ESG!A$2:I$54),IF(AA265=3165,2,9),0),0)","v":0},{"$f":"IF(Timesheet!Z265>0,Timesheet!G265,\"\")","v":""},{"$f":"IF(Timesheet!Z265>0,Timesheet!J265,\"\")","v":""},"",{"$f":"IFERROR(VLOOKUP(AE265,IF(AE265=3165,AL$2:AM$2,ESG!A$2:J$54),IF(AE265=3165,2,10),0),0)","v":0},{"$f":"IF(Timesheet!AB265>0,Timesheet!G265,\"\")","v":""},{"$f":"IF(Timesheet!AB265>0,Timesheet!J265,\"\")","v":""},"",{"$f":"IFERROR(VLOOKUP(AI265,IF(AI265=3165,AL$2:AM$2,ESG!A$2:K$54),IF(AI265=3165,2,11),0),0)","v":0}]
[{"$f":"IF(Timesheet!L266>0,Timesheet!G266,\"\")","v":""},{"$f":"IF(Timesheet!L266>0,Timesheet!J266,\"\")","v":""},"",{"$f":"IFERROR(VLOOKUP(C266,IF(C266=3165,AL$2:AM$2,ESG!A$2:C$54),IF(C266=3165,2,3),0),0)","v":0},{"$f":"IF(Timesheet!N266>0,Timesheet!G266,\"\")","v":""},{"$f":"IF(Timesheet!N266>0,Timesheet!J266,\"\")","v":""},"",{"$f":"IFERROR(VLOOKUP(G266,IF(G266=3165,AL$2:AM$2,ESG!A$2:D$54),IF(G266=3165,2,4),0),0)","v":0},{"$f":"IF(Timesheet!P266>0,Timesheet!G266,\"\")","v":""},{"$f":"IF(Timesheet!P266>0,Timesheet!J266,\"\")","v":""},"",{"$f":"IFERROR(VLOOKUP(K266,IF(K266=3165,AL$2:AM$2,ESG!A$2:E$54),IF(K266=3165,2,5),0),0)","v":0},{"$f":"IF(Timesheet!R266>0,Timesheet!G266,\"\")","v":""},{"$f":"IF(Timesheet!R266>0,Timesheet!J266,\"\")","v":""},{"$f":"IFERROR(VLOOKUP(M266,ESG!M$2:N$13,2,FALSE),N266)","v":""},{"$f":"IFERROR(VLOOKUP(O266,IF(O266=3165,AL$2:AM$2,ESG!A$2:F$54),IF(O266=3165,2,6),0),0)","v":0},{"$f":"IF(Timesheet!T266>0,Timesheet!G266,\"\")","v":""},{"$f":"IF(Timesheet!T266>0,Timesheet!J266,\"\")","v":""},{"$f":"IFERROR(VLOOKUP(Q266,ESG!M$2:N$13,2,FALSE),R266)","v":""},{"$f":"IFERROR(VLOOKUP(S266,IF(S266=3165,AL$2:AM$2,ESG!A$2:G$54),IF(S266=3165,2,7),0),0)","v":0},{"$f":"IF(Timesheet!V266>0,Timesheet!G266,\"\")","v":""},{"$f":"IF(Timesheet!V266>0,Timesheet!J266,\"\")","v":""},{"$f":"IFERROR(VLOOKUP(U266,ESG!M$2:N$13,2,FALSE),V266)","v":""},{"$f":"IFERROR(VLOOKUP(W266,IF(W266=3165,AL$2:AM$2,ESG!A$2:H$54),IF(W266=3165,2,8),0),0)","v":0},{"$f":"IF(Timesheet!X266>0,Timesheet!G266,\"\")","v":""},{"$f":"IF(Timesheet!X266>0,Timesheet!J266,\"\")","v":""},"",{"$f":"IFERROR(VLOOKUP(AA266,IF(AA266=3165,AL$2:AM$2,ESG!A$2:I$54),IF(AA266=3165,2,9),0),0)","v":0},{"$f":"IF(Timesheet!Z266>0,Timesheet!G266,\"\")","v":""},{"$f":"IF(Timesheet!Z266>0,Timesheet!J266,\"\")","v":""},"",{"$f":"IFERROR(VLOOKUP(AE266,IF(AE266=3165,AL$2:AM$2,ESG!A$2:J$54),IF(AE266=3165,2,10),0),0)","v":0},{"$f":"IF(Timesheet!AB266>0,Timesheet!G266,\"\")","v":""},{"$f":"IF(Timesheet!AB266>0,Timesheet!J266,\"\")","v":""},"",{"$f":"IFERROR(VLOOKUP(AI266,IF(AI266=3165,AL$2:AM$2,ESG!A$2:K$54),IF(AI266=3165,2,11),0),0)","v":0}]
[{"$f":"IF(Timesheet!L267>0,Timesheet!G267,\"\")","v":""},{"$f":"IF(Timesheet!L267>0,Timesheet!J267,\"\")","v":""},"",{"$f":"IFERROR(VLOOKUP(C267,IF(C267=3165,AL$2:AM$2,ESG!A$2:C$54),IF(C267=3165,2,3),0),0)","v":0},{"$f":"IF(Timesheet!N267>0,Timesheet!G267,\"\")","v":""},{"$f":"IF(Timesheet!N267>0,Timesheet!J267,\"\")","v":""},"",{"$f":"IFERROR(VLOOKUP(G267,IF(G267=3165,AL$2:AM$2,ESG!A$2:D$54),IF(G267=3165,2,4),0),0)","v":0},{"$f":"IF(Timesheet!P267>0,Timesheet!G267,\"\")","v":""},{"$f":"IF(Timesheet!P267>0,Timesheet!J267,\"\")","v":""},"",{"$f":"IFERROR(VLOOKUP(K267,IF(K267=3165,AL$2:AM$2,ESG!A$2:E$54),IF(K267=3165,2,5),0),0)","v":0},{"$f":"IF(Timesheet!R267>0,Timesheet!G267,\"\")","v":""},{"$f":"IF(Timesheet!R267>0,Timesheet!J267,\"\")","v":""},{"$f":"IFERROR(VLOOKUP(M267,ESG!M$2:N$13,2,FALSE),N267)","v":""},{"$f":"IFERROR(VLOOKUP(O267,IF(O267=3165,AL$2:AM$2,ESG!A$2:F$54),IF(O267=3165,2,6),0),0)","v":0},{"$f":"IF(Timesheet!T267>0,Timesheet!G267,\"\")","v":""},{"$f":"IF(Timesheet!T267>0,Timesheet!J267,\"\")","v":""},{"$f":"IFERROR(VLOOKUP(Q267,ESG!M$2:N$13,2,FALSE),R267)","v":""},{"$f":"IFERROR(VLOOKUP(S267,IF(S267=3165,AL$2:AM$2,ESG!A$2:G$54),IF(S267=3165,2,7),0),0)","v":0},{"$f":"IF(Timesheet!V267>0,Timesheet!G267,\"\")","v":""},{"$f":"IF(Timesheet!V267>0,Timesheet!J267,\"\")","v":""},{"$f":"IFERROR(VLOOKUP(U267,ESG!M$2:N$13,2,FALSE),V267)","v":""},{"$f":"IFERROR(VLOOKUP(W267,IF(W267=3165,AL$2:AM$2,ESG!A$2:H$54),IF(W267=3165,2,8),0),0)","v":0},{"$f":"IF(Timesheet!X267>0,Timesheet!G267,\"\")","v":""},{"$f":"IF(Timesheet!X267>0,Timesheet!J267,\"\")","v":""},"",{"$f":"IFERROR(VLOOKUP(AA267,IF(AA267=3165,AL$2:AM$2,ESG!A$2:I$54),IF(AA267=3165,2,9),0),0)","v":0},{"$f":"IF(Timesheet!Z267>0,Timesheet!G267,\"\")","v":""},{"$f":"IF(Timesheet!Z267>0,Timesheet!J267,\"\")","v":""},"",{"$f":"IFERROR(VLOOKUP(AE267,IF(AE267=3165,AL$2:AM$2,ESG!A$2:J$54),IF(AE267=3165,2,10),0),0)","v":0},{"$f":"IF(Timesheet!AB267>0,Timesheet!G267,\"\")","v":""},{"$f":"IF(Timesheet!AB267>0,Timesheet!J267,\"\")","v":""},"",{"$f":"IFERROR(VLOOKUP(AI267,IF(AI267=3165,AL$2:AM$2,ESG!A$2:K$54),IF(AI267=3165,2,11),0),0)","v":0}]
[{"$f":"IF(Timesheet!L268>0,Timesheet!G268,\"\")","v":""},{"$f":"IF(Timesheet!L268>0,Timesheet!J268,\"\")","v":""},"",{"$f":"IFERROR(VLOOKUP(C268,IF(C268=3165,AL$2:AM$2,ESG!A$2:C$54),IF(C268=3165,2,3),0),0)","v":0},{"$f":"IF(Timesheet!N268>0,Timesheet!G268,\"\")","v":""},{"$f":"IF(Timesheet!N268>0,Timesheet!J268,\"\")","v":""},"",{"$f":"IFERROR(VLOOKUP(G268,IF(G268=3165,AL$2:AM$2,ESG!A$2:D$54),IF(G268=3165,2,4),0),0)","v":0},{"$f":"IF(Timesheet!P268>0,Timesheet!G268,\"\")","v":""},{"$f":"IF(Timesheet!P268>0,Timesheet!J268,\"\")","v":""},"",{"$f":"IFERROR(VLOOKUP(K268,IF(K268=3165,AL$2:AM$2,ESG!A$2:E$54),IF(K268=3165,2,5),0),0)","v":0},{"$f":"IF(Timesheet!R268>0,Timesheet!G268,\"\")","v":""},{"$f":"IF(Timesheet!R268>0,Timesheet!J268,\"\")","v":""},{"$f":"IFERROR(VLOOKUP(M268,ESG!M$2:N$13,2,FALSE),N268)","v":""},{"$f":"IFERROR(VLOOKUP(O268,IF(O268=3165,AL$2:AM$2,ESG!A$2:F$54),IF(O268=3165,2,6),0),0)","v":0},{"$f":"IF(Timesheet!T268>0,Timesheet!G268,\"\")","v":""},{"$f":"IF(Timesheet!T268>0,Timesheet!J268,\"\")","v":""},{"$f":"IFERROR(VLOOKUP(Q268,ESG!M$2:N$13,2,FALSE),R268)","v":""},{"$f":"IFERROR(VLOOKUP(S268,IF(S268=3165,AL$2:AM$2,ESG!A$2:G$54),IF(S268=3165,2,7),0),0)","v":0},{"$f":"IF(Timesheet!V268>0,Timesheet!G268,\"\")","v":""},{"$f":"IF(Timesheet!V268>0,Timesheet!J268,\"\")","v":""},{"$f":"IFERROR(VLOOKUP(U268,ESG!M$2:N$13,2,FALSE),V268)","v":""},{"$f":"IFERROR(VLOOKUP(W268,IF(W268=3165,AL$2:AM$2,ESG!A$2:H$54),IF(W268=3165,2,8),0),0)","v":0},{"$f":"IF(Timesheet!X268>0,Timesheet!G268,\"\")","v":""},{"$f":"IF(Timesheet!X268>0,Timesheet!J268,\"\")","v":""},"",{"$f":"IFERROR(VLOOKUP(AA268,IF(AA268=3165,AL$2:AM$2,ESG!A$2:I$54),IF(AA268=3165,2,9),0),0)","v":0},{"$f":"IF(Timesheet!Z268>0,Timesheet!G268,\"\")","v":""},{"$f":"IF(Timesheet!Z268>0,Timesheet!J268,\"\")","v":""},"",{"$f":"IFERROR(VLOOKUP(AE268,IF(AE268=3165,AL$2:AM$2,ESG!A$2:J$54),IF(AE268=3165,2,10),0),0)","v":0},{"$f":"IF(Timesheet!AB268>0,Timesheet!G268,\"\")","v":""},{"$f":"IF(Timesheet!AB268>0,Timesheet!J268,\"\")","v":""},"",{"$f":"IFERROR(VLOOKUP(AI268,IF(AI268=3165,AL$2:AM$2,ESG!A$2:K$54),IF(AI268=3165,2,11),0),0)","v":0}]
[{"$f":"IF(Timesheet!L269>0,Timesheet!G269,\"\")","v":""},{"$f":"IF(Timesheet!L269>0,Timesheet!J269,\"\")","v":""},"",{"$f":"IFERROR(VLOOKUP(C269,IF(C269=3165,AL$2:AM$2,ESG!A$2:C$54),IF(C269=3165,2,3),0),0)","v":0},{"$f":"IF(Timesheet!N269>0,Timesheet!G269,\"\")","v":""},{"$f":"IF(Timesheet!N269>0,Timesheet!J269,\"\")","v":""},"",{"$f":"IFERROR(VLOOKUP(G269,IF(G269=3165,AL$2:AM$2,ESG!A$2:D$54),IF(G269=3165,2,4),0),0)","v":0},{"$f":"IF(Timesheet!P269>0,Timesheet!G269,\"\")","v":""},{"$f":"IF(Timesheet!P269>0,Timesheet!J269,\"\")","v":""},"",{"$f":"IFERROR(VLOOKUP(K269,IF(K269=3165,AL$2:AM$2,ESG!A$2:E$54),IF(K269=3165,2,5),0),0)","v":0},{"$f":"IF(Timesheet!R269>0,Timesheet!G269,\"\")","v":""},{"$f":"IF(Timesheet!R269>0,Timesheet!J269,\"\")","v":""},{"$f":"IFERROR(VLOOKUP(M269,ESG!M$2:N$13,2,FALSE),N269)","v":""},{"$f":"IFERROR(VLOOKUP(O269,IF(O269=3165,AL$2:AM$2,ESG!A$2:F$54),IF(O269=3165,2,6),0),0)","v":0},{"$f":"IF(Timesheet!T269>0,Timesheet!G269,\"\")","v":""},{"$f":"IF(Timesheet!T269>0,Timesheet!J269,\"\")","v":""},{"$f":"IFERROR(VLOOKUP(Q269,ESG!M$2:N$13,2,FALSE),R269)","v":""},{"$f":"IFERROR(VLOOKUP(S269,IF(S269=3165,AL$2:AM$2,ESG!A$2:G$54),IF(S269=3165,2,7),0),0)","v":0},{"$f":"IF(Timesheet!V269>0,Timesheet!G269,\"\")","v":""},{"$f":"IF(Timesheet!V269>0,Timesheet!J269,\"\")","v":""},{"$f":"IFERROR(VLOOKUP(U269,ESG!M$2:N$13,2,FALSE),V269)","v":""},{"$f":"IFERROR(VLOOKUP(W269,IF(W269=3165,AL$2:AM$2,ESG!A$2:H$54),IF(W269=3165,2,8),0),0)","v":0},{"$f":"IF(Timesheet!X269>0,Timesheet!G269,\"\")","v":""},{"$f":"IF(Timesheet!X269>0,Timesheet!J269,\"\")","v":""},"",{"$f":"IFERROR(VLOOKUP(AA269,IF(AA269=3165,AL$2:AM$2,ESG!A$2:I$54),IF(AA269=3165,2,9),0),0)","v":0},{"$f":"IF(Timesheet!Z269>0,Timesheet!G269,\"\")","v":""},{"$f":"IF(Timesheet!Z269>0,Timesheet!J269,\"\")","v":""},"",{"$f":"IFERROR(VLOOKUP(AE269,IF(AE269=3165,AL$2:AM$2,ESG!A$2:J$54),IF(AE269=3165,2,10),0),0)","v":0},{"$f":"IF(Timesheet!AB269>0,Timesheet!G269,\"\")","v":""},{"$f":"IF(Timesheet!AB269>0,Timesheet!J269,\"\")","v":""},"",{"$f":"IFERROR(VLOOKUP(AI269,IF(AI269=3165,AL$2:AM$2,ESG!A$2:K$54),IF(AI269=3165,2,11),0),0)","v":0}]
[{"$f":"IF(Timesheet!L270>0,Timesheet!G270,\"\")","v":""},{"$f":"IF(Timesheet!L270>0,Timesheet!J270,\"\")","v":""},"",{"$f":"IFERROR(VLOOKUP(C270,IF(C270=3165,AL$2:AM$2,ESG!A$2:C$54),IF(C270=3165,2,3),0),0)","v":0},{"$f":"IF(Timesheet!N270>0,Timesheet!G270,\"\")","v":""},{"$f":"IF(Timesheet!N270>0,Timesheet!J270,\"\")","v":""},"",{"$f":"IFERROR(VLOOKUP(G270,IF(G270=3165,AL$2:AM$2,ESG!A$2:D$54),IF(G270=3165,2,4),0),0)","v":0},{"$f":"IF(Timesheet!P270>0,Timesheet!G270,\"\")","v":""},{"$f":"IF(Timesheet!P270>0,Timesheet!J270,\"\")","v":""},"",{"$f":"IFERROR(VLOOKUP(K270,IF(K270=3165,AL$2:AM$2,ESG!A$2:E$54),IF(K270=3165,2,5),0),0)","v":0},{"$f":"IF(Timesheet!R270>0,Timesheet!G270,\"\")","v":""},{"$f":"IF(Timesheet!R270>0,Timesheet!J270,\"\")","v":""},{"$f":"IFERROR(VLOOKUP(M270,ESG!M$2:N$13,2,FALSE),N270)","v":""},{"$f":"IFERROR(VLOOKUP(O270,IF(O270=3165,AL$2:AM$2,ESG!A$2:F$54),IF(O270=3165,2,6),0),0)","v":0},{"$f":"IF(Timesheet!T270>0,Timesheet!G270,\"\")","v":""},{"$f":"IF(Timesheet!T270>0,Timesheet!J270,\"\")","v":""},{"$f":"IFERROR(VLOOKUP(Q270,ESG!M$2:N$13,2,FALSE),R270)","v":""},{"$f":"IFERROR(VLOOKUP(S270,IF(S270=3165,AL$2:AM$2,ESG!A$2:G$54),IF(S270=3165,2,7),0),0)","v":0},{"$f":"IF(Timesheet!V270>0,Timesheet!G270,\"\")","v":""},{"$f":"IF(Timesheet!V270>0,Timesheet!J270,\"\")","v":""},{"$f":"IFERROR(VLOOKUP(U270,ESG!M$2:N$13,2,FALSE),V270)","v":""},{"$f":"IFERROR(VLOOKUP(W270,IF(W270=3165,AL$2:AM$2,ESG!A$2:H$54),IF(W270=3165,2,8),0),0)","v":0},{"$f":"IF(Timesheet!X270>0,Timesheet!G270,\"\")","v":""},{"$f":"IF(Timesheet!X270>0,Timesheet!J270,\"\")","v":""},"",{"$f":"IFERROR(VLOOKUP(AA270,IF(AA270=3165,AL$2:AM$2,ESG!A$2:I$54),IF(AA270=3165,2,9),0),0)","v":0},{"$f":"IF(Timesheet!Z270>0,Timesheet!G270,\"\")","v":""},{"$f":"IF(Timesheet!Z270>0,Timesheet!J270,\"\")","v":""},"",{"$f":"IFERROR(VLOOKUP(AE270,IF(AE270=3165,AL$2:AM$2,ESG!A$2:J$54),IF(AE270=3165,2,10),0),0)","v":0},{"$f":"IF(Timesheet!AB270>0,Timesheet!G270,\"\")","v":""},{"$f":"IF(Timesheet!AB270>0,Timesheet!J270,\"\")","v":""},"",{"$f":"IFERROR(VLOOKUP(AI270,IF(AI270=3165,AL$2:AM$2,ESG!A$2:K$54),IF(AI270=3165,2,11),0),0)","v":0}]
[{"$f":"IF(Timesheet!L271>0,Timesheet!G271,\"\")","v":""},{"$f":"IF(Timesheet!L271>0,Timesheet!J271,\"\")","v":""},"",{"$f":"IFERROR(VLOOKUP(C271,IF(C271=3165,AL$2:AM$2,ESG!A$2:C$54),IF(C271=3165,2,3),0),0)","v":0},{"$f":"IF(Timesheet!N271>0,Timesheet!G271,\"\")","v":""},{"$f":"IF(Timesheet!N271>0,Timesheet!J271,\"\")","v":""},"",{"$f":"IFERROR(VLOOKUP(G271,IF(G271=3165,AL$2:AM$2,ESG!A$2:D$54),IF(G271=3165,2,4),0),0)","v":0},{"$f":"IF(Timesheet!P271>0,Timesheet!G271,\"\")","v":""},{"$f":"IF(Timesheet!P271>0,Timesheet!J271,\"\")","v":""},"",{"$f":"IFERROR(VLOOKUP(K271,IF(K271=3165,AL$2:AM$2,ESG!A$2:E$54),IF(K271=3165,2,5),0),0)","v":0},{"$f":"IF(Timesheet!R271>0,Timesheet!G271,\"\")","v":""},{"$f":"IF(Timesheet!R271>0,Timesheet!J271,\"\")","v":""},{"$f":"IFERROR(VLOOKUP(M271,ESG!M$2:N$13,2,FALSE),N271)","v":""},{"$f":"IFERROR(VLOOKUP(O271,IF(O271=3165,AL$2:AM$2,ESG!A$2:F$54),IF(O271=3165,2,6),0),0)","v":0},{"$f":"IF(Timesheet!T271>0,Timesheet!G271,\"\")","v":""},{"$f":"IF(Timesheet!T271>0,Timesheet!J271,\"\")","v":""},{"$f":"IFERROR(VLOOKUP(Q271,ESG!M$2:N$13,2,FALSE),R271)","v":""},{"$f":"IFERROR(VLOOKUP(S271,IF(S271=3165,AL$2:AM$2,ESG!A$2:G$54),IF(S271=3165,2,7),0),0)","v":0},{"$f":"IF(Timesheet!V271>0,Timesheet!G271,\"\")","v":""},{"$f":"IF(Timesheet!V271>0,Timesheet!J271,\"\")","v":""},{"$f":"IFERROR(VLOOKUP(U271,ESG!M$2:N$13,2,FALSE),V271)","v":""},{"$f":"IFERROR(VLOOKUP(W271,IF(W271=3165,AL$2:AM$2,ESG!A$2:H$54),IF(W271=3165,2,8),0),0)","v":0},{"$f":"IF(Timesheet!X271>0,Timesheet!G271,\"\")","v":""},{"$f":"IF(Timesheet!X271>0,Timesheet!J271,\"\")","v":""},"",{"$f":"IFERROR(VLOOKUP(AA271,IF(AA271=3165,AL$2:AM$2,ESG!A$2:I$54),IF(AA271=3165,2,9),0),0)","v":0},{"$f":"IF(Timesheet!Z271>0,Timesheet!G271,\"\")","v":""},{"$f":"IF(Timesheet!Z271>0,Timesheet!J271,\"\")","v":""},"",{"$f":"IFERROR(VLOOKUP(AE271,IF(AE271=3165,AL$2:AM$2,ESG!A$2:J$54),IF(AE271=3165,2,10),0),0)","v":0},{"$f":"IF(Timesheet!AB271>0,Timesheet!G271,\"\")","v":""},{"$f":"IF(Timesheet!AB271>0,Timesheet!J271,\"\")","v":""},"",{"$f":"IFERROR(VLOOKUP(AI271,IF(AI271=3165,AL$2:AM$2,ESG!A$2:K$54),IF(AI271=3165,2,11),0),0)","v":0}]
[{"$f":"IF(Timesheet!L272>0,Timesheet!G272,\"\")","v":""},{"$f":"IF(Timesheet!L272>0,Timesheet!J272,\"\")","v":""},"",{"$f":"IFERROR(VLOOKUP(C272,IF(C272=3165,AL$2:AM$2,ESG!A$2:C$54),IF(C272=3165,2,3),0),0)","v":0},{"$f":"IF(Timesheet!N272>0,Timesheet!G272,\"\")","v":""},{"$f":"IF(Timesheet!N272>0,Timesheet!J272,\"\")","v":""},"",{"$f":"IFERROR(VLOOKUP(G272,IF(G272=3165,AL$2:AM$2,ESG!A$2:D$54),IF(G272=3165,2,4),0),0)","v":0},{"$f":"IF(Timesheet!P272>0,Timesheet!G272,\"\")","v":""},{"$f":"IF(Timesheet!P272>0,Timesheet!J272,\"\")","v":""},"",{"$f":"IFERROR(VLOOKUP(K272,IF(K272=3165,AL$2:AM$2,ESG!A$2:E$54),IF(K272=3165,2,5),0),0)","v":0},{"$f":"IF(Timesheet!R272>0,Timesheet!G272,\"\")","v":""},{"$f":"IF(Timesheet!R272>0,Timesheet!J272,\"\")","v":""},{"$f":"IFERROR(VLOOKUP(M272,ESG!M$2:N$13,2,FALSE),N272)","v":""},{"$f":"IFERROR(VLOOKUP(O272,IF(O272=3165,AL$2:AM$2,ESG!A$2:F$54),IF(O272=3165,2,6),0),0)","v":0},{"$f":"IF(Timesheet!T272>0,Timesheet!G272,\"\")","v":""},{"$f":"IF(Timesheet!T272>0,Timesheet!J272,\"\")","v":""},{"$f":"IFERROR(VLOOKUP(Q272,ESG!M$2:N$13,2,FALSE),R272)","v":""},{"$f":"IFERROR(VLOOKUP(S272,IF(S272=3165,AL$2:AM$2,ESG!A$2:G$54),IF(S272=3165,2,7),0),0)","v":0},{"$f":"IF(Timesheet!V272>0,Timesheet!G272,\"\")","v":""},{"$f":"IF(Timesheet!V272>0,Timesheet!J272,\"\")","v":""},{"$f":"IFERROR(VLOOKUP(U272,ESG!M$2:N$13,2,FALSE),V272)","v":""},{"$f":"IFERROR(VLOOKUP(W272,IF(W272=3165,AL$2:AM$2,ESG!A$2:H$54),IF(W272=3165,2,8),0),0)","v":0},{"$f":"IF(Timesheet!X272>0,Timesheet!G272,\"\")","v":""},{"$f":"IF(Timesheet!X272>0,Timesheet!J272,\"\")","v":""},"",{"$f":"IFERROR(VLOOKUP(AA272,IF(AA272=3165,AL$2:AM$2,ESG!A$2:I$54),IF(AA272=3165,2,9),0),0)","v":0},{"$f":"IF(Timesheet!Z272>0,Timesheet!G272,\"\")","v":""},{"$f":"IF(Timesheet!Z272>0,Timesheet!J272,\"\")","v":""},"",{"$f":"IFERROR(VLOOKUP(AE272,IF(AE272=3165,AL$2:AM$2,ESG!A$2:J$54),IF(AE272=3165,2,10),0),0)","v":0},{"$f":"IF(Timesheet!AB272>0,Timesheet!G272,\"\")","v":""},{"$f":"IF(Timesheet!AB272>0,Timesheet!J272,\"\")","v":""},"",{"$f":"IFERROR(VLOOKUP(AI272,IF(AI272=3165,AL$2:AM$2,ESG!A$2:K$54),IF(AI272=3165,2,11),0),0)","v":0}]
[{"$f":"IF(Timesheet!L273>0,Timesheet!G273,\"\")","v":""},{"$f":"IF(Timesheet!L273>0,Timesheet!J273,\"\")","v":""},"",{"$f":"IFERROR(VLOOKUP(C273,IF(C273=3165,AL$2:AM$2,ESG!A$2:C$54),IF(C273=3165,2,3),0),0)","v":0},{"$f":"IF(Timesheet!N273>0,Timesheet!G273,\"\")","v":""},{"$f":"IF(Timesheet!N273>0,Timesheet!J273,\"\")","v":""},"",{"$f":"IFERROR(VLOOKUP(G273,IF(G273=3165,AL$2:AM$2,ESG!A$2:D$54),IF(G273=3165,2,4),0),0)","v":0},{"$f":"IF(Timesheet!P273>0,Timesheet!G273,\"\")","v":""},{"$f":"IF(Timesheet!P273>0,Timesheet!J273,\"\")","v":""},"",{"$f":"IFERROR(VLOOKUP(K273,IF(K273=3165,AL$2:AM$2,ESG!A$2:E$54),IF(K273=3165,2,5),0),0)","v":0},{"$f":"IF(Timesheet!R273>0,Timesheet!G273,\"\")","v":""},{"$f":"IF(Timesheet!R273>0,Timesheet!J273,\"\")","v":""},{"$f":"IFERROR(VLOOKUP(M273,ESG!M$2:N$13,2,FALSE),N273)","v":""},{"$f":"IFERROR(VLOOKUP(O273,IF(O273=3165,AL$2:AM$2,ESG!A$2:F$54),IF(O273=3165,2,6),0),0)","v":0},{"$f":"IF(Timesheet!T273>0,Timesheet!G273,\"\")","v":""},{"$f":"IF(Timesheet!T273>0,Timesheet!J273,\"\")","v":""},{"$f":"IFERROR(VLOOKUP(Q273,ESG!M$2:N$13,2,FALSE),R273)","v":""},{"$f":"IFERROR(VLOOKUP(S273,IF(S273=3165,AL$2:AM$2,ESG!A$2:G$54),IF(S273=3165,2,7),0),0)","v":0},{"$f":"IF(Timesheet!V273>0,Timesheet!G273,\"\")","v":""},{"$f":"IF(Timesheet!V273>0,Timesheet!J273,\"\")","v":""},{"$f":"IFERROR(VLOOKUP(U273,ESG!M$2:N$13,2,FALSE),V273)","v":""},{"$f":"IFERROR(VLOOKUP(W273,IF(W273=3165,AL$2:AM$2,ESG!A$2:H$54),IF(W273=3165,2,8),0),0)","v":0},{"$f":"IF(Timesheet!X273>0,Timesheet!G273,\"\")","v":""},{"$f":"IF(Timesheet!X273>0,Timesheet!J273,\"\")","v":""},"",{"$f":"IFERROR(VLOOKUP(AA273,IF(AA273=3165,AL$2:AM$2,ESG!A$2:I$54),IF(AA273=3165,2,9),0),0)","v":0},{"$f":"IF(Timesheet!Z273>0,Timesheet!G273,\"\")","v":""},{"$f":"IF(Timesheet!Z273>0,Timesheet!J273,\"\")","v":""},"",{"$f":"IFERROR(VLOOKUP(AE273,IF(AE273=3165,AL$2:AM$2,ESG!A$2:J$54),IF(AE273=3165,2,10),0),0)","v":0},{"$f":"IF(Timesheet!AB273>0,Timesheet!G273,\"\")","v":""},{"$f":"IF(Timesheet!AB273>0,Timesheet!J273,\"\")","v":""},"",{"$f":"IFERROR(VLOOKUP(AI273,IF(AI273=3165,AL$2:AM$2,ESG!A$2:K$54),IF(AI273=3165,2,11),0),0)","v":0}]
[{"$f":"IF(Timesheet!L274>0,Timesheet!G274,\"\")","v":""},{"$f":"IF(Timesheet!L274>0,Timesheet!J274,\"\")","v":""},"",{"$f":"IFERROR(VLOOKUP(C274,IF(C274=3165,AL$2:AM$2,ESG!A$2:C$54),IF(C274=3165,2,3),0),0)","v":0},{"$f":"IF(Timesheet!N274>0,Timesheet!G274,\"\")","v":""},{"$f":"IF(Timesheet!N274>0,Timesheet!J274,\"\")","v":""},"",{"$f":"IFERROR(VLOOKUP(G274,IF(G274=3165,AL$2:AM$2,ESG!A$2:D$54),IF(G274=3165,2,4),0),0)","v":0},{"$f":"IF(Timesheet!P274>0,Timesheet!G274,\"\")","v":""},{"$f":"IF(Timesheet!P274>0,Timesheet!J274,\"\")","v":""},"",{"$f":"IFERROR(VLOOKUP(K274,IF(K274=3165,AL$2:AM$2,ESG!A$2:E$54),IF(K274=3165,2,5),0),0)","v":0},{"$f":"IF(Timesheet!R274>0,Timesheet!G274,\"\")","v":""},{"$f":"IF(Timesheet!R274>0,Timesheet!J274,\"\")","v":""},{"$f":"IFERROR(VLOOKUP(M274,ESG!M$2:N$13,2,FALSE),N274)","v":""},{"$f":"IFERROR(VLOOKUP(O274,IF(O274=3165,AL$2:AM$2,ESG!A$2:F$54),IF(O274=3165,2,6),0),0)","v":0},{"$f":"IF(Timesheet!T274>0,Timesheet!G274,\"\")","v":""},{"$f":"IF(Timesheet!T274>0,Timesheet!J274,\"\")","v":""},{"$f":"IFERROR(VLOOKUP(Q274,ESG!M$2:N$13,2,FALSE),R274)","v":""},{"$f":"IFERROR(VLOOKUP(S274,IF(S274=3165,AL$2:AM$2,ESG!A$2:G$54),IF(S274=3165,2,7),0),0)","v":0},{"$f":"IF(Timesheet!V274>0,Timesheet!G274,\"\")","v":""},{"$f":"IF(Timesheet!V274>0,Timesheet!J274,\"\")","v":""},{"$f":"IFERROR(VLOOKUP(U274,ESG!M$2:N$13,2,FALSE),V274)","v":""},{"$f":"IFERROR(VLOOKUP(W274,IF(W274=3165,AL$2:AM$2,ESG!A$2:H$54),IF(W274=3165,2,8),0),0)","v":0},{"$f":"IF(Timesheet!X274>0,Timesheet!G274,\"\")","v":""},{"$f":"IF(Timesheet!X274>0,Timesheet!J274,\"\")","v":""},"",{"$f":"IFERROR(VLOOKUP(AA274,IF(AA274=3165,AL$2:AM$2,ESG!A$2:I$54),IF(AA274=3165,2,9),0),0)","v":0},{"$f":"IF(Timesheet!Z274>0,Timesheet!G274,\"\")","v":""},{"$f":"IF(Timesheet!Z274>0,Timesheet!J274,\"\")","v":""},"",{"$f":"IFERROR(VLOOKUP(AE274,IF(AE274=3165,AL$2:AM$2,ESG!A$2:J$54),IF(AE274=3165,2,10),0),0)","v":0},{"$f":"IF(Timesheet!AB274>0,Timesheet!G274,\"\")","v":""},{"$f":"IF(Timesheet!AB274>0,Timesheet!J274,\"\")","v":""},"",{"$f":"IFERROR(VLOOKUP(AI274,IF(AI274=3165,AL$2:AM$2,ESG!A$2:K$54),IF(AI274=3165,2,11),0),0)","v":0}]
[{"$f":"IF(Timesheet!L275>0,Timesheet!G275,\"\")","v":""},{"$f":"IF(Timesheet!L275>0,Timesheet!J275,\"\")","v":""},"",{"$f":"IFERROR(VLOOKUP(C275,IF(C275=3165,AL$2:AM$2,ESG!A$2:C$54),IF(C275=3165,2,3),0),0)","v":0},{"$f":"IF(Timesheet!N275>0,Timesheet!G275,\"\")","v":""},{"$f":"IF(Timesheet!N275>0,Timesheet!J275,\"\")","v":""},"",{"$f":"IFERROR(VLOOKUP(G275,IF(G275=3165,AL$2:AM$2,ESG!A$2:D$54),IF(G275=3165,2,4),0),0)","v":0},{"$f":"IF(Timesheet!P275>0,Timesheet!G275,\"\")","v":""},{"$f":"IF(Timesheet!P275>0,Timesheet!J275,\"\")","v":""},"",{"$f":"IFERROR(VLOOKUP(K275,IF(K275=3165,AL$2:AM$2,ESG!A$2:E$54),IF(K275=3165,2,5),0),0)","v":0},{"$f":"IF(Timesheet!R275>0,Timesheet!G275,\"\")","v":""},{"$f":"IF(Timesheet!R275>0,Timesheet!J275,\"\")","v":""},{"$f":"IFERROR(VLOOKUP(M275,ESG!M$2:N$13,2,FALSE),N275)","v":""},{"$f":"IFERROR(VLOOKUP(O275,IF(O275=3165,AL$2:AM$2,ESG!A$2:F$54),IF(O275=3165,2,6),0),0)","v":0},{"$f":"IF(Timesheet!T275>0,Timesheet!G275,\"\")","v":""},{"$f":"IF(Timesheet!T275>0,Timesheet!J275,\"\")","v":""},{"$f":"IFERROR(VLOOKUP(Q275,ESG!M$2:N$13,2,FALSE),R275)","v":""},{"$f":"IFERROR(VLOOKUP(S275,IF(S275=3165,AL$2:AM$2,ESG!A$2:G$54),IF(S275=3165,2,7),0),0)","v":0},{"$f":"IF(Timesheet!V275>0,Timesheet!G275,\"\")","v":""},{"$f":"IF(Timesheet!V275>0,Timesheet!J275,\"\")","v":""},{"$f":"IFERROR(VLOOKUP(U275,ESG!M$2:N$13,2,FALSE),V275)","v":""},{"$f":"IFERROR(VLOOKUP(W275,IF(W275=3165,AL$2:AM$2,ESG!A$2:H$54),IF(W275=3165,2,8),0),0)","v":0},{"$f":"IF(Timesheet!X275>0,Timesheet!G275,\"\")","v":""},{"$f":"IF(Timesheet!X275>0,Timesheet!J275,\"\")","v":""},"",{"$f":"IFERROR(VLOOKUP(AA275,IF(AA275=3165,AL$2:AM$2,ESG!A$2:I$54),IF(AA275=3165,2,9),0),0)","v":0},{"$f":"IF(Timesheet!Z275>0,Timesheet!G275,\"\")","v":""},{"$f":"IF(Timesheet!Z275>0,Timesheet!J275,\"\")","v":""},"",{"$f":"IFERROR(VLOOKUP(AE275,IF(AE275=3165,AL$2:AM$2,ESG!A$2:J$54),IF(AE275=3165,2,10),0),0)","v":0},{"$f":"IF(Timesheet!AB275>0,Timesheet!G275,\"\")","v":""},{"$f":"IF(Timesheet!AB275>0,Timesheet!J275,\"\")","v":""},"",{"$f":"IFERROR(VLOOKUP(AI275,IF(AI275=3165,AL$2:AM$2,ESG!A$2:K$54),IF(AI275=3165,2,11),0),0)","v":0}]
[{"$f":"IF(Timesheet!L276>0,Timesheet!G276,\"\")","v":""},{"$f":"IF(Timesheet!L276>0,Timesheet!J276,\"\")","v":""},"",{"$f":"IFERROR(VLOOKUP(C276,IF(C276=3165,AL$2:AM$2,ESG!A$2:C$54),IF(C276=3165,2,3),0),0)","v":0},{"$f":"IF(Timesheet!N276>0,Timesheet!G276,\"\")","v":""},{"$f":"IF(Timesheet!N276>0,Timesheet!J276,\"\")","v":""},"",{"$f":"IFERROR(VLOOKUP(G276,IF(G276=3165,AL$2:AM$2,ESG!A$2:D$54),IF(G276=3165,2,4),0),0)","v":0},{"$f":"IF(Timesheet!P276>0,Timesheet!G276,\"\")","v":""},{"$f":"IF(Timesheet!P276>0,Timesheet!J276,\"\")","v":""},"",{"$f":"IFERROR(VLOOKUP(K276,IF(K276=3165,AL$2:AM$2,ESG!A$2:E$54),IF(K276=3165,2,5),0),0)","v":0},{"$f":"IF(Timesheet!R276>0,Timesheet!G276,\"\")","v":""},{"$f":"IF(Timesheet!R276>0,Timesheet!J276,\"\")","v":""},{"$f":"IFERROR(VLOOKUP(M276,ESG!M$2:N$13,2,FALSE),N276)","v":""},{"$f":"IFERROR(VLOOKUP(O276,IF(O276=3165,AL$2:AM$2,ESG!A$2:F$54),IF(O276=3165,2,6),0),0)","v":0},{"$f":"IF(Timesheet!T276>0,Timesheet!G276,\"\")","v":""},{"$f":"IF(Timesheet!T276>0,Timesheet!J276,\"\")","v":""},{"$f":"IFERROR(VLOOKUP(Q276,ESG!M$2:N$13,2,FALSE),R276)","v":""},{"$f":"IFERROR(VLOOKUP(S276,IF(S276=3165,AL$2:AM$2,ESG!A$2:G$54),IF(S276=3165,2,7),0),0)","v":0},{"$f":"IF(Timesheet!V276>0,Timesheet!G276,\"\")","v":""},{"$f":"IF(Timesheet!V276>0,Timesheet!J276,\"\")","v":""},{"$f":"IFERROR(VLOOKUP(U276,ESG!M$2:N$13,2,FALSE),V276)","v":""},{"$f":"IFERROR(VLOOKUP(W276,IF(W276=3165,AL$2:AM$2,ESG!A$2:H$54),IF(W276=3165,2,8),0),0)","v":0},{"$f":"IF(Timesheet!X276>0,Timesheet!G276,\"\")","v":""},{"$f":"IF(Timesheet!X276>0,Timesheet!J276,\"\")","v":""},"",{"$f":"IFERROR(VLOOKUP(AA276,IF(AA276=3165,AL$2:AM$2,ESG!A$2:I$54),IF(AA276=3165,2,9),0),0)","v":0},{"$f":"IF(Timesheet!Z276>0,Timesheet!G276,\"\")","v":""},{"$f":"IF(Timesheet!Z276>0,Timesheet!J276,\"\")","v":""},"",{"$f":"IFERROR(VLOOKUP(AE276,IF(AE276=3165,AL$2:AM$2,ESG!A$2:J$54),IF(AE276=3165,2,10),0),0)","v":0},{"$f":"IF(Timesheet!AB276>0,Timesheet!G276,\"\")","v":""},{"$f":"IF(Timesheet!AB276>0,Timesheet!J276,\"\")","v":""},"",{"$f":"IFERROR(VLOOKUP(AI276,IF(AI276=3165,AL$2:AM$2,ESG!A$2:K$54),IF(AI276=3165,2,11),0),0)","v":0}]
[{"$f":"IF(Timesheet!L277>0,Timesheet!G277,\"\")","v":""},{"$f":"IF(Timesheet!L277>0,Timesheet!J277,\"\")","v":""},"",{"$f":"IFERROR(VLOOKUP(C277,IF(C277=3165,AL$2:AM$2,ESG!A$2:C$54),IF(C277=3165,2,3),0),0)","v":0},{"$f":"IF(Timesheet!N277>0,Timesheet!G277,\"\")","v":""},{"$f":"IF(Timesheet!N277>0,Timesheet!J277,\"\")","v":""},"",{"$f":"IFERROR(VLOOKUP(G277,IF(G277=3165,AL$2:AM$2,ESG!A$2:D$54),IF(G277=3165,2,4),0),0)","v":0},{"$f":"IF(Timesheet!P277>0,Timesheet!G277,\"\")","v":""},{"$f":"IF(Timesheet!P277>0,Timesheet!J277,\"\")","v":""},"",{"$f":"IFERROR(VLOOKUP(K277,IF(K277=3165,AL$2:AM$2,ESG!A$2:E$54),IF(K277=3165,2,5),0),0)","v":0},{"$f":"IF(Timesheet!R277>0,Timesheet!G277,\"\")","v":""},{"$f":"IF(Timesheet!R277>0,Timesheet!J277,\"\")","v":""},{"$f":"IFERROR(VLOOKUP(M277,ESG!M$2:N$13,2,FALSE),N277)","v":""},{"$f":"IFERROR(VLOOKUP(O277,IF(O277=3165,AL$2:AM$2,ESG!A$2:F$54),IF(O277=3165,2,6),0),0)","v":0},{"$f":"IF(Timesheet!T277>0,Timesheet!G277,\"\")","v":""},{"$f":"IF(Timesheet!T277>0,Timesheet!J277,\"\")","v":""},{"$f":"IFERROR(VLOOKUP(Q277,ESG!M$2:N$13,2,FALSE),R277)","v":""},{"$f":"IFERROR(VLOOKUP(S277,IF(S277=3165,AL$2:AM$2,ESG!A$2:G$54),IF(S277=3165,2,7),0),0)","v":0},{"$f":"IF(Timesheet!V277>0,Timesheet!G277,\"\")","v":""},{"$f":"IF(Timesheet!V277>0,Timesheet!J277,\"\")","v":""},{"$f":"IFERROR(VLOOKUP(U277,ESG!M$2:N$13,2,FALSE),V277)","v":""},{"$f":"IFERROR(VLOOKUP(W277,IF(W277=3165,AL$2:AM$2,ESG!A$2:H$54),IF(W277=3165,2,8),0),0)","v":0},{"$f":"IF(Timesheet!X277>0,Timesheet!G277,\"\")","v":""},{"$f":"IF(Timesheet!X277>0,Timesheet!J277,\"\")","v":""},"",{"$f":"IFERROR(VLOOKUP(AA277,IF(AA277=3165,AL$2:AM$2,ESG!A$2:I$54),IF(AA277=3165,2,9),0),0)","v":0},{"$f":"IF(Timesheet!Z277>0,Timesheet!G277,\"\")","v":""},{"$f":"IF(Timesheet!Z277>0,Timesheet!J277,\"\")","v":""},"",{"$f":"IFERROR(VLOOKUP(AE277,IF(AE277=3165,AL$2:AM$2,ESG!A$2:J$54),IF(AE277=3165,2,10),0),0)","v":0},{"$f":"IF(Timesheet!AB277>0,Timesheet!G277,\"\")","v":""},{"$f":"IF(Timesheet!AB277>0,Timesheet!J277,\"\")","v":""},"",{"$f":"IFERROR(VLOOKUP(AI277,IF(AI277=3165,AL$2:AM$2,ESG!A$2:K$54),IF(AI277=3165,2,11),0),0)","v":0}]
[{"$f":"IF(Timesheet!L278>0,Timesheet!G278,\"\")","v":""},{"$f":"IF(Timesheet!L278>0,Timesheet!J278,\"\")","v":""},"",{"$f":"IFERROR(VLOOKUP(C278,IF(C278=3165,AL$2:AM$2,ESG!A$2:C$54),IF(C278=3165,2,3),0),0)","v":0},{"$f":"IF(Timesheet!N278>0,Timesheet!G278,\"\")","v":""},{"$f":"IF(Timesheet!N278>0,Timesheet!J278,\"\")","v":""},"",{"$f":"IFERROR(VLOOKUP(G278,IF(G278=3165,AL$2:AM$2,ESG!A$2:D$54),IF(G278=3165,2,4),0),0)","v":0},{"$f":"IF(Timesheet!P278>0,Timesheet!G278,\"\")","v":""},{"$f":"IF(Timesheet!P278>0,Timesheet!J278,\"\")","v":""},"",{"$f":"IFERROR(VLOOKUP(K278,IF(K278=3165,AL$2:AM$2,ESG!A$2:E$54),IF(K278=3165,2,5),0),0)","v":0},{"$f":"IF(Timesheet!R278>0,Timesheet!G278,\"\")","v":""},{"$f":"IF(Timesheet!R278>0,Timesheet!J278,\"\")","v":""},{"$f":"IFERROR(VLOOKUP(M278,ESG!M$2:N$13,2,FALSE),N278)","v":""},{"$f":"IFERROR(VLOOKUP(O278,IF(O278=3165,AL$2:AM$2,ESG!A$2:F$54),IF(O278=3165,2,6),0),0)","v":0},{"$f":"IF(Timesheet!T278>0,Timesheet!G278,\"\")","v":""},{"$f":"IF(Timesheet!T278>0,Timesheet!J278,\"\")","v":""},{"$f":"IFERROR(VLOOKUP(Q278,ESG!M$2:N$13,2,FALSE),R278)","v":""},{"$f":"IFERROR(VLOOKUP(S278,IF(S278=3165,AL$2:AM$2,ESG!A$2:G$54),IF(S278=3165,2,7),0),0)","v":0},{"$f":"IF(Timesheet!V278>0,Timesheet!G278,\"\")","v":""},{"$f":"IF(Timesheet!V278>0,Timesheet!J278,\"\")","v":""},{"$f":"IFERROR(VLOOKUP(U278,ESG!M$2:N$13,2,FALSE),V278)","v":""},{"$f":"IFERROR(VLOOKUP(W278,IF(W278=3165,AL$2:AM$2,ESG!A$2:H$54),IF(W278=3165,2,8),0),0)","v":0},{"$f":"IF(Timesheet!X278>0,Timesheet!G278,\"\")","v":""},{"$f":"IF(Timesheet!X278>0,Timesheet!J278,\"\")","v":""},"",{"$f":"IFERROR(VLOOKUP(AA278,IF(AA278=3165,AL$2:AM$2,ESG!A$2:I$54),IF(AA278=3165,2,9),0),0)","v":0},{"$f":"IF(Timesheet!Z278>0,Timesheet!G278,\"\")","v":""},{"$f":"IF(Timesheet!Z278>0,Timesheet!J278,\"\")","v":""},"",{"$f":"IFERROR(VLOOKUP(AE278,IF(AE278=3165,AL$2:AM$2,ESG!A$2:J$54),IF(AE278=3165,2,10),0),0)","v":0},{"$f":"IF(Timesheet!AB278>0,Timesheet!G278,\"\")","v":""},{"$f":"IF(Timesheet!AB278>0,Timesheet!J278,\"\")","v":""},"",{"$f":"IFERROR(VLOOKUP(AI278,IF(AI278=3165,AL$2:AM$2,ESG!A$2:K$54),IF(AI278=3165,2,11),0),0)","v":0}]
[{"$f":"IF(Timesheet!L279>0,Timesheet!G279,\"\")","v":""},{"$f":"IF(Timesheet!L279>0,Timesheet!J279,\"\")","v":""},"",{"$f":"IFERROR(VLOOKUP(C279,IF(C279=3165,AL$2:AM$2,ESG!A$2:C$54),IF(C279=3165,2,3),0),0)","v":0},{"$f":"IF(Timesheet!N279>0,Timesheet!G279,\"\")","v":""},{"$f":"IF(Timesheet!N279>0,Timesheet!J279,\"\")","v":""},"",{"$f":"IFERROR(VLOOKUP(G279,IF(G279=3165,AL$2:AM$2,ESG!A$2:D$54),IF(G279=3165,2,4),0),0)","v":0},{"$f":"IF(Timesheet!P279>0,Timesheet!G279,\"\")","v":""},{"$f":"IF(Timesheet!P279>0,Timesheet!J279,\"\")","v":""},"",{"$f":"IFERROR(VLOOKUP(K279,IF(K279=3165,AL$2:AM$2,ESG!A$2:E$54),IF(K279=3165,2,5),0),0)","v":0},{"$f":"IF(Timesheet!R279>0,Timesheet!G279,\"\")","v":""},{"$f":"IF(Timesheet!R279>0,Timesheet!J279,\"\")","v":""},{"$f":"IFERROR(VLOOKUP(M279,ESG!M$2:N$13,2,FALSE),N279)","v":""},{"$f":"IFERROR(VLOOKUP(O279,IF(O279=3165,AL$2:AM$2,ESG!A$2:F$54),IF(O279=3165,2,6),0),0)","v":0},{"$f":"IF(Timesheet!T279>0,Timesheet!G279,\"\")","v":""},{"$f":"IF(Timesheet!T279>0,Timesheet!J279,\"\")","v":""},{"$f":"IFERROR(VLOOKUP(Q279,ESG!M$2:N$13,2,FALSE),R279)","v":""},{"$f":"IFERROR(VLOOKUP(S279,IF(S279=3165,AL$2:AM$2,ESG!A$2:G$54),IF(S279=3165,2,7),0),0)","v":0},{"$f":"IF(Timesheet!V279>0,Timesheet!G279,\"\")","v":""},{"$f":"IF(Timesheet!V279>0,Timesheet!J279,\"\")","v":""},{"$f":"IFERROR(VLOOKUP(U279,ESG!M$2:N$13,2,FALSE),V279)","v":""},{"$f":"IFERROR(VLOOKUP(W279,IF(W279=3165,AL$2:AM$2,ESG!A$2:H$54),IF(W279=3165,2,8),0),0)","v":0},{"$f":"IF(Timesheet!X279>0,Timesheet!G279,\"\")","v":""},{"$f":"IF(Timesheet!X279>0,Timesheet!J279,\"\")","v":""},"",{"$f":"IFERROR(VLOOKUP(AA279,IF(AA279=3165,AL$2:AM$2,ESG!A$2:I$54),IF(AA279=3165,2,9),0),0)","v":0},{"$f":"IF(Timesheet!Z279>0,Timesheet!G279,\"\")","v":""},{"$f":"IF(Timesheet!Z279>0,Timesheet!J279,\"\")","v":""},"",{"$f":"IFERROR(VLOOKUP(AE279,IF(AE279=3165,AL$2:AM$2,ESG!A$2:J$54),IF(AE279=3165,2,10),0),0)","v":0},{"$f":"IF(Timesheet!AB279>0,Timesheet!G279,\"\")","v":""},{"$f":"IF(Timesheet!AB279>0,Timesheet!J279,\"\")","v":""},"",{"$f":"IFERROR(VLOOKUP(AI279,IF(AI279=3165,AL$2:AM$2,ESG!A$2:K$54),IF(AI279=3165,2,11),0),0)","v":0}]
[{"$f":"IF(Timesheet!L280>0,Timesheet!G280,\"\")","v":""},{"$f":"IF(Timesheet!L280>0,Timesheet!J280,\"\")","v":""},"",{"$f":"IFERROR(VLOOKUP(C280,IF(C280=3165,AL$2:AM$2,ESG!A$2:C$54),IF(C280=3165,2,3),0),0)","v":0},{"$f":"IF(Timesheet!N280>0,Timesheet!G280,\"\")","v":""},{"$f":"IF(Timesheet!N280>0,Timesheet!J280,\"\")","v":""},"",{"$f":"IFERROR(VLOOKUP(G280,IF(G280=3165,AL$2:AM$2,ESG!A$2:D$54),IF(G280=3165,2,4),0),0)","v":0},{"$f":"IF(Timesheet!P280>0,Timesheet!G280,\"\")","v":""},{"$f":"IF(Timesheet!P280>0,Timesheet!J280,\"\")","v":""},"",{"$f":"IFERROR(VLOOKUP(K280,IF(K280=3165,AL$2:AM$2,ESG!A$2:E$54),IF(K280=3165,2,5),0),0)","v":0},{"$f":"IF(Timesheet!R280>0,Timesheet!G280,\"\")","v":""},{"$f":"IF(Timesheet!R280>0,Timesheet!J280,\"\")","v":""},{"$f":"IFERROR(VLOOKUP(M280,ESG!M$2:N$13,2,FALSE),N280)","v":""},{"$f":"IFERROR(VLOOKUP(O280,IF(O280=3165,AL$2:AM$2,ESG!A$2:F$54),IF(O280=3165,2,6),0),0)","v":0},{"$f":"IF(Timesheet!T280>0,Timesheet!G280,\"\")","v":""},{"$f":"IF(Timesheet!T280>0,Timesheet!J280,\"\")","v":""},{"$f":"IFERROR(VLOOKUP(Q280,ESG!M$2:N$13,2,FALSE),R280)","v":""},{"$f":"IFERROR(VLOOKUP(S280,IF(S280=3165,AL$2:AM$2,ESG!A$2:G$54),IF(S280=3165,2,7),0),0)","v":0},{"$f":"IF(Timesheet!V280>0,Timesheet!G280,\"\")","v":""},{"$f":"IF(Timesheet!V280>0,Timesheet!J280,\"\")","v":""},{"$f":"IFERROR(VLOOKUP(U280,ESG!M$2:N$13,2,FALSE),V280)","v":""},{"$f":"IFERROR(VLOOKUP(W280,IF(W280=3165,AL$2:AM$2,ESG!A$2:H$54),IF(W280=3165,2,8),0),0)","v":0},{"$f":"IF(Timesheet!X280>0,Timesheet!G280,\"\")","v":""},{"$f":"IF(Timesheet!X280>0,Timesheet!J280,\"\")","v":""},"",{"$f":"IFERROR(VLOOKUP(AA280,IF(AA280=3165,AL$2:AM$2,ESG!A$2:I$54),IF(AA280=3165,2,9),0),0)","v":0},{"$f":"IF(Timesheet!Z280>0,Timesheet!G280,\"\")","v":""},{"$f":"IF(Timesheet!Z280>0,Timesheet!J280,\"\")","v":""},"",{"$f":"IFERROR(VLOOKUP(AE280,IF(AE280=3165,AL$2:AM$2,ESG!A$2:J$54),IF(AE280=3165,2,10),0),0)","v":0},{"$f":"IF(Timesheet!AB280>0,Timesheet!G280,\"\")","v":""},{"$f":"IF(Timesheet!AB280>0,Timesheet!J280,\"\")","v":""},"",{"$f":"IFERROR(VLOOKUP(AI280,IF(AI280=3165,AL$2:AM$2,ESG!A$2:K$54),IF(AI280=3165,2,11),0),0)","v":0}]
[{"$f":"IF(Timesheet!L281>0,Timesheet!G281,\"\")","v":""},{"$f":"IF(Timesheet!L281>0,Timesheet!J281,\"\")","v":""},"",{"$f":"IFERROR(VLOOKUP(C281,IF(C281=3165,AL$2:AM$2,ESG!A$2:C$54),IF(C281=3165,2,3),0),0)","v":0},{"$f":"IF(Timesheet!N281>0,Timesheet!G281,\"\")","v":""},{"$f":"IF(Timesheet!N281>0,Timesheet!J281,\"\")","v":""},"",{"$f":"IFERROR(VLOOKUP(G281,IF(G281=3165,AL$2:AM$2,ESG!A$2:D$54),IF(G281=3165,2,4),0),0)","v":0},{"$f":"IF(Timesheet!P281>0,Timesheet!G281,\"\")","v":""},{"$f":"IF(Timesheet!P281>0,Timesheet!J281,\"\")","v":""},"",{"$f":"IFERROR(VLOOKUP(K281,IF(K281=3165,AL$2:AM$2,ESG!A$2:E$54),IF(K281=3165,2,5),0),0)","v":0},{"$f":"IF(Timesheet!R281>0,Timesheet!G281,\"\")","v":""},{"$f":"IF(Timesheet!R281>0,Timesheet!J281,\"\")","v":""},{"$f":"IFERROR(VLOOKUP(M281,ESG!M$2:N$13,2,FALSE),N281)","v":""},{"$f":"IFERROR(VLOOKUP(O281,IF(O281=3165,AL$2:AM$2,ESG!A$2:F$54),IF(O281=3165,2,6),0),0)","v":0},{"$f":"IF(Timesheet!T281>0,Timesheet!G281,\"\")","v":""},{"$f":"IF(Timesheet!T281>0,Timesheet!J281,\"\")","v":""},{"$f":"IFERROR(VLOOKUP(Q281,ESG!M$2:N$13,2,FALSE),R281)","v":""},{"$f":"IFERROR(VLOOKUP(S281,IF(S281=3165,AL$2:AM$2,ESG!A$2:G$54),IF(S281=3165,2,7),0),0)","v":0},{"$f":"IF(Timesheet!V281>0,Timesheet!G281,\"\")","v":""},{"$f":"IF(Timesheet!V281>0,Timesheet!J281,\"\")","v":""},{"$f":"IFERROR(VLOOKUP(U281,ESG!M$2:N$13,2,FALSE),V281)","v":""},{"$f":"IFERROR(VLOOKUP(W281,IF(W281=3165,AL$2:AM$2,ESG!A$2:H$54),IF(W281=3165,2,8),0),0)","v":0},{"$f":"IF(Timesheet!X281>0,Timesheet!G281,\"\")","v":""},{"$f":"IF(Timesheet!X281>0,Timesheet!J281,\"\")","v":""},"",{"$f":"IFERROR(VLOOKUP(AA281,IF(AA281=3165,AL$2:AM$2,ESG!A$2:I$54),IF(AA281=3165,2,9),0),0)","v":0},{"$f":"IF(Timesheet!Z281>0,Timesheet!G281,\"\")","v":""},{"$f":"IF(Timesheet!Z281>0,Timesheet!J281,\"\")","v":""},"",{"$f":"IFERROR(VLOOKUP(AE281,IF(AE281=3165,AL$2:AM$2,ESG!A$2:J$54),IF(AE281=3165,2,10),0),0)","v":0},{"$f":"IF(Timesheet!AB281>0,Timesheet!G281,\"\")","v":""},{"$f":"IF(Timesheet!AB281>0,Timesheet!J281,\"\")","v":""},"",{"$f":"IFERROR(VLOOKUP(AI281,IF(AI281=3165,AL$2:AM$2,ESG!A$2:K$54),IF(AI281=3165,2,11),0),0)","v":0}]
[{"$f":"IF(Timesheet!L282>0,Timesheet!G282,\"\")","v":""},{"$f":"IF(Timesheet!L282>0,Timesheet!J282,\"\")","v":""},"",{"$f":"IFERROR(VLOOKUP(C282,IF(C282=3165,AL$2:AM$2,ESG!A$2:C$54),IF(C282=3165,2,3),0),0)","v":0},{"$f":"IF(Timesheet!N282>0,Timesheet!G282,\"\")","v":""},{"$f":"IF(Timesheet!N282>0,Timesheet!J282,\"\")","v":""},"",{"$f":"IFERROR(VLOOKUP(G282,IF(G282=3165,AL$2:AM$2,ESG!A$2:D$54),IF(G282=3165,2,4),0),0)","v":0},{"$f":"IF(Timesheet!P282>0,Timesheet!G282,\"\")","v":""},{"$f":"IF(Timesheet!P282>0,Timesheet!J282,\"\")","v":""},"",{"$f":"IFERROR(VLOOKUP(K282,IF(K282=3165,AL$2:AM$2,ESG!A$2:E$54),IF(K282=3165,2,5),0),0)","v":0},{"$f":"IF(Timesheet!R282>0,Timesheet!G282,\"\")","v":""},{"$f":"IF(Timesheet!R282>0,Timesheet!J282,\"\")","v":""},{"$f":"IFERROR(VLOOKUP(M282,ESG!M$2:N$13,2,FALSE),N282)","v":""},{"$f":"IFERROR(VLOOKUP(O282,IF(O282=3165,AL$2:AM$2,ESG!A$2:F$54),IF(O282=3165,2,6),0),0)","v":0},{"$f":"IF(Timesheet!T282>0,Timesheet!G282,\"\")","v":""},{"$f":"IF(Timesheet!T282>0,Timesheet!J282,\"\")","v":""},{"$f":"IFERROR(VLOOKUP(Q282,ESG!M$2:N$13,2,FALSE),R282)","v":""},{"$f":"IFERROR(VLOOKUP(S282,IF(S282=3165,AL$2:AM$2,ESG!A$2:G$54),IF(S282=3165,2,7),0),0)","v":0},{"$f":"IF(Timesheet!V282>0,Timesheet!G282,\"\")","v":""},{"$f":"IF(Timesheet!V282>0,Timesheet!J282,\"\")","v":""},{"$f":"IFERROR(VLOOKUP(U282,ESG!M$2:N$13,2,FALSE),V282)","v":""},{"$f":"IFERROR(VLOOKUP(W282,IF(W282=3165,AL$2:AM$2,ESG!A$2:H$54),IF(W282=3165,2,8),0),0)","v":0},{"$f":"IF(Timesheet!X282>0,Timesheet!G282,\"\")","v":""},{"$f":"IF(Timesheet!X282>0,Timesheet!J282,\"\")","v":""},"",{"$f":"IFERROR(VLOOKUP(AA282,IF(AA282=3165,AL$2:AM$2,ESG!A$2:I$54),IF(AA282=3165,2,9),0),0)","v":0},{"$f":"IF(Timesheet!Z282>0,Timesheet!G282,\"\")","v":""},{"$f":"IF(Timesheet!Z282>0,Timesheet!J282,\"\")","v":""},"",{"$f":"IFERROR(VLOOKUP(AE282,IF(AE282=3165,AL$2:AM$2,ESG!A$2:J$54),IF(AE282=3165,2,10),0),0)","v":0},{"$f":"IF(Timesheet!AB282>0,Timesheet!G282,\"\")","v":""},{"$f":"IF(Timesheet!AB282>0,Timesheet!J282,\"\")","v":""},"",{"$f":"IFERROR(VLOOKUP(AI282,IF(AI282=3165,AL$2:AM$2,ESG!A$2:K$54),IF(AI282=3165,2,11),0),0)","v":0}]
[{"$f":"IF(Timesheet!L283>0,Timesheet!G283,\"\")","v":""},{"$f":"IF(Timesheet!L283>0,Timesheet!J283,\"\")","v":""},"",{"$f":"IFERROR(VLOOKUP(C283,IF(C283=3165,AL$2:AM$2,ESG!A$2:C$54),IF(C283=3165,2,3),0),0)","v":0},{"$f":"IF(Timesheet!N283>0,Timesheet!G283,\"\")","v":""},{"$f":"IF(Timesheet!N283>0,Timesheet!J283,\"\")","v":""},"",{"$f":"IFERROR(VLOOKUP(G283,IF(G283=3165,AL$2:AM$2,ESG!A$2:D$54),IF(G283=3165,2,4),0),0)","v":0},{"$f":"IF(Timesheet!P283>0,Timesheet!G283,\"\")","v":""},{"$f":"IF(Timesheet!P283>0,Timesheet!J283,\"\")","v":""},"",{"$f":"IFERROR(VLOOKUP(K283,IF(K283=3165,AL$2:AM$2,ESG!A$2:E$54),IF(K283=3165,2,5),0),0)","v":0},{"$f":"IF(Timesheet!R283>0,Timesheet!G283,\"\")","v":""},{"$f":"IF(Timesheet!R283>0,Timesheet!J283,\"\")","v":""},{"$f":"IFERROR(VLOOKUP(M283,ESG!M$2:N$13,2,FALSE),N283)","v":""},{"$f":"IFERROR(VLOOKUP(O283,IF(O283=3165,AL$2:AM$2,ESG!A$2:F$54),IF(O283=3165,2,6),0),0)","v":0},{"$f":"IF(Timesheet!T283>0,Timesheet!G283,\"\")","v":""},{"$f":"IF(Timesheet!T283>0,Timesheet!J283,\"\")","v":""},{"$f":"IFERROR(VLOOKUP(Q283,ESG!M$2:N$13,2,FALSE),R283)","v":""},{"$f":"IFERROR(VLOOKUP(S283,IF(S283=3165,AL$2:AM$2,ESG!A$2:G$54),IF(S283=3165,2,7),0),0)","v":0},{"$f":"IF(Timesheet!V283>0,Timesheet!G283,\"\")","v":""},{"$f":"IF(Timesheet!V283>0,Timesheet!J283,\"\")","v":""},{"$f":"IFERROR(VLOOKUP(U283,ESG!M$2:N$13,2,FALSE),V283)","v":""},{"$f":"IFERROR(VLOOKUP(W283,IF(W283=3165,AL$2:AM$2,ESG!A$2:H$54),IF(W283=3165,2,8),0),0)","v":0},{"$f":"IF(Timesheet!X283>0,Timesheet!G283,\"\")","v":""},{"$f":"IF(Timesheet!X283>0,Timesheet!J283,\"\")","v":""},"",{"$f":"IFERROR(VLOOKUP(AA283,IF(AA283=3165,AL$2:AM$2,ESG!A$2:I$54),IF(AA283=3165,2,9),0),0)","v":0},{"$f":"IF(Timesheet!Z283>0,Timesheet!G283,\"\")","v":""},{"$f":"IF(Timesheet!Z283>0,Timesheet!J283,\"\")","v":""},"",{"$f":"IFERROR(VLOOKUP(AE283,IF(AE283=3165,AL$2:AM$2,ESG!A$2:J$54),IF(AE283=3165,2,10),0),0)","v":0},{"$f":"IF(Timesheet!AB283>0,Timesheet!G283,\"\")","v":""},{"$f":"IF(Timesheet!AB283>0,Timesheet!J283,\"\")","v":""},"",{"$f":"IFERROR(VLOOKUP(AI283,IF(AI283=3165,AL$2:AM$2,ESG!A$2:K$54),IF(AI283=3165,2,11),0),0)","v":0}]
[{"$f":"IF(Timesheet!L284>0,Timesheet!G284,\"\")","v":""},{"$f":"IF(Timesheet!L284>0,Timesheet!J284,\"\")","v":""},"",{"$f":"IFERROR(VLOOKUP(C284,IF(C284=3165,AL$2:AM$2,ESG!A$2:C$54),IF(C284=3165,2,3),0),0)","v":0},{"$f":"IF(Timesheet!N284>0,Timesheet!G284,\"\")","v":""},{"$f":"IF(Timesheet!N284>0,Timesheet!J284,\"\")","v":""},"",{"$f":"IFERROR(VLOOKUP(G284,IF(G284=3165,AL$2:AM$2,ESG!A$2:D$54),IF(G284=3165,2,4),0),0)","v":0},{"$f":"IF(Timesheet!P284>0,Timesheet!G284,\"\")","v":""},{"$f":"IF(Timesheet!P284>0,Timesheet!J284,\"\")","v":""},"",{"$f":"IFERROR(VLOOKUP(K284,IF(K284=3165,AL$2:AM$2,ESG!A$2:E$54),IF(K284=3165,2,5),0),0)","v":0},{"$f":"IF(Timesheet!R284>0,Timesheet!G284,\"\")","v":""},{"$f":"IF(Timesheet!R284>0,Timesheet!J284,\"\")","v":""},{"$f":"IFERROR(VLOOKUP(M284,ESG!M$2:N$13,2,FALSE),N284)","v":""},{"$f":"IFERROR(VLOOKUP(O284,IF(O284=3165,AL$2:AM$2,ESG!A$2:F$54),IF(O284=3165,2,6),0),0)","v":0},{"$f":"IF(Timesheet!T284>0,Timesheet!G284,\"\")","v":""},{"$f":"IF(Timesheet!T284>0,Timesheet!J284,\"\")","v":""},{"$f":"IFERROR(VLOOKUP(Q284,ESG!M$2:N$13,2,FALSE),R284)","v":""},{"$f":"IFERROR(VLOOKUP(S284,IF(S284=3165,AL$2:AM$2,ESG!A$2:G$54),IF(S284=3165,2,7),0),0)","v":0},{"$f":"IF(Timesheet!V284>0,Timesheet!G284,\"\")","v":""},{"$f":"IF(Timesheet!V284>0,Timesheet!J284,\"\")","v":""},{"$f":"IFERROR(VLOOKUP(U284,ESG!M$2:N$13,2,FALSE),V284)","v":""},{"$f":"IFERROR(VLOOKUP(W284,IF(W284=3165,AL$2:AM$2,ESG!A$2:H$54),IF(W284=3165,2,8),0),0)","v":0},{"$f":"IF(Timesheet!X284>0,Timesheet!G284,\"\")","v":""},{"$f":"IF(Timesheet!X284>0,Timesheet!J284,\"\")","v":""},"",{"$f":"IFERROR(VLOOKUP(AA284,IF(AA284=3165,AL$2:AM$2,ESG!A$2:I$54),IF(AA284=3165,2,9),0),0)","v":0},{"$f":"IF(Timesheet!Z284>0,Timesheet!G284,\"\")","v":""},{"$f":"IF(Timesheet!Z284>0,Timesheet!J284,\"\")","v":""},"",{"$f":"IFERROR(VLOOKUP(AE284,IF(AE284=3165,AL$2:AM$2,ESG!A$2:J$54),IF(AE284=3165,2,10),0),0)","v":0},{"$f":"IF(Timesheet!AB284>0,Timesheet!G284,\"\")","v":""},{"$f":"IF(Timesheet!AB284>0,Timesheet!J284,\"\")","v":""},"",{"$f":"IFERROR(VLOOKUP(AI284,IF(AI284=3165,AL$2:AM$2,ESG!A$2:K$54),IF(AI284=3165,2,11),0),0)","v":0}]
[{"$f":"IF(Timesheet!L285>0,Timesheet!G285,\"\")","v":""},{"$f":"IF(Timesheet!L285>0,Timesheet!J285,\"\")","v":""},"",{"$f":"IFERROR(VLOOKUP(C285,IF(C285=3165,AL$2:AM$2,ESG!A$2:C$54),IF(C285=3165,2,3),0),0)","v":0},{"$f":"IF(Timesheet!N285>0,Timesheet!G285,\"\")","v":""},{"$f":"IF(Timesheet!N285>0,Timesheet!J285,\"\")","v":""},"",{"$f":"IFERROR(VLOOKUP(G285,IF(G285=3165,AL$2:AM$2,ESG!A$2:D$54),IF(G285=3165,2,4),0),0)","v":0},{"$f":"IF(Timesheet!P285>0,Timesheet!G285,\"\")","v":""},{"$f":"IF(Timesheet!P285>0,Timesheet!J285,\"\")","v":""},"",{"$f":"IFERROR(VLOOKUP(K285,IF(K285=3165,AL$2:AM$2,ESG!A$2:E$54),IF(K285=3165,2,5),0),0)","v":0},{"$f":"IF(Timesheet!R285>0,Timesheet!G285,\"\")","v":""},{"$f":"IF(Timesheet!R285>0,Timesheet!J285,\"\")","v":""},{"$f":"IFERROR(VLOOKUP(M285,ESG!M$2:N$13,2,FALSE),N285)","v":""},{"$f":"IFERROR(VLOOKUP(O285,IF(O285=3165,AL$2:AM$2,ESG!A$2:F$54),IF(O285=3165,2,6),0),0)","v":0},{"$f":"IF(Timesheet!T285>0,Timesheet!G285,\"\")","v":""},{"$f":"IF(Timesheet!T285>0,Timesheet!J285,\"\")","v":""},{"$f":"IFERROR(VLOOKUP(Q285,ESG!M$2:N$13,2,FALSE),R285)","v":""},{"$f":"IFERROR(VLOOKUP(S285,IF(S285=3165,AL$2:AM$2,ESG!A$2:G$54),IF(S285=3165,2,7),0),0)","v":0},{"$f":"IF(Timesheet!V285>0,Timesheet!G285,\"\")","v":""},{"$f":"IF(Timesheet!V285>0,Timesheet!J285,\"\")","v":""},{"$f":"IFERROR(VLOOKUP(U285,ESG!M$2:N$13,2,FALSE),V285)","v":""},{"$f":"IFERROR(VLOOKUP(W285,IF(W285=3165,AL$2:AM$2,ESG!A$2:H$54),IF(W285=3165,2,8),0),0)","v":0},{"$f":"IF(Timesheet!X285>0,Timesheet!G285,\"\")","v":""},{"$f":"IF(Timesheet!X285>0,Timesheet!J285,\"\")","v":""},"",{"$f":"IFERROR(VLOOKUP(AA285,IF(AA285=3165,AL$2:AM$2,ESG!A$2:I$54),IF(AA285=3165,2,9),0),0)","v":0},{"$f":"IF(Timesheet!Z285>0,Timesheet!G285,\"\")","v":""},{"$f":"IF(Timesheet!Z285>0,Timesheet!J285,\"\")","v":""},"",{"$f":"IFERROR(VLOOKUP(AE285,IF(AE285=3165,AL$2:AM$2,ESG!A$2:J$54),IF(AE285=3165,2,10),0),0)","v":0},{"$f":"IF(Timesheet!AB285>0,Timesheet!G285,\"\")","v":""},{"$f":"IF(Timesheet!AB285>0,Timesheet!J285,\"\")","v":""},"",{"$f":"IFERROR(VLOOKUP(AI285,IF(AI285=3165,AL$2:AM$2,ESG!A$2:K$54),IF(AI285=3165,2,11),0),0)","v":0}]
[{"$f":"IF(Timesheet!L286>0,Timesheet!G286,\"\")","v":""},{"$f":"IF(Timesheet!L286>0,Timesheet!J286,\"\")","v":""},"",{"$f":"IFERROR(VLOOKUP(C286,IF(C286=3165,AL$2:AM$2,ESG!A$2:C$54),IF(C286=3165,2,3),0),0)","v":0},{"$f":"IF(Timesheet!N286>0,Timesheet!G286,\"\")","v":""},{"$f":"IF(Timesheet!N286>0,Timesheet!J286,\"\")","v":""},"",{"$f":"IFERROR(VLOOKUP(G286,IF(G286=3165,AL$2:AM$2,ESG!A$2:D$54),IF(G286=3165,2,4),0),0)","v":0},{"$f":"IF(Timesheet!P286>0,Timesheet!G286,\"\")","v":""},{"$f":"IF(Timesheet!P286>0,Timesheet!J286,\"\")","v":""},"",{"$f":"IFERROR(VLOOKUP(K286,IF(K286=3165,AL$2:AM$2,ESG!A$2:E$54),IF(K286=3165,2,5),0),0)","v":0},{"$f":"IF(Timesheet!R286>0,Timesheet!G286,\"\")","v":""},{"$f":"IF(Timesheet!R286>0,Timesheet!J286,\"\")","v":""},{"$f":"IFERROR(VLOOKUP(M286,ESG!M$2:N$13,2,FALSE),N286)","v":""},{"$f":"IFERROR(VLOOKUP(O286,IF(O286=3165,AL$2:AM$2,ESG!A$2:F$54),IF(O286=3165,2,6),0),0)","v":0},{"$f":"IF(Timesheet!T286>0,Timesheet!G286,\"\")","v":""},{"$f":"IF(Timesheet!T286>0,Timesheet!J286,\"\")","v":""},{"$f":"IFERROR(VLOOKUP(Q286,ESG!M$2:N$13,2,FALSE),R286)","v":""},{"$f":"IFERROR(VLOOKUP(S286,IF(S286=3165,AL$2:AM$2,ESG!A$2:G$54),IF(S286=3165,2,7),0),0)","v":0},{"$f":"IF(Timesheet!V286>0,Timesheet!G286,\"\")","v":""},{"$f":"IF(Timesheet!V286>0,Timesheet!J286,\"\")","v":""},{"$f":"IFERROR(VLOOKUP(U286,ESG!M$2:N$13,2,FALSE),V286)","v":""},{"$f":"IFERROR(VLOOKUP(W286,IF(W286=3165,AL$2:AM$2,ESG!A$2:H$54),IF(W286=3165,2,8),0),0)","v":0},{"$f":"IF(Timesheet!X286>0,Timesheet!G286,\"\")","v":""},{"$f":"IF(Timesheet!X286>0,Timesheet!J286,\"\")","v":""},"",{"$f":"IFERROR(VLOOKUP(AA286,IF(AA286=3165,AL$2:AM$2,ESG!A$2:I$54),IF(AA286=3165,2,9),0),0)","v":0},{"$f":"IF(Timesheet!Z286>0,Timesheet!G286,\"\")","v":""},{"$f":"IF(Timesheet!Z286>0,Timesheet!J286,\"\")","v":""},"",{"$f":"IFERROR(VLOOKUP(AE286,IF(AE286=3165,AL$2:AM$2,ESG!A$2:J$54),IF(AE286=3165,2,10),0),0)","v":0},{"$f":"IF(Timesheet!AB286>0,Timesheet!G286,\"\")","v":""},{"$f":"IF(Timesheet!AB286>0,Timesheet!J286,\"\")","v":""},"",{"$f":"IFERROR(VLOOKUP(AI286,IF(AI286=3165,AL$2:AM$2,ESG!A$2:K$54),IF(AI286=3165,2,11),0),0)","v":0}]
[{"$f":"IF(Timesheet!L287>0,Timesheet!G287,\"\")","v":""},{"$f":"IF(Timesheet!L287>0,Timesheet!J287,\"\")","v":""},"",{"$f":"IFERROR(VLOOKUP(C287,IF(C287=3165,AL$2:AM$2,ESG!A$2:C$54),IF(C287=3165,2,3),0),0)","v":0},{"$f":"IF(Timesheet!N287>0,Timesheet!G287,\"\")","v":""},{"$f":"IF(Timesheet!N287>0,Timesheet!J287,\"\")","v":""},"",{"$f":"IFERROR(VLOOKUP(G287,IF(G287=3165,AL$2:AM$2,ESG!A$2:D$54),IF(G287=3165,2,4),0),0)","v":0},{"$f":"IF(Timesheet!P287>0,Timesheet!G287,\"\")","v":""},{"$f":"IF(Timesheet!P287>0,Timesheet!J287,\"\")","v":""},"",{"$f":"IFERROR(VLOOKUP(K287,IF(K287=3165,AL$2:AM$2,ESG!A$2:E$54),IF(K287=3165,2,5),0),0)","v":0},{"$f":"IF(Timesheet!R287>0,Timesheet!G287,\"\")","v":""},{"$f":"IF(Timesheet!R287>0,Timesheet!J287,\"\")","v":""},{"$f":"IFERROR(VLOOKUP(M287,ESG!M$2:N$13,2,FALSE),N287)","v":""},{"$f":"IFERROR(VLOOKUP(O287,IF(O287=3165,AL$2:AM$2,ESG!A$2:F$54),IF(O287=3165,2,6),0),0)","v":0},{"$f":"IF(Timesheet!T287>0,Timesheet!G287,\"\")","v":""},{"$f":"IF(Timesheet!T287>0,Timesheet!J287,\"\")","v":""},{"$f":"IFERROR(VLOOKUP(Q287,ESG!M$2:N$13,2,FALSE),R287)","v":""},{"$f":"IFERROR(VLOOKUP(S287,IF(S287=3165,AL$2:AM$2,ESG!A$2:G$54),IF(S287=3165,2,7),0),0)","v":0},{"$f":"IF(Timesheet!V287>0,Timesheet!G287,\"\")","v":""},{"$f":"IF(Timesheet!V287>0,Timesheet!J287,\"\")","v":""},{"$f":"IFERROR(VLOOKUP(U287,ESG!M$2:N$13,2,FALSE),V287)","v":""},{"$f":"IFERROR(VLOOKUP(W287,IF(W287=3165,AL$2:AM$2,ESG!A$2:H$54),IF(W287=3165,2,8),0),0)","v":0},{"$f":"IF(Timesheet!X287>0,Timesheet!G287,\"\")","v":""},{"$f":"IF(Timesheet!X287>0,Timesheet!J287,\"\")","v":""},"",{"$f":"IFERROR(VLOOKUP(AA287,IF(AA287=3165,AL$2:AM$2,ESG!A$2:I$54),IF(AA287=3165,2,9),0),0)","v":0},{"$f":"IF(Timesheet!Z287>0,Timesheet!G287,\"\")","v":""},{"$f":"IF(Timesheet!Z287>0,Timesheet!J287,\"\")","v":""},"",{"$f":"IFERROR(VLOOKUP(AE287,IF(AE287=3165,AL$2:AM$2,ESG!A$2:J$54),IF(AE287=3165,2,10),0),0)","v":0},{"$f":"IF(Timesheet!AB287>0,Timesheet!G287,\"\")","v":""},{"$f":"IF(Timesheet!AB287>0,Timesheet!J287,\"\")","v":""},"",{"$f":"IFERROR(VLOOKUP(AI287,IF(AI287=3165,AL$2:AM$2,ESG!A$2:K$54),IF(AI287=3165,2,11),0),0)","v":0}]
[{"$f":"IF(Timesheet!L288>0,Timesheet!G288,\"\")","v":""},{"$f":"IF(Timesheet!L288>0,Timesheet!J288,\"\")","v":""},"",{"$f":"IFERROR(VLOOKUP(C288,IF(C288=3165,AL$2:AM$2,ESG!A$2:C$54),IF(C288=3165,2,3),0),0)","v":0},{"$f":"IF(Timesheet!N288>0,Timesheet!G288,\"\")","v":""},{"$f":"IF(Timesheet!N288>0,Timesheet!J288,\"\")","v":""},"",{"$f":"IFERROR(VLOOKUP(G288,IF(G288=3165,AL$2:AM$2,ESG!A$2:D$54),IF(G288=3165,2,4),0),0)","v":0},{"$f":"IF(Timesheet!P288>0,Timesheet!G288,\"\")","v":""},{"$f":"IF(Timesheet!P288>0,Timesheet!J288,\"\")","v":""},"",{"$f":"IFERROR(VLOOKUP(K288,IF(K288=3165,AL$2:AM$2,ESG!A$2:E$54),IF(K288=3165,2,5),0),0)","v":0},{"$f":"IF(Timesheet!R288>0,Timesheet!G288,\"\")","v":""},{"$f":"IF(Timesheet!R288>0,Timesheet!J288,\"\")","v":""},{"$f":"IFERROR(VLOOKUP(M288,ESG!M$2:N$13,2,FALSE),N288)","v":""},{"$f":"IFERROR(VLOOKUP(O288,IF(O288=3165,AL$2:AM$2,ESG!A$2:F$54),IF(O288=3165,2,6),0),0)","v":0},{"$f":"IF(Timesheet!T288>0,Timesheet!G288,\"\")","v":""},{"$f":"IF(Timesheet!T288>0,Timesheet!J288,\"\")","v":""},{"$f":"IFERROR(VLOOKUP(Q288,ESG!M$2:N$13,2,FALSE),R288)","v":""},{"$f":"IFERROR(VLOOKUP(S288,IF(S288=3165,AL$2:AM$2,ESG!A$2:G$54),IF(S288=3165,2,7),0),0)","v":0},{"$f":"IF(Timesheet!V288>0,Timesheet!G288,\"\")","v":""},{"$f":"IF(Timesheet!V288>0,Timesheet!J288,\"\")","v":""},{"$f":"IFERROR(VLOOKUP(U288,ESG!M$2:N$13,2,FALSE),V288)","v":""},{"$f":"IFERROR(VLOOKUP(W288,IF(W288=3165,AL$2:AM$2,ESG!A$2:H$54),IF(W288=3165,2,8),0),0)","v":0},{"$f":"IF(Timesheet!X288>0,Timesheet!G288,\"\")","v":""},{"$f":"IF(Timesheet!X288>0,Timesheet!J288,\"\")","v":""},"",{"$f":"IFERROR(VLOOKUP(AA288,IF(AA288=3165,AL$2:AM$2,ESG!A$2:I$54),IF(AA288=3165,2,9),0),0)","v":0},{"$f":"IF(Timesheet!Z288>0,Timesheet!G288,\"\")","v":""},{"$f":"IF(Timesheet!Z288>0,Timesheet!J288,\"\")","v":""},"",{"$f":"IFERROR(VLOOKUP(AE288,IF(AE288=3165,AL$2:AM$2,ESG!A$2:J$54),IF(AE288=3165,2,10),0),0)","v":0},{"$f":"IF(Timesheet!AB288>0,Timesheet!G288,\"\")","v":""},{"$f":"IF(Timesheet!AB288>0,Timesheet!J288,\"\")","v":""},"",{"$f":"IFERROR(VLOOKUP(AI288,IF(AI288=3165,AL$2:AM$2,ESG!A$2:K$54),IF(AI288=3165,2,11),0),0)","v":0}]
[{"$f":"IF(Timesheet!L289>0,Timesheet!G289,\"\")","v":""},{"$f":"IF(Timesheet!L289>0,Timesheet!J289,\"\")","v":""},"",{"$f":"IFERROR(VLOOKUP(C289,IF(C289=3165,AL$2:AM$2,ESG!A$2:C$54),IF(C289=3165,2,3),0),0)","v":0},{"$f":"IF(Timesheet!N289>0,Timesheet!G289,\"\")","v":""},{"$f":"IF(Timesheet!N289>0,Timesheet!J289,\"\")","v":""},"",{"$f":"IFERROR(VLOOKUP(G289,IF(G289=3165,AL$2:AM$2,ESG!A$2:D$54),IF(G289=3165,2,4),0),0)","v":0},{"$f":"IF(Timesheet!P289>0,Timesheet!G289,\"\")","v":""},{"$f":"IF(Timesheet!P289>0,Timesheet!J289,\"\")","v":""},"",{"$f":"IFERROR(VLOOKUP(K289,IF(K289=3165,AL$2:AM$2,ESG!A$2:E$54),IF(K289=3165,2,5),0),0)","v":0},{"$f":"IF(Timesheet!R289>0,Timesheet!G289,\"\")","v":""},{"$f":"IF(Timesheet!R289>0,Timesheet!J289,\"\")","v":""},{"$f":"IFERROR(VLOOKUP(M289,ESG!M$2:N$13,2,FALSE),N289)","v":""},{"$f":"IFERROR(VLOOKUP(O289,IF(O289=3165,AL$2:AM$2,ESG!A$2:F$54),IF(O289=3165,2,6),0),0)","v":0},{"$f":"IF(Timesheet!T289>0,Timesheet!G289,\"\")","v":""},{"$f":"IF(Timesheet!T289>0,Timesheet!J289,\"\")","v":""},{"$f":"IFERROR(VLOOKUP(Q289,ESG!M$2:N$13,2,FALSE),R289)","v":""},{"$f":"IFERROR(VLOOKUP(S289,IF(S289=3165,AL$2:AM$2,ESG!A$2:G$54),IF(S289=3165,2,7),0),0)","v":0},{"$f":"IF(Timesheet!V289>0,Timesheet!G289,\"\")","v":""},{"$f":"IF(Timesheet!V289>0,Timesheet!J289,\"\")","v":""},{"$f":"IFERROR(VLOOKUP(U289,ESG!M$2:N$13,2,FALSE),V289)","v":""},{"$f":"IFERROR(VLOOKUP(W289,IF(W289=3165,AL$2:AM$2,ESG!A$2:H$54),IF(W289=3165,2,8),0),0)","v":0},{"$f":"IF(Timesheet!X289>0,Timesheet!G289,\"\")","v":""},{"$f":"IF(Timesheet!X289>0,Timesheet!J289,\"\")","v":""},"",{"$f":"IFERROR(VLOOKUP(AA289,IF(AA289=3165,AL$2:AM$2,ESG!A$2:I$54),IF(AA289=3165,2,9),0),0)","v":0},{"$f":"IF(Timesheet!Z289>0,Timesheet!G289,\"\")","v":""},{"$f":"IF(Timesheet!Z289>0,Timesheet!J289,\"\")","v":""},"",{"$f":"IFERROR(VLOOKUP(AE289,IF(AE289=3165,AL$2:AM$2,ESG!A$2:J$54),IF(AE289=3165,2,10),0),0)","v":0},{"$f":"IF(Timesheet!AB289>0,Timesheet!G289,\"\")","v":""},{"$f":"IF(Timesheet!AB289>0,Timesheet!J289,\"\")","v":""},"",{"$f":"IFERROR(VLOOKUP(AI289,IF(AI289=3165,AL$2:AM$2,ESG!A$2:K$54),IF(AI289=3165,2,11),0),0)","v":0}]
[{"$f":"IF(Timesheet!L290>0,Timesheet!G290,\"\")","v":""},{"$f":"IF(Timesheet!L290>0,Timesheet!J290,\"\")","v":""},"",{"$f":"IFERROR(VLOOKUP(C290,IF(C290=3165,AL$2:AM$2,ESG!A$2:C$54),IF(C290=3165,2,3),0),0)","v":0},{"$f":"IF(Timesheet!N290>0,Timesheet!G290,\"\")","v":""},{"$f":"IF(Timesheet!N290>0,Timesheet!J290,\"\")","v":""},"",{"$f":"IFERROR(VLOOKUP(G290,IF(G290=3165,AL$2:AM$2,ESG!A$2:D$54),IF(G290=3165,2,4),0),0)","v":0},{"$f":"IF(Timesheet!P290>0,Timesheet!G290,\"\")","v":""},{"$f":"IF(Timesheet!P290>0,Timesheet!J290,\"\")","v":""},"",{"$f":"IFERROR(VLOOKUP(K290,IF(K290=3165,AL$2:AM$2,ESG!A$2:E$54),IF(K290=3165,2,5),0),0)","v":0},{"$f":"IF(Timesheet!R290>0,Timesheet!G290,\"\")","v":""},{"$f":"IF(Timesheet!R290>0,Timesheet!J290,\"\")","v":""},{"$f":"IFERROR(VLOOKUP(M290,ESG!M$2:N$13,2,FALSE),N290)","v":""},{"$f":"IFERROR(VLOOKUP(O290,IF(O290=3165,AL$2:AM$2,ESG!A$2:F$54),IF(O290=3165,2,6),0),0)","v":0},{"$f":"IF(Timesheet!T290>0,Timesheet!G290,\"\")","v":""},{"$f":"IF(Timesheet!T290>0,Timesheet!J290,\"\")","v":""},{"$f":"IFERROR(VLOOKUP(Q290,ESG!M$2:N$13,2,FALSE),R290)","v":""},{"$f":"IFERROR(VLOOKUP(S290,IF(S290=3165,AL$2:AM$2,ESG!A$2:G$54),IF(S290=3165,2,7),0),0)","v":0},{"$f":"IF(Timesheet!V290>0,Timesheet!G290,\"\")","v":""},{"$f":"IF(Timesheet!V290>0,Timesheet!J290,\"\")","v":""},{"$f":"IFERROR(VLOOKUP(U290,ESG!M$2:N$13,2,FALSE),V290)","v":""},{"$f":"IFERROR(VLOOKUP(W290,IF(W290=3165,AL$2:AM$2,ESG!A$2:H$54),IF(W290=3165,2,8),0),0)","v":0},{"$f":"IF(Timesheet!X290>0,Timesheet!G290,\"\")","v":""},{"$f":"IF(Timesheet!X290>0,Timesheet!J290,\"\")","v":""},"",{"$f":"IFERROR(VLOOKUP(AA290,IF(AA290=3165,AL$2:AM$2,ESG!A$2:I$54),IF(AA290=3165,2,9),0),0)","v":0},{"$f":"IF(Timesheet!Z290>0,Timesheet!G290,\"\")","v":""},{"$f":"IF(Timesheet!Z290>0,Timesheet!J290,\"\")","v":""},"",{"$f":"IFERROR(VLOOKUP(AE290,IF(AE290=3165,AL$2:AM$2,ESG!A$2:J$54),IF(AE290=3165,2,10),0),0)","v":0},{"$f":"IF(Timesheet!AB290>0,Timesheet!G290,\"\")","v":""},{"$f":"IF(Timesheet!AB290>0,Timesheet!J290,\"\")","v":""},"",{"$f":"IFERROR(VLOOKUP(AI290,IF(AI290=3165,AL$2:AM$2,ESG!A$2:K$54),IF(AI290=3165,2,11),0),0)","v":0}]
[{"$f":"IF(Timesheet!L291>0,Timesheet!G291,\"\")","v":""},{"$f":"IF(Timesheet!L291>0,Timesheet!J291,\"\")","v":""},"",{"$f":"IFERROR(VLOOKUP(C291,IF(C291=3165,AL$2:AM$2,ESG!A$2:C$54),IF(C291=3165,2,3),0),0)","v":0},{"$f":"IF(Timesheet!N291>0,Timesheet!G291,\"\")","v":""},{"$f":"IF(Timesheet!N291>0,Timesheet!J291,\"\")","v":""},"",{"$f":"IFERROR(VLOOKUP(G291,IF(G291=3165,AL$2:AM$2,ESG!A$2:D$54),IF(G291=3165,2,4),0),0)","v":0},{"$f":"IF(Timesheet!P291>0,Timesheet!G291,\"\")","v":""},{"$f":"IF(Timesheet!P291>0,Timesheet!J291,\"\")","v":""},"",{"$f":"IFERROR(VLOOKUP(K291,IF(K291=3165,AL$2:AM$2,ESG!A$2:E$54),IF(K291=3165,2,5),0),0)","v":0},{"$f":"IF(Timesheet!R291>0,Timesheet!G291,\"\")","v":""},{"$f":"IF(Timesheet!R291>0,Timesheet!J291,\"\")","v":""},{"$f":"IFERROR(VLOOKUP(M291,ESG!M$2:N$13,2,FALSE),N291)","v":""},{"$f":"IFERROR(VLOOKUP(O291,IF(O291=3165,AL$2:AM$2,ESG!A$2:F$54),IF(O291=3165,2,6),0),0)","v":0},{"$f":"IF(Timesheet!T291>0,Timesheet!G291,\"\")","v":""},{"$f":"IF(Timesheet!T291>0,Timesheet!J291,\"\")","v":""},{"$f":"IFERROR(VLOOKUP(Q291,ESG!M$2:N$13,2,FALSE),R291)","v":""},{"$f":"IFERROR(VLOOKUP(S291,IF(S291=3165,AL$2:AM$2,ESG!A$2:G$54),IF(S291=3165,2,7),0),0)","v":0},{"$f":"IF(Timesheet!V291>0,Timesheet!G291,\"\")","v":""},{"$f":"IF(Timesheet!V291>0,Timesheet!J291,\"\")","v":""},{"$f":"IFERROR(VLOOKUP(U291,ESG!M$2:N$13,2,FALSE),V291)","v":""},{"$f":"IFERROR(VLOOKUP(W291,IF(W291=3165,AL$2:AM$2,ESG!A$2:H$54),IF(W291=3165,2,8),0),0)","v":0},{"$f":"IF(Timesheet!X291>0,Timesheet!G291,\"\")","v":""},{"$f":"IF(Timesheet!X291>0,Timesheet!J291,\"\")","v":""},"",{"$f":"IFERROR(VLOOKUP(AA291,IF(AA291=3165,AL$2:AM$2,ESG!A$2:I$54),IF(AA291=3165,2,9),0),0)","v":0},{"$f":"IF(Timesheet!Z291>0,Timesheet!G291,\"\")","v":""},{"$f":"IF(Timesheet!Z291>0,Timesheet!J291,\"\")","v":""},"",{"$f":"IFERROR(VLOOKUP(AE291,IF(AE291=3165,AL$2:AM$2,ESG!A$2:J$54),IF(AE291=3165,2,10),0),0)","v":0},{"$f":"IF(Timesheet!AB291>0,Timesheet!G291,\"\")","v":""},{"$f":"IF(Timesheet!AB291>0,Timesheet!J291,\"\")","v":""},"",{"$f":"IFERROR(VLOOKUP(AI291,IF(AI291=3165,AL$2:AM$2,ESG!A$2:K$54),IF(AI291=3165,2,11),0),0)","v":0}]
[{"$f":"IF(Timesheet!L292>0,Timesheet!G292,\"\")","v":""},{"$f":"IF(Timesheet!L292>0,Timesheet!J292,\"\")","v":""},"",{"$f":"IFERROR(VLOOKUP(C292,IF(C292=3165,AL$2:AM$2,ESG!A$2:C$54),IF(C292=3165,2,3),0),0)","v":0},{"$f":"IF(Timesheet!N292>0,Timesheet!G292,\"\")","v":""},{"$f":"IF(Timesheet!N292>0,Timesheet!J292,\"\")","v":""},"",{"$f":"IFERROR(VLOOKUP(G292,IF(G292=3165,AL$2:AM$2,ESG!A$2:D$54),IF(G292=3165,2,4),0),0)","v":0},{"$f":"IF(Timesheet!P292>0,Timesheet!G292,\"\")","v":""},{"$f":"IF(Timesheet!P292>0,Timesheet!J292,\"\")","v":""},"",{"$f":"IFERROR(VLOOKUP(K292,IF(K292=3165,AL$2:AM$2,ESG!A$2:E$54),IF(K292=3165,2,5),0),0)","v":0},{"$f":"IF(Timesheet!R292>0,Timesheet!G292,\"\")","v":""},{"$f":"IF(Timesheet!R292>0,Timesheet!J292,\"\")","v":""},{"$f":"IFERROR(VLOOKUP(M292,ESG!M$2:N$13,2,FALSE),N292)","v":""},{"$f":"IFERROR(VLOOKUP(O292,IF(O292=3165,AL$2:AM$2,ESG!A$2:F$54),IF(O292=3165,2,6),0),0)","v":0},{"$f":"IF(Timesheet!T292>0,Timesheet!G292,\"\")","v":""},{"$f":"IF(Timesheet!T292>0,Timesheet!J292,\"\")","v":""},{"$f":"IFERROR(VLOOKUP(Q292,ESG!M$2:N$13,2,FALSE),R292)","v":""},{"$f":"IFERROR(VLOOKUP(S292,IF(S292=3165,AL$2:AM$2,ESG!A$2:G$54),IF(S292=3165,2,7),0),0)","v":0},{"$f":"IF(Timesheet!V292>0,Timesheet!G292,\"\")","v":""},{"$f":"IF(Timesheet!V292>0,Timesheet!J292,\"\")","v":""},{"$f":"IFERROR(VLOOKUP(U292,ESG!M$2:N$13,2,FALSE),V292)","v":""},{"$f":"IFERROR(VLOOKUP(W292,IF(W292=3165,AL$2:AM$2,ESG!A$2:H$54),IF(W292=3165,2,8),0),0)","v":0},{"$f":"IF(Timesheet!X292>0,Timesheet!G292,\"\")","v":""},{"$f":"IF(Timesheet!X292>0,Timesheet!J292,\"\")","v":""},"",{"$f":"IFERROR(VLOOKUP(AA292,IF(AA292=3165,AL$2:AM$2,ESG!A$2:I$54),IF(AA292=3165,2,9),0),0)","v":0},{"$f":"IF(Timesheet!Z292>0,Timesheet!G292,\"\")","v":""},{"$f":"IF(Timesheet!Z292>0,Timesheet!J292,\"\")","v":""},"",{"$f":"IFERROR(VLOOKUP(AE292,IF(AE292=3165,AL$2:AM$2,ESG!A$2:J$54),IF(AE292=3165,2,10),0),0)","v":0},{"$f":"IF(Timesheet!AB292>0,Timesheet!G292,\"\")","v":""},{"$f":"IF(Timesheet!AB292>0,Timesheet!J292,\"\")","v":""},"",{"$f":"IFERROR(VLOOKUP(AI292,IF(AI292=3165,AL$2:AM$2,ESG!A$2:K$54),IF(AI292=3165,2,11),0),0)","v":0}]
[{"$f":"IF(Timesheet!L293>0,Timesheet!G293,\"\")","v":""},{"$f":"IF(Timesheet!L293>0,Timesheet!J293,\"\")","v":""},"",{"$f":"IFERROR(VLOOKUP(C293,IF(C293=3165,AL$2:AM$2,ESG!A$2:C$54),IF(C293=3165,2,3),0),0)","v":0},{"$f":"IF(Timesheet!N293>0,Timesheet!G293,\"\")","v":""},{"$f":"IF(Timesheet!N293>0,Timesheet!J293,\"\")","v":""},"",{"$f":"IFERROR(VLOOKUP(G293,IF(G293=3165,AL$2:AM$2,ESG!A$2:D$54),IF(G293=3165,2,4),0),0)","v":0},{"$f":"IF(Timesheet!P293>0,Timesheet!G293,\"\")","v":""},{"$f":"IF(Timesheet!P293>0,Timesheet!J293,\"\")","v":""},"",{"$f":"IFERROR(VLOOKUP(K293,IF(K293=3165,AL$2:AM$2,ESG!A$2:E$54),IF(K293=3165,2,5),0),0)","v":0},{"$f":"IF(Timesheet!R293>0,Timesheet!G293,\"\")","v":""},{"$f":"IF(Timesheet!R293>0,Timesheet!J293,\"\")","v":""},{"$f":"IFERROR(VLOOKUP(M293,ESG!M$2:N$13,2,FALSE),N293)","v":""},{"$f":"IFERROR(VLOOKUP(O293,IF(O293=3165,AL$2:AM$2,ESG!A$2:F$54),IF(O293=3165,2,6),0),0)","v":0},{"$f":"IF(Timesheet!T293>0,Timesheet!G293,\"\")","v":""},{"$f":"IF(Timesheet!T293>0,Timesheet!J293,\"\")","v":""},{"$f":"IFERROR(VLOOKUP(Q293,ESG!M$2:N$13,2,FALSE),R293)","v":""},{"$f":"IFERROR(VLOOKUP(S293,IF(S293=3165,AL$2:AM$2,ESG!A$2:G$54),IF(S293=3165,2,7),0),0)","v":0},{"$f":"IF(Timesheet!V293>0,Timesheet!G293,\"\")","v":""},{"$f":"IF(Timesheet!V293>0,Timesheet!J293,\"\")","v":""},{"$f":"IFERROR(VLOOKUP(U293,ESG!M$2:N$13,2,FALSE),V293)","v":""},{"$f":"IFERROR(VLOOKUP(W293,IF(W293=3165,AL$2:AM$2,ESG!A$2:H$54),IF(W293=3165,2,8),0),0)","v":0},{"$f":"IF(Timesheet!X293>0,Timesheet!G293,\"\")","v":""},{"$f":"IF(Timesheet!X293>0,Timesheet!J293,\"\")","v":""},"",{"$f":"IFERROR(VLOOKUP(AA293,IF(AA293=3165,AL$2:AM$2,ESG!A$2:I$54),IF(AA293=3165,2,9),0),0)","v":0},{"$f":"IF(Timesheet!Z293>0,Timesheet!G293,\"\")","v":""},{"$f":"IF(Timesheet!Z293>0,Timesheet!J293,\"\")","v":""},"",{"$f":"IFERROR(VLOOKUP(AE293,IF(AE293=3165,AL$2:AM$2,ESG!A$2:J$54),IF(AE293=3165,2,10),0),0)","v":0},{"$f":"IF(Timesheet!AB293>0,Timesheet!G293,\"\")","v":""},{"$f":"IF(Timesheet!AB293>0,Timesheet!J293,\"\")","v":""},"",{"$f":"IFERROR(VLOOKUP(AI293,IF(AI293=3165,AL$2:AM$2,ESG!A$2:K$54),IF(AI293=3165,2,11),0),0)","v":0}]
[{"$f":"IF(Timesheet!L294>0,Timesheet!G294,\"\")","v":""},{"$f":"IF(Timesheet!L294>0,Timesheet!J294,\"\")","v":""},"",{"$f":"IFERROR(VLOOKUP(C294,IF(C294=3165,AL$2:AM$2,ESG!A$2:C$54),IF(C294=3165,2,3),0),0)","v":0},{"$f":"IF(Timesheet!N294>0,Timesheet!G294,\"\")","v":""},{"$f":"IF(Timesheet!N294>0,Timesheet!J294,\"\")","v":""},"",{"$f":"IFERROR(VLOOKUP(G294,IF(G294=3165,AL$2:AM$2,ESG!A$2:D$54),IF(G294=3165,2,4),0),0)","v":0},{"$f":"IF(Timesheet!P294>0,Timesheet!G294,\"\")","v":""},{"$f":"IF(Timesheet!P294>0,Timesheet!J294,\"\")","v":""},"",{"$f":"IFERROR(VLOOKUP(K294,IF(K294=3165,AL$2:AM$2,ESG!A$2:E$54),IF(K294=3165,2,5),0),0)","v":0},{"$f":"IF(Timesheet!R294>0,Timesheet!G294,\"\")","v":""},{"$f":"IF(Timesheet!R294>0,Timesheet!J294,\"\")","v":""},{"$f":"IFERROR(VLOOKUP(M294,ESG!M$2:N$13,2,FALSE),N294)","v":""},{"$f":"IFERROR(VLOOKUP(O294,IF(O294=3165,AL$2:AM$2,ESG!A$2:F$54),IF(O294=3165,2,6),0),0)","v":0},{"$f":"IF(Timesheet!T294>0,Timesheet!G294,\"\")","v":""},{"$f":"IF(Timesheet!T294>0,Timesheet!J294,\"\")","v":""},{"$f":"IFERROR(VLOOKUP(Q294,ESG!M$2:N$13,2,FALSE),R294)","v":""},{"$f":"IFERROR(VLOOKUP(S294,IF(S294=3165,AL$2:AM$2,ESG!A$2:G$54),IF(S294=3165,2,7),0),0)","v":0},{"$f":"IF(Timesheet!V294>0,Timesheet!G294,\"\")","v":""},{"$f":"IF(Timesheet!V294>0,Timesheet!J294,\"\")","v":""},{"$f":"IFERROR(VLOOKUP(U294,ESG!M$2:N$13,2,FALSE),V294)","v":""},{"$f":"IFERROR(VLOOKUP(W294,IF(W294=3165,AL$2:AM$2,ESG!A$2:H$54),IF(W294=3165,2,8),0),0)","v":0},{"$f":"IF(Timesheet!X294>0,Timesheet!G294,\"\")","v":""},{"$f":"IF(Timesheet!X294>0,Timesheet!J294,\"\")","v":""},"",{"$f":"IFERROR(VLOOKUP(AA294,IF(AA294=3165,AL$2:AM$2,ESG!A$2:I$54),IF(AA294=3165,2,9),0),0)","v":0},{"$f":"IF(Timesheet!Z294>0,Timesheet!G294,\"\")","v":""},{"$f":"IF(Timesheet!Z294>0,Timesheet!J294,\"\")","v":""},"",{"$f":"IFERROR(VLOOKUP(AE294,IF(AE294=3165,AL$2:AM$2,ESG!A$2:J$54),IF(AE294=3165,2,10),0),0)","v":0},{"$f":"IF(Timesheet!AB294>0,Timesheet!G294,\"\")","v":""},{"$f":"IF(Timesheet!AB294>0,Timesheet!J294,\"\")","v":""},"",{"$f":"IFERROR(VLOOKUP(AI294,IF(AI294=3165,AL$2:AM$2,ESG!A$2:K$54),IF(AI294=3165,2,11),0),0)","v":0}]
[{"$f":"IF(Timesheet!L295>0,Timesheet!G295,\"\")","v":""},{"$f":"IF(Timesheet!L295>0,Timesheet!J295,\"\")","v":""},"",{"$f":"IFERROR(VLOOKUP(C295,IF(C295=3165,AL$2:AM$2,ESG!A$2:C$54),IF(C295=3165,2,3),0),0)","v":0},{"$f":"IF(Timesheet!N295>0,Timesheet!G295,\"\")","v":""},{"$f":"IF(Timesheet!N295>0,Timesheet!J295,\"\")","v":""},"",{"$f":"IFERROR(VLOOKUP(G295,IF(G295=3165,AL$2:AM$2,ESG!A$2:D$54),IF(G295=3165,2,4),0),0)","v":0},{"$f":"IF(Timesheet!P295>0,Timesheet!G295,\"\")","v":""},{"$f":"IF(Timesheet!P295>0,Timesheet!J295,\"\")","v":""},"",{"$f":"IFERROR(VLOOKUP(K295,IF(K295=3165,AL$2:AM$2,ESG!A$2:E$54),IF(K295=3165,2,5),0),0)","v":0},{"$f":"IF(Timesheet!R295>0,Timesheet!G295,\"\")","v":""},{"$f":"IF(Timesheet!R295>0,Timesheet!J295,\"\")","v":""},{"$f":"IFERROR(VLOOKUP(M295,ESG!M$2:N$13,2,FALSE),N295)","v":""},{"$f":"IFERROR(VLOOKUP(O295,IF(O295=3165,AL$2:AM$2,ESG!A$2:F$54),IF(O295=3165,2,6),0),0)","v":0},{"$f":"IF(Timesheet!T295>0,Timesheet!G295,\"\")","v":""},{"$f":"IF(Timesheet!T295>0,Timesheet!J295,\"\")","v":""},{"$f":"IFERROR(VLOOKUP(Q295,ESG!M$2:N$13,2,FALSE),R295)","v":""},{"$f":"IFERROR(VLOOKUP(S295,IF(S295=3165,AL$2:AM$2,ESG!A$2:G$54),IF(S295=3165,2,7),0),0)","v":0},{"$f":"IF(Timesheet!V295>0,Timesheet!G295,\"\")","v":""},{"$f":"IF(Timesheet!V295>0,Timesheet!J295,\"\")","v":""},{"$f":"IFERROR(VLOOKUP(U295,ESG!M$2:N$13,2,FALSE),V295)","v":""},{"$f":"IFERROR(VLOOKUP(W295,IF(W295=3165,AL$2:AM$2,ESG!A$2:H$54),IF(W295=3165,2,8),0),0)","v":0},{"$f":"IF(Timesheet!X295>0,Timesheet!G295,\"\")","v":""},{"$f":"IF(Timesheet!X295>0,Timesheet!J295,\"\")","v":""},"",{"$f":"IFERROR(VLOOKUP(AA295,IF(AA295=3165,AL$2:AM$2,ESG!A$2:I$54),IF(AA295=3165,2,9),0),0)","v":0},{"$f":"IF(Timesheet!Z295>0,Timesheet!G295,\"\")","v":""},{"$f":"IF(Timesheet!Z295>0,Timesheet!J295,\"\")","v":""},"",{"$f":"IFERROR(VLOOKUP(AE295,IF(AE295=3165,AL$2:AM$2,ESG!A$2:J$54),IF(AE295=3165,2,10),0),0)","v":0},{"$f":"IF(Timesheet!AB295>0,Timesheet!G295,\"\")","v":""},{"$f":"IF(Timesheet!AB295>0,Timesheet!J295,\"\")","v":""},"",{"$f":"IFERROR(VLOOKUP(AI295,IF(AI295=3165,AL$2:AM$2,ESG!A$2:K$54),IF(AI295=3165,2,11),0),0)","v":0}]
[{"$f":"IF(Timesheet!L296>0,Timesheet!G296,\"\")","v":""},{"$f":"IF(Timesheet!L296>0,Timesheet!J296,\"\")","v":""},"",{"$f":"IFERROR(VLOOKUP(C296,IF(C296=3165,AL$2:AM$2,ESG!A$2:C$54),IF(C296=3165,2,3),0),0)","v":0},{"$f":"IF(Timesheet!N296>0,Timesheet!G296,\"\")","v":""},{"$f":"IF(Timesheet!N296>0,Timesheet!J296,\"\")","v":""},"",{"$f":"IFERROR(VLOOKUP(G296,IF(G296=3165,AL$2:AM$2,ESG!A$2:D$54),IF(G296=3165,2,4),0),0)","v":0},{"$f":"IF(Timesheet!P296>0,Timesheet!G296,\"\")","v":""},{"$f":"IF(Timesheet!P296>0,Timesheet!J296,\"\")","v":""},"",{"$f":"IFERROR(VLOOKUP(K296,IF(K296=3165,AL$2:AM$2,ESG!A$2:E$54),IF(K296=3165,2,5),0),0)","v":0},{"$f":"IF(Timesheet!R296>0,Timesheet!G296,\"\")","v":""},{"$f":"IF(Timesheet!R296>0,Timesheet!J296,\"\")","v":""},{"$f":"IFERROR(VLOOKUP(M296,ESG!M$2:N$13,2,FALSE),N296)","v":""},{"$f":"IFERROR(VLOOKUP(O296,IF(O296=3165,AL$2:AM$2,ESG!A$2:F$54),IF(O296=3165,2,6),0),0)","v":0},{"$f":"IF(Timesheet!T296>0,Timesheet!G296,\"\")","v":""},{"$f":"IF(Timesheet!T296>0,Timesheet!J296,\"\")","v":""},{"$f":"IFERROR(VLOOKUP(Q296,ESG!M$2:N$13,2,FALSE),R296)","v":""},{"$f":"IFERROR(VLOOKUP(S296,IF(S296=3165,AL$2:AM$2,ESG!A$2:G$54),IF(S296=3165,2,7),0),0)","v":0},{"$f":"IF(Timesheet!V296>0,Timesheet!G296,\"\")","v":""},{"$f":"IF(Timesheet!V296>0,Timesheet!J296,\"\")","v":""},{"$f":"IFERROR(VLOOKUP(U296,ESG!M$2:N$13,2,FALSE),V296)","v":""},{"$f":"IFERROR(VLOOKUP(W296,IF(W296=3165,AL$2:AM$2,ESG!A$2:H$54),IF(W296=3165,2,8),0),0)","v":0},{"$f":"IF(Timesheet!X296>0,Timesheet!G296,\"\")","v":""},{"$f":"IF(Timesheet!X296>0,Timesheet!J296,\"\")","v":""},"",{"$f":"IFERROR(VLOOKUP(AA296,IF(AA296=3165,AL$2:AM$2,ESG!A$2:I$54),IF(AA296=3165,2,9),0),0)","v":0},{"$f":"IF(Timesheet!Z296>0,Timesheet!G296,\"\")","v":""},{"$f":"IF(Timesheet!Z296>0,Timesheet!J296,\"\")","v":""},"",{"$f":"IFERROR(VLOOKUP(AE296,IF(AE296=3165,AL$2:AM$2,ESG!A$2:J$54),IF(AE296=3165,2,10),0),0)","v":0},{"$f":"IF(Timesheet!AB296>0,Timesheet!G296,\"\")","v":""},{"$f":"IF(Timesheet!AB296>0,Timesheet!J296,\"\")","v":""},"",{"$f":"IFERROR(VLOOKUP(AI296,IF(AI296=3165,AL$2:AM$2,ESG!A$2:K$54),IF(AI296=3165,2,11),0),0)","v":0}]
[{"$f":"IF(Timesheet!L297>0,Timesheet!G297,\"\")","v":""},{"$f":"IF(Timesheet!L297>0,Timesheet!J297,\"\")","v":""},"",{"$f":"IFERROR(VLOOKUP(C297,IF(C297=3165,AL$2:AM$2,ESG!A$2:C$54),IF(C297=3165,2,3),0),0)","v":0},{"$f":"IF(Timesheet!N297>0,Timesheet!G297,\"\")","v":""},{"$f":"IF(Timesheet!N297>0,Timesheet!J297,\"\")","v":""},"",{"$f":"IFERROR(VLOOKUP(G297,IF(G297=3165,AL$2:AM$2,ESG!A$2:D$54),IF(G297=3165,2,4),0),0)","v":0},{"$f":"IF(Timesheet!P297>0,Timesheet!G297,\"\")","v":""},{"$f":"IF(Timesheet!P297>0,Timesheet!J297,\"\")","v":""},"",{"$f":"IFERROR(VLOOKUP(K297,IF(K297=3165,AL$2:AM$2,ESG!A$2:E$54),IF(K297=3165,2,5),0),0)","v":0},{"$f":"IF(Timesheet!R297>0,Timesheet!G297,\"\")","v":""},{"$f":"IF(Timesheet!R297>0,Timesheet!J297,\"\")","v":""},{"$f":"IFERROR(VLOOKUP(M297,ESG!M$2:N$13,2,FALSE),N297)","v":""},{"$f":"IFERROR(VLOOKUP(O297,IF(O297=3165,AL$2:AM$2,ESG!A$2:F$54),IF(O297=3165,2,6),0),0)","v":0},{"$f":"IF(Timesheet!T297>0,Timesheet!G297,\"\")","v":""},{"$f":"IF(Timesheet!T297>0,Timesheet!J297,\"\")","v":""},{"$f":"IFERROR(VLOOKUP(Q297,ESG!M$2:N$13,2,FALSE),R297)","v":""},{"$f":"IFERROR(VLOOKUP(S297,IF(S297=3165,AL$2:AM$2,ESG!A$2:G$54),IF(S297=3165,2,7),0),0)","v":0},{"$f":"IF(Timesheet!V297>0,Timesheet!G297,\"\")","v":""},{"$f":"IF(Timesheet!V297>0,Timesheet!J297,\"\")","v":""},{"$f":"IFERROR(VLOOKUP(U297,ESG!M$2:N$13,2,FALSE),V297)","v":""},{"$f":"IFERROR(VLOOKUP(W297,IF(W297=3165,AL$2:AM$2,ESG!A$2:H$54),IF(W297=3165,2,8),0),0)","v":0},{"$f":"IF(Timesheet!X297>0,Timesheet!G297,\"\")","v":""},{"$f":"IF(Timesheet!X297>0,Timesheet!J297,\"\")","v":""},"",{"$f":"IFERROR(VLOOKUP(AA297,IF(AA297=3165,AL$2:AM$2,ESG!A$2:I$54),IF(AA297=3165,2,9),0),0)","v":0},{"$f":"IF(Timesheet!Z297>0,Timesheet!G297,\"\")","v":""},{"$f":"IF(Timesheet!Z297>0,Timesheet!J297,\"\")","v":""},"",{"$f":"IFERROR(VLOOKUP(AE297,IF(AE297=3165,AL$2:AM$2,ESG!A$2:J$54),IF(AE297=3165,2,10),0),0)","v":0},{"$f":"IF(Timesheet!AB297>0,Timesheet!G297,\"\")","v":""},{"$f":"IF(Timesheet!AB297>0,Timesheet!J297,\"\")","v":""},"",{"$f":"IFERROR(VLOOKUP(AI297,IF(AI297=3165,AL$2:AM$2,ESG!A$2:K$54),IF(AI297=3165,2,11),0),0)","v":0}]
[{"$f":"IF(Timesheet!L298>0,Timesheet!G298,\"\")","v":""},{"$f":"IF(Timesheet!L298>0,Timesheet!J298,\"\")","v":""},"",{"$f":"IFERROR(VLOOKUP(C298,IF(C298=3165,AL$2:AM$2,ESG!A$2:C$54),IF(C298=3165,2,3),0),0)","v":0},{"$f":"IF(Timesheet!N298>0,Timesheet!G298,\"\")","v":""},{"$f":"IF(Timesheet!N298>0,Timesheet!J298,\"\")","v":""},"",{"$f":"IFERROR(VLOOKUP(G298,IF(G298=3165,AL$2:AM$2,ESG!A$2:D$54),IF(G298=3165,2,4),0),0)","v":0},{"$f":"IF(Timesheet!P298>0,Timesheet!G298,\"\")","v":""},{"$f":"IF(Timesheet!P298>0,Timesheet!J298,\"\")","v":""},"",{"$f":"IFERROR(VLOOKUP(K298,IF(K298=3165,AL$2:AM$2,ESG!A$2:E$54),IF(K298=3165,2,5),0),0)","v":0},{"$f":"IF(Timesheet!R298>0,Timesheet!G298,\"\")","v":""},{"$f":"IF(Timesheet!R298>0,Timesheet!J298,\"\")","v":""},{"$f":"IFERROR(VLOOKUP(M298,ESG!M$2:N$13,2,FALSE),N298)","v":""},{"$f":"IFERROR(VLOOKUP(O298,IF(O298=3165,AL$2:AM$2,ESG!A$2:F$54),IF(O298=3165,2,6),0),0)","v":0},{"$f":"IF(Timesheet!T298>0,Timesheet!G298,\"\")","v":""},{"$f":"IF(Timesheet!T298>0,Timesheet!J298,\"\")","v":""},{"$f":"IFERROR(VLOOKUP(Q298,ESG!M$2:N$13,2,FALSE),R298)","v":""},{"$f":"IFERROR(VLOOKUP(S298,IF(S298=3165,AL$2:AM$2,ESG!A$2:G$54),IF(S298=3165,2,7),0),0)","v":0},{"$f":"IF(Timesheet!V298>0,Timesheet!G298,\"\")","v":""},{"$f":"IF(Timesheet!V298>0,Timesheet!J298,\"\")","v":""},{"$f":"IFERROR(VLOOKUP(U298,ESG!M$2:N$13,2,FALSE),V298)","v":""},{"$f":"IFERROR(VLOOKUP(W298,IF(W298=3165,AL$2:AM$2,ESG!A$2:H$54),IF(W298=3165,2,8),0),0)","v":0},{"$f":"IF(Timesheet!X298>0,Timesheet!G298,\"\")","v":""},{"$f":"IF(Timesheet!X298>0,Timesheet!J298,\"\")","v":""},"",{"$f":"IFERROR(VLOOKUP(AA298,IF(AA298=3165,AL$2:AM$2,ESG!A$2:I$54),IF(AA298=3165,2,9),0),0)","v":0},{"$f":"IF(Timesheet!Z298>0,Timesheet!G298,\"\")","v":""},{"$f":"IF(Timesheet!Z298>0,Timesheet!J298,\"\")","v":""},"",{"$f":"IFERROR(VLOOKUP(AE298,IF(AE298=3165,AL$2:AM$2,ESG!A$2:J$54),IF(AE298=3165,2,10),0),0)","v":0},{"$f":"IF(Timesheet!AB298>0,Timesheet!G298,\"\")","v":""},{"$f":"IF(Timesheet!AB298>0,Timesheet!J298,\"\")","v":""},"",{"$f":"IFERROR(VLOOKUP(AI298,IF(AI298=3165,AL$2:AM$2,ESG!A$2:K$54),IF(AI298=3165,2,11),0),0)","v":0}]
[{"$f":"IF(Timesheet!L299>0,Timesheet!G299,\"\")","v":""},{"$f":"IF(Timesheet!L299>0,Timesheet!J299,\"\")","v":""},"",{"$f":"IFERROR(VLOOKUP(C299,IF(C299=3165,AL$2:AM$2,ESG!A$2:C$54),IF(C299=3165,2,3),0),0)","v":0},{"$f":"IF(Timesheet!N299>0,Timesheet!G299,\"\")","v":""},{"$f":"IF(Timesheet!N299>0,Timesheet!J299,\"\")","v":""},"",{"$f":"IFERROR(VLOOKUP(G299,IF(G299=3165,AL$2:AM$2,ESG!A$2:D$54),IF(G299=3165,2,4),0),0)","v":0},{"$f":"IF(Timesheet!P299>0,Timesheet!G299,\"\")","v":""},{"$f":"IF(Timesheet!P299>0,Timesheet!J299,\"\")","v":""},"",{"$f":"IFERROR(VLOOKUP(K299,IF(K299=3165,AL$2:AM$2,ESG!A$2:E$54),IF(K299=3165,2,5),0),0)","v":0},{"$f":"IF(Timesheet!R299>0,Timesheet!G299,\"\")","v":""},{"$f":"IF(Timesheet!R299>0,Timesheet!J299,\"\")","v":""},{"$f":"IFERROR(VLOOKUP(M299,ESG!M$2:N$13,2,FALSE),N299)","v":""},{"$f":"IFERROR(VLOOKUP(O299,IF(O299=3165,AL$2:AM$2,ESG!A$2:F$54),IF(O299=3165,2,6),0),0)","v":0},{"$f":"IF(Timesheet!T299>0,Timesheet!G299,\"\")","v":""},{"$f":"IF(Timesheet!T299>0,Timesheet!J299,\"\")","v":""},{"$f":"IFERROR(VLOOKUP(Q299,ESG!M$2:N$13,2,FALSE),R299)","v":""},{"$f":"IFERROR(VLOOKUP(S299,IF(S299=3165,AL$2:AM$2,ESG!A$2:G$54),IF(S299=3165,2,7),0),0)","v":0},{"$f":"IF(Timesheet!V299>0,Timesheet!G299,\"\")","v":""},{"$f":"IF(Timesheet!V299>0,Timesheet!J299,\"\")","v":""},{"$f":"IFERROR(VLOOKUP(U299,ESG!M$2:N$13,2,FALSE),V299)","v":""},{"$f":"IFERROR(VLOOKUP(W299,IF(W299=3165,AL$2:AM$2,ESG!A$2:H$54),IF(W299=3165,2,8),0),0)","v":0},{"$f":"IF(Timesheet!X299>0,Timesheet!G299,\"\")","v":""},{"$f":"IF(Timesheet!X299>0,Timesheet!J299,\"\")","v":""},"",{"$f":"IFERROR(VLOOKUP(AA299,IF(AA299=3165,AL$2:AM$2,ESG!A$2:I$54),IF(AA299=3165,2,9),0),0)","v":0},{"$f":"IF(Timesheet!Z299>0,Timesheet!G299,\"\")","v":""},{"$f":"IF(Timesheet!Z299>0,Timesheet!J299,\"\")","v":""},"",{"$f":"IFERROR(VLOOKUP(AE299,IF(AE299=3165,AL$2:AM$2,ESG!A$2:J$54),IF(AE299=3165,2,10),0),0)","v":0},{"$f":"IF(Timesheet!AB299>0,Timesheet!G299,\"\")","v":""},{"$f":"IF(Timesheet!AB299>0,Timesheet!J299,\"\")","v":""},"",{"$f":"IFERROR(VLOOKUP(AI299,IF(AI299=3165,AL$2:AM$2,ESG!A$2:K$54),IF(AI299=3165,2,11),0),0)","v":0}]
[{"$f":"IF(Timesheet!L300>0,Timesheet!G300,\"\")","v":""},{"$f":"IF(Timesheet!L300>0,Timesheet!J300,\"\")","v":""},"",{"$f":"IFERROR(VLOOKUP(C300,IF(C300=3165,AL$2:AM$2,ESG!A$2:C$54),IF(C300=3165,2,3),0),0)","v":0},{"$f":"IF(Timesheet!N300>0,Timesheet!G300,\"\")","v":""},{"$f":"IF(Timesheet!N300>0,Timesheet!J300,\"\")","v":""},"",{"$f":"IFERROR(VLOOKUP(G300,IF(G300=3165,AL$2:AM$2,ESG!A$2:D$54),IF(G300=3165,2,4),0),0)","v":0},{"$f":"IF(Timesheet!P300>0,Timesheet!G300,\"\")","v":""},{"$f":"IF(Timesheet!P300>0,Timesheet!J300,\"\")","v":""},"",{"$f":"IFERROR(VLOOKUP(K300,IF(K300=3165,AL$2:AM$2,ESG!A$2:E$54),IF(K300=3165,2,5),0),0)","v":0},{"$f":"IF(Timesheet!R300>0,Timesheet!G300,\"\")","v":""},{"$f":"IF(Timesheet!R300>0,Timesheet!J300,\"\")","v":""},{"$f":"IFERROR(VLOOKUP(M300,ESG!M$2:N$13,2,FALSE),N300)","v":""},{"$f":"IFERROR(VLOOKUP(O300,IF(O300=3165,AL$2:AM$2,ESG!A$2:F$54),IF(O300=3165,2,6),0),0)","v":0},{"$f":"IF(Timesheet!T300>0,Timesheet!G300,\"\")","v":""},{"$f":"IF(Timesheet!T300>0,Timesheet!J300,\"\")","v":""},{"$f":"IFERROR(VLOOKUP(Q300,ESG!M$2:N$13,2,FALSE),R300)","v":""},{"$f":"IFERROR(VLOOKUP(S300,IF(S300=3165,AL$2:AM$2,ESG!A$2:G$54),IF(S300=3165,2,7),0),0)","v":0},{"$f":"IF(Timesheet!V300>0,Timesheet!G300,\"\")","v":""},{"$f":"IF(Timesheet!V300>0,Timesheet!J300,\"\")","v":""},{"$f":"IFERROR(VLOOKUP(U300,ESG!M$2:N$13,2,FALSE),V300)","v":""},{"$f":"IFERROR(VLOOKUP(W300,IF(W300=3165,AL$2:AM$2,ESG!A$2:H$54),IF(W300=3165,2,8),0),0)","v":0},{"$f":"IF(Timesheet!X300>0,Timesheet!G300,\"\")","v":""},{"$f":"IF(Timesheet!X300>0,Timesheet!J300,\"\")","v":""},"",{"$f":"IFERROR(VLOOKUP(AA300,IF(AA300=3165,AL$2:AM$2,ESG!A$2:I$54),IF(AA300=3165,2,9),0),0)","v":0},{"$f":"IF(Timesheet!Z300>0,Timesheet!G300,\"\")","v":""},{"$f":"IF(Timesheet!Z300>0,Timesheet!J300,\"\")","v":""},"",{"$f":"IFERROR(VLOOKUP(AE300,IF(AE300=3165,AL$2:AM$2,ESG!A$2:J$54),IF(AE300=3165,2,10),0),0)","v":0},{"$f":"IF(Timesheet!AB300>0,Timesheet!G300,\"\")","v":""},{"$f":"IF(Timesheet!AB300>0,Timesheet!J300,\"\")","v":""},"",{"$f":"IFERROR(VLOOKUP(AI300,IF(AI300=3165,AL$2:AM$2,ESG!A$2:K$54),IF(AI300=3165,2,11),0),0)","v":0}]
[{"$f":"IF(Timesheet!L301>0,Timesheet!G301,\"\")","v":""},{"$f":"IF(Timesheet!L301>0,Timesheet!J301,\"\")","v":""},"",{"$f":"IFERROR(VLOOKUP(C301,IF(C301=3165,AL$2:AM$2,ESG!A$2:C$54),IF(C301=3165,2,3),0),0)","v":0},{"$f":"IF(Timesheet!N301>0,Timesheet!G301,\"\")","v":""},{"$f":"IF(Timesheet!N301>0,Timesheet!J301,\"\")","v":""},"",{"$f":"IFERROR(VLOOKUP(G301,IF(G301=3165,AL$2:AM$2,ESG!A$2:D$54),IF(G301=3165,2,4),0),0)","v":0},{"$f":"IF(Timesheet!P301>0,Timesheet!G301,\"\")","v":""},{"$f":"IF(Timesheet!P301>0,Timesheet!J301,\"\")","v":""},"",{"$f":"IFERROR(VLOOKUP(K301,IF(K301=3165,AL$2:AM$2,ESG!A$2:E$54),IF(K301=3165,2,5),0),0)","v":0},{"$f":"IF(Timesheet!R301>0,Timesheet!G301,\"\")","v":""},{"$f":"IF(Timesheet!R301>0,Timesheet!J301,\"\")","v":""},{"$f":"IFERROR(VLOOKUP(M301,ESG!M$2:N$13,2,FALSE),N301)","v":""},{"$f":"IFERROR(VLOOKUP(O301,IF(O301=3165,AL$2:AM$2,ESG!A$2:F$54),IF(O301=3165,2,6),0),0)","v":0},{"$f":"IF(Timesheet!T301>0,Timesheet!G301,\"\")","v":""},{"$f":"IF(Timesheet!T301>0,Timesheet!J301,\"\")","v":""},{"$f":"IFERROR(VLOOKUP(Q301,ESG!M$2:N$13,2,FALSE),R301)","v":""},{"$f":"IFERROR(VLOOKUP(S301,IF(S301=3165,AL$2:AM$2,ESG!A$2:G$54),IF(S301=3165,2,7),0),0)","v":0},{"$f":"IF(Timesheet!V301>0,Timesheet!G301,\"\")","v":""},{"$f":"IF(Timesheet!V301>0,Timesheet!J301,\"\")","v":""},{"$f":"IFERROR(VLOOKUP(U301,ESG!M$2:N$13,2,FALSE),V301)","v":""},{"$f":"IFERROR(VLOOKUP(W301,IF(W301=3165,AL$2:AM$2,ESG!A$2:H$54),IF(W301=3165,2,8),0),0)","v":0},{"$f":"IF(Timesheet!X301>0,Timesheet!G301,\"\")","v":""},{"$f":"IF(Timesheet!X301>0,Timesheet!J301,\"\")","v":""},"",{"$f":"IFERROR(VLOOKUP(AA301,IF(AA301=3165,AL$2:AM$2,ESG!A$2:I$54),IF(AA301=3165,2,9),0),0)","v":0},{"$f":"IF(Timesheet!Z301>0,Timesheet!G301,\"\")","v":""},{"$f":"IF(Timesheet!Z301>0,Timesheet!J301,\"\")","v":""},"",{"$f":"IFERROR(VLOOKUP(AE301,IF(AE301=3165,AL$2:AM$2,ESG!A$2:J$54),IF(AE301=3165,2,10),0),0)","v":0},{"$f":"IF(Timesheet!AB301>0,Timesheet!G301,\"\")","v":""},{"$f":"IF(Timesheet!AB301>0,Timesheet!J301,\"\")","v":""},"",{"$f":"IFERROR(VLOOKUP(AI301,IF(AI301=3165,AL$2:AM$2,ESG!A$2:K$54),IF(AI301=3165,2,11),0),0)","v":0}]
[{"$f":"IF(Timesheet!L302>0,Timesheet!G302,\"\")","v":""},{"$f":"IF(Timesheet!L302>0,Timesheet!J302,\"\")","v":""},"",{"$f":"IFERROR(VLOOKUP(C302,IF(C302=3165,AL$2:AM$2,ESG!A$2:C$54),IF(C302=3165,2,3),0),0)","v":0},{"$f":"IF(Timesheet!N302>0,Timesheet!G302,\"\")","v":""},{"$f":"IF(Timesheet!N302>0,Timesheet!J302,\"\")","v":""},"",{"$f":"IFERROR(VLOOKUP(G302,IF(G302=3165,AL$2:AM$2,ESG!A$2:D$54),IF(G302=3165,2,4),0),0)","v":0},{"$f":"IF(Timesheet!P302>0,Timesheet!G302,\"\")","v":""},{"$f":"IF(Timesheet!P302>0,Timesheet!J302,\"\")","v":""},"",{"$f":"IFERROR(VLOOKUP(K302,IF(K302=3165,AL$2:AM$2,ESG!A$2:E$54),IF(K302=3165,2,5),0),0)","v":0},{"$f":"IF(Timesheet!R302>0,Timesheet!G302,\"\")","v":""},{"$f":"IF(Timesheet!R302>0,Timesheet!J302,\"\")","v":""},{"$f":"IFERROR(VLOOKUP(M302,ESG!M$2:N$13,2,FALSE),N302)","v":""},{"$f":"IFERROR(VLOOKUP(O302,IF(O302=3165,AL$2:AM$2,ESG!A$2:F$54),IF(O302=3165,2,6),0),0)","v":0},{"$f":"IF(Timesheet!T302>0,Timesheet!G302,\"\")","v":""},{"$f":"IF(Timesheet!T302>0,Timesheet!J302,\"\")","v":""},{"$f":"IFERROR(VLOOKUP(Q302,ESG!M$2:N$13,2,FALSE),R302)","v":""},{"$f":"IFERROR(VLOOKUP(S302,IF(S302=3165,AL$2:AM$2,ESG!A$2:G$54),IF(S302=3165,2,7),0),0)","v":0},{"$f":"IF(Timesheet!V302>0,Timesheet!G302,\"\")","v":""},{"$f":"IF(Timesheet!V302>0,Timesheet!J302,\"\")","v":""},{"$f":"IFERROR(VLOOKUP(U302,ESG!M$2:N$13,2,FALSE),V302)","v":""},{"$f":"IFERROR(VLOOKUP(W302,IF(W302=3165,AL$2:AM$2,ESG!A$2:H$54),IF(W302=3165,2,8),0),0)","v":0},{"$f":"IF(Timesheet!X302>0,Timesheet!G302,\"\")","v":""},{"$f":"IF(Timesheet!X302>0,Timesheet!J302,\"\")","v":""},"",{"$f":"IFERROR(VLOOKUP(AA302,IF(AA302=3165,AL$2:AM$2,ESG!A$2:I$54),IF(AA302=3165,2,9),0),0)","v":0},{"$f":"IF(Timesheet!Z302>0,Timesheet!G302,\"\")","v":""},{"$f":"IF(Timesheet!Z302>0,Timesheet!J302,\"\")","v":""},"",{"$f":"IFERROR(VLOOKUP(AE302,IF(AE302=3165,AL$2:AM$2,ESG!A$2:J$54),IF(AE302=3165,2,10),0),0)","v":0},{"$f":"IF(Timesheet!AB302>0,Timesheet!G302,\"\")","v":""},{"$f":"IF(Timesheet!AB302>0,Timesheet!J302,\"\")","v":""},"",{"$f":"IFERROR(VLOOKUP(AI302,IF(AI302=3165,AL$2:AM$2,ESG!A$2:K$54),IF(AI302=3165,2,11),0),0)","v":0}]

{"sheet":"ESG","index":5,"n_rows":54,"n_cols":14,"rows_kept":54,"cut":false,"hidden":true,"merged":[[0,5,0,7],[0,8,0,9]]}
[null,null,"HOURS UP TO FULL-TIME",null,null,"OVERTIME",null,null,"SITE MANAGER O/T",null,"UNSOCIAL HOURS",null,"Scale","Plann"]
["ESgrpp","Employee subgroup","Monday to Friday","Saturday","Sunday","Monday to Saturday","Sunday","Public Holiday","O/T Lower Rate @ 1","O/T Lower Rate @ 1.5","Unsocial Hours ",null,"PO1",3165]
["06","NJC 36 HOUR (15)",3100,3101,3103,3141,3142,3143,3175,3180,3250,null,"PO1O",3165]
["07","NJC 36 HOUR (EOM)",3100,3101,3103,3141,3142,3143,3175,3180,3250,null,"PO2",3165]
["31","TEACHERS",3100,"Not eligible","Not eligible","Not eligible","Not eligible","Not eligible","Not eligible","Not eligible","Not eligible",null,"PO3",3165]
["32","SUPPLY TEACHERS",3000,"Not eligible","Not eligible","Not eligible","Not eligible","Not eligible","Not eligible","Not eligible","Not eligible",null,"PO4",3165]
["38","NJC CASUAL SCH OFF",3000,3005,3015,3141,3142,3143,3175,3180,3250,null,"PO5",3165]
["90","NO BASIC (15)",3020,3020,3020,"Not eligible","Not eligible","Not eligible","Not eligible","Not eligible","Not eligible",null,"PO6",3165]
["91","NO BASIC (SALARY)","Not eligible","Not eligible","Not eligible","Not eligible","Not eligible","Not eligible","Not eligible","Not eligible","Not eligible",null,"PO7",3165]
["AA","AP TEACHERS",3100,"Not eligible","Not eligible","Not eligible","Not eligible","Not eligible","Not eligible","Not eligible","Not eligible",null,"PO8",3165]
["AB","AP NJC 36 HOUR (EOM)",3100,3101,3103,3141,3142,3143,3175,3180,3250,null,"PO8+4",3165]
["AC","AP NJC 36 HOUR (15)",3100,3101,3103,3141,3142,3143,3175,3180,3250,null,"SO1",3165]
["AF","AP NO BASIC (15)",3020,3020,3020,"Not eligible","Not eligible","Not eligible","Not eligible","Not eligible","Not eligible",null,"SO2",3165]
["AG","AP NJC 36 HR CAS(15)",3000,3005,3015,3141,3142,3143,3175,3180,3250]
["AK","AP NO BASIC (SALARY)","Not eligible","Not eligible","Not eligible","Not eligible","Not eligible","Not eligible","Not eligible","Not eligible","Not eligible"]
["C1","NJC 36 HR CAS (15)",3000,3005,3015,3141,3142,3143,3175,3180,3250]
["E2","NJC 36 HR (EX MAN)",3100,3101,3103,3141,3142,3143,3175,3180,3250]
["E9","NJC CASUAL SMSA",3000,3005,3015,3141,3142,3143,3175,3180,3250]
["F1","NJC SCHOOL MEALS",3100,3101,3103,3141,3142,3143,"Not eligible","Not eligible",3250]
["IA","H6FE TEACHERS",3100,"Not eligible","Not eligible","Not eligible","Not eligible","Not eligible","Not eligible","Not eligible","Not eligible"]
["IB","H6FE 36 HOUR (EOM)",3100,3101,3103,3141,3142,3143,3175,3180,3250]
["IC","H6FE 36 HOUR (15)",3100,3101,3103,3141,3142,3143,3175,3180,3250]
["IF","H6FE NO BASIC (15)",3020,3020,3020,"Not eligible","Not eligible","Not eligible","Not eligible","Not eligible","Not eligible"]
["IG","H6FE 36 HR CAS(15)",3000,3005,3015,3141,3142,3143,3175,3180,3250]
["IH","H6FE CASUAL SCHOFF",3000,3005,3015,3141,3142,3143,3175,3180,3250]
["II","H6FE SUPPLY TCHERS",3000,"Not eligible","Not eligible","Not eligible","Not eligible","Not eligible","Not eligible","Not eligible","Not eligible"]
["MA","MB TEACHERS",3100,"Not eligible","Not eligible","Not eligible","Not eligible","Not eligible","Not eligible","Not eligible","Not eligible"]
["MB","MB 36 HOUR (EOM)",3100,3101,3103,3141,3142,3143,3175,3180,3250]
["MC","MB 36 HOUR (15)",3100,3101,3103,3141,3142,3143,3175,3180,3250]
["MM","MB SCHOOL MEALS",3100,3101,3103,3141,3142,3143,3175,3180,3250]
[]
["AI","AP SUPPLY TEACHERS",3000,"Not eligible","Not eligible","Not eligible","Not eligible","Not eligible","Not eligible","Not eligible","Not eligible"]
["FA","FM TEACHERS",3100,"Not eligible","Not eligible","Not eligible","Not eligible","Not eligible","Not eligible","Not eligible","Not eligible"]
["FB","FM 36 HOUR (EOM)",3100,3101,3103,3141,3142,3143,3175,3180,3250]
["FC","FM 36 HOUR (15)",3100,3101,3103,3141,3142,3143,3175,3180,3250]
["FF","FM NO BASIC (15)",3020,3020,3020,"Not eligible","Not eligible","Not eligible","Not eligible","Not eligible","Not eligible"]
["FH","FM CASUAL SCHOFF",3000,3005,3015,3141,3142,3143,3175,3180,3250]
["FM","FM SCHOOL MEALS",3100,3101,3103,3141,3142,3143,3175,3180,3250]
["IK","H6FE NO BASIC (SAL)","Not eligible","Not eligible","Not eligible","Not eligible","Not eligible","Not eligible","Not eligible","Not eligible","Not eligible"]
["MF","MB NO BASIC (15)",3020,3020,3020,"Not eligible","Not eligible","Not eligible","Not eligible","Not eligible","Not eligible"]
["T1","LDBS 35 HR (TERMLY)",3100,3101,3103,3141,3142,3143,3175,3180,3250]
["T2","LDBS 35 HRS",3100,3101,3103,3141,3142,3143,3175,3180,3250]
["T3","LDBS 35 HR OFFSCALE",3020,3020,3020,"Not eligible","Not eligible","Not eligible","Not eligible","Not eligible","Not eligible"]
["T4","LDBS 35 SAL OFFSCALE","Not eligible","Not eligible","Not eligible","Not eligible","Not eligible","Not eligible","Not eligible","Not eligible","Not eligible"]
["T5","LDBS 35 HR CAS SCH",3000,3005,3015,3141,3142,3143,3175,3180,3250]
["T6","LDBS 35 HR CASUAL",3000,3005,3015,3141,3142,3143,3175,3180,3250]
["TA","LDBS TEACHERS",3100,"Not eligible","Not eligible","Not eligible","Not eligible","Not eligible","Not eligible","Not eligible","Not eligible"]
["TB","LDBS 36 HR (EOM)",3100,3101,3103,3141,3142,3143,3175,3180,3250]
["TC","LDBS 36 HOUR (15)",3100,3101,3103,3141,3142,3143,3175,3180,3250]
["TF","LDBS NO BASIC (15)",3020,3020,3020,"Not eligible","Not eligible","Not eligible","Not eligible","Not eligible","Not eligible"]
["TG","LDBS 36 HR CAS(15)",3000,3005,3015,3141,3142,3143,3175,3180,3250]
["TH","LDBS CASUAL SCHOFF",3000,3005,3015,3141,3142,3143,3175,3180,3250]
["TK","LDBS NO BASIC(SAL)","Not eligible","Not eligible","Not eligible","Not eligible","Not eligible","Not eligible","Not eligible","Not eligible","Not eligible"]
["TM","LDBS SCHOOL MEALS",3100,3101,3103,3141,3142,3143,3175,3180,3250]

{"sheet":"PA70","index":6,"n_rows":2701,"n_cols":5,"rows_kept":2701,"cut":false,"hidden":true,"merged":[]}
["Personnel number for fast data entry\nRP50M-PERNR(01)","Wage Type\nP0015-LGART(01)","Number\nP0015-ANZHL(01)","Start Date\nP0015-BEGDA(01)","Cost Center\nPREF-KOSTL(01)"]
[{"$f":"Timesheet!C3","v":44789},{"$f":"Timesheet!AD3","v":0},{"$f":"Timesheet!L3","v":0},{"$f":"Timesheet!K3","v":"00:00:00"},{"$f":"Timesheet!B3","v":"E33036"}]
[{"$f":"Timesheet!C4","v":39452},{"$f":"Timesheet!AD4","v":0},{"$f":"Timesheet!L4","v":0},{"$f":"Timesheet!K4","v":"00:00:00"},{"$f":"Timesheet!B4","v":"E33036"}]
[{"$f":"Timesheet!C5","v":51119},{"$f":"Timesheet!AD5","v":0},{"$f":"Timesheet!L5","v":0},{"$f":"Timesheet!K5","v":"00:00:00"},{"$f":"Timesheet!B5","v":"E33036"}]
[{"$f":"Timesheet!C6","v":20999},{"$f":"Timesheet!AD6","v":0},{"$f":"Timesheet!L6","v":0},{"$f":"Timesheet!K6","v":"00:00:00"},{"$f":"Timesheet!B6","v":"E33036"}]
[{"$f":"Timesheet!C7","v":50140},{"$f":"Timesheet!AD7","v":0},{"$f":"Timesheet!L7","v":0},{"$f":"Timesheet!K7","v":"00:00:00"},{"$f":"Timesheet!B7","v":"E33036"}]
[{"$f":"Timesheet!C8","v":41120},{"$f":"Timesheet!AD8","v":0},{"$f":"Timesheet!L8","v":0},{"$f":"Timesheet!K8","v":"00:00:00"},{"$f":"Timesheet!B8","v":"E33036"}]
[{"$f":"Timesheet!C9","v":14019220},{"$f":"Timesheet!AD9","v":0},{"$f":"Timesheet!L9","v":0},{"$f":"Timesheet!K9","v":"00:00:00"},{"$f":"Timesheet!B9","v":"E33036"}]
[{"$f":"Timesheet!C10","v":33161},{"$f":"Timesheet!AD10","v":0},{"$f":"Timesheet!L10","v":0},{"$f":"Timesheet!K10","v":"00:00:00"},{"$f":"Timesheet!B10","v":"E33036"}]
[{"$f":"Timesheet!C11","v":44988},{"$f":"Timesheet!AD11","v":0},{"$f":"Timesheet!L11","v":0},{"$f":"Timesheet!K11","v":"00:00:00"},{"$f":"Timesheet!B11","v":"E33036"}]
[{"$f":"Timesheet!C12","v":19061},{"$f":"Timesheet!AD12","v":0},{"$f":"Timesheet!L12","v":0},{"$f":"Timesheet!K12","v":"00:00:00"},{"$f":"Timesheet!B12","v":"E33036"}]
[{"$f":"Timesheet!C13","v":42125},{"$f":"Timesheet!AD13","v":0},{"$f":"Timesheet!L13","v":0},{"$f":"Timesheet!K13","v":"00:00:00"},{"$f":"Timesheet!B13","v":"E33036"}]
[{"$f":"Timesheet!C14","v":35616},{"$f":"Timesheet!AD14","v":0},{"$f":"Timesheet!L14","v":0},{"$f":"Timesheet!K14","v":"00:00:00"},{"$f":"Timesheet!B14","v":"E33036"}]
[{"$f":"Timesheet!C15","v":11630},{"$f":"Timesheet!AD15","v":0},{"$f":"Timesheet!L15","v":0},{"$f":"Timesheet!K15","v":"00:00:00"},{"$f":"Timesheet!B15","v":"E33036"}]
[{"$f":"Timesheet!C16","v":33804},{"$f":"Timesheet!AD16","v":0},{"$f":"Timesheet!L16","v":0},{"$f":"Timesheet!K16","v":"00:00:00"},{"$f":"Timesheet!B16","v":"E33036"}]
[{"$f":"Timesheet!C17","v":11681},{"$f":"Timesheet!AD17","v":0},{"$f":"Timesheet!L17","v":0},{"$f":"Timesheet!K17","v":"00:00:00"},{"$f":"Timesheet!B17","v":"E33036"}]
[{"$f":"Timesheet!C18","v":51311},{"$f":"Timesheet!AD18","v":0},{"$f":"Timesheet!L18","v":0},{"$f":"Timesheet!K18","v":"00:00:00"},{"$f":"Timesheet!B18","v":"E33036"}]
[{"$f":"Timesheet!C19","v":19209},{"$f":"Timesheet!AD19","v":0},{"$f":"Timesheet!L19","v":0},{"$f":"Timesheet!K19","v":"00:00:00"},{"$f":"Timesheet!B19","v":"E33036"}]
[{"$f":"Timesheet!C20","v":40516},{"$f":"Timesheet!AD20","v":0},{"$f":"Timesheet!L20","v":0},{"$f":"Timesheet!K20","v":"00:00:00"},{"$f":"Timesheet!B20","v":"E33036"}]
[{"$f":"Timesheet!C21","v":42806},{"$f":"Timesheet!AD21","v":0},{"$f":"Timesheet!L21","v":0},{"$f":"Timesheet!K21","v":"00:00:00"},{"$f":"Timesheet!B21","v":"E33036"}]
[{"$f":"Timesheet!C22","v":47495},{"$f":"Timesheet!AD22","v":0},{"$f":"Timesheet!L22","v":0},{"$f":"Timesheet!K22","v":"00:00:00"},{"$f":"Timesheet!B22","v":"E33036"}]
[{"$f":"Timesheet!C23","v":38391},{"$f":"Timesheet!AD23","v":0},{"$f":"Timesheet!L23","v":0},{"$f":"Timesheet!K23","v":"00:00:00"},{"$f":"Timesheet!B23","v":"E33036"}]
[{"$f":"Timesheet!C24","v":28706},{"$f":"Timesheet!AD24","v":0},{"$f":"Timesheet!L24","v":0},{"$f":"Timesheet!K24","v":"00:00:00"},{"$f":"Timesheet!B24","v":"E33036"}]
[{"$f":"Timesheet!C25","v":44672},{"$f":"Timesheet!AD25","v":0},{"$f":"Timesheet!L25","v":0},{"$f":"Timesheet!K25","v":"00:00:00"},{"$f":"Timesheet!B25","v":"E33036"}]
[{"$f":"Timesheet!C26","v":14289262},{"$f":"Timesheet!AD26","v":0},{"$f":"Timesheet!L26","v":0},{"$f":"Timesheet!K26","v":"00:00:00"},{"$f":"Timesheet!B26","v":"E33036"}]
[{"$f":"Timesheet!C27","v":18068},{"$f":"Timesheet!AD27","v":0},{"$f":"Timesheet!L27","v":0},{"$f":"Timesheet!K27","v":"00:00:00"},{"$f":"Timesheet!B27","v":"E33036"}]
[{"$f":"Timesheet!C28","v":13209997},{"$f":"Timesheet!AD28","v":0},{"$f":"Timesheet!L28","v":0},{"$f":"Timesheet!K28","v":"00:00:00"},{"$f":"Timesheet!B28","v":"E33036"}]
[{"$f":"Timesheet!C29","v":59},{"$f":"Timesheet!AD29","v":0},{"$f":"Timesheet!L29","v":0},{"$f":"Timesheet!K29","v":"00:00:00"},{"$f":"Timesheet!B29","v":"E33036"}]
[{"$f":"Timesheet!C30","v":29923},{"$f":"Timesheet!AD30","v":0},{"$f":"Timesheet!L30","v":0},{"$f":"Timesheet!K30","v":"00:00:00"},{"$f":"Timesheet!B30","v":"E33036"}]
[{"$f":"Timesheet!C31","v":21790},{"$f":"Timesheet!AD31","v":0},{"$f":"Timesheet!L31","v":0},{"$f":"Timesheet!K31","v":"00:00:00"},{"$f":"Timesheet!B31","v":"E33036"}]
[{"$f":"Timesheet!C32","v":13016632},{"$f":"Timesheet!AD32","v":0},{"$f":"Timesheet!L32","v":0},{"$f":"Timesheet!K32","v":"00:00:00"},{"$f":"Timesheet!B32","v":"E33036"}]
[{"$f":"Timesheet!C33","v":13616632},{"$f":"Timesheet!AD33","v":0},{"$f":"Timesheet!L33","v":0},{"$f":"Timesheet!K33","v":"00:00:00"},{"$f":"Timesheet!B33","v":"E33036"}]
[{"$f":"Timesheet!C34","v":40046},{"$f":"Timesheet!AD34","v":0},{"$f":"Timesheet!L34","v":0},{"$f":"Timesheet!K34","v":"00:00:00"},{"$f":"Timesheet!B34","v":"E33036"}]
[{"$f":"Timesheet!C35","v":18140},{"$f":"Timesheet!AD35","v":0},{"$f":"Timesheet!L35","v":0},{"$f":"Timesheet!K35","v":"00:00:00"},{"$f":"Timesheet!B35","v":"E33036"}]
[{"$f":"Timesheet!C36","v":9922},{"$f":"Timesheet!AD36","v":0},{"$f":"Timesheet!L36","v":0},{"$f":"Timesheet!K36","v":"00:00:00"},{"$f":"Timesheet!B36","v":"E33036"}]
[{"$f":"Timesheet!C37","v":34724},{"$f":"Timesheet!AD37","v":0},{"$f":"Timesheet!L37","v":0},{"$f":"Timesheet!K37","v":"00:00:00"},{"$f":"Timesheet!B37","v":"E33036"}]
[{"$f":"Timesheet!C38","v":20933},{"$f":"Timesheet!AD38","v":0},{"$f":"Timesheet!L38","v":0},{"$f":"Timesheet!K38","v":"00:00:00"},{"$f":"Timesheet!B38","v":"E33036"}]
[{"$f":"Timesheet!C39","v":36025},{"$f":"Timesheet!AD39","v":0},{"$f":"Timesheet!L39","v":0},{"$f":"Timesheet!K39","v":"00:00:00"},{"$f":"Timesheet!B39","v":"E33036"}]
[{"$f":"Timesheet!C40","v":41681},{"$f":"Timesheet!AD40","v":0},{"$f":"Timesheet!L40","v":0},{"$f":"Timesheet!K40","v":"00:00:00"},{"$f":"Timesheet!B40","v":"E33036"}]
[{"$f":"Timesheet!C41","v":42644},{"$f":"Timesheet!AD41","v":0},{"$f":"Timesheet!L41","v":0},{"$f":"Timesheet!K41","v":"00:00:00"},{"$f":"Timesheet!B41","v":"E33036"}]
[{"$f":"Timesheet!C42","v":49476},{"$f":"Timesheet!AD42","v":0},{"$f":"Timesheet!L42","v":0},{"$f":"Timesheet!K42","v":"00:00:00"},{"$f":"Timesheet!B42","v":"E33036"}]
[{"$f":"Timesheet!C43","v":50978},{"$f":"Timesheet!AD43","v":0},{"$f":"Timesheet!L43","v":0},{"$f":"Timesheet!K43","v":"00:00:00"},{"$f":"Timesheet!B43","v":"E33036"}]
[{"$f":"Timesheet!C44","v":41705},{"$f":"Timesheet!AD44","v":0},{"$f":"Timesheet!L44","v":0},{"$f":"Timesheet!K44","v":"00:00:00"},{"$f":"Timesheet!B44","v":"E33036"}]
[{"$f":"Timesheet!C45","v":47311},{"$f":"Timesheet!AD45","v":0},{"$f":"Timesheet!L45","v":0},{"$f":"Timesheet!K45","v":"00:00:00"},{"$f":"Timesheet!B45","v":"E33036"}]
[{"$f":"Timesheet!C46","v":36728},{"$f":"Timesheet!AD46","v":0},{"$f":"Timesheet!L46","v":0},{"$f":"Timesheet!K46","v":"00:00:00"},{"$f":"Timesheet!B46","v":"E33036"}]
[{"$f":"Timesheet!C47","v":51863},{"$f":"Timesheet!AD47","v":0},{"$f":"Timesheet!L47","v":0},{"$f":"Timesheet!K47","v":"19.10.2023"},{"$f":"Timesheet!B47","v":"E33036"}]
[{"$f":"Timesheet!C48","v":46769},{"$f":"Timesheet!AD48","v":0},{"$f":"Timesheet!L48","v":0},{"$f":"Timesheet!K48","v":"00:00:00"},{"$f":"Timesheet!B48","v":"E33036"}]
[{"$f":"Timesheet!C49","v":16845},{"$f":"Timesheet!AD49","v":0},{"$f":"Timesheet!L49","v":0},{"$f":"Timesheet!K49","v":"00:00:00"},{"$f":"Timesheet!B49","v":"E33036"}]
[{"$f":"Timesheet!C50","v":33960},{"$f":"Timesheet!AD50","v":0},{"$f":"Timesheet!L50","v":0},{"$f":"Timesheet!K50","v":"00:00:00"},{"$f":"Timesheet!B50","v":"E33036"}]
[{"$f":"Timesheet!C51","v":9019},{"$f":"Timesheet!AD51","v":0},{"$f":"Timesheet!L51","v":0},{"$f":"Timesheet!K51","v":"00:00:00"},{"$f":"Timesheet!B51","v":"E33036"}]
[{"$f":"Timesheet!C52","v":20207},{"$f":"Timesheet!AD52","v":0},{"$f":"Timesheet!L52","v":0},{"$f":"Timesheet!K52","v":"00:00:00"},{"$f":"Timesheet!B52","v":"E33036"}]
[{"$f":"Timesheet!C53","v":46771},{"$f":"Timesheet!AD53","v":0},{"$f":"Timesheet!L53","v":0},{"$f":"Timesheet!K53","v":"00:00:00"},{"$f":"Timesheet!B53","v":"E33036"}]
[{"$f":"Timesheet!C54","v":14387314},{"$f":"Timesheet!AD54","v":0},{"$f":"Timesheet!L54","v":0},{"$f":"Timesheet!K54","v":"00:00:00"},{"$f":"Timesheet!B54","v":"E33036"}]
[{"$f":"Timesheet!C55","v":38898},{"$f":"Timesheet!AD55","v":0},{"$f":"Timesheet!L55","v":0},{"$f":"Timesheet!K55","v":"00:00:00"},{"$f":"Timesheet!B55","v":"E33036"}]
[{"$f":"Timesheet!C56","v":14016208},{"$f":"Timesheet!AD56","v":0},{"$f":"Timesheet!L56","v":0},{"$f":"Timesheet!K56","v":"00:00:00"},{"$f":"Timesheet!B56","v":"E33036"}]
[{"$f":"Timesheet!C57","v":38962},{"$f":"Timesheet!AD57","v":0},{"$f":"Timesheet!L57","v":0},{"$f":"Timesheet!K57","v":"00:00:00"},{"$f":"Timesheet!B57","v":"E33036"}]
[{"$f":"Timesheet!C58","v":39361},{"$f":"Timesheet!AD58","v":0},{"$f":"Timesheet!L58","v":0},{"$f":"Timesheet!K58","v":"00:00:00"},{"$f":"Timesheet!B58","v":"E33036"}]
[{"$f":"Timesheet!C59","v":37015},{"$f":"Timesheet!AD59","v":0},{"$f":"Timesheet!L59","v":0},{"$f":"Timesheet!K59","v":"00:00:00"},{"$f":"Timesheet!B59","v":"E33036"}]
[{"$f":"Timesheet!C60","v":29683},{"$f":"Timesheet!AD60","v":0},{"$f":"Timesheet!L60","v":0},{"$f":"Timesheet!K60","v":"00:00:00"},{"$f":"Timesheet!B60","v":"E33036"}]
[{"$f":"Timesheet!C61","v":23115},{"$f":"Timesheet!AD61","v":0},{"$f":"Timesheet!L61","v":0},{"$f":"Timesheet!K61","v":"00:00:00"},{"$f":"Timesheet!B61","v":"E33036"}]
[{"$f":"Timesheet!C62","v":14037690},{"$f":"Timesheet!AD62","v":0},{"$f":"Timesheet!L62","v":0},{"$f":"Timesheet!K62","v":"00:00:00"},{"$f":"Timesheet!B62","v":"E33036"}]
[{"$f":"Timesheet!C63","v":12174},{"$f":"Timesheet!AD63","v":0},{"$f":"Timesheet!L63","v":0},{"$f":"Timesheet!K63","v":"00:00:00"},{"$f":"Timesheet!B63","v":"E33036"}]
[{"$f":"Timesheet!C64","v":13009},{"$f":"Timesheet!AD64","v":0},{"$f":"Timesheet!L64","v":0},{"$f":"Timesheet!K64","v":"00:00:00"},{"$f":"Timesheet!B64","v":"E33036"}]
[{"$f":"Timesheet!C65","v":51874},{"$f":"Timesheet!AD65","v":0},{"$f":"Timesheet!L65","v":0},{"$f":"Timesheet!K65","v":"00:00:00"},{"$f":"Timesheet!B65","v":"E33036"}]
[{"$f":"Timesheet!C66","v":45964},{"$f":"Timesheet!AD66","v":0},{"$f":"Timesheet!L66","v":0},{"$f":"Timesheet!K66","v":"00:00:00"},{"$f":"Timesheet!B66","v":"E33036"}]
[{"$f":"Timesheet!C67","v":54194},{"$f":"Timesheet!AD67","v":0},{"$f":"Timesheet!L67","v":0},{"$f":"Timesheet!K67","v":"00:00:00"},{"$f":"Timesheet!B67","v":"E33036"}]
[{"$f":"Timesheet!C68","v":14299640},{"$f":"Timesheet!AD68","v":0},{"$f":"Timesheet!L68","v":0},{"$f":"Timesheet!K68","v":"00:00:00"},{"$f":"Timesheet!B68","v":"E33036"}]
[{"$f":"Timesheet!C69","v":28604},{"$f":"Timesheet!AD69","v":0},{"$f":"Timesheet!L69","v":0},{"$f":"Timesheet!K69","v":"00:00:00"},{"$f":"Timesheet!B69","v":"E33036"}]
[{"$f":"Timesheet!C70","v":28602},{"$f":"Timesheet!AD70","v":0},{"$f":"Timesheet!L70","v":0},{"$f":"Timesheet!K70","v":"00:00:00"},{"$f":"Timesheet!B70","v":"E33036"}]
[{"$f":"Timesheet!C71","v":28989},{"$f":"Timesheet!AD71","v":0},{"$f":"Timesheet!L71","v":0},{"$f":"Timesheet!K71","v":"00:00:00"},{"$f":"Timesheet!B71","v":"E33036"}]
[{"$f":"Timesheet!C72","v":28779},{"$f":"Timesheet!AD72","v":0},{"$f":"Timesheet!L72","v":0},{"$f":"Timesheet!K72","v":"00:00:00"},{"$f":"Timesheet!B72","v":"E33036"}]
[{"$f":"Timesheet!C73","v":20013},{"$f":"Timesheet!AD73","v":0},{"$f":"Timesheet!L73","v":0},{"$f":"Timesheet!K73","v":"00:00:00"},{"$f":"Timesheet!B73","v":"E33036"}]
[{"$f":"Timesheet!C74","v":0},{"$f":"Timesheet!AD74","v":0},{"$f":"Timesheet!L74","v":0},{"$f":"Timesheet!K74","v":"00:00:00"},{"$f":"Timesheet!B74","v":0}]
[{"$f":"Timesheet!C75","v":0},{"$f":"Timesheet!AD75","v":0},{"$f":"Timesheet!L75","v":0},{"$f":"Timesheet!K75","v":"00:00:00"},{"$f":"Timesheet!B75","v":0}]
[{"$f":"Timesheet!C76","v":0},{"$f":"Timesheet!AD76","v":0},{"$f":"Timesheet!L76","v":0},{"$f":"Timesheet!K76","v":"00:00:00"},{"$f":"Timesheet!B76","v":0}]
[{"$f":"Timesheet!C77","v":0},{"$f":"Timesheet!AD77","v":0},{"$f":"Timesheet!L77","v":0},{"$f":"Timesheet!K77","v":"00:00:00"},{"$f":"Timesheet!B77","v":0}]
[{"$f":"Timesheet!C78","v":0},{"$f":"Timesheet!AD78","v":0},{"$f":"Timesheet!L78","v":0},{"$f":"Timesheet!K78","v":"00:00:00"},{"$f":"Timesheet!B78","v":0}]
[{"$f":"Timesheet!C79","v":0},{"$f":"Timesheet!AD79","v":0},{"$f":"Timesheet!L79","v":0},{"$f":"Timesheet!K79","v":"00:00:00"},{"$f":"Timesheet!B79","v":0}]
[{"$f":"Timesheet!C80","v":0},{"$f":"Timesheet!AD80","v":0},{"$f":"Timesheet!L80","v":0},{"$f":"Timesheet!K80","v":"00:00:00"},{"$f":"Timesheet!B80","v":0}]
[{"$f":"Timesheet!C81","v":0},{"$f":"Timesheet!AD81","v":0},{"$f":"Timesheet!L81","v":0},{"$f":"Timesheet!K81","v":"00:00:00"},{"$f":"Timesheet!B81","v":0}]
[{"$f":"Timesheet!C82","v":0},{"$f":"Timesheet!AD82","v":0},{"$f":"Timesheet!L82","v":0},{"$f":"Timesheet!K82","v":"00:00:00"},{"$f":"Timesheet!B82","v":0}]
[{"$f":"Timesheet!C83","v":0},{"$f":"Timesheet!AD83","v":0},{"$f":"Timesheet!L83","v":0},{"$f":"Timesheet!K83","v":"00:00:00"},{"$f":"Timesheet!B83","v":0}]
[{"$f":"Timesheet!C84","v":0},{"$f":"Timesheet!AD84","v":0},{"$f":"Timesheet!L84","v":0},{"$f":"Timesheet!K84","v":"00:00:00"},{"$f":"Timesheet!B84","v":0}]
[{"$f":"Timesheet!C85","v":0},{"$f":"Timesheet!AD85","v":0},{"$f":"Timesheet!L85","v":0},{"$f":"Timesheet!K85","v":"00:00:00"},{"$f":"Timesheet!B85","v":0}]
[{"$f":"Timesheet!C86","v":0},{"$f":"Timesheet!AD86","v":0},{"$f":"Timesheet!L86","v":0},{"$f":"Timesheet!K86","v":"00:00:00"},{"$f":"Timesheet!B86","v":0}]
[{"$f":"Timesheet!C87","v":0},{"$f":"Timesheet!AD87","v":0},{"$f":"Timesheet!L87","v":0},{"$f":"Timesheet!K87","v":"00:00:00"},{"$f":"Timesheet!B87","v":0}]
[{"$f":"Timesheet!C88","v":0},{"$f":"Timesheet!AD88","v":0},{"$f":"Timesheet!L88","v":0},{"$f":"Timesheet!K88","v":"00:00:00"},{"$f":"Timesheet!B88","v":0}]
[{"$f":"Timesheet!C89","v":0},{"$f":"Timesheet!AD89","v":0},{"$f":"Timesheet!L89","v":0},{"$f":"Timesheet!K89","v":"00:00:00"},{"$f":"Timesheet!B89","v":0}]
[{"$f":"Timesheet!C90","v":0},{"$f":"Timesheet!AD90","v":0},{"$f":"Timesheet!L90","v":0},{"$f":"Timesheet!K90","v":"00:00:00"},{"$f":"Timesheet!B90","v":0}]
[{"$f":"Timesheet!C91","v":0},{"$f":"Timesheet!AD91","v":0},{"$f":"Timesheet!L91","v":0},{"$f":"Timesheet!K91","v":"00:00:00"},{"$f":"Timesheet!B91","v":0}]
[{"$f":"Timesheet!C92","v":0},{"$f":"Timesheet!AD92","v":0},{"$f":"Timesheet!L92","v":0},{"$f":"Timesheet!K92","v":"00:00:00"},{"$f":"Timesheet!B92","v":0}]
[{"$f":"Timesheet!C93","v":0},{"$f":"Timesheet!AD93","v":0},{"$f":"Timesheet!L93","v":0},{"$f":"Timesheet!K93","v":"00:00:00"},{"$f":"Timesheet!B93","v":0}]
[{"$f":"Timesheet!C94","v":0},{"$f":"Timesheet!AD94","v":0},{"$f":"Timesheet!L94","v":0},{"$f":"Timesheet!K94","v":"00:00:00"},{"$f":"Timesheet!B94","v":0}]
[{"$f":"Timesheet!C95","v":0},{"$f":"Timesheet!AD95","v":0},{"$f":"Timesheet!L95","v":0},{"$f":"Timesheet!K95","v":"00:00:00"},{"$f":"Timesheet!B95","v":0}]
[{"$f":"Timesheet!C96","v":0},{"$f":"Timesheet!AD96","v":0},{"$f":"Timesheet!L96","v":0},{"$f":"Timesheet!K96","v":"00:00:00"},{"$f":"Timesheet!B96","v":0}]
[{"$f":"Timesheet!C97","v":0},{"$f":"Timesheet!AD97","v":0},{"$f":"Timesheet!L97","v":0},{"$f":"Timesheet!K97","v":"00:00:00"},{"$f":"Timesheet!B97","v":0}]
[{"$f":"Timesheet!C98","v":0},{"$f":"Timesheet!AD98","v":0},{"$f":"Timesheet!L98","v":0},{"$f":"Timesheet!K98","v":"00:00:00"},{"$f":"Timesheet!B98","v":0}]
[{"$f":"Timesheet!C99","v":0},{"$f":"Timesheet!AD99","v":0},{"$f":"Timesheet!L99","v":0},{"$f":"Timesheet!K99","v":"00:00:00"},{"$f":"Timesheet!B99","v":0}]
[{"$f":"Timesheet!C100","v":0},{"$f":"Timesheet!AD100","v":0},{"$f":"Timesheet!L100","v":0},{"$f":"Timesheet!K100","v":"00:00:00"},{"$f":"Timesheet!B100","v":0}]
[{"$f":"Timesheet!C101","v":0},{"$f":"Timesheet!AD101","v":0},{"$f":"Timesheet!L101","v":0},{"$f":"Timesheet!K101","v":"00:00:00"},{"$f":"Timesheet!B101","v":0}]
[{"$f":"Timesheet!C102","v":0},{"$f":"Timesheet!AD102","v":0},{"$f":"Timesheet!L102","v":0},{"$f":"Timesheet!K102","v":"00:00:00"},{"$f":"Timesheet!B102","v":0}]
[{"$f":"Timesheet!C103","v":0},{"$f":"Timesheet!AD103","v":0},{"$f":"Timesheet!L103","v":0},{"$f":"Timesheet!K103","v":"00:00:00"},{"$f":"Timesheet!B103","v":0}]
[{"$f":"Timesheet!C104","v":0},{"$f":"Timesheet!AD104","v":0},{"$f":"Timesheet!L104","v":0},{"$f":"Timesheet!K104","v":"00:00:00"},{"$f":"Timesheet!B104","v":0}]
[{"$f":"Timesheet!C105","v":0},{"$f":"Timesheet!AD105","v":0},{"$f":"Timesheet!L105","v":0},{"$f":"Timesheet!K105","v":"00:00:00"},{"$f":"Timesheet!B105","v":0}]
[{"$f":"Timesheet!C106","v":0},{"$f":"Timesheet!AD106","v":0},{"$f":"Timesheet!L106","v":0},{"$f":"Timesheet!K106","v":"00:00:00"},{"$f":"Timesheet!B106","v":0}]
[{"$f":"Timesheet!C107","v":0},{"$f":"Timesheet!AD107","v":0},{"$f":"Timesheet!L107","v":0},{"$f":"Timesheet!K107","v":"00:00:00"},{"$f":"Timesheet!B107","v":0}]
[{"$f":"Timesheet!C108","v":0},{"$f":"Timesheet!AD108","v":0},{"$f":"Timesheet!L108","v":0},{"$f":"Timesheet!K108","v":"00:00:00"},{"$f":"Timesheet!B108","v":0}]
[{"$f":"Timesheet!C109","v":0},{"$f":"Timesheet!AD109","v":0},{"$f":"Timesheet!L109","v":0},{"$f":"Timesheet!K109","v":"00:00:00"},{"$f":"Timesheet!B109","v":0}]
[{"$f":"Timesheet!C110","v":0},{"$f":"Timesheet!AD110","v":0},{"$f":"Timesheet!L110","v":0},{"$f":"Timesheet!K110","v":"00:00:00"},{"$f":"Timesheet!B110","v":0}]
[{"$f":"Timesheet!C111","v":0},{"$f":"Timesheet!AD111","v":0},{"$f":"Timesheet!L111","v":0},{"$f":"Timesheet!K111","v":"00:00:00"},{"$f":"Timesheet!B111","v":0}]
[{"$f":"Timesheet!C112","v":0},{"$f":"Timesheet!AD112","v":0},{"$f":"Timesheet!L112","v":0},{"$f":"Timesheet!K112","v":"00:00:00"},{"$f":"Timesheet!B112","v":0}]
[{"$f":"Timesheet!C113","v":0},{"$f":"Timesheet!AD113","v":0},{"$f":"Timesheet!L113","v":0},{"$f":"Timesheet!K113","v":"00:00:00"},{"$f":"Timesheet!B113","v":0}]
[{"$f":"Timesheet!C114","v":0},{"$f":"Timesheet!AD114","v":0},{"$f":"Timesheet!L114","v":0},{"$f":"Timesheet!K114","v":"00:00:00"},{"$f":"Timesheet!B114","v":0}]
[{"$f":"Timesheet!C115","v":0},{"$f":"Timesheet!AD115","v":0},{"$f":"Timesheet!L115","v":0},{"$f":"Timesheet!K115","v":"00:00:00"},{"$f":"Timesheet!B115","v":0}]
[{"$f":"Timesheet!C116","v":0},{"$f":"Timesheet!AD116","v":0},{"$f":"Timesheet!L116","v":0},{"$f":"Timesheet!K116","v":"00:00:00"},{"$f":"Timesheet!B116","v":0}]
[{"$f":"Timesheet!C117","v":0},{"$f":"Timesheet!AD117","v":0},{"$f":"Timesheet!L117","v":0},{"$f":"Timesheet!K117","v":"00:00:00"},{"$f":"Timesheet!B117","v":0}]
[{"$f":"Timesheet!C118","v":0},{"$f":"Timesheet!AD118","v":0},{"$f":"Timesheet!L118","v":0},{"$f":"Timesheet!K118","v":"00:00:00"},{"$f":"Timesheet!B118","v":0}]
[{"$f":"Timesheet!C119","v":0},{"$f":"Timesheet!AD119","v":0},{"$f":"Timesheet!L119","v":0},{"$f":"Timesheet!K119","v":"00:00:00"},{"$f":"Timesheet!B119","v":0}]
[{"$f":"Timesheet!C120","v":0},{"$f":"Timesheet!AD120","v":0},{"$f":"Timesheet!L120","v":0},{"$f":"Timesheet!K120","v":"00:00:00"},{"$f":"Timesheet!B120","v":0}]
[{"$f":"Timesheet!C121","v":0},{"$f":"Timesheet!AD121","v":0},{"$f":"Timesheet!L121","v":0},{"$f":"Timesheet!K121","v":"00:00:00"},{"$f":"Timesheet!B121","v":0}]
[{"$f":"Timesheet!C122","v":0},{"$f":"Timesheet!AD122","v":0},{"$f":"Timesheet!L122","v":0},{"$f":"Timesheet!K122","v":"00:00:00"},{"$f":"Timesheet!B122","v":0}]
[{"$f":"Timesheet!C123","v":0},{"$f":"Timesheet!AD123","v":0},{"$f":"Timesheet!L123","v":0},{"$f":"Timesheet!K123","v":"00:00:00"},{"$f":"Timesheet!B123","v":0}]
[{"$f":"Timesheet!C124","v":0},{"$f":"Timesheet!AD124","v":0},{"$f":"Timesheet!L124","v":0},{"$f":"Timesheet!K124","v":"00:00:00"},{"$f":"Timesheet!B124","v":0}]
[{"$f":"Timesheet!C125","v":0},{"$f":"Timesheet!AD125","v":0},{"$f":"Timesheet!L125","v":0},{"$f":"Timesheet!K125","v":"00:00:00"},{"$f":"Timesheet!B125","v":0}]
[{"$f":"Timesheet!C126","v":0},{"$f":"Timesheet!AD126","v":0},{"$f":"Timesheet!L126","v":0},{"$f":"Timesheet!K126","v":"00:00:00"},{"$f":"Timesheet!B126","v":0}]
[{"$f":"Timesheet!C127","v":0},{"$f":"Timesheet!AD127","v":0},{"$f":"Timesheet!L127","v":0},{"$f":"Timesheet!K127","v":"00:00:00"},{"$f":"Timesheet!B127","v":0}]
[{"$f":"Timesheet!C128","v":0},{"$f":"Timesheet!AD128","v":0},{"$f":"Timesheet!L128","v":0},{"$f":"Timesheet!K128","v":"00:00:00"},{"$f":"Timesheet!B128","v":0}]
[{"$f":"Timesheet!C129","v":0},{"$f":"Timesheet!AD129","v":0},{"$f":"Timesheet!L129","v":0},{"$f":"Timesheet!K129","v":"00:00:00"},{"$f":"Timesheet!B129","v":0}]
[{"$f":"Timesheet!C130","v":0},{"$f":"Timesheet!AD130","v":0},{"$f":"Timesheet!L130","v":0},{"$f":"Timesheet!K130","v":"00:00:00"},{"$f":"Timesheet!B130","v":0}]
[{"$f":"Timesheet!C131","v":0},{"$f":"Timesheet!AD131","v":0},{"$f":"Timesheet!L131","v":0},{"$f":"Timesheet!K131","v":"00:00:00"},{"$f":"Timesheet!B131","v":0}]
[{"$f":"Timesheet!C132","v":0},{"$f":"Timesheet!AD132","v":0},{"$f":"Timesheet!L132","v":0},{"$f":"Timesheet!K132","v":"00:00:00"},{"$f":"Timesheet!B132","v":0}]
[{"$f":"Timesheet!C133","v":0},{"$f":"Timesheet!AD133","v":0},{"$f":"Timesheet!L133","v":0},{"$f":"Timesheet!K133","v":"00:00:00"},{"$f":"Timesheet!B133","v":0}]
[{"$f":"Timesheet!C134","v":0},{"$f":"Timesheet!AD134","v":0},{"$f":"Timesheet!L134","v":0},{"$f":"Timesheet!K134","v":"00:00:00"},{"$f":"Timesheet!B134","v":0}]
[{"$f":"Timesheet!C135","v":0},{"$f":"Timesheet!AD135","v":0},{"$f":"Timesheet!L135","v":0},{"$f":"Timesheet!K135","v":"00:00:00"},{"$f":"Timesheet!B135","v":0}]
[{"$f":"Timesheet!C136","v":0},{"$f":"Timesheet!AD136","v":0},{"$f":"Timesheet!L136","v":0},{"$f":"Timesheet!K136","v":"00:00:00"},{"$f":"Timesheet!B136","v":0}]
[{"$f":"Timesheet!C137","v":0},{"$f":"Timesheet!AD137","v":0},{"$f":"Timesheet!L137","v":0},{"$f":"Timesheet!K137","v":"00:00:00"},{"$f":"Timesheet!B137","v":0}]
[{"$f":"Timesheet!C138","v":0},{"$f":"Timesheet!AD138","v":0},{"$f":"Timesheet!L138","v":0},{"$f":"Timesheet!K138","v":"00:00:00"},{"$f":"Timesheet!B138","v":0}]
[{"$f":"Timesheet!C139","v":0},{"$f":"Timesheet!AD139","v":0},{"$f":"Timesheet!L139","v":0},{"$f":"Timesheet!K139","v":"00:00:00"},{"$f":"Timesheet!B139","v":0}]
[{"$f":"Timesheet!C140","v":0},{"$f":"Timesheet!AD140","v":0},{"$f":"Timesheet!L140","v":0},{"$f":"Timesheet!K140","v":"00:00:00"},{"$f":"Timesheet!B140","v":0}]
[{"$f":"Timesheet!C141","v":0},{"$f":"Timesheet!AD141","v":0},{"$f":"Timesheet!L141","v":0},{"$f":"Timesheet!K141","v":"00:00:00"},{"$f":"Timesheet!B141","v":0}]
[{"$f":"Timesheet!C142","v":0},{"$f":"Timesheet!AD142","v":0},{"$f":"Timesheet!L142","v":0},{"$f":"Timesheet!K142","v":"00:00:00"},{"$f":"Timesheet!B142","v":0}]
[{"$f":"Timesheet!C143","v":0},{"$f":"Timesheet!AD143","v":0},{"$f":"Timesheet!L143","v":0},{"$f":"Timesheet!K143","v":"00:00:00"},{"$f":"Timesheet!B143","v":0}]
[{"$f":"Timesheet!C144","v":0},{"$f":"Timesheet!AD144","v":0},{"$f":"Timesheet!L144","v":0},{"$f":"Timesheet!K144","v":"00:00:00"},{"$f":"Timesheet!B144","v":0}]
[{"$f":"Timesheet!C145","v":0},{"$f":"Timesheet!AD145","v":0},{"$f":"Timesheet!L145","v":0},{"$f":"Timesheet!K145","v":"00:00:00"},{"$f":"Timesheet!B145","v":0}]
[{"$f":"Timesheet!C146","v":0},{"$f":"Timesheet!AD146","v":0},{"$f":"Timesheet!L146","v":0},{"$f":"Timesheet!K146","v":"00:00:00"},{"$f":"Timesheet!B146","v":0}]
[{"$f":"Timesheet!C147","v":0},{"$f":"Timesheet!AD147","v":0},{"$f":"Timesheet!L147","v":0},{"$f":"Timesheet!K147","v":"00:00:00"},{"$f":"Timesheet!B147","v":0}]
[{"$f":"Timesheet!C148","v":0},{"$f":"Timesheet!AD148","v":0},{"$f":"Timesheet!L148","v":0},{"$f":"Timesheet!K148","v":"00:00:00"},{"$f":"Timesheet!B148","v":0}]
[{"$f":"Timesheet!C149","v":0},{"$f":"Timesheet!AD149","v":0},{"$f":"Timesheet!L149","v":0},{"$f":"Timesheet!K149","v":"00:00:00"},{"$f":"Timesheet!B149","v":0}]
[{"$f":"Timesheet!C150","v":0},{"$f":"Timesheet!AD150","v":0},{"$f":"Timesheet!L150","v":0},{"$f":"Timesheet!K150","v":"00:00:00"},{"$f":"Timesheet!B150","v":0}]
[{"$f":"Timesheet!C151","v":0},{"$f":"Timesheet!AD151","v":0},{"$f":"Timesheet!L151","v":0},{"$f":"Timesheet!K151","v":"00:00:00"},{"$f":"Timesheet!B151","v":0}]
[{"$f":"Timesheet!C152","v":0},{"$f":"Timesheet!AD152","v":0},{"$f":"Timesheet!L152","v":0},{"$f":"Timesheet!K152","v":"00:00:00"},{"$f":"Timesheet!B152","v":0}]
[{"$f":"Timesheet!C153","v":0},{"$f":"Timesheet!AD153","v":0},{"$f":"Timesheet!L153","v":0},{"$f":"Timesheet!K153","v":"00:00:00"},{"$f":"Timesheet!B153","v":0}]
[{"$f":"Timesheet!C154","v":0},{"$f":"Timesheet!AD154","v":0},{"$f":"Timesheet!L154","v":0},{"$f":"Timesheet!K154","v":"00:00:00"},{"$f":"Timesheet!B154","v":0}]
[{"$f":"Timesheet!C155","v":0},{"$f":"Timesheet!AD155","v":0},{"$f":"Timesheet!L155","v":0},{"$f":"Timesheet!K155","v":"00:00:00"},{"$f":"Timesheet!B155","v":0}]
[{"$f":"Timesheet!C156","v":0},{"$f":"Timesheet!AD156","v":0},{"$f":"Timesheet!L156","v":0},{"$f":"Timesheet!K156","v":"00:00:00"},{"$f":"Timesheet!B156","v":0}]
[{"$f":"Timesheet!C157","v":0},{"$f":"Timesheet!AD157","v":0},{"$f":"Timesheet!L157","v":0},{"$f":"Timesheet!K157","v":"00:00:00"},{"$f":"Timesheet!B157","v":0}]
[{"$f":"Timesheet!C158","v":0},{"$f":"Timesheet!AD158","v":0},{"$f":"Timesheet!L158","v":0},{"$f":"Timesheet!K158","v":"00:00:00"},{"$f":"Timesheet!B158","v":0}]
[{"$f":"Timesheet!C159","v":0},{"$f":"Timesheet!AD159","v":0},{"$f":"Timesheet!L159","v":0},{"$f":"Timesheet!K159","v":"00:00:00"},{"$f":"Timesheet!B159","v":0}]
[{"$f":"Timesheet!C160","v":0},{"$f":"Timesheet!AD160","v":0},{"$f":"Timesheet!L160","v":0},{"$f":"Timesheet!K160","v":"00:00:00"},{"$f":"Timesheet!B160","v":0}]
[{"$f":"Timesheet!C161","v":0},{"$f":"Timesheet!AD161","v":0},{"$f":"Timesheet!L161","v":0},{"$f":"Timesheet!K161","v":"00:00:00"},{"$f":"Timesheet!B161","v":0}]
[{"$f":"Timesheet!C162","v":0},{"$f":"Timesheet!AD162","v":0},{"$f":"Timesheet!L162","v":0},{"$f":"Timesheet!K162","v":"00:00:00"},{"$f":"Timesheet!B162","v":0}]
[{"$f":"Timesheet!C163","v":0},{"$f":"Timesheet!AD163","v":0},{"$f":"Timesheet!L163","v":0},{"$f":"Timesheet!K163","v":"00:00:00"},{"$f":"Timesheet!B163","v":0}]
[{"$f":"Timesheet!C164","v":0},{"$f":"Timesheet!AD164","v":0},{"$f":"Timesheet!L164","v":0},{"$f":"Timesheet!K164","v":"00:00:00"},{"$f":"Timesheet!B164","v":0}]
[{"$f":"Timesheet!C165","v":0},{"$f":"Timesheet!AD165","v":0},{"$f":"Timesheet!L165","v":0},{"$f":"Timesheet!K165","v":"00:00:00"},{"$f":"Timesheet!B165","v":0}]
[{"$f":"Timesheet!C166","v":0},{"$f":"Timesheet!AD166","v":0},{"$f":"Timesheet!L166","v":0},{"$f":"Timesheet!K166","v":"00:00:00"},{"$f":"Timesheet!B166","v":0}]
[{"$f":"Timesheet!C167","v":0},{"$f":"Timesheet!AD167","v":0},{"$f":"Timesheet!L167","v":0},{"$f":"Timesheet!K167","v":"00:00:00"},{"$f":"Timesheet!B167","v":0}]
[{"$f":"Timesheet!C168","v":0},{"$f":"Timesheet!AD168","v":0},{"$f":"Timesheet!L168","v":0},{"$f":"Timesheet!K168","v":"00:00:00"},{"$f":"Timesheet!B168","v":0}]
[{"$f":"Timesheet!C169","v":0},{"$f":"Timesheet!AD169","v":0},{"$f":"Timesheet!L169","v":0},{"$f":"Timesheet!K169","v":"00:00:00"},{"$f":"Timesheet!B169","v":0}]
[{"$f":"Timesheet!C170","v":0},{"$f":"Timesheet!AD170","v":0},{"$f":"Timesheet!L170","v":0},{"$f":"Timesheet!K170","v":"00:00:00"},{"$f":"Timesheet!B170","v":0}]
[{"$f":"Timesheet!C171","v":0},{"$f":"Timesheet!AD171","v":0},{"$f":"Timesheet!L171","v":0},{"$f":"Timesheet!K171","v":"00:00:00"},{"$f":"Timesheet!B171","v":0}]
[{"$f":"Timesheet!C172","v":0},{"$f":"Timesheet!AD172","v":0},{"$f":"Timesheet!L172","v":0},{"$f":"Timesheet!K172","v":"00:00:00"},{"$f":"Timesheet!B172","v":0}]
[{"$f":"Timesheet!C173","v":0},{"$f":"Timesheet!AD173","v":0},{"$f":"Timesheet!L173","v":0},{"$f":"Timesheet!K173","v":"00:00:00"},{"$f":"Timesheet!B173","v":0}]
[{"$f":"Timesheet!C174","v":0},{"$f":"Timesheet!AD174","v":0},{"$f":"Timesheet!L174","v":0},{"$f":"Timesheet!K174","v":"00:00:00"},{"$f":"Timesheet!B174","v":0}]
[{"$f":"Timesheet!C175","v":0},{"$f":"Timesheet!AD175","v":0},{"$f":"Timesheet!L175","v":0},{"$f":"Timesheet!K175","v":"00:00:00"},{"$f":"Timesheet!B175","v":0}]
[{"$f":"Timesheet!C176","v":0},{"$f":"Timesheet!AD176","v":0},{"$f":"Timesheet!L176","v":0},{"$f":"Timesheet!K176","v":"00:00:00"},{"$f":"Timesheet!B176","v":0}]
[{"$f":"Timesheet!C177","v":0},{"$f":"Timesheet!AD177","v":0},{"$f":"Timesheet!L177","v":0},{"$f":"Timesheet!K177","v":"00:00:00"},{"$f":"Timesheet!B177","v":0}]
[{"$f":"Timesheet!C178","v":0},{"$f":"Timesheet!AD178","v":0},{"$f":"Timesheet!L178","v":0},{"$f":"Timesheet!K178","v":"00:00:00"},{"$f":"Timesheet!B178","v":0}]
[{"$f":"Timesheet!C179","v":0},{"$f":"Timesheet!AD179","v":0},{"$f":"Timesheet!L179","v":0},{"$f":"Timesheet!K179","v":"00:00:00"},{"$f":"Timesheet!B179","v":0}]
[{"$f":"Timesheet!C180","v":0},{"$f":"Timesheet!AD180","v":0},{"$f":"Timesheet!L180","v":0},{"$f":"Timesheet!K180","v":"00:00:00"},{"$f":"Timesheet!B180","v":0}]
[{"$f":"Timesheet!C181","v":0},{"$f":"Timesheet!AD181","v":0},{"$f":"Timesheet!L181","v":0},{"$f":"Timesheet!K181","v":"00:00:00"},{"$f":"Timesheet!B181","v":0}]
[{"$f":"Timesheet!C182","v":0},{"$f":"Timesheet!AD182","v":0},{"$f":"Timesheet!L182","v":0},{"$f":"Timesheet!K182","v":"00:00:00"},{"$f":"Timesheet!B182","v":0}]
[{"$f":"Timesheet!C183","v":0},{"$f":"Timesheet!AD183","v":0},{"$f":"Timesheet!L183","v":0},{"$f":"Timesheet!K183","v":"00:00:00"},{"$f":"Timesheet!B183","v":0}]
[{"$f":"Timesheet!C184","v":0},{"$f":"Timesheet!AD184","v":0},{"$f":"Timesheet!L184","v":0},{"$f":"Timesheet!K184","v":"00:00:00"},{"$f":"Timesheet!B184","v":0}]
[{"$f":"Timesheet!C185","v":0},{"$f":"Timesheet!AD185","v":0},{"$f":"Timesheet!L185","v":0},{"$f":"Timesheet!K185","v":"00:00:00"},{"$f":"Timesheet!B185","v":0}]
[{"$f":"Timesheet!C186","v":0},{"$f":"Timesheet!AD186","v":0},{"$f":"Timesheet!L186","v":0},{"$f":"Timesheet!K186","v":"00:00:00"},{"$f":"Timesheet!B186","v":0}]
[{"$f":"Timesheet!C187","v":0},{"$f":"Timesheet!AD187","v":0},{"$f":"Timesheet!L187","v":0},{"$f":"Timesheet!K187","v":"00:00:00"},{"$f":"Timesheet!B187","v":0}]
[{"$f":"Timesheet!C188","v":0},{"$f":"Timesheet!AD188","v":0},{"$f":"Timesheet!L188","v":0},{"$f":"Timesheet!K188","v":"00:00:00"},{"$f":"Timesheet!B188","v":0}]
[{"$f":"Timesheet!C189","v":0},{"$f":"Timesheet!AD189","v":0},{"$f":"Timesheet!L189","v":0},{"$f":"Timesheet!K189","v":"00:00:00"},{"$f":"Timesheet!B189","v":0}]
[{"$f":"Timesheet!C190","v":0},{"$f":"Timesheet!AD190","v":0},{"$f":"Timesheet!L190","v":0},{"$f":"Timesheet!K190","v":"00:00:00"},{"$f":"Timesheet!B190","v":0}]
[{"$f":"Timesheet!C191","v":0},{"$f":"Timesheet!AD191","v":0},{"$f":"Timesheet!L191","v":0},{"$f":"Timesheet!K191","v":"00:00:00"},{"$f":"Timesheet!B191","v":0}]
[{"$f":"Timesheet!C192","v":0},{"$f":"Timesheet!AD192","v":0},{"$f":"Timesheet!L192","v":0},{"$f":"Timesheet!K192","v":"00:00:00"},{"$f":"Timesheet!B192","v":0}]
[{"$f":"Timesheet!C193","v":0},{"$f":"Timesheet!AD193","v":0},{"$f":"Timesheet!L193","v":0},{"$f":"Timesheet!K193","v":"00:00:00"},{"$f":"Timesheet!B193","v":0}]
[{"$f":"Timesheet!C194","v":0},{"$f":"Timesheet!AD194","v":0},{"$f":"Timesheet!L194","v":0},{"$f":"Timesheet!K194","v":"00:00:00"},{"$f":"Timesheet!B194","v":0}]
[{"$f":"Timesheet!C195","v":0},{"$f":"Timesheet!AD195","v":0},{"$f":"Timesheet!L195","v":0},{"$f":"Timesheet!K195","v":"00:00:00"},{"$f":"Timesheet!B195","v":0}]
[{"$f":"Timesheet!C196","v":0},{"$f":"Timesheet!AD196","v":0},{"$f":"Timesheet!L196","v":0},{"$f":"Timesheet!K196","v":"00:00:00"},{"$f":"Timesheet!B196","v":0}]
[{"$f":"Timesheet!C197","v":0},{"$f":"Timesheet!AD197","v":0},{"$f":"Timesheet!L197","v":0},{"$f":"Timesheet!K197","v":"00:00:00"},{"$f":"Timesheet!B197","v":0}]
[{"$f":"Timesheet!C198","v":0},{"$f":"Timesheet!AD198","v":0},{"$f":"Timesheet!L198","v":0},{"$f":"Timesheet!K198","v":"00:00:00"},{"$f":"Timesheet!B198","v":0}]
[{"$f":"Timesheet!C199","v":0},{"$f":"Timesheet!AD199","v":0},{"$f":"Timesheet!L199","v":0},{"$f":"Timesheet!K199","v":"00:00:00"},{"$f":"Timesheet!B199","v":0}]
[{"$f":"Timesheet!C200","v":0},{"$f":"Timesheet!AD200","v":0},{"$f":"Timesheet!L200","v":0},{"$f":"Timesheet!K200","v":"00:00:00"},{"$f":"Timesheet!B200","v":0}]
[{"$f":"Timesheet!C201","v":0},{"$f":"Timesheet!AD201","v":0},{"$f":"Timesheet!L201","v":0},{"$f":"Timesheet!K201","v":"00:00:00"},{"$f":"Timesheet!B201","v":0}]
[{"$f":"Timesheet!C202","v":0},{"$f":"Timesheet!AD202","v":0},{"$f":"Timesheet!L202","v":0},{"$f":"Timesheet!K202","v":"00:00:00"},{"$f":"Timesheet!B202","v":0}]
[{"$f":"Timesheet!C203","v":0},{"$f":"Timesheet!AD203","v":0},{"$f":"Timesheet!L203","v":0},{"$f":"Timesheet!K203","v":"00:00:00"},{"$f":"Timesheet!B203","v":0}]
[{"$f":"Timesheet!C204","v":0},{"$f":"Timesheet!AD204","v":0},{"$f":"Timesheet!L204","v":0},{"$f":"Timesheet!K204","v":"00:00:00"},{"$f":"Timesheet!B204","v":0}]
[{"$f":"Timesheet!C205","v":0},{"$f":"Timesheet!AD205","v":0},{"$f":"Timesheet!L205","v":0},{"$f":"Timesheet!K205","v":"00:00:00"},{"$f":"Timesheet!B205","v":0}]
[{"$f":"Timesheet!C206","v":0},{"$f":"Timesheet!AD206","v":0},{"$f":"Timesheet!L206","v":0},{"$f":"Timesheet!K206","v":"00:00:00"},{"$f":"Timesheet!B206","v":0}]
[{"$f":"Timesheet!C207","v":0},{"$f":"Timesheet!AD207","v":0},{"$f":"Timesheet!L207","v":0},{"$f":"Timesheet!K207","v":"00:00:00"},{"$f":"Timesheet!B207","v":0}]
[{"$f":"Timesheet!C208","v":0},{"$f":"Timesheet!AD208","v":0},{"$f":"Timesheet!L208","v":0},{"$f":"Timesheet!K208","v":"00:00:00"},{"$f":"Timesheet!B208","v":0}]
[{"$f":"Timesheet!C209","v":0},{"$f":"Timesheet!AD209","v":0},{"$f":"Timesheet!L209","v":0},{"$f":"Timesheet!K209","v":"00:00:00"},{"$f":"Timesheet!B209","v":0}]
[{"$f":"Timesheet!C210","v":0},{"$f":"Timesheet!AD210","v":0},{"$f":"Timesheet!L210","v":0},{"$f":"Timesheet!K210","v":"00:00:00"},{"$f":"Timesheet!B210","v":0}]
[{"$f":"Timesheet!C211","v":0},{"$f":"Timesheet!AD211","v":0},{"$f":"Timesheet!L211","v":0},{"$f":"Timesheet!K211","v":"00:00:00"},{"$f":"Timesheet!B211","v":0}]
[{"$f":"Timesheet!C212","v":0},{"$f":"Timesheet!AD212","v":0},{"$f":"Timesheet!L212","v":0},{"$f":"Timesheet!K212","v":"00:00:00"},{"$f":"Timesheet!B212","v":0}]
[{"$f":"Timesheet!C213","v":0},{"$f":"Timesheet!AD213","v":0},{"$f":"Timesheet!L213","v":0},{"$f":"Timesheet!K213","v":"00:00:00"},{"$f":"Timesheet!B213","v":0}]
[{"$f":"Timesheet!C214","v":0},{"$f":"Timesheet!AD214","v":0},{"$f":"Timesheet!L214","v":0},{"$f":"Timesheet!K214","v":"00:00:00"},{"$f":"Timesheet!B214","v":0}]
[{"$f":"Timesheet!C215","v":0},{"$f":"Timesheet!AD215","v":0},{"$f":"Timesheet!L215","v":0},{"$f":"Timesheet!K215","v":"00:00:00"},{"$f":"Timesheet!B215","v":0}]
[{"$f":"Timesheet!C216","v":0},{"$f":"Timesheet!AD216","v":0},{"$f":"Timesheet!L216","v":0},{"$f":"Timesheet!K216","v":"00:00:00"},{"$f":"Timesheet!B216","v":0}]
[{"$f":"Timesheet!C217","v":0},{"$f":"Timesheet!AD217","v":0},{"$f":"Timesheet!L217","v":0},{"$f":"Timesheet!K217","v":"00:00:00"},{"$f":"Timesheet!B217","v":0}]
[{"$f":"Timesheet!C218","v":0},{"$f":"Timesheet!AD218","v":0},{"$f":"Timesheet!L218","v":0},{"$f":"Timesheet!K218","v":"00:00:00"},{"$f":"Timesheet!B218","v":0}]
[{"$f":"Timesheet!C219","v":0},{"$f":"Timesheet!AD219","v":0},{"$f":"Timesheet!L219","v":0},{"$f":"Timesheet!K219","v":"00:00:00"},{"$f":"Timesheet!B219","v":0}]
[{"$f":"Timesheet!C220","v":0},{"$f":"Timesheet!AD220","v":0},{"$f":"Timesheet!L220","v":0},{"$f":"Timesheet!K220","v":"00:00:00"},{"$f":"Timesheet!B220","v":0}]
[{"$f":"Timesheet!C221","v":0},{"$f":"Timesheet!AD221","v":0},{"$f":"Timesheet!L221","v":0},{"$f":"Timesheet!K221","v":"00:00:00"},{"$f":"Timesheet!B221","v":0}]
[{"$f":"Timesheet!C222","v":0},{"$f":"Timesheet!AD222","v":0},{"$f":"Timesheet!L222","v":0},{"$f":"Timesheet!K222","v":"00:00:00"},{"$f":"Timesheet!B222","v":0}]
[{"$f":"Timesheet!C223","v":0},{"$f":"Timesheet!AD223","v":0},{"$f":"Timesheet!L223","v":0},{"$f":"Timesheet!K223","v":"00:00:00"},{"$f":"Timesheet!B223","v":0}]
[{"$f":"Timesheet!C224","v":0},{"$f":"Timesheet!AD224","v":0},{"$f":"Timesheet!L224","v":0},{"$f":"Timesheet!K224","v":"00:00:00"},{"$f":"Timesheet!B224","v":0}]
[{"$f":"Timesheet!C225","v":0},{"$f":"Timesheet!AD225","v":0},{"$f":"Timesheet!L225","v":0},{"$f":"Timesheet!K225","v":"00:00:00"},{"$f":"Timesheet!B225","v":0}]
[{"$f":"Timesheet!C226","v":0},{"$f":"Timesheet!AD226","v":0},{"$f":"Timesheet!L226","v":0},{"$f":"Timesheet!K226","v":"00:00:00"},{"$f":"Timesheet!B226","v":0}]
[{"$f":"Timesheet!C227","v":0},{"$f":"Timesheet!AD227","v":0},{"$f":"Timesheet!L227","v":0},{"$f":"Timesheet!K227","v":"00:00:00"},{"$f":"Timesheet!B227","v":0}]
[{"$f":"Timesheet!C228","v":0},{"$f":"Timesheet!AD228","v":0},{"$f":"Timesheet!L228","v":0},{"$f":"Timesheet!K228","v":"00:00:00"},{"$f":"Timesheet!B228","v":0}]
[{"$f":"Timesheet!C229","v":0},{"$f":"Timesheet!AD229","v":0},{"$f":"Timesheet!L229","v":0},{"$f":"Timesheet!K229","v":"00:00:00"},{"$f":"Timesheet!B229","v":0}]
[{"$f":"Timesheet!C230","v":0},{"$f":"Timesheet!AD230","v":0},{"$f":"Timesheet!L230","v":0},{"$f":"Timesheet!K230","v":"00:00:00"},{"$f":"Timesheet!B230","v":0}]
[{"$f":"Timesheet!C231","v":0},{"$f":"Timesheet!AD231","v":0},{"$f":"Timesheet!L231","v":0},{"$f":"Timesheet!K231","v":"00:00:00"},{"$f":"Timesheet!B231","v":0}]
[{"$f":"Timesheet!C232","v":0},{"$f":"Timesheet!AD232","v":0},{"$f":"Timesheet!L232","v":0},{"$f":"Timesheet!K232","v":"00:00:00"},{"$f":"Timesheet!B232","v":0}]
[{"$f":"Timesheet!C233","v":0},{"$f":"Timesheet!AD233","v":0},{"$f":"Timesheet!L233","v":0},{"$f":"Timesheet!K233","v":"00:00:00"},{"$f":"Timesheet!B233","v":0}]
[{"$f":"Timesheet!C234","v":0},{"$f":"Timesheet!AD234","v":0},{"$f":"Timesheet!L234","v":0},{"$f":"Timesheet!K234","v":"00:00:00"},{"$f":"Timesheet!B234","v":0}]
[{"$f":"Timesheet!C235","v":0},{"$f":"Timesheet!AD235","v":0},{"$f":"Timesheet!L235","v":0},{"$f":"Timesheet!K235","v":"00:00:00"},{"$f":"Timesheet!B235","v":0}]
[{"$f":"Timesheet!C236","v":0},{"$f":"Timesheet!AD236","v":0},{"$f":"Timesheet!L236","v":0},{"$f":"Timesheet!K236","v":"00:00:00"},{"$f":"Timesheet!B236","v":0}]
[{"$f":"Timesheet!C237","v":0},{"$f":"Timesheet!AD237","v":0},{"$f":"Timesheet!L237","v":0},{"$f":"Timesheet!K237","v":"00:00:00"},{"$f":"Timesheet!B237","v":0}]
[{"$f":"Timesheet!C238","v":0},{"$f":"Timesheet!AD238","v":0},{"$f":"Timesheet!L238","v":0},{"$f":"Timesheet!K238","v":"00:00:00"},{"$f":"Timesheet!B238","v":0}]
[{"$f":"Timesheet!C239","v":0},{"$f":"Timesheet!AD239","v":0},{"$f":"Timesheet!L239","v":0},{"$f":"Timesheet!K239","v":"00:00:00"},{"$f":"Timesheet!B239","v":0}]
[{"$f":"Timesheet!C240","v":0},{"$f":"Timesheet!AD240","v":0},{"$f":"Timesheet!L240","v":0},{"$f":"Timesheet!K240","v":"00:00:00"},{"$f":"Timesheet!B240","v":0}]
[{"$f":"Timesheet!C241","v":0},{"$f":"Timesheet!AD241","v":0},{"$f":"Timesheet!L241","v":0},{"$f":"Timesheet!K241","v":"00:00:00"},{"$f":"Timesheet!B241","v":0}]
[{"$f":"Timesheet!C242","v":0},{"$f":"Timesheet!AD242","v":0},{"$f":"Timesheet!L242","v":0},{"$f":"Timesheet!K242","v":"00:00:00"},{"$f":"Timesheet!B242","v":0}]
[{"$f":"Timesheet!C243","v":0},{"$f":"Timesheet!AD243","v":0},{"$f":"Timesheet!L243","v":0},{"$f":"Timesheet!K243","v":"00:00:00"},{"$f":"Timesheet!B243","v":0}]
[{"$f":"Timesheet!C244","v":0},{"$f":"Timesheet!AD244","v":0},{"$f":"Timesheet!L244","v":0},{"$f":"Timesheet!K244","v":"00:00:00"},{"$f":"Timesheet!B244","v":0}]
[{"$f":"Timesheet!C245","v":0},{"$f":"Timesheet!AD245","v":0},{"$f":"Timesheet!L245","v":0},{"$f":"Timesheet!K245","v":"00:00:00"},{"$f":"Timesheet!B245","v":0}]
[{"$f":"Timesheet!C246","v":0},{"$f":"Timesheet!AD246","v":0},{"$f":"Timesheet!L246","v":0},{"$f":"Timesheet!K246","v":"00:00:00"},{"$f":"Timesheet!B246","v":0}]
[{"$f":"Timesheet!C247","v":0},{"$f":"Timesheet!AD247","v":0},{"$f":"Timesheet!L247","v":0},{"$f":"Timesheet!K247","v":"00:00:00"},{"$f":"Timesheet!B247","v":0}]
[{"$f":"Timesheet!C248","v":0},{"$f":"Timesheet!AD248","v":0},{"$f":"Timesheet!L248","v":0},{"$f":"Timesheet!K248","v":"00:00:00"},{"$f":"Timesheet!B248","v":0}]
[{"$f":"Timesheet!C249","v":0},{"$f":"Timesheet!AD249","v":0},{"$f":"Timesheet!L249","v":0},{"$f":"Timesheet!K249","v":"00:00:00"},{"$f":"Timesheet!B249","v":0}]
[{"$f":"Timesheet!C250","v":0},{"$f":"Timesheet!AD250","v":0},{"$f":"Timesheet!L250","v":0},{"$f":"Timesheet!K250","v":"00:00:00"},{"$f":"Timesheet!B250","v":0}]
[{"$f":"Timesheet!C251","v":0},{"$f":"Timesheet!AD251","v":0},{"$f":"Timesheet!L251","v":0},{"$f":"Timesheet!K251","v":"00:00:00"},{"$f":"Timesheet!B251","v":0}]
[{"$f":"Timesheet!C252","v":0},{"$f":"Timesheet!AD252","v":0},{"$f":"Timesheet!L252","v":0},{"$f":"Timesheet!K252","v":"00:00:00"},{"$f":"Timesheet!B252","v":0}]
[{"$f":"Timesheet!C253","v":0},{"$f":"Timesheet!AD253","v":0},{"$f":"Timesheet!L253","v":0},{"$f":"Timesheet!K253","v":"00:00:00"},{"$f":"Timesheet!B253","v":0}]
[{"$f":"Timesheet!C254","v":0},{"$f":"Timesheet!AD254","v":0},{"$f":"Timesheet!L254","v":0},{"$f":"Timesheet!K254","v":"00:00:00"},{"$f":"Timesheet!B254","v":0}]
[{"$f":"Timesheet!C255","v":0},{"$f":"Timesheet!AD255","v":0},{"$f":"Timesheet!L255","v":0},{"$f":"Timesheet!K255","v":"00:00:00"},{"$f":"Timesheet!B255","v":0}]
[{"$f":"Timesheet!C256","v":0},{"$f":"Timesheet!AD256","v":0},{"$f":"Timesheet!L256","v":0},{"$f":"Timesheet!K256","v":"00:00:00"},{"$f":"Timesheet!B256","v":0}]
[{"$f":"Timesheet!C257","v":0},{"$f":"Timesheet!AD257","v":0},{"$f":"Timesheet!L257","v":0},{"$f":"Timesheet!K257","v":"00:00:00"},{"$f":"Timesheet!B257","v":0}]
[{"$f":"Timesheet!C258","v":0},{"$f":"Timesheet!AD258","v":0},{"$f":"Timesheet!L258","v":0},{"$f":"Timesheet!K258","v":"00:00:00"},{"$f":"Timesheet!B258","v":0}]
[{"$f":"Timesheet!C259","v":0},{"$f":"Timesheet!AD259","v":0},{"$f":"Timesheet!L259","v":0},{"$f":"Timesheet!K259","v":"00:00:00"},{"$f":"Timesheet!B259","v":0}]
[{"$f":"Timesheet!C260","v":0},{"$f":"Timesheet!AD260","v":0},{"$f":"Timesheet!L260","v":0},{"$f":"Timesheet!K260","v":"00:00:00"},{"$f":"Timesheet!B260","v":0}]
[{"$f":"Timesheet!C261","v":0},{"$f":"Timesheet!AD261","v":0},{"$f":"Timesheet!L261","v":0},{"$f":"Timesheet!K261","v":"00:00:00"},{"$f":"Timesheet!B261","v":0}]
[{"$f":"Timesheet!C262","v":0},{"$f":"Timesheet!AD262","v":0},{"$f":"Timesheet!L262","v":0},{"$f":"Timesheet!K262","v":"00:00:00"},{"$f":"Timesheet!B262","v":0}]
[{"$f":"Timesheet!C263","v":0},{"$f":"Timesheet!AD263","v":0},{"$f":"Timesheet!L263","v":0},{"$f":"Timesheet!K263","v":"00:00:00"},{"$f":"Timesheet!B263","v":0}]
[{"$f":"Timesheet!C264","v":0},{"$f":"Timesheet!AD264","v":0},{"$f":"Timesheet!L264","v":0},{"$f":"Timesheet!K264","v":"00:00:00"},{"$f":"Timesheet!B264","v":0}]
[{"$f":"Timesheet!C265","v":0},{"$f":"Timesheet!AD265","v":0},{"$f":"Timesheet!L265","v":0},{"$f":"Timesheet!K265","v":"00:00:00"},{"$f":"Timesheet!B265","v":0}]
[{"$f":"Timesheet!C266","v":0},{"$f":"Timesheet!AD266","v":0},{"$f":"Timesheet!L266","v":0},{"$f":"Timesheet!K266","v":"00:00:00"},{"$f":"Timesheet!B266","v":0}]
[{"$f":"Timesheet!C267","v":0},{"$f":"Timesheet!AD267","v":0},{"$f":"Timesheet!L267","v":0},{"$f":"Timesheet!K267","v":"00:00:00"},{"$f":"Timesheet!B267","v":0}]
[{"$f":"Timesheet!C268","v":0},{"$f":"Timesheet!AD268","v":0},{"$f":"Timesheet!L268","v":0},{"$f":"Timesheet!K268","v":"00:00:00"},{"$f":"Timesheet!B268","v":0}]
[{"$f":"Timesheet!C269","v":0},{"$f":"Timesheet!AD269","v":0},{"$f":"Timesheet!L269","v":0},{"$f":"Timesheet!K269","v":"00:00:00"},{"$f":"Timesheet!B269","v":0}]
[{"$f":"Timesheet!C270","v":0},{"$f":"Timesheet!AD270","v":0},{"$f":"Timesheet!L270","v":0},{"$f":"Timesheet!K270","v":"00:00:00"},{"$f":"Timesheet!B270","v":0}]
[{"$f":"Timesheet!C271","v":0},{"$f":"Timesheet!AD271","v":0},{"$f":"Timesheet!L271","v":0},{"$f":"Timesheet!K271","v":"00:00:00"},{"$f":"Timesheet!B271","v":0}]
[{"$f":"Timesheet!C272","v":0},{"$f":"Timesheet!AD272","v":0},{"$f":"Timesheet!L272","v":0},{"$f":"Timesheet!K272","v":"00:00:00"},{"$f":"Timesheet!B272","v":0}]
[{"$f":"Timesheet!C273","v":0},{"$f":"Timesheet!AD273","v":0},{"$f":"Timesheet!L273","v":0},{"$f":"Timesheet!K273","v":"00:00:00"},{"$f":"Timesheet!B273","v":0}]
[{"$f":"Timesheet!C274","v":0},{"$f":"Timesheet!AD274","v":0},{"$f":"Timesheet!L274","v":0},{"$f":"Timesheet!K274","v":"00:00:00"},{"$f":"Timesheet!B274","v":0}]
[{"$f":"Timesheet!C275","v":0},{"$f":"Timesheet!AD275","v":0},{"$f":"Timesheet!L275","v":0},{"$f":"Timesheet!K275","v":"00:00:00"},{"$f":"Timesheet!B275","v":0}]
[{"$f":"Timesheet!C276","v":0},{"$f":"Timesheet!AD276","v":0},{"$f":"Timesheet!L276","v":0},{"$f":"Timesheet!K276","v":"00:00:00"},{"$f":"Timesheet!B276","v":0}]
[{"$f":"Timesheet!C277","v":0},{"$f":"Timesheet!AD277","v":0},{"$f":"Timesheet!L277","v":0},{"$f":"Timesheet!K277","v":"00:00:00"},{"$f":"Timesheet!B277","v":0}]
[{"$f":"Timesheet!C278","v":0},{"$f":"Timesheet!AD278","v":0},{"$f":"Timesheet!L278","v":0},{"$f":"Timesheet!K278","v":"00:00:00"},{"$f":"Timesheet!B278","v":0}]
[{"$f":"Timesheet!C279","v":0},{"$f":"Timesheet!AD279","v":0},{"$f":"Timesheet!L279","v":0},{"$f":"Timesheet!K279","v":"00:00:00"},{"$f":"Timesheet!B279","v":0}]
[{"$f":"Timesheet!C280","v":0},{"$f":"Timesheet!AD280","v":0},{"$f":"Timesheet!L280","v":0},{"$f":"Timesheet!K280","v":"00:00:00"},{"$f":"Timesheet!B280","v":0}]
[{"$f":"Timesheet!C281","v":0},{"$f":"Timesheet!AD281","v":0},{"$f":"Timesheet!L281","v":0},{"$f":"Timesheet!K281","v":"00:00:00"},{"$f":"Timesheet!B281","v":0}]
[{"$f":"Timesheet!C282","v":0},{"$f":"Timesheet!AD282","v":0},{"$f":"Timesheet!L282","v":0},{"$f":"Timesheet!K282","v":"00:00:00"},{"$f":"Timesheet!B282","v":0}]
[{"$f":"Timesheet!C283","v":0},{"$f":"Timesheet!AD283","v":0},{"$f":"Timesheet!L283","v":0},{"$f":"Timesheet!K283","v":"00:00:00"},{"$f":"Timesheet!B283","v":0}]
[{"$f":"Timesheet!C284","v":0},{"$f":"Timesheet!AD284","v":0},{"$f":"Timesheet!L284","v":0},{"$f":"Timesheet!K284","v":"00:00:00"},{"$f":"Timesheet!B284","v":0}]
[{"$f":"Timesheet!C285","v":0},{"$f":"Timesheet!AD285","v":0},{"$f":"Timesheet!L285","v":0},{"$f":"Timesheet!K285","v":"00:00:00"},{"$f":"Timesheet!B285","v":0}]
[{"$f":"Timesheet!C286","v":0},{"$f":"Timesheet!AD286","v":0},{"$f":"Timesheet!L286","v":0},{"$f":"Timesheet!K286","v":"00:00:00"},{"$f":"Timesheet!B286","v":0}]
[{"$f":"Timesheet!C287","v":0},{"$f":"Timesheet!AD287","v":0},{"$f":"Timesheet!L287","v":0},{"$f":"Timesheet!K287","v":"00:00:00"},{"$f":"Timesheet!B287","v":0}]
[{"$f":"Timesheet!C288","v":0},{"$f":"Timesheet!AD288","v":0},{"$f":"Timesheet!L288","v":0},{"$f":"Timesheet!K288","v":"00:00:00"},{"$f":"Timesheet!B288","v":0}]
[{"$f":"Timesheet!C289","v":0},{"$f":"Timesheet!AD289","v":0},{"$f":"Timesheet!L289","v":0},{"$f":"Timesheet!K289","v":"00:00:00"},{"$f":"Timesheet!B289","v":0}]
[{"$f":"Timesheet!C290","v":0},{"$f":"Timesheet!AD290","v":0},{"$f":"Timesheet!L290","v":0},{"$f":"Timesheet!K290","v":"00:00:00"},{"$f":"Timesheet!B290","v":0}]
[{"$f":"Timesheet!C291","v":0},{"$f":"Timesheet!AD291","v":0},{"$f":"Timesheet!L291","v":0},{"$f":"Timesheet!K291","v":"00:00:00"},{"$f":"Timesheet!B291","v":0}]
[{"$f":"Timesheet!C292","v":0},{"$f":"Timesheet!AD292","v":0},{"$f":"Timesheet!L292","v":0},{"$f":"Timesheet!K292","v":"00:00:00"},{"$f":"Timesheet!B292","v":0}]
[{"$f":"Timesheet!C293","v":0},{"$f":"Timesheet!AD293","v":0},{"$f":"Timesheet!L293","v":0},{"$f":"Timesheet!K293","v":"00:00:00"},{"$f":"Timesheet!B293","v":0}]
[{"$f":"Timesheet!C294","v":0},{"$f":"Timesheet!AD294","v":0},{"$f":"Timesheet!L294","v":0},{"$f":"Timesheet!K294","v":"00:00:00"},{"$f":"Timesheet!B294","v":0}]
[{"$f":"Timesheet!C295","v":0},{"$f":"Timesheet!AD295","v":0},{"$f":"Timesheet!L295","v":0},{"$f":"Timesheet!K295","v":"00:00:00"},{"$f":"Timesheet!B295","v":0}]
[{"$f":"Timesheet!C296","v":0},{"$f":"Timesheet!AD296","v":0},{"$f":"Timesheet!L296","v":0},{"$f":"Timesheet!K296","v":"00:00:00"},{"$f":"Timesheet!B296","v":0}]
[{"$f":"Timesheet!C297","v":0},{"$f":"Timesheet!AD297","v":0},{"$f":"Timesheet!L297","v":0},{"$f":"Timesheet!K297","v":"00:00:00"},{"$f":"Timesheet!B297","v":0}]
[{"$f":"Timesheet!C298","v":0},{"$f":"Timesheet!AD298","v":0},{"$f":"Timesheet!L298","v":0},{"$f":"Timesheet!K298","v":"00:00:00"},{"$f":"Timesheet!B298","v":0}]
[{"$f":"Timesheet!C299","v":0},{"$f":"Timesheet!AD299","v":0},{"$f":"Timesheet!L299","v":0},{"$f":"Timesheet!K299","v":"00:00:00"},{"$f":"Timesheet!B299","v":0}]
[{"$f":"Timesheet!C300","v":0},{"$f":"Timesheet!AD300","v":0},{"$f":"Timesheet!L300","v":0},{"$f":"Timesheet!K300","v":"00:00:00"},{"$f":"Timesheet!B300","v":0}]
[{"$f":"Timesheet!C301","v":0},{"$f":"Timesheet!AD301","v":0},{"$f":"Timesheet!L301","v":0},{"$f":"Timesheet!K301","v":"00:00:00"},{"$f":"Timesheet!B301","v":0}]
[{"$f":"Timesheet!C302","v":0},{"$f":"Timesheet!AD302","v":0},{"$f":"Timesheet!L302","v":0},{"$f":"Timesheet!K302","v":"00:00:00"},{"$f":"Timesheet!B302","v":0}]
[{"$f":"Timesheet!C3","v":44789},{"$f":"Timesheet!AE3","v":0},{"$f":"Timesheet!N3","v":0},{"$f":"Timesheet!K3","v":"00:00:00"},{"$f":"Timesheet!B3","v":"E33036"}]
[{"$f":"Timesheet!C4","v":39452},{"$f":"Timesheet!AE4","v":0},{"$f":"Timesheet!N4","v":0},{"$f":"Timesheet!K4","v":"00:00:00"},{"$f":"Timesheet!B4","v":"E33036"}]
[{"$f":"Timesheet!C5","v":51119},{"$f":"Timesheet!AE5","v":0},{"$f":"Timesheet!N5","v":0},{"$f":"Timesheet!K5","v":"00:00:00"},{"$f":"Timesheet!B5","v":"E33036"}]
[{"$f":"Timesheet!C6","v":20999},{"$f":"Timesheet!AE6","v":0},{"$f":"Timesheet!N6","v":0},{"$f":"Timesheet!K6","v":"00:00:00"},{"$f":"Timesheet!B6","v":"E33036"}]
[{"$f":"Timesheet!C7","v":50140},{"$f":"Timesheet!AE7","v":0},{"$f":"Timesheet!N7","v":0},{"$f":"Timesheet!K7","v":"00:00:00"},{"$f":"Timesheet!B7","v":"E33036"}]
[{"$f":"Timesheet!C8","v":41120},{"$f":"Timesheet!AE8","v":0},{"$f":"Timesheet!N8","v":0},{"$f":"Timesheet!K8","v":"00:00:00"},{"$f":"Timesheet!B8","v":"E33036"}]
[{"$f":"Timesheet!C9","v":14019220},{"$f":"Timesheet!AE9","v":0},{"$f":"Timesheet!N9","v":0},{"$f":"Timesheet!K9","v":"00:00:00"},{"$f":"Timesheet!B9","v":"E33036"}]
[{"$f":"Timesheet!C10","v":33161},{"$f":"Timesheet!AE10","v":0},{"$f":"Timesheet!N10","v":0},{"$f":"Timesheet!K10","v":"00:00:00"},{"$f":"Timesheet!B10","v":"E33036"}]
[{"$f":"Timesheet!C11","v":44988},{"$f":"Timesheet!AE11","v":0},{"$f":"Timesheet!N11","v":0},{"$f":"Timesheet!K11","v":"00:00:00"},{"$f":"Timesheet!B11","v":"E33036"}]
[{"$f":"Timesheet!C12","v":19061},{"$f":"Timesheet!AE12","v":0},{"$f":"Timesheet!N12","v":0},{"$f":"Timesheet!K12","v":"00:00:00"},{"$f":"Timesheet!B12","v":"E33036"}]
[{"$f":"Timesheet!C13","v":42125},{"$f":"Timesheet!AE13","v":0},{"$f":"Timesheet!N13","v":0},{"$f":"Timesheet!K13","v":"00:00:00"},{"$f":"Timesheet!B13","v":"E33036"}]
[{"$f":"Timesheet!C14","v":35616},{"$f":"Timesheet!AE14","v":0},{"$f":"Timesheet!N14","v":0},{"$f":"Timesheet!K14","v":"00:00:00"},{"$f":"Timesheet!B14","v":"E33036"}]
[{"$f":"Timesheet!C15","v":11630},{"$f":"Timesheet!AE15","v":0},{"$f":"Timesheet!N15","v":0},{"$f":"Timesheet!K15","v":"00:00:00"},{"$f":"Timesheet!B15","v":"E33036"}]
[{"$f":"Timesheet!C16","v":33804},{"$f":"Timesheet!AE16","v":0},{"$f":"Timesheet!N16","v":0},{"$f":"Timesheet!K16","v":"00:00:00"},{"$f":"Timesheet!B16","v":"E33036"}]
[{"$f":"Timesheet!C17","v":11681},{"$f":"Timesheet!AE17","v":0},{"$f":"Timesheet!N17","v":0},{"$f":"Timesheet!K17","v":"00:00:00"},{"$f":"Timesheet!B17","v":"E33036"}]
[{"$f":"Timesheet!C18","v":51311},{"$f":"Timesheet!AE18","v":0},{"$f":"Timesheet!N18","v":0},{"$f":"Timesheet!K18","v":"00:00:00"},{"$f":"Timesheet!B18","v":"E33036"}]
[{"$f":"Timesheet!C19","v":19209},{"$f":"Timesheet!AE19","v":0},{"$f":"Timesheet!N19","v":0},{"$f":"Timesheet!K19","v":"00:00:00"},{"$f":"Timesheet!B19","v":"E33036"}]
[{"$f":"Timesheet!C20","v":40516},{"$f":"Timesheet!AE20","v":0},{"$f":"Timesheet!N20","v":0},{"$f":"Timesheet!K20","v":"00:00:00"},{"$f":"Timesheet!B20","v":"E33036"}]
[{"$f":"Timesheet!C21","v":42806},{"$f":"Timesheet!AE21","v":0},{"$f":"Timesheet!N21","v":0},{"$f":"Timesheet!K21","v":"00:00:00"},{"$f":"Timesheet!B21","v":"E33036"}]
[{"$f":"Timesheet!C22","v":47495},{"$f":"Timesheet!AE22","v":0},{"$f":"Timesheet!N22","v":0},{"$f":"Timesheet!K22","v":"00:00:00"},{"$f":"Timesheet!B22","v":"E33036"}]
[{"$f":"Timesheet!C23","v":38391},{"$f":"Timesheet!AE23","v":0},{"$f":"Timesheet!N23","v":0},{"$f":"Timesheet!K23","v":"00:00:00"},{"$f":"Timesheet!B23","v":"E33036"}]
[{"$f":"Timesheet!C24","v":28706},{"$f":"Timesheet!AE24","v":0},{"$f":"Timesheet!N24","v":0},{"$f":"Timesheet!K24","v":"00:00:00"},{"$f":"Timesheet!B24","v":"E33036"}]
[{"$f":"Timesheet!C25","v":44672},{"$f":"Timesheet!AE25","v":0},{"$f":"Timesheet!N25","v":0},{"$f":"Timesheet!K25","v":"00:00:00"},{"$f":"Timesheet!B25","v":"E33036"}]
[{"$f":"Timesheet!C26","v":14289262},{"$f":"Timesheet!AE26","v":0},{"$f":"Timesheet!N26","v":0},{"$f":"Timesheet!K26","v":"00:00:00"},{"$f":"Timesheet!B26","v":"E33036"}]
[{"$f":"Timesheet!C27","v":18068},{"$f":"Timesheet!AE27","v":0},{"$f":"Timesheet!N27","v":0},{"$f":"Timesheet!K27","v":"00:00:00"},{"$f":"Timesheet!B27","v":"E33036"}]
[{"$f":"Timesheet!C28","v":13209997},{"$f":"Timesheet!AE28","v":0},{"$f":"Timesheet!N28","v":0},{"$f":"Timesheet!K28","v":"00:00:00"},{"$f":"Timesheet!B28","v":"E33036"}]
[{"$f":"Timesheet!C29","v":59},{"$f":"Timesheet!AE29","v":0},{"$f":"Timesheet!N29","v":0},{"$f":"Timesheet!K29","v":"00:00:00"},{"$f":"Timesheet!B29","v":"E33036"}]
[{"$f":"Timesheet!C30","v":29923},{"$f":"Timesheet!AE30","v":0},{"$f":"Timesheet!N30","v":0},{"$f":"Timesheet!K30","v":"00:00:00"},{"$f":"Timesheet!B30","v":"E33036"}]
[{"$f":"Timesheet!C31","v":21790},{"$f":"Timesheet!AE31","v":0},{"$f":"Timesheet!N31","v":0},{"$f":"Timesheet!K31","v":"00:00:00"},{"$f":"Timesheet!B31","v":"E33036"}]
[{"$f":"Timesheet!C32","v":13016632},{"$f":"Timesheet!AE32","v":0},{"$f":"Timesheet!N32","v":0},{"$f":"Timesheet!K32","v":"00:00:00"},{"$f":"Timesheet!B32","v":"E33036"}]
[{"$f":"Timesheet!C33","v":13616632},{"$f":"Timesheet!AE33","v":0},{"$f":"Timesheet!N33","v":0},{"$f":"Timesheet!K33","v":"00:00:00"},{"$f":"Timesheet!B33","v":"E33036"}]
[{"$f":"Timesheet!C34","v":40046},{"$f":"Timesheet!AE34","v":0},{"$f":"Timesheet!N34","v":0},{"$f":"Timesheet!K34","v":"00:00:00"},{"$f":"Timesheet!B34","v":"E33036"}]
[{"$f":"Timesheet!C35","v":18140},{"$f":"Timesheet!AE35","v":0},{"$f":"Timesheet!N35","v":0},{"$f":"Timesheet!K35","v":"00:00:00"},{"$f":"Timesheet!B35","v":"E33036"}]
[{"$f":"Timesheet!C36","v":9922},{"$f":"Timesheet!AE36","v":0},{"$f":"Timesheet!N36","v":0},{"$f":"Timesheet!K36","v":"00:00:00"},{"$f":"Timesheet!B36","v":"E33036"}]
[{"$f":"Timesheet!C37","v":34724},{"$f":"Timesheet!AE37","v":0},{"$f":"Timesheet!N37","v":0},{"$f":"Timesheet!K37","v":"00:00:00"},{"$f":"Timesheet!B37","v":"E33036"}]
[{"$f":"Timesheet!C38","v":20933},{"$f":"Timesheet!AE38","v":0},{"$f":"Timesheet!N38","v":0},{"$f":"Timesheet!K38","v":"00:00:00"},{"$f":"Timesheet!B38","v":"E33036"}]
[{"$f":"Timesheet!C39","v":36025},{"$f":"Timesheet!AE39","v":0},{"$f":"Timesheet!N39","v":0},{"$f":"Timesheet!K39","v":"00:00:00"},{"$f":"Timesheet!B39","v":"E33036"}]
[{"$f":"Timesheet!C40","v":41681},{"$f":"Timesheet!AE40","v":0},{"$f":"Timesheet!N40","v":0},{"$f":"Timesheet!K40","v":"00:00:00"},{"$f":"Timesheet!B40","v":"E33036"}]
[{"$f":"Timesheet!C41","v":42644},{"$f":"Timesheet!AE41","v":0},{"$f":"Timesheet!N41","v":0},{"$f":"Timesheet!K41","v":"00:00:00"},{"$f":"Timesheet!B41","v":"E33036"}]
[{"$f":"Timesheet!C42","v":49476},{"$f":"Timesheet!AE42","v":0},{"$f":"Timesheet!N42","v":0},{"$f":"Timesheet!K42","v":"00:00:00"},{"$f":"Timesheet!B42","v":"E33036"}]
[{"$f":"Timesheet!C43","v":50978},{"$f":"Timesheet!AE43","v":0},{"$f":"Timesheet!N43","v":0},{"$f":"Timesheet!K43","v":"00:00:00"},{"$f":"Timesheet!B43","v":"E33036"}]
[{"$f":"Timesheet!C44","v":41705},{"$f":"Timesheet!AE44","v":0},{"$f":"Timesheet!N44","v":0},{"$f":"Timesheet!K44","v":"00:00:00"},{"$f":"Timesheet!B44","v":"E33036"}]
[{"$f":"Timesheet!C45","v":47311},{"$f":"Timesheet!AE45","v":0},{"$f":"Timesheet!N45","v":0},{"$f":"Timesheet!K45","v":"00:00:00"},{"$f":"Timesheet!B45","v":"E33036"}]
[{"$f":"Timesheet!C46","v":36728},{"$f":"Timesheet!AE46","v":0},{"$f":"Timesheet!N46","v":0},{"$f":"Timesheet!K46","v":"00:00:00"},{"$f":"Timesheet!B46","v":"E33036"}]
[{"$f":"Timesheet!C47","v":51863},{"$f":"Timesheet!AE47","v":0},{"$f":"Timesheet!N47","v":0},{"$f":"Timesheet!K47","v":"19.10.2023"},{"$f":"Timesheet!B47","v":"E33036"}]
[{"$f":"Timesheet!C48","v":46769},{"$f":"Timesheet!AE48","v":0},{"$f":"Timesheet!N48","v":0},{"$f":"Timesheet!K48","v":"00:00:00"},{"$f":"Timesheet!B48","v":"E33036"}]
[{"$f":"Timesheet!C49","v":16845},{"$f":"Timesheet!AE49","v":0},{"$f":"Timesheet!N49","v":0},{"$f":"Timesheet!K49","v":"00:00:00"},{"$f":"Timesheet!B49","v":"E33036"}]
[{"$f":"Timesheet!C50","v":33960},{"$f":"Timesheet!AE50","v":0},{"$f":"Timesheet!N50","v":0},{"$f":"Timesheet!K50","v":"00:00:00"},{"$f":"Timesheet!B50","v":"E33036"}]
[{"$f":"Timesheet!C51","v":9019},{"$f":"Timesheet!AE51","v":0},{"$f":"Timesheet!N51","v":0},{"$f":"Timesheet!K51","v":"00:00:00"},{"$f":"Timesheet!B51","v":"E33036"}]
[{"$f":"Timesheet!C52","v":20207},{"$f":"Timesheet!AE52","v":0},{"$f":"Timesheet!N52","v":0},{"$f":"Timesheet!K52","v":"00:00:00"},{"$f":"Timesheet!B52","v":"E33036"}]
[{"$f":"Timesheet!C53","v":46771},{"$f":"Timesheet!AE53","v":0},{"$f":"Timesheet!N53","v":0},{"$f":"Timesheet!K53","v":"00:00:00"},{"$f":"Timesheet!B53","v":"E33036"}]
[{"$f":"Timesheet!C54","v":14387314},{"$f":"Timesheet!AE54","v":0},{"$f":"Timesheet!N54","v":0},{"$f":"Timesheet!K54","v":"00:00:00"},{"$f":"Timesheet!B54","v":"E33036"}]
[{"$f":"Timesheet!C55","v":38898},{"$f":"Timesheet!AE55","v":0},{"$f":"Timesheet!N55","v":0},{"$f":"Timesheet!K55","v":"00:00:00"},{"$f":"Timesheet!B55","v":"E33036"}]
[{"$f":"Timesheet!C56","v":14016208},{"$f":"Timesheet!AE56","v":0},{"$f":"Timesheet!N56","v":0},{"$f":"Timesheet!K56","v":"00:00:00"},{"$f":"Timesheet!B56","v":"E33036"}]
[{"$f":"Timesheet!C57","v":38962},{"$f":"Timesheet!AE57","v":0},{"$f":"Timesheet!N57","v":0},{"$f":"Timesheet!K57","v":"00:00:00"},{"$f":"Timesheet!B57","v":"E33036"}]
[{"$f":"Timesheet!C58","v":39361},{"$f":"Timesheet!AE58","v":0},{"$f":"Timesheet!N58","v":0},{"$f":"Timesheet!K58","v":"00:00:00"},{"$f":"Timesheet!B58","v":"E33036"}]
[{"$f":"Timesheet!C59","v":37015},{"$f":"Timesheet!AE59","v":0},{"$f":"Timesheet!N59","v":0},{"$f":"Timesheet!K59","v":"00:00:00"},{"$f":"Timesheet!B59","v":"E33036"}]
[{"$f":"Timesheet!C60","v":29683},{"$f":"Timesheet!AE60","v":0},{"$f":"Timesheet!N60","v":0},{"$f":"Timesheet!K60","v":"00:00:00"},{"$f":"Timesheet!B60","v":"E33036"}]
[{"$f":"Timesheet!C61","v":23115},{"$f":"Timesheet!AE61","v":0},{"$f":"Timesheet!N61","v":0},{"$f":"Timesheet!K61","v":"00:00:00"},{"$f":"Timesheet!B61","v":"E33036"}]
[{"$f":"Timesheet!C62","v":14037690},{"$f":"Timesheet!AE62","v":0},{"$f":"Timesheet!N62","v":0},{"$f":"Timesheet!K62","v":"00:00:00"},{"$f":"Timesheet!B62","v":"E33036"}]
[{"$f":"Timesheet!C63","v":12174},{"$f":"Timesheet!AE63","v":0},{"$f":"Timesheet!N63","v":0},{"$f":"Timesheet!K63","v":"00:00:00"},{"$f":"Timesheet!B63","v":"E33036"}]
[{"$f":"Timesheet!C64","v":13009},{"$f":"Timesheet!AE64","v":0},{"$f":"Timesheet!N64","v":0},{"$f":"Timesheet!K64","v":"00:00:00"},{"$f":"Timesheet!B64","v":"E33036"}]
[{"$f":"Timesheet!C65","v":51874},{"$f":"Timesheet!AE65","v":0},{"$f":"Timesheet!N65","v":0},{"$f":"Timesheet!K65","v":"00:00:00"},{"$f":"Timesheet!B65","v":"E33036"}]
[{"$f":"Timesheet!C66","v":45964},{"$f":"Timesheet!AE66","v":0},{"$f":"Timesheet!N66","v":0},{"$f":"Timesheet!K66","v":"00:00:00"},{"$f":"Timesheet!B66","v":"E33036"}]
[{"$f":"Timesheet!C67","v":54194},{"$f":"Timesheet!AE67","v":0},{"$f":"Timesheet!N67","v":0},{"$f":"Timesheet!K67","v":"00:00:00"},{"$f":"Timesheet!B67","v":"E33036"}]
[{"$f":"Timesheet!C68","v":14299640},{"$f":"Timesheet!AE68","v":0},{"$f":"Timesheet!N68","v":0},{"$f":"Timesheet!K68","v":"00:00:00"},{"$f":"Timesheet!B68","v":"E33036"}]
[{"$f":"Timesheet!C69","v":28604},{"$f":"Timesheet!AE69","v":0},{"$f":"Timesheet!N69","v":0},{"$f":"Timesheet!K69","v":"00:00:00"},{"$f":"Timesheet!B69","v":"E33036"}]
[{"$f":"Timesheet!C70","v":28602},{"$f":"Timesheet!AE70","v":0},{"$f":"Timesheet!N70","v":0},{"$f":"Timesheet!K70","v":"00:00:00"},{"$f":"Timesheet!B70","v":"E33036"}]
[{"$f":"Timesheet!C71","v":28989},{"$f":"Timesheet!AE71","v":0},{"$f":"Timesheet!N71","v":0},{"$f":"Timesheet!K71","v":"00:00:00"},{"$f":"Timesheet!B71","v":"E33036"}]
[{"$f":"Timesheet!C72","v":28779},{"$f":"Timesheet!AE72","v":0},{"$f":"Timesheet!N72","v":0},{"$f":"Timesheet!K72","v":"00:00:00"},{"$f":"Timesheet!B72","v":"E33036"}]
[{"$f":"Timesheet!C73","v":20013},{"$f":"Timesheet!AE73","v":0},{"$f":"Timesheet!N73","v":0},{"$f":"Timesheet!K73","v":"00:00:00"},{"$f":"Timesheet!B73","v":"E33036"}]
[{"$f":"Timesheet!C74","v":0},{"$f":"Timesheet!AE74","v":0},{"$f":"Timesheet!N74","v":0},{"$f":"Timesheet!K74","v":"00:00:00"},{"$f":"Timesheet!B74","v":0}]
[{"$f":"Timesheet!C75","v":0},{"$f":"Timesheet!AE75","v":0},{"$f":"Timesheet!N75","v":0},{"$f":"Timesheet!K75","v":"00:00:00"},{"$f":"Timesheet!B75","v":0}]
[{"$f":"Timesheet!C76","v":0},{"$f":"Timesheet!AE76","v":0},{"$f":"Timesheet!N76","v":0},{"$f":"Timesheet!K76","v":"00:00:00"},{"$f":"Timesheet!B76","v":0}]
[{"$f":"Timesheet!C77","v":0},{"$f":"Timesheet!AE77","v":0},{"$f":"Timesheet!N77","v":0},{"$f":"Timesheet!K77","v":"00:00:00"},{"$f":"Timesheet!B77","v":0}]
[{"$f":"Timesheet!C78","v":0},{"$f":"Timesheet!AE78","v":0},{"$f":"Timesheet!N78","v":0},{"$f":"Timesheet!K78","v":"00:00:00"},{"$f":"Timesheet!B78","v":0}]
[{"$f":"Timesheet!C79","v":0},{"$f":"Timesheet!AE79","v":0},{"$f":"Timesheet!N79","v":0},{"$f":"Timesheet!K79","v":"00:00:00"},{"$f":"Timesheet!B79","v":0}]
[{"$f":"Timesheet!C80","v":0},{"$f":"Timesheet!AE80","v":0},{"$f":"Timesheet!N80","v":0},{"$f":"Timesheet!K80","v":"00:00:00"},{"$f":"Timesheet!B80","v":0}]
[{"$f":"Timesheet!C81","v":0},{"$f":"Timesheet!AE81","v":0},{"$f":"Timesheet!N81","v":0},{"$f":"Timesheet!K81","v":"00:00:00"},{"$f":"Timesheet!B81","v":0}]
[{"$f":"Timesheet!C82","v":0},{"$f":"Timesheet!AE82","v":0},{"$f":"Timesheet!N82","v":0},{"$f":"Timesheet!K82","v":"00:00:00"},{"$f":"Timesheet!B82","v":0}]
[{"$f":"Timesheet!C83","v":0},{"$f":"Timesheet!AE83","v":0},{"$f":"Timesheet!N83","v":0},{"$f":"Timesheet!K83","v":"00:00:00"},{"$f":"Timesheet!B83","v":0}]
[{"$f":"Timesheet!C84","v":0},{"$f":"Timesheet!AE84","v":0},{"$f":"Timesheet!N84","v":0},{"$f":"Timesheet!K84","v":"00:00:00"},{"$f":"Timesheet!B84","v":0}]
[{"$f":"Timesheet!C85","v":0},{"$f":"Timesheet!AE85","v":0},{"$f":"Timesheet!N85","v":0},{"$f":"Timesheet!K85","v":"00:00:00"},{"$f":"Timesheet!B85","v":0}]
[{"$f":"Timesheet!C86","v":0},{"$f":"Timesheet!AE86","v":0},{"$f":"Timesheet!N86","v":0},{"$f":"Timesheet!K86","v":"00:00:00"},{"$f":"Timesheet!B86","v":0}]
[{"$f":"Timesheet!C87","v":0},{"$f":"Timesheet!AE87","v":0},{"$f":"Timesheet!N87","v":0},{"$f":"Timesheet!K87","v":"00:00:00"},{"$f":"Timesheet!B87","v":0}]
[{"$f":"Timesheet!C88","v":0},{"$f":"Timesheet!AE88","v":0},{"$f":"Timesheet!N88","v":0},{"$f":"Timesheet!K88","v":"00:00:00"},{"$f":"Timesheet!B88","v":0}]
[{"$f":"Timesheet!C89","v":0},{"$f":"Timesheet!AE89","v":0},{"$f":"Timesheet!N89","v":0},{"$f":"Timesheet!K89","v":"00:00:00"},{"$f":"Timesheet!B89","v":0}]
[{"$f":"Timesheet!C90","v":0},{"$f":"Timesheet!AE90","v":0},{"$f":"Timesheet!N90","v":0},{"$f":"Timesheet!K90","v":"00:00:00"},{"$f":"Timesheet!B90","v":0}]
[{"$f":"Timesheet!C91","v":0},{"$f":"Timesheet!AE91","v":0},{"$f":"Timesheet!N91","v":0},{"$f":"Timesheet!K91","v":"00:00:00"},{"$f":"Timesheet!B91","v":0}]
[{"$f":"Timesheet!C92","v":0},{"$f":"Timesheet!AE92","v":0},{"$f":"Timesheet!N92","v":0},{"$f":"Timesheet!K92","v":"00:00:00"},{"$f":"Timesheet!B92","v":0}]
[{"$f":"Timesheet!C93","v":0},{"$f":"Timesheet!AE93","v":0},{"$f":"Timesheet!N93","v":0},{"$f":"Timesheet!K93","v":"00:00:00"},{"$f":"Timesheet!B93","v":0}]
[{"$f":"Timesheet!C94","v":0},{"$f":"Timesheet!AE94","v":0},{"$f":"Timesheet!N94","v":0},{"$f":"Timesheet!K94","v":"00:00:00"},{"$f":"Timesheet!B94","v":0}]
[{"$f":"Timesheet!C95","v":0},{"$f":"Timesheet!AE95","v":0},{"$f":"Timesheet!N95","v":0},{"$f":"Timesheet!K95","v":"00:00:00"},{"$f":"Timesheet!B95","v":0}]
[{"$f":"Timesheet!C96","v":0},{"$f":"Timesheet!AE96","v":0},{"$f":"Timesheet!N96","v":0},{"$f":"Timesheet!K96","v":"00:00:00"},{"$f":"Timesheet!B96","v":0}]
[{"$f":"Timesheet!C97","v":0},{"$f":"Timesheet!AE97","v":0},{"$f":"Timesheet!N97","v":0},{"$f":"Timesheet!K97","v":"00:00:00"},{"$f":"Timesheet!B97","v":0}]
[{"$f":"Timesheet!C98","v":0},{"$f":"Timesheet!AE98","v":0},{"$f":"Timesheet!N98","v":0},{"$f":"Timesheet!K98","v":"00:00:00"},{"$f":"Timesheet!B98","v":0}]
[{"$f":"Timesheet!C99","v":0},{"$f":"Timesheet!AE99","v":0},{"$f":"Timesheet!N99","v":0},{"$f":"Timesheet!K99","v":"00:00:00"},{"$f":"Timesheet!B99","v":0}]
[{"$f":"Timesheet!C100","v":0},{"$f":"Timesheet!AE100","v":0},{"$f":"Timesheet!N100","v":0},{"$f":"Timesheet!K100","v":"00:00:00"},{"$f":"Timesheet!B100","v":0}]
[{"$f":"Timesheet!C101","v":0},{"$f":"Timesheet!AE101","v":0},{"$f":"Timesheet!N101","v":0},{"$f":"Timesheet!K101","v":"00:00:00"},{"$f":"Timesheet!B101","v":0}]
[{"$f":"Timesheet!C102","v":0},{"$f":"Timesheet!AE102","v":0},{"$f":"Timesheet!N102","v":0},{"$f":"Timesheet!K102","v":"00:00:00"},{"$f":"Timesheet!B102","v":0}]
[{"$f":"Timesheet!C103","v":0},{"$f":"Timesheet!AE103","v":0},{"$f":"Timesheet!N103","v":0},{"$f":"Timesheet!K103","v":"00:00:00"},{"$f":"Timesheet!B103","v":0}]
[{"$f":"Timesheet!C104","v":0},{"$f":"Timesheet!AE104","v":0},{"$f":"Timesheet!N104","v":0},{"$f":"Timesheet!K104","v":"00:00:00"},{"$f":"Timesheet!B104","v":0}]
[{"$f":"Timesheet!C105","v":0},{"$f":"Timesheet!AE105","v":0},{"$f":"Timesheet!N105","v":0},{"$f":"Timesheet!K105","v":"00:00:00"},{"$f":"Timesheet!B105","v":0}]
[{"$f":"Timesheet!C106","v":0},{"$f":"Timesheet!AE106","v":0},{"$f":"Timesheet!N106","v":0},{"$f":"Timesheet!K106","v":"00:00:00"},{"$f":"Timesheet!B106","v":0}]
[{"$f":"Timesheet!C107","v":0},{"$f":"Timesheet!AE107","v":0},{"$f":"Timesheet!N107","v":0},{"$f":"Timesheet!K107","v":"00:00:00"},{"$f":"Timesheet!B107","v":0}]
[{"$f":"Timesheet!C108","v":0},{"$f":"Timesheet!AE108","v":0},{"$f":"Timesheet!N108","v":0},{"$f":"Timesheet!K108","v":"00:00:00"},{"$f":"Timesheet!B108","v":0}]
[{"$f":"Timesheet!C109","v":0},{"$f":"Timesheet!AE109","v":0},{"$f":"Timesheet!N109","v":0},{"$f":"Timesheet!K109","v":"00:00:00"},{"$f":"Timesheet!B109","v":0}]
[{"$f":"Timesheet!C110","v":0},{"$f":"Timesheet!AE110","v":0},{"$f":"Timesheet!N110","v":0},{"$f":"Timesheet!K110","v":"00:00:00"},{"$f":"Timesheet!B110","v":0}]
[{"$f":"Timesheet!C111","v":0},{"$f":"Timesheet!AE111","v":0},{"$f":"Timesheet!N111","v":0},{"$f":"Timesheet!K111","v":"00:00:00"},{"$f":"Timesheet!B111","v":0}]
[{"$f":"Timesheet!C112","v":0},{"$f":"Timesheet!AE112","v":0},{"$f":"Timesheet!N112","v":0},{"$f":"Timesheet!K112","v":"00:00:00"},{"$f":"Timesheet!B112","v":0}]
[{"$f":"Timesheet!C113","v":0},{"$f":"Timesheet!AE113","v":0},{"$f":"Timesheet!N113","v":0},{"$f":"Timesheet!K113","v":"00:00:00"},{"$f":"Timesheet!B113","v":0}]
[{"$f":"Timesheet!C114","v":0},{"$f":"Timesheet!AE114","v":0},{"$f":"Timesheet!N114","v":0},{"$f":"Timesheet!K114","v":"00:00:00"},{"$f":"Timesheet!B114","v":0}]
[{"$f":"Timesheet!C115","v":0},{"$f":"Timesheet!AE115","v":0},{"$f":"Timesheet!N115","v":0},{"$f":"Timesheet!K115","v":"00:00:00"},{"$f":"Timesheet!B115","v":0}]
[{"$f":"Timesheet!C116","v":0},{"$f":"Timesheet!AE116","v":0},{"$f":"Timesheet!N116","v":0},{"$f":"Timesheet!K116","v":"00:00:00"},{"$f":"Timesheet!B116","v":0}]
[{"$f":"Timesheet!C117","v":0},{"$f":"Timesheet!AE117","v":0},{"$f":"Timesheet!N117","v":0},{"$f":"Timesheet!K117","v":"00:00:00"},{"$f":"Timesheet!B117","v":0}]
[{"$f":"Timesheet!C118","v":0},{"$f":"Timesheet!AE118","v":0},{"$f":"Timesheet!N118","v":0},{"$f":"Timesheet!K118","v":"00:00:00"},{"$f":"Timesheet!B118","v":0}]
[{"$f":"Timesheet!C119","v":0},{"$f":"Timesheet!AE119","v":0},{"$f":"Timesheet!N119","v":0},{"$f":"Timesheet!K119","v":"00:00:00"},{"$f":"Timesheet!B119","v":0}]
[{"$f":"Timesheet!C120","v":0},{"$f":"Timesheet!AE120","v":0},{"$f":"Timesheet!N120","v":0},{"$f":"Timesheet!K120","v":"00:00:00"},{"$f":"Timesheet!B120","v":0}]
[{"$f":"Timesheet!C121","v":0},{"$f":"Timesheet!AE121","v":0},{"$f":"Timesheet!N121","v":0},{"$f":"Timesheet!K121","v":"00:00:00"},{"$f":"Timesheet!B121","v":0}]
[{"$f":"Timesheet!C122","v":0},{"$f":"Timesheet!AE122","v":0},{"$f":"Timesheet!N122","v":0},{"$f":"Timesheet!K122","v":"00:00:00"},{"$f":"Timesheet!B122","v":0}]
[{"$f":"Timesheet!C123","v":0},{"$f":"Timesheet!AE123","v":0},{"$f":"Timesheet!N123","v":0},{"$f":"Timesheet!K123","v":"00:00:00"},{"$f":"Timesheet!B123","v":0}]
[{"$f":"Timesheet!C124","v":0},{"$f":"Timesheet!AE124","v":0},{"$f":"Timesheet!N124","v":0},{"$f":"Timesheet!K124","v":"00:00:00"},{"$f":"Timesheet!B124","v":0}]
[{"$f":"Timesheet!C125","v":0},{"$f":"Timesheet!AE125","v":0},{"$f":"Timesheet!N125","v":0},{"$f":"Timesheet!K125","v":"00:00:00"},{"$f":"Timesheet!B125","v":0}]
[{"$f":"Timesheet!C126","v":0},{"$f":"Timesheet!AE126","v":0},{"$f":"Timesheet!N126","v":0},{"$f":"Timesheet!K126","v":"00:00:00"},{"$f":"Timesheet!B126","v":0}]
[{"$f":"Timesheet!C127","v":0},{"$f":"Timesheet!AE127","v":0},{"$f":"Timesheet!N127","v":0},{"$f":"Timesheet!K127","v":"00:00:00"},{"$f":"Timesheet!B127","v":0}]
[{"$f":"Timesheet!C128","v":0},{"$f":"Timesheet!AE128","v":0},{"$f":"Timesheet!N128","v":0},{"$f":"Timesheet!K128","v":"00:00:00"},{"$f":"Timesheet!B128","v":0}]
[{"$f":"Timesheet!C129","v":0},{"$f":"Timesheet!AE129","v":0},{"$f":"Timesheet!N129","v":0},{"$f":"Timesheet!K129","v":"00:00:00"},{"$f":"Timesheet!B129","v":0}]
[{"$f":"Timesheet!C130","v":0},{"$f":"Timesheet!AE130","v":0},{"$f":"Timesheet!N130","v":0},{"$f":"Timesheet!K130","v":"00:00:00"},{"$f":"Timesheet!B130","v":0}]
[{"$f":"Timesheet!C131","v":0},{"$f":"Timesheet!AE131","v":0},{"$f":"Timesheet!N131","v":0},{"$f":"Timesheet!K131","v":"00:00:00"},{"$f":"Timesheet!B131","v":0}]
[{"$f":"Timesheet!C132","v":0},{"$f":"Timesheet!AE132","v":0},{"$f":"Timesheet!N132","v":0},{"$f":"Timesheet!K132","v":"00:00:00"},{"$f":"Timesheet!B132","v":0}]
[{"$f":"Timesheet!C133","v":0},{"$f":"Timesheet!AE133","v":0},{"$f":"Timesheet!N133","v":0},{"$f":"Timesheet!K133","v":"00:00:00"},{"$f":"Timesheet!B133","v":0}]
[{"$f":"Timesheet!C134","v":0},{"$f":"Timesheet!AE134","v":0},{"$f":"Timesheet!N134","v":0},{"$f":"Timesheet!K134","v":"00:00:00"},{"$f":"Timesheet!B134","v":0}]
[{"$f":"Timesheet!C135","v":0},{"$f":"Timesheet!AE135","v":0},{"$f":"Timesheet!N135","v":0},{"$f":"Timesheet!K135","v":"00:00:00"},{"$f":"Timesheet!B135","v":0}]
[{"$f":"Timesheet!C136","v":0},{"$f":"Timesheet!AE136","v":0},{"$f":"Timesheet!N136","v":0},{"$f":"Timesheet!K136","v":"00:00:00"},{"$f":"Timesheet!B136","v":0}]
[{"$f":"Timesheet!C137","v":0},{"$f":"Timesheet!AE137","v":0},{"$f":"Timesheet!N137","v":0},{"$f":"Timesheet!K137","v":"00:00:00"},{"$f":"Timesheet!B137","v":0}]
[{"$f":"Timesheet!C138","v":0},{"$f":"Timesheet!AE138","v":0},{"$f":"Timesheet!N138","v":0},{"$f":"Timesheet!K138","v":"00:00:00"},{"$f":"Timesheet!B138","v":0}]
[{"$f":"Timesheet!C139","v":0},{"$f":"Timesheet!AE139","v":0},{"$f":"Timesheet!N139","v":0},{"$f":"Timesheet!K139","v":"00:00:00"},{"$f":"Timesheet!B139","v":0}]
[{"$f":"Timesheet!C140","v":0},{"$f":"Timesheet!AE140","v":0},{"$f":"Timesheet!N140","v":0},{"$f":"Timesheet!K140","v":"00:00:00"},{"$f":"Timesheet!B140","v":0}]
[{"$f":"Timesheet!C141","v":0},{"$f":"Timesheet!AE141","v":0},{"$f":"Timesheet!N141","v":0},{"$f":"Timesheet!K141","v":"00:00:00"},{"$f":"Timesheet!B141","v":0}]
[{"$f":"Timesheet!C142","v":0},{"$f":"Timesheet!AE142","v":0},{"$f":"Timesheet!N142","v":0},{"$f":"Timesheet!K142","v":"00:00:00"},{"$f":"Timesheet!B142","v":0}]
[{"$f":"Timesheet!C143","v":0},{"$f":"Timesheet!AE143","v":0},{"$f":"Timesheet!N143","v":0},{"$f":"Timesheet!K143","v":"00:00:00"},{"$f":"Timesheet!B143","v":0}]
[{"$f":"Timesheet!C144","v":0},{"$f":"Timesheet!AE144","v":0},{"$f":"Timesheet!N144","v":0},{"$f":"Timesheet!K144","v":"00:00:00"},{"$f":"Timesheet!B144","v":0}]
[{"$f":"Timesheet!C145","v":0},{"$f":"Timesheet!AE145","v":0},{"$f":"Timesheet!N145","v":0},{"$f":"Timesheet!K145","v":"00:00:00"},{"$f":"Timesheet!B145","v":0}]
[{"$f":"Timesheet!C146","v":0},{"$f":"Timesheet!AE146","v":0},{"$f":"Timesheet!N146","v":0},{"$f":"Timesheet!K146","v":"00:00:00"},{"$f":"Timesheet!B146","v":0}]
[{"$f":"Timesheet!C147","v":0},{"$f":"Timesheet!AE147","v":0},{"$f":"Timesheet!N147","v":0},{"$f":"Timesheet!K147","v":"00:00:00"},{"$f":"Timesheet!B147","v":0}]
[{"$f":"Timesheet!C148","v":0},{"$f":"Timesheet!AE148","v":0},{"$f":"Timesheet!N148","v":0},{"$f":"Timesheet!K148","v":"00:00:00"},{"$f":"Timesheet!B148","v":0}]
[{"$f":"Timesheet!C149","v":0},{"$f":"Timesheet!AE149","v":0},{"$f":"Timesheet!N149","v":0},{"$f":"Timesheet!K149","v":"00:00:00"},{"$f":"Timesheet!B149","v":0}]
[{"$f":"Timesheet!C150","v":0},{"$f":"Timesheet!AE150","v":0},{"$f":"Timesheet!N150","v":0},{"$f":"Timesheet!K150","v":"00:00:00"},{"$f":"Timesheet!B150","v":0}]
[{"$f":"Timesheet!C151","v":0},{"$f":"Timesheet!AE151","v":0},{"$f":"Timesheet!N151","v":0},{"$f":"Timesheet!K151","v":"00:00:00"},{"$f":"Timesheet!B151","v":0}]
[{"$f":"Timesheet!C152","v":0},{"$f":"Timesheet!AE152","v":0},{"$f":"Timesheet!N152","v":0},{"$f":"Timesheet!K152","v":"00:00:00"},{"$f":"Timesheet!B152","v":0}]
[{"$f":"Timesheet!C153","v":0},{"$f":"Timesheet!AE153","v":0},{"$f":"Timesheet!N153","v":0},{"$f":"Timesheet!K153","v":"00:00:00"},{"$f":"Timesheet!B153","v":0}]
[{"$f":"Timesheet!C154","v":0},{"$f":"Timesheet!AE154","v":0},{"$f":"Timesheet!N154","v":0},{"$f":"Timesheet!K154","v":"00:00:00"},{"$f":"Timesheet!B154","v":0}]
[{"$f":"Timesheet!C155","v":0},{"$f":"Timesheet!AE155","v":0},{"$f":"Timesheet!N155","v":0},{"$f":"Timesheet!K155","v":"00:00:00"},{"$f":"Timesheet!B155","v":0}]
[{"$f":"Timesheet!C156","v":0},{"$f":"Timesheet!AE156","v":0},{"$f":"Timesheet!N156","v":0},{"$f":"Timesheet!K156","v":"00:00:00"},{"$f":"Timesheet!B156","v":0}]
[{"$f":"Timesheet!C157","v":0},{"$f":"Timesheet!AE157","v":0},{"$f":"Timesheet!N157","v":0},{"$f":"Timesheet!K157","v":"00:00:00"},{"$f":"Timesheet!B157","v":0}]
[{"$f":"Timesheet!C158","v":0},{"$f":"Timesheet!AE158","v":0},{"$f":"Timesheet!N158","v":0},{"$f":"Timesheet!K158","v":"00:00:00"},{"$f":"Timesheet!B158","v":0}]
[{"$f":"Timesheet!C159","v":0},{"$f":"Timesheet!AE159","v":0},{"$f":"Timesheet!N159","v":0},{"$f":"Timesheet!K159","v":"00:00:00"},{"$f":"Timesheet!B159","v":0}]
[{"$f":"Timesheet!C160","v":0},{"$f":"Timesheet!AE160","v":0},{"$f":"Timesheet!N160","v":0},{"$f":"Timesheet!K160","v":"00:00:00"},{"$f":"Timesheet!B160","v":0}]
[{"$f":"Timesheet!C161","v":0},{"$f":"Timesheet!AE161","v":0},{"$f":"Timesheet!N161","v":0},{"$f":"Timesheet!K161","v":"00:00:00"},{"$f":"Timesheet!B161","v":0}]
[{"$f":"Timesheet!C162","v":0},{"$f":"Timesheet!AE162","v":0},{"$f":"Timesheet!N162","v":0},{"$f":"Timesheet!K162","v":"00:00:00"},{"$f":"Timesheet!B162","v":0}]
[{"$f":"Timesheet!C163","v":0},{"$f":"Timesheet!AE163","v":0},{"$f":"Timesheet!N163","v":0},{"$f":"Timesheet!K163","v":"00:00:00"},{"$f":"Timesheet!B163","v":0}]
[{"$f":"Timesheet!C164","v":0},{"$f":"Timesheet!AE164","v":0},{"$f":"Timesheet!N164","v":0},{"$f":"Timesheet!K164","v":"00:00:00"},{"$f":"Timesheet!B164","v":0}]
[{"$f":"Timesheet!C165","v":0},{"$f":"Timesheet!AE165","v":0},{"$f":"Timesheet!N165","v":0},{"$f":"Timesheet!K165","v":"00:00:00"},{"$f":"Timesheet!B165","v":0}]
[{"$f":"Timesheet!C166","v":0},{"$f":"Timesheet!AE166","v":0},{"$f":"Timesheet!N166","v":0},{"$f":"Timesheet!K166","v":"00:00:00"},{"$f":"Timesheet!B166","v":0}]
[{"$f":"Timesheet!C167","v":0},{"$f":"Timesheet!AE167","v":0},{"$f":"Timesheet!N167","v":0},{"$f":"Timesheet!K167","v":"00:00:00"},{"$f":"Timesheet!B167","v":0}]
[{"$f":"Timesheet!C168","v":0},{"$f":"Timesheet!AE168","v":0},{"$f":"Timesheet!N168","v":0},{"$f":"Timesheet!K168","v":"00:00:00"},{"$f":"Timesheet!B168","v":0}]
[{"$f":"Timesheet!C169","v":0},{"$f":"Timesheet!AE169","v":0},{"$f":"Timesheet!N169","v":0},{"$f":"Timesheet!K169","v":"00:00:00"},{"$f":"Timesheet!B169","v":0}]
[{"$f":"Timesheet!C170","v":0},{"$f":"Timesheet!AE170","v":0},{"$f":"Timesheet!N170","v":0},{"$f":"Timesheet!K170","v":"00:00:00"},{"$f":"Timesheet!B170","v":0}]
[{"$f":"Timesheet!C171","v":0},{"$f":"Timesheet!AE171","v":0},{"$f":"Timesheet!N171","v":0},{"$f":"Timesheet!K171","v":"00:00:00"},{"$f":"Timesheet!B171","v":0}]
[{"$f":"Timesheet!C172","v":0},{"$f":"Timesheet!AE172","v":0},{"$f":"Timesheet!N172","v":0},{"$f":"Timesheet!K172","v":"00:00:00"},{"$f":"Timesheet!B172","v":0}]
[{"$f":"Timesheet!C173","v":0},{"$f":"Timesheet!AE173","v":0},{"$f":"Timesheet!N173","v":0},{"$f":"Timesheet!K173","v":"00:00:00"},{"$f":"Timesheet!B173","v":0}]
[{"$f":"Timesheet!C174","v":0},{"$f":"Timesheet!AE174","v":0},{"$f":"Timesheet!N174","v":0},{"$f":"Timesheet!K174","v":"00:00:00"},{"$f":"Timesheet!B174","v":0}]
[{"$f":"Timesheet!C175","v":0},{"$f":"Timesheet!AE175","v":0},{"$f":"Timesheet!N175","v":0},{"$f":"Timesheet!K175","v":"00:00:00"},{"$f":"Timesheet!B175","v":0}]
[{"$f":"Timesheet!C176","v":0},{"$f":"Timesheet!AE176","v":0},{"$f":"Timesheet!N176","v":0},{"$f":"Timesheet!K176","v":"00:00:00"},{"$f":"Timesheet!B176","v":0}]
[{"$f":"Timesheet!C177","v":0},{"$f":"Timesheet!AE177","v":0},{"$f":"Timesheet!N177","v":0},{"$f":"Timesheet!K177","v":"00:00:00"},{"$f":"Timesheet!B177","v":0}]
[{"$f":"Timesheet!C178","v":0},{"$f":"Timesheet!AE178","v":0},{"$f":"Timesheet!N178","v":0},{"$f":"Timesheet!K178","v":"00:00:00"},{"$f":"Timesheet!B178","v":0}]
[{"$f":"Timesheet!C179","v":0},{"$f":"Timesheet!AE179","v":0},{"$f":"Timesheet!N179","v":0},{"$f":"Timesheet!K179","v":"00:00:00"},{"$f":"Timesheet!B179","v":0}]
[{"$f":"Timesheet!C180","v":0},{"$f":"Timesheet!AE180","v":0},{"$f":"Timesheet!N180","v":0},{"$f":"Timesheet!K180","v":"00:00:00"},{"$f":"Timesheet!B180","v":0}]
[{"$f":"Timesheet!C181","v":0},{"$f":"Timesheet!AE181","v":0},{"$f":"Timesheet!N181","v":0},{"$f":"Timesheet!K181","v":"00:00:00"},{"$f":"Timesheet!B181","v":0}]
[{"$f":"Timesheet!C182","v":0},{"$f":"Timesheet!AE182","v":0},{"$f":"Timesheet!N182","v":0},{"$f":"Timesheet!K182","v":"00:00:00"},{"$f":"Timesheet!B182","v":0}]
[{"$f":"Timesheet!C183","v":0},{"$f":"Timesheet!AE183","v":0},{"$f":"Timesheet!N183","v":0},{"$f":"Timesheet!K183","v":"00:00:00"},{"$f":"Timesheet!B183","v":0}]
[{"$f":"Timesheet!C184","v":0},{"$f":"Timesheet!AE184","v":0},{"$f":"Timesheet!N184","v":0},{"$f":"Timesheet!K184","v":"00:00:00"},{"$f":"Timesheet!B184","v":0}]
[{"$f":"Timesheet!C185","v":0},{"$f":"Timesheet!AE185","v":0},{"$f":"Timesheet!N185","v":0},{"$f":"Timesheet!K185","v":"00:00:00"},{"$f":"Timesheet!B185","v":0}]
[{"$f":"Timesheet!C186","v":0},{"$f":"Timesheet!AE186","v":0},{"$f":"Timesheet!N186","v":0},{"$f":"Timesheet!K186","v":"00:00:00"},{"$f":"Timesheet!B186","v":0}]
[{"$f":"Timesheet!C187","v":0},{"$f":"Timesheet!AE187","v":0},{"$f":"Timesheet!N187","v":0},{"$f":"Timesheet!K187","v":"00:00:00"},{"$f":"Timesheet!B187","v":0}]
[{"$f":"Timesheet!C188","v":0},{"$f":"Timesheet!AE188","v":0},{"$f":"Timesheet!N188","v":0},{"$f":"Timesheet!K188","v":"00:00:00"},{"$f":"Timesheet!B188","v":0}]
[{"$f":"Timesheet!C189","v":0},{"$f":"Timesheet!AE189","v":0},{"$f":"Timesheet!N189","v":0},{"$f":"Timesheet!K189","v":"00:00:00"},{"$f":"Timesheet!B189","v":0}]
[{"$f":"Timesheet!C190","v":0},{"$f":"Timesheet!AE190","v":0},{"$f":"Timesheet!N190","v":0},{"$f":"Timesheet!K190","v":"00:00:00"},{"$f":"Timesheet!B190","v":0}]
[{"$f":"Timesheet!C191","v":0},{"$f":"Timesheet!AE191","v":0},{"$f":"Timesheet!N191","v":0},{"$f":"Timesheet!K191","v":"00:00:00"},{"$f":"Timesheet!B191","v":0}]
[{"$f":"Timesheet!C192","v":0},{"$f":"Timesheet!AE192","v":0},{"$f":"Timesheet!N192","v":0},{"$f":"Timesheet!K192","v":"00:00:00"},{"$f":"Timesheet!B192","v":0}]
[{"$f":"Timesheet!C193","v":0},{"$f":"Timesheet!AE193","v":0},{"$f":"Timesheet!N193","v":0},{"$f":"Timesheet!K193","v":"00:00:00"},{"$f":"Timesheet!B193","v":0}]
[{"$f":"Timesheet!C194","v":0},{"$f":"Timesheet!AE194","v":0},{"$f":"Timesheet!N194","v":0},{"$f":"Timesheet!K194","v":"00:00:00"},{"$f":"Timesheet!B194","v":0}]
[{"$f":"Timesheet!C195","v":0},{"$f":"Timesheet!AE195","v":0},{"$f":"Timesheet!N195","v":0},{"$f":"Timesheet!K195","v":"00:00:00"},{"$f":"Timesheet!B195","v":0}]
[{"$f":"Timesheet!C196","v":0},{"$f":"Timesheet!AE196","v":0},{"$f":"Timesheet!N196","v":0},{"$f":"Timesheet!K196","v":"00:00:00"},{"$f":"Timesheet!B196","v":0}]
[{"$f":"Timesheet!C197","v":0},{"$f":"Timesheet!AE197","v":0},{"$f":"Timesheet!N197","v":0},{"$f":"Timesheet!K197","v":"00:00:00"},{"$f":"Timesheet!B197","v":0}]
[{"$f":"Timesheet!C198","v":0},{"$f":"Timesheet!AE198","v":0},{"$f":"Timesheet!N198","v":0},{"$f":"Timesheet!K198","v":"00:00:00"},{"$f":"Timesheet!B198","v":0}]
[{"$f":"Timesheet!C199","v":0},{"$f":"Timesheet!AE199","v":0},{"$f":"Timesheet!N199","v":0},{"$f":"Timesheet!K199","v":"00:00:00"},{"$f":"Timesheet!B199","v":0}]
[{"$f":"Timesheet!C200","v":0},{"$f":"Timesheet!AE200","v":0},{"$f":"Timesheet!N200","v":0},{"$f":"Timesheet!K200","v":"00:00:00"},{"$f":"Timesheet!B200","v":0}]
[{"$f":"Timesheet!C201","v":0},{"$f":"Timesheet!AE201","v":0},{"$f":"Timesheet!N201","v":0},{"$f":"Timesheet!K201","v":"00:00:00"},{"$f":"Timesheet!B201","v":0}]
[{"$f":"Timesheet!C202","v":0},{"$f":"Timesheet!AE202","v":0},{"$f":"Timesheet!N202","v":0},{"$f":"Timesheet!K202","v":"00:00:00"},{"$f":"Timesheet!B202","v":0}]
[{"$f":"Timesheet!C203","v":0},{"$f":"Timesheet!AE203","v":0},{"$f":"Timesheet!N203","v":0},{"$f":"Timesheet!K203","v":"00:00:00"},{"$f":"Timesheet!B203","v":0}]
[{"$f":"Timesheet!C204","v":0},{"$f":"Timesheet!AE204","v":0},{"$f":"Timesheet!N204","v":0},{"$f":"Timesheet!K204","v":"00:00:00"},{"$f":"Timesheet!B204","v":0}]
[{"$f":"Timesheet!C205","v":0},{"$f":"Timesheet!AE205","v":0},{"$f":"Timesheet!N205","v":0},{"$f":"Timesheet!K205","v":"00:00:00"},{"$f":"Timesheet!B205","v":0}]
[{"$f":"Timesheet!C206","v":0},{"$f":"Timesheet!AE206","v":0},{"$f":"Timesheet!N206","v":0},{"$f":"Timesheet!K206","v":"00:00:00"},{"$f":"Timesheet!B206","v":0}]
[{"$f":"Timesheet!C207","v":0},{"$f":"Timesheet!AE207","v":0},{"$f":"Timesheet!N207","v":0},{"$f":"Timesheet!K207","v":"00:00:00"},{"$f":"Timesheet!B207","v":0}]
[{"$f":"Timesheet!C208","v":0},{"$f":"Timesheet!AE208","v":0},{"$f":"Timesheet!N208","v":0},{"$f":"Timesheet!K208","v":"00:00:00"},{"$f":"Timesheet!B208","v":0}]
[{"$f":"Timesheet!C209","v":0},{"$f":"Timesheet!AE209","v":0},{"$f":"Timesheet!N209","v":0},{"$f":"Timesheet!K209","v":"00:00:00"},{"$f":"Timesheet!B209","v":0}]
[{"$f":"Timesheet!C210","v":0},{"$f":"Timesheet!AE210","v":0},{"$f":"Timesheet!N210","v":0},{"$f":"Timesheet!K210","v":"00:00:00"},{"$f":"Timesheet!B210","v":0}]
[{"$f":"Timesheet!C211","v":0},{"$f":"Timesheet!AE211","v":0},{"$f":"Timesheet!N211","v":0},{"$f":"Timesheet!K211","v":"00:00:00"},{"$f":"Timesheet!B211","v":0}]
[{"$f":"Timesheet!C212","v":0},{"$f":"Timesheet!AE212","v":0},{"$f":"Timesheet!N212","v":0},{"$f":"Timesheet!K212","v":"00:00:00"},{"$f":"Timesheet!B212","v":0}]
[{"$f":"Timesheet!C213","v":0},{"$f":"Timesheet!AE213","v":0},{"$f":"Timesheet!N213","v":0},{"$f":"Timesheet!K213","v":"00:00:00"},{"$f":"Timesheet!B213","v":0}]
[{"$f":"Timesheet!C214","v":0},{"$f":"Timesheet!AE214","v":0},{"$f":"Timesheet!N214","v":0},{"$f":"Timesheet!K214","v":"00:00:00"},{"$f":"Timesheet!B214","v":0}]
[{"$f":"Timesheet!C215","v":0},{"$f":"Timesheet!AE215","v":0},{"$f":"Timesheet!N215","v":0},{"$f":"Timesheet!K215","v":"00:00:00"},{"$f":"Timesheet!B215","v":0}]
[{"$f":"Timesheet!C216","v":0},{"$f":"Timesheet!AE216","v":0},{"$f":"Timesheet!N216","v":0},{"$f":"Timesheet!K216","v":"00:00:00"},{"$f":"Timesheet!B216","v":0}]
[{"$f":"Timesheet!C217","v":0},{"$f":"Timesheet!AE217","v":0},{"$f":"Timesheet!N217","v":0},{"$f":"Timesheet!K217","v":"00:00:00"},{"$f":"Timesheet!B217","v":0}]
[{"$f":"Timesheet!C218","v":0},{"$f":"Timesheet!AE218","v":0},{"$f":"Timesheet!N218","v":0},{"$f":"Timesheet!K218","v":"00:00:00"},{"$f":"Timesheet!B218","v":0}]
[{"$f":"Timesheet!C219","v":0},{"$f":"Timesheet!AE219","v":0},{"$f":"Timesheet!N219","v":0},{"$f":"Timesheet!K219","v":"00:00:00"},{"$f":"Timesheet!B219","v":0}]
[{"$f":"Timesheet!C220","v":0},{"$f":"Timesheet!AE220","v":0},{"$f":"Timesheet!N220","v":0},{"$f":"Timesheet!K220","v":"00:00:00"},{"$f":"Timesheet!B220","v":0}]
[{"$f":"Timesheet!C221","v":0},{"$f":"Timesheet!AE221","v":0},{"$f":"Timesheet!N221","v":0},{"$f":"Timesheet!K221","v":"00:00:00"},{"$f":"Timesheet!B221","v":0}]
[{"$f":"Timesheet!C222","v":0},{"$f":"Timesheet!AE222","v":0},{"$f":"Timesheet!N222","v":0},{"$f":"Timesheet!K222","v":"00:00:00"},{"$f":"Timesheet!B222","v":0}]
[{"$f":"Timesheet!C223","v":0},{"$f":"Timesheet!AE223","v":0},{"$f":"Timesheet!N223","v":0},{"$f":"Timesheet!K223","v":"00:00:00"},{"$f":"Timesheet!B223","v":0}]
[{"$f":"Timesheet!C224","v":0},{"$f":"Timesheet!AE224","v":0},{"$f":"Timesheet!N224","v":0},{"$f":"Timesheet!K224","v":"00:00:00"},{"$f":"Timesheet!B224","v":0}]
[{"$f":"Timesheet!C225","v":0},{"$f":"Timesheet!AE225","v":0},{"$f":"Timesheet!N225","v":0},{"$f":"Timesheet!K225","v":"00:00:00"},{"$f":"Timesheet!B225","v":0}]
[{"$f":"Timesheet!C226","v":0},{"$f":"Timesheet!AE226","v":0},{"$f":"Timesheet!N226","v":0},{"$f":"Timesheet!K226","v":"00:00:00"},{"$f":"Timesheet!B226","v":0}]
[{"$f":"Timesheet!C227","v":0},{"$f":"Timesheet!AE227","v":0},{"$f":"Timesheet!N227","v":0},{"$f":"Timesheet!K227","v":"00:00:00"},{"$f":"Timesheet!B227","v":0}]
[{"$f":"Timesheet!C228","v":0},{"$f":"Timesheet!AE228","v":0},{"$f":"Timesheet!N228","v":0},{"$f":"Timesheet!K228","v":"00:00:00"},{"$f":"Timesheet!B228","v":0}]
[{"$f":"Timesheet!C229","v":0},{"$f":"Timesheet!AE229","v":0},{"$f":"Timesheet!N229","v":0},{"$f":"Timesheet!K229","v":"00:00:00"},{"$f":"Timesheet!B229","v":0}]
[{"$f":"Timesheet!C230","v":0},{"$f":"Timesheet!AE230","v":0},{"$f":"Timesheet!N230","v":0},{"$f":"Timesheet!K230","v":"00:00:00"},{"$f":"Timesheet!B230","v":0}]
[{"$f":"Timesheet!C231","v":0},{"$f":"Timesheet!AE231","v":0},{"$f":"Timesheet!N231","v":0},{"$f":"Timesheet!K231","v":"00:00:00"},{"$f":"Timesheet!B231","v":0}]
[{"$f":"Timesheet!C232","v":0},{"$f":"Timesheet!AE232","v":0},{"$f":"Timesheet!N232","v":0},{"$f":"Timesheet!K232","v":"00:00:00"},{"$f":"Timesheet!B232","v":0}]
[{"$f":"Timesheet!C233","v":0},{"$f":"Timesheet!AE233","v":0},{"$f":"Timesheet!N233","v":0},{"$f":"Timesheet!K233","v":"00:00:00"},{"$f":"Timesheet!B233","v":0}]
[{"$f":"Timesheet!C234","v":0},{"$f":"Timesheet!AE234","v":0},{"$f":"Timesheet!N234","v":0},{"$f":"Timesheet!K234","v":"00:00:00"},{"$f":"Timesheet!B234","v":0}]
[{"$f":"Timesheet!C235","v":0},{"$f":"Timesheet!AE235","v":0},{"$f":"Timesheet!N235","v":0},{"$f":"Timesheet!K235","v":"00:00:00"},{"$f":"Timesheet!B235","v":0}]
[{"$f":"Timesheet!C236","v":0},{"$f":"Timesheet!AE236","v":0},{"$f":"Timesheet!N236","v":0},{"$f":"Timesheet!K236","v":"00:00:00"},{"$f":"Timesheet!B236","v":0}]
[{"$f":"Timesheet!C237","v":0},{"$f":"Timesheet!AE237","v":0},{"$f":"Timesheet!N237","v":0},{"$f":"Timesheet!K237","v":"00:00:00"},{"$f":"Timesheet!B237","v":0}]
[{"$f":"Timesheet!C238","v":0},{"$f":"Timesheet!AE238","v":0},{"$f":"Timesheet!N238","v":0},{"$f":"Timesheet!K238","v":"00:00:00"},{"$f":"Timesheet!B238","v":0}]
[{"$f":"Timesheet!C239","v":0},{"$f":"Timesheet!AE239","v":0},{"$f":"Timesheet!N239","v":0},{"$f":"Timesheet!K239","v":"00:00:00"},{"$f":"Timesheet!B239","v":0}]
[{"$f":"Timesheet!C240","v":0},{"$f":"Timesheet!AE240","v":0},{"$f":"Timesheet!N240","v":0},{"$f":"Timesheet!K240","v":"00:00:00"},{"$f":"Timesheet!B240","v":0}]
[{"$f":"Timesheet!C241","v":0},{"$f":"Timesheet!AE241","v":0},{"$f":"Timesheet!N241","v":0},{"$f":"Timesheet!K241","v":"00:00:00"},{"$f":"Timesheet!B241","v":0}]
[{"$f":"Timesheet!C242","v":0},{"$f":"Timesheet!AE242","v":0},{"$f":"Timesheet!N242","v":0},{"$f":"Timesheet!K242","v":"00:00:00"},{"$f":"Timesheet!B242","v":0}]
[{"$f":"Timesheet!C243","v":0},{"$f":"Timesheet!AE243","v":0},{"$f":"Timesheet!N243","v":0},{"$f":"Timesheet!K243","v":"00:00:00"},{"$f":"Timesheet!B243","v":0}]
[{"$f":"Timesheet!C244","v":0},{"$f":"Timesheet!AE244","v":0},{"$f":"Timesheet!N244","v":0},{"$f":"Timesheet!K244","v":"00:00:00"},{"$f":"Timesheet!B244","v":0}]
[{"$f":"Timesheet!C245","v":0},{"$f":"Timesheet!AE245","v":0},{"$f":"Timesheet!N245","v":0},{"$f":"Timesheet!K245","v":"00:00:00"},{"$f":"Timesheet!B245","v":0}]
[{"$f":"Timesheet!C246","v":0},{"$f":"Timesheet!AE246","v":0},{"$f":"Timesheet!N246","v":0},{"$f":"Timesheet!K246","v":"00:00:00"},{"$f":"Timesheet!B246","v":0}]
[{"$f":"Timesheet!C247","v":0},{"$f":"Timesheet!AE247","v":0},{"$f":"Timesheet!N247","v":0},{"$f":"Timesheet!K247","v":"00:00:00"},{"$f":"Timesheet!B247","v":0}]
[{"$f":"Timesheet!C248","v":0},{"$f":"Timesheet!AE248","v":0},{"$f":"Timesheet!N248","v":0},{"$f":"Timesheet!K248","v":"00:00:00"},{"$f":"Timesheet!B248","v":0}]
[{"$f":"Timesheet!C249","v":0},{"$f":"Timesheet!AE249","v":0},{"$f":"Timesheet!N249","v":0},{"$f":"Timesheet!K249","v":"00:00:00"},{"$f":"Timesheet!B249","v":0}]
[{"$f":"Timesheet!C250","v":0},{"$f":"Timesheet!AE250","v":0},{"$f":"Timesheet!N250","v":0},{"$f":"Timesheet!K250","v":"00:00:00"},{"$f":"Timesheet!B250","v":0}]
[{"$f":"Timesheet!C251","v":0},{"$f":"Timesheet!AE251","v":0},{"$f":"Timesheet!N251","v":0},{"$f":"Timesheet!K251","v":"00:00:00"},{"$f":"Timesheet!B251","v":0}]
[{"$f":"Timesheet!C252","v":0},{"$f":"Timesheet!AE252","v":0},{"$f":"Timesheet!N252","v":0},{"$f":"Timesheet!K252","v":"00:00:00"},{"$f":"Timesheet!B252","v":0}]
[{"$f":"Timesheet!C253","v":0},{"$f":"Timesheet!AE253","v":0},{"$f":"Timesheet!N253","v":0},{"$f":"Timesheet!K253","v":"00:00:00"},{"$f":"Timesheet!B253","v":0}]
[{"$f":"Timesheet!C254","v":0},{"$f":"Timesheet!AE254","v":0},{"$f":"Timesheet!N254","v":0},{"$f":"Timesheet!K254","v":"00:00:00"},{"$f":"Timesheet!B254","v":0}]
[{"$f":"Timesheet!C255","v":0},{"$f":"Timesheet!AE255","v":0},{"$f":"Timesheet!N255","v":0},{"$f":"Timesheet!K255","v":"00:00:00"},{"$f":"Timesheet!B255","v":0}]
[{"$f":"Timesheet!C256","v":0},{"$f":"Timesheet!AE256","v":0},{"$f":"Timesheet!N256","v":0},{"$f":"Timesheet!K256","v":"00:00:00"},{"$f":"Timesheet!B256","v":0}]
[{"$f":"Timesheet!C257","v":0},{"$f":"Timesheet!AE257","v":0},{"$f":"Timesheet!N257","v":0},{"$f":"Timesheet!K257","v":"00:00:00"},{"$f":"Timesheet!B257","v":0}]
[{"$f":"Timesheet!C258","v":0},{"$f":"Timesheet!AE258","v":0},{"$f":"Timesheet!N258","v":0},{"$f":"Timesheet!K258","v":"00:00:00"},{"$f":"Timesheet!B258","v":0}]
[{"$f":"Timesheet!C259","v":0},{"$f":"Timesheet!AE259","v":0},{"$f":"Timesheet!N259","v":0},{"$f":"Timesheet!K259","v":"00:00:00"},{"$f":"Timesheet!B259","v":0}]
[{"$f":"Timesheet!C260","v":0},{"$f":"Timesheet!AE260","v":0},{"$f":"Timesheet!N260","v":0},{"$f":"Timesheet!K260","v":"00:00:00"},{"$f":"Timesheet!B260","v":0}]
[{"$f":"Timesheet!C261","v":0},{"$f":"Timesheet!AE261","v":0},{"$f":"Timesheet!N261","v":0},{"$f":"Timesheet!K261","v":"00:00:00"},{"$f":"Timesheet!B261","v":0}]
[{"$f":"Timesheet!C262","v":0},{"$f":"Timesheet!AE262","v":0},{"$f":"Timesheet!N262","v":0},{"$f":"Timesheet!K262","v":"00:00:00"},{"$f":"Timesheet!B262","v":0}]
[{"$f":"Timesheet!C263","v":0},{"$f":"Timesheet!AE263","v":0},{"$f":"Timesheet!N263","v":0},{"$f":"Timesheet!K263","v":"00:00:00"},{"$f":"Timesheet!B263","v":0}]
[{"$f":"Timesheet!C264","v":0},{"$f":"Timesheet!AE264","v":0},{"$f":"Timesheet!N264","v":0},{"$f":"Timesheet!K264","v":"00:00:00"},{"$f":"Timesheet!B264","v":0}]
[{"$f":"Timesheet!C265","v":0},{"$f":"Timesheet!AE265","v":0},{"$f":"Timesheet!N265","v":0},{"$f":"Timesheet!K265","v":"00:00:00"},{"$f":"Timesheet!B265","v":0}]
[{"$f":"Timesheet!C266","v":0},{"$f":"Timesheet!AE266","v":0},{"$f":"Timesheet!N266","v":0},{"$f":"Timesheet!K266","v":"00:00:00"},{"$f":"Timesheet!B266","v":0}]
[{"$f":"Timesheet!C267","v":0},{"$f":"Timesheet!AE267","v":0},{"$f":"Timesheet!N267","v":0},{"$f":"Timesheet!K267","v":"00:00:00"},{"$f":"Timesheet!B267","v":0}]
[{"$f":"Timesheet!C268","v":0},{"$f":"Timesheet!AE268","v":0},{"$f":"Timesheet!N268","v":0},{"$f":"Timesheet!K268","v":"00:00:00"},{"$f":"Timesheet!B268","v":0}]
[{"$f":"Timesheet!C269","v":0},{"$f":"Timesheet!AE269","v":0},{"$f":"Timesheet!N269","v":0},{"$f":"Timesheet!K269","v":"00:00:00"},{"$f":"Timesheet!B269","v":0}]
[{"$f":"Timesheet!C270","v":0},{"$f":"Timesheet!AE270","v":0},{"$f":"Timesheet!N270","v":0},{"$f":"Timesheet!K270","v":"00:00:00"},{"$f":"Timesheet!B270","v":0}]
[{"$f":"Timesheet!C271","v":0},{"$f":"Timesheet!AE271","v":0},{"$f":"Timesheet!N271","v":0},{"$f":"Timesheet!K271","v":"00:00:00"},{"$f":"Timesheet!B271","v":0}]
[{"$f":"Timesheet!C272","v":0},{"$f":"Timesheet!AE272","v":0},{"$f":"Timesheet!N272","v":0},{"$f":"Timesheet!K272","v":"00:00:00"},{"$f":"Timesheet!B272","v":0}]
[{"$f":"Timesheet!C273","v":0},{"$f":"Timesheet!AE273","v":0},{"$f":"Timesheet!N273","v":0},{"$f":"Timesheet!K273","v":"00:00:00"},{"$f":"Timesheet!B273","v":0}]
[{"$f":"Timesheet!C274","v":0},{"$f":"Timesheet!AE274","v":0},{"$f":"Timesheet!N274","v":0},{"$f":"Timesheet!K274","v":"00:00:00"},{"$f":"Timesheet!B274","v":0}]
[{"$f":"Timesheet!C275","v":0},{"$f":"Timesheet!AE275","v":0},{"$f":"Timesheet!N275","v":0},{"$f":"Timesheet!K275","v":"00:00:00"},{"$f":"Timesheet!B275","v":0}]
[{"$f":"Timesheet!C276","v":0},{"$f":"Timesheet!AE276","v":0},{"$f":"Timesheet!N276","v":0},{"$f":"Timesheet!K276","v":"00:00:00"},{"$f":"Timesheet!B276","v":0}]
[{"$f":"Timesheet!C277","v":0},{"$f":"Timesheet!AE277","v":0},{"$f":"Timesheet!N277","v":0},{"$f":"Timesheet!K277","v":"00:00:00"},{"$f":"Timesheet!B277","v":0}]
[{"$f":"Timesheet!C278","v":0},{"$f":"Timesheet!AE278","v":0},{"$f":"Timesheet!N278","v":0},{"$f":"Timesheet!K278","v":"00:00:00"},{"$f":"Timesheet!B278","v":0}]
[{"$f":"Timesheet!C279","v":0},{"$f":"Timesheet!AE279","v":0},{"$f":"Timesheet!N279","v":0},{"$f":"Timesheet!K279","v":"00:00:00"},{"$f":"Timesheet!B279","v":0}]
[{"$f":"Timesheet!C280","v":0},{"$f":"Timesheet!AE280","v":0},{"$f":"Timesheet!N280","v":0},{"$f":"Timesheet!K280","v":"00:00:00"},{"$f":"Timesheet!B280","v":0}]
[{"$f":"Timesheet!C281","v":0},{"$f":"Timesheet!AE281","v":0},{"$f":"Timesheet!N281","v":0},{"$f":"Timesheet!K281","v":"00:00:00"},{"$f":"Timesheet!B281","v":0}]
[{"$f":"Timesheet!C282","v":0},{"$f":"Timesheet!AE282","v":0},{"$f":"Timesheet!N282","v":0},{"$f":"Timesheet!K282","v":"00:00:00"},{"$f":"Timesheet!B282","v":0}]
[{"$f":"Timesheet!C283","v":0},{"$f":"Timesheet!AE283","v":0},{"$f":"Timesheet!N283","v":0},{"$f":"Timesheet!K283","v":"00:00:00"},{"$f":"Timesheet!B283","v":0}]
[{"$f":"Timesheet!C284","v":0},{"$f":"Timesheet!AE284","v":0},{"$f":"Timesheet!N284","v":0},{"$f":"Timesheet!K284","v":"00:00:00"},{"$f":"Timesheet!B284","v":0}]
[{"$f":"Timesheet!C285","v":0},{"$f":"Timesheet!AE285","v":0},{"$f":"Timesheet!N285","v":0},{"$f":"Timesheet!K285","v":"00:00:00"},{"$f":"Timesheet!B285","v":0}]
[{"$f":"Timesheet!C286","v":0},{"$f":"Timesheet!AE286","v":0},{"$f":"Timesheet!N286","v":0},{"$f":"Timesheet!K286","v":"00:00:00"},{"$f":"Timesheet!B286","v":0}]
[{"$f":"Timesheet!C287","v":0},{"$f":"Timesheet!AE287","v":0},{"$f":"Timesheet!N287","v":0},{"$f":"Timesheet!K287","v":"00:00:00"},{"$f":"Timesheet!B287","v":0}]
[{"$f":"Timesheet!C288","v":0},{"$f":"Timesheet!AE288","v":0},{"$f":"Timesheet!N288","v":0},{"$f":"Timesheet!K288","v":"00:00:00"},{"$f":"Timesheet!B288","v":0}]
[{"$f":"Timesheet!C289","v":0},{"$f":"Timesheet!AE289","v":0},{"$f":"Timesheet!N289","v":0},{"$f":"Timesheet!K289","v":"00:00:00"},{"$f":"Timesheet!B289","v":0}]
[{"$f":"Timesheet!C290","v":0},{"$f":"Timesheet!AE290","v":0},{"$f":"Timesheet!N290","v":0},{"$f":"Timesheet!K290","v":"00:00:00"},{"$f":"Timesheet!B290","v":0}]
[{"$f":"Timesheet!C291","v":0},{"$f":"Timesheet!AE291","v":0},{"$f":"Timesheet!N291","v":0},{"$f":"Timesheet!K291","v":"00:00:00"},{"$f":"Timesheet!B291","v":0}]
[{"$f":"Timesheet!C292","v":0},{"$f":"Timesheet!AE292","v":0},{"$f":"Timesheet!N292","v":0},{"$f":"Timesheet!K292","v":"00:00:00"},{"$f":"Timesheet!B292","v":0}]
[{"$f":"Timesheet!C293","v":0},{"$f":"Timesheet!AE293","v":0},{"$f":"Timesheet!N293","v":0},{"$f":"Timesheet!K293","v":"00:00:00"},{"$f":"Timesheet!B293","v":0}]
[{"$f":"Timesheet!C294","v":0},{"$f":"Timesheet!AE294","v":0},{"$f":"Timesheet!N294","v":0},{"$f":"Timesheet!K294","v":"00:00:00"},{"$f":"Timesheet!B294","v":0}]
[{"$f":"Timesheet!C295","v":0},{"$f":"Timesheet!AE295","v":0},{"$f":"Timesheet!N295","v":0},{"$f":"Timesheet!K295","v":"00:00:00"},{"$f":"Timesheet!B295","v":0}]
[{"$f":"Timesheet!C296","v":0},{"$f":"Timesheet!AE296","v":0},{"$f":"Timesheet!N296","v":0},{"$f":"Timesheet!K296","v":"00:00:00"},{"$f":"Timesheet!B296","v":0}]
[{"$f":"Timesheet!C297","v":0},{"$f":"Timesheet!AE297","v":0},{"$f":"Timesheet!N297","v":0},{"$f":"Timesheet!K297","v":"00:00:00"},{"$f":"Timesheet!B297","v":0}]
[{"$f":"Timesheet!C298","v":0},{"$f":"Timesheet!AE298","v":0},{"$f":"Timesheet!N298","v":0},{"$f":"Timesheet!K298","v":"00:00:00"},{"$f":"Timesheet!B298","v":0}]
[{"$f":"Timesheet!C299","v":0},{"$f":"Timesheet!AE299","v":0},{"$f":"Timesheet!N299","v":0},{"$f":"Timesheet!K299","v":"00:00:00"},{"$f":"Timesheet!B299","v":0}]
[{"$f":"Timesheet!C300","v":0},{"$f":"Timesheet!AE300","v":0},{"$f":"Timesheet!N300","v":0},{"$f":"Timesheet!K300","v":"00:00:00"},{"$f":"Timesheet!B300","v":0}]
[{"$f":"Timesheet!C301","v":0},{"$f":"Timesheet!AE301","v":0},{"$f":"Timesheet!N301","v":0},{"$f":"Timesheet!K301","v":"00:00:00"},{"$f":"Timesheet!B301","v":0}]
[{"$f":"Timesheet!C302","v":0},{"$f":"Timesheet!AE302","v":0},{"$f":"Timesheet!N302","v":0},{"$f":"Timesheet!K302","v":"00:00:00"},{"$f":"Timesheet!B302","v":0}]
[{"$f":"Timesheet!C3","v":44789},{"$f":"Timesheet!AF3","v":0},{"$f":"Timesheet!P3","v":0},{"$f":"Timesheet!K3","v":"00:00:00"},{"$f":"Timesheet!B3","v":"E33036"}]
[{"$f":"Timesheet!C4","v":39452},{"$f":"Timesheet!AF4","v":0},{"$f":"Timesheet!P4","v":0},{"$f":"Timesheet!K4","v":"00:00:00"},{"$f":"Timesheet!B4","v":"E33036"}]
[{"$f":"Timesheet!C5","v":51119},{"$f":"Timesheet!AF5","v":0},{"$f":"Timesheet!P5","v":0},{"$f":"Timesheet!K5","v":"00:00:00"},{"$f":"Timesheet!B5","v":"E33036"}]
[{"$f":"Timesheet!C6","v":20999},{"$f":"Timesheet!AF6","v":0},{"$f":"Timesheet!P6","v":0},{"$f":"Timesheet!K6","v":"00:00:00"},{"$f":"Timesheet!B6","v":"E33036"}]
[{"$f":"Timesheet!C7","v":50140},{"$f":"Timesheet!AF7","v":0},{"$f":"Timesheet!P7","v":0},{"$f":"Timesheet!K7","v":"00:00:00"},{"$f":"Timesheet!B7","v":"E33036"}]
[{"$f":"Timesheet!C8","v":41120},{"$f":"Timesheet!AF8","v":0},{"$f":"Timesheet!P8","v":0},{"$f":"Timesheet!K8","v":"00:00:00"},{"$f":"Timesheet!B8","v":"E33036"}]
[{"$f":"Timesheet!C9","v":14019220},{"$f":"Timesheet!AF9","v":0},{"$f":"Timesheet!P9","v":0},{"$f":"Timesheet!K9","v":"00:00:00"},{"$f":"Timesheet!B9","v":"E33036"}]
[{"$f":"Timesheet!C10","v":33161},{"$f":"Timesheet!AF10","v":0},{"$f":"Timesheet!P10","v":0},{"$f":"Timesheet!K10","v":"00:00:00"},{"$f":"Timesheet!B10","v":"E33036"}]
[{"$f":"Timesheet!C11","v":44988},{"$f":"Timesheet!AF11","v":0},{"$f":"Timesheet!P11","v":0},{"$f":"Timesheet!K11","v":"00:00:00"},{"$f":"Timesheet!B11","v":"E33036"}]
[{"$f":"Timesheet!C12","v":19061},{"$f":"Timesheet!AF12","v":0},{"$f":"Timesheet!P12","v":0},{"$f":"Timesheet!K12","v":"00:00:00"},{"$f":"Timesheet!B12","v":"E33036"}]
[{"$f":"Timesheet!C13","v":42125},{"$f":"Timesheet!AF13","v":0},{"$f":"Timesheet!P13","v":0},{"$f":"Timesheet!K13","v":"00:00:00"},{"$f":"Timesheet!B13","v":"E33036"}]
[{"$f":"Timesheet!C14","v":35616},{"$f":"Timesheet!AF14","v":0},{"$f":"Timesheet!P14","v":0},{"$f":"Timesheet!K14","v":"00:00:00"},{"$f":"Timesheet!B14","v":"E33036"}]
[{"$f":"Timesheet!C15","v":11630},{"$f":"Timesheet!AF15","v":0},{"$f":"Timesheet!P15","v":0},{"$f":"Timesheet!K15","v":"00:00:00"},{"$f":"Timesheet!B15","v":"E33036"}]
[{"$f":"Timesheet!C16","v":33804},{"$f":"Timesheet!AF16","v":0},{"$f":"Timesheet!P16","v":0},{"$f":"Timesheet!K16","v":"00:00:00"},{"$f":"Timesheet!B16","v":"E33036"}]
[{"$f":"Timesheet!C17","v":11681},{"$f":"Timesheet!AF17","v":0},{"$f":"Timesheet!P17","v":0},{"$f":"Timesheet!K17","v":"00:00:00"},{"$f":"Timesheet!B17","v":"E33036"}]
[{"$f":"Timesheet!C18","v":51311},{"$f":"Timesheet!AF18","v":0},{"$f":"Timesheet!P18","v":0},{"$f":"Timesheet!K18","v":"00:00:00"},{"$f":"Timesheet!B18","v":"E33036"}]
[{"$f":"Timesheet!C19","v":19209},{"$f":"Timesheet!AF19","v":0},{"$f":"Timesheet!P19","v":0},{"$f":"Timesheet!K19","v":"00:00:00"},{"$f":"Timesheet!B19","v":"E33036"}]
[{"$f":"Timesheet!C20","v":40516},{"$f":"Timesheet!AF20","v":0},{"$f":"Timesheet!P20","v":0},{"$f":"Timesheet!K20","v":"00:00:00"},{"$f":"Timesheet!B20","v":"E33036"}]
[{"$f":"Timesheet!C21","v":42806},{"$f":"Timesheet!AF21","v":0},{"$f":"Timesheet!P21","v":0},{"$f":"Timesheet!K21","v":"00:00:00"},{"$f":"Timesheet!B21","v":"E33036"}]
[{"$f":"Timesheet!C22","v":47495},{"$f":"Timesheet!AF22","v":0},{"$f":"Timesheet!P22","v":0},{"$f":"Timesheet!K22","v":"00:00:00"},{"$f":"Timesheet!B22","v":"E33036"}]
[{"$f":"Timesheet!C23","v":38391},{"$f":"Timesheet!AF23","v":0},{"$f":"Timesheet!P23","v":0},{"$f":"Timesheet!K23","v":"00:00:00"},{"$f":"Timesheet!B23","v":"E33036"}]
[{"$f":"Timesheet!C24","v":28706},{"$f":"Timesheet!AF24","v":0},{"$f":"Timesheet!P24","v":0},{"$f":"Timesheet!K24","v":"00:00:00"},{"$f":"Timesheet!B24","v":"E33036"}]
[{"$f":"Timesheet!C25","v":44672},{"$f":"Timesheet!AF25","v":0},{"$f":"Timesheet!P25","v":0},{"$f":"Timesheet!K25","v":"00:00:00"},{"$f":"Timesheet!B25","v":"E33036"}]
[{"$f":"Timesheet!C26","v":14289262},{"$f":"Timesheet!AF26","v":0},{"$f":"Timesheet!P26","v":0},{"$f":"Timesheet!K26","v":"00:00:00"},{"$f":"Timesheet!B26","v":"E33036"}]
[{"$f":"Timesheet!C27","v":18068},{"$f":"Timesheet!AF27","v":0},{"$f":"Timesheet!P27","v":0},{"$f":"Timesheet!K27","v":"00:00:00"},{"$f":"Timesheet!B27","v":"E33036"}]
[{"$f":"Timesheet!C28","v":13209997},{"$f":"Timesheet!AF28","v":0},{"$f":"Timesheet!P28","v":0},{"$f":"Timesheet!K28","v":"00:00:00"},{"$f":"Timesheet!B28","v":"E33036"}]
[{"$f":"Timesheet!C29","v":59},{"$f":"Timesheet!AF29","v":0},{"$f":"Timesheet!P29","v":0},{"$f":"Timesheet!K29","v":"00:00:00"},{"$f":"Timesheet!B29","v":"E33036"}]
[{"$f":"Timesheet!C30","v":29923},{"$f":"Timesheet!AF30","v":0},{"$f":"Timesheet!P30","v":0},{"$f":"Timesheet!K30","v":"00:00:00"},{"$f":"Timesheet!B30","v":"E33036"}]
[{"$f":"Timesheet!C31","v":21790},{"$f":"Timesheet!AF31","v":0},{"$f":"Timesheet!P31","v":0},{"$f":"Timesheet!K31","v":"00:00:00"},{"$f":"Timesheet!B31","v":"E33036"}]
[{"$f":"Timesheet!C32","v":13016632},{"$f":"Timesheet!AF32","v":0},{"$f":"Timesheet!P32","v":0},{"$f":"Timesheet!K32","v":"00:00:00"},{"$f":"Timesheet!B32","v":"E33036"}]
[{"$f":"Timesheet!C33","v":13616632},{"$f":"Timesheet!AF33","v":0},{"$f":"Timesheet!P33","v":0},{"$f":"Timesheet!K33","v":"00:00:00"},{"$f":"Timesheet!B33","v":"E33036"}]
[{"$f":"Timesheet!C34","v":40046},{"$f":"Timesheet!AF34","v":0},{"$f":"Timesheet!P34","v":0},{"$f":"Timesheet!K34","v":"00:00:00"},{"$f":"Timesheet!B34","v":"E33036"}]
[{"$f":"Timesheet!C35","v":18140},{"$f":"Timesheet!AF35","v":0},{"$f":"Timesheet!P35","v":0},{"$f":"Timesheet!K35","v":"00:00:00"},{"$f":"Timesheet!B35","v":"E33036"}]
[{"$f":"Timesheet!C36","v":9922},{"$f":"Timesheet!AF36","v":0},{"$f":"Timesheet!P36","v":0},{"$f":"Timesheet!K36","v":"00:00:00"},{"$f":"Timesheet!B36","v":"E33036"}]
[{"$f":"Timesheet!C37","v":34724},{"$f":"Timesheet!AF37","v":0},{"$f":"Timesheet!P37","v":0},{"$f":"Timesheet!K37","v":"00:00:00"},{"$f":"Timesheet!B37","v":"E33036"}]
[{"$f":"Timesheet!C38","v":20933},{"$f":"Timesheet!AF38","v":0},{"$f":"Timesheet!P38","v":0},{"$f":"Timesheet!K38","v":"00:00:00"},{"$f":"Timesheet!B38","v":"E33036"}]
[{"$f":"Timesheet!C39","v":36025},{"$f":"Timesheet!AF39","v":0},{"$f":"Timesheet!P39","v":0},{"$f":"Timesheet!K39","v":"00:00:00"},{"$f":"Timesheet!B39","v":"E33036"}]
[{"$f":"Timesheet!C40","v":41681},{"$f":"Timesheet!AF40","v":0},{"$f":"Timesheet!P40","v":0},{"$f":"Timesheet!K40","v":"00:00:00"},{"$f":"Timesheet!B40","v":"E33036"}]
[{"$f":"Timesheet!C41","v":42644},{"$f":"Timesheet!AF41","v":0},{"$f":"Timesheet!P41","v":0},{"$f":"Timesheet!K41","v":"00:00:00"},{"$f":"Timesheet!B41","v":"E33036"}]
[{"$f":"Timesheet!C42","v":49476},{"$f":"Timesheet!AF42","v":0},{"$f":"Timesheet!P42","v":0},{"$f":"Timesheet!K42","v":"00:00:00"},{"$f":"Timesheet!B42","v":"E33036"}]
[{"$f":"Timesheet!C43","v":50978},{"$f":"Timesheet!AF43","v":0},{"$f":"Timesheet!P43","v":0},{"$f":"Timesheet!K43","v":"00:00:00"},{"$f":"Timesheet!B43","v":"E33036"}]
[{"$f":"Timesheet!C44","v":41705},{"$f":"Timesheet!AF44","v":0},{"$f":"Timesheet!P44","v":0},{"$f":"Timesheet!K44","v":"00:00:00"},{"$f":"Timesheet!B44","v":"E33036"}]
[{"$f":"Timesheet!C45","v":47311},{"$f":"Timesheet!AF45","v":0},{"$f":"Timesheet!P45","v":0},{"$f":"Timesheet!K45","v":"00:00:00"},{"$f":"Timesheet!B45","v":"E33036"}]
[{"$f":"Timesheet!C46","v":36728},{"$f":"Timesheet!AF46","v":0},{"$f":"Timesheet!P46","v":0},{"$f":"Timesheet!K46","v":"00:00:00"},{"$f":"Timesheet!B46","v":"E33036"}]
[{"$f":"Timesheet!C47","v":51863},{"$f":"Timesheet!AF47","v":0},{"$f":"Timesheet!P47","v":0},{"$f":"Timesheet!K47","v":"19.10.2023"},{"$f":"Timesheet!B47","v":"E33036"}]
[{"$f":"Timesheet!C48","v":46769},{"$f":"Timesheet!AF48","v":0},{"$f":"Timesheet!P48","v":0},{"$f":"Timesheet!K48","v":"00:00:00"},{"$f":"Timesheet!B48","v":"E33036"}]
[{"$f":"Timesheet!C49","v":16845},{"$f":"Timesheet!AF49","v":0},{"$f":"Timesheet!P49","v":0},{"$f":"Timesheet!K49","v":"00:00:00"},{"$f":"Timesheet!B49","v":"E33036"}]
[{"$f":"Timesheet!C50","v":33960},{"$f":"Timesheet!AF50","v":0},{"$f":"Timesheet!P50","v":0},{"$f":"Timesheet!K50","v":"00:00:00"},{"$f":"Timesheet!B50","v":"E33036"}]
[{"$f":"Timesheet!C51","v":9019},{"$f":"Timesheet!AF51","v":0},{"$f":"Timesheet!P51","v":0},{"$f":"Timesheet!K51","v":"00:00:00"},{"$f":"Timesheet!B51","v":"E33036"}]
[{"$f":"Timesheet!C52","v":20207},{"$f":"Timesheet!AF52","v":0},{"$f":"Timesheet!P52","v":0},{"$f":"Timesheet!K52","v":"00:00:00"},{"$f":"Timesheet!B52","v":"E33036"}]
[{"$f":"Timesheet!C53","v":46771},{"$f":"Timesheet!AF53","v":0},{"$f":"Timesheet!P53","v":0},{"$f":"Timesheet!K53","v":"00:00:00"},{"$f":"Timesheet!B53","v":"E33036"}]
[{"$f":"Timesheet!C54","v":14387314},{"$f":"Timesheet!AF54","v":0},{"$f":"Timesheet!P54","v":0},{"$f":"Timesheet!K54","v":"00:00:00"},{"$f":"Timesheet!B54","v":"E33036"}]
[{"$f":"Timesheet!C55","v":38898},{"$f":"Timesheet!AF55","v":0},{"$f":"Timesheet!P55","v":0},{"$f":"Timesheet!K55","v":"00:00:00"},{"$f":"Timesheet!B55","v":"E33036"}]
[{"$f":"Timesheet!C56","v":14016208},{"$f":"Timesheet!AF56","v":0},{"$f":"Timesheet!P56","v":0},{"$f":"Timesheet!K56","v":"00:00:00"},{"$f":"Timesheet!B56","v":"E33036"}]
[{"$f":"Timesheet!C57","v":38962},{"$f":"Timesheet!AF57","v":0},{"$f":"Timesheet!P57","v":0},{"$f":"Timesheet!K57","v":"00:00:00"},{"$f":"Timesheet!B57","v":"E33036"}]
[{"$f":"Timesheet!C58","v":39361},{"$f":"Timesheet!AF58","v":0},{"$f":"Timesheet!P58","v":0},{"$f":"Timesheet!K58","v":"00:00:00"},{"$f":"Timesheet!B58","v":"E33036"}]
[{"$f":"Timesheet!C59","v":37015},{"$f":"Timesheet!AF59","v":0},{"$f":"Timesheet!P59","v":0},{"$f":"Timesheet!K59","v":"00:00:00"},{"$f":"Timesheet!B59","v":"E33036"}]
[{"$f":"Timesheet!C60","v":29683},{"$f":"Timesheet!AF60","v":0},{"$f":"Timesheet!P60","v":0},{"$f":"Timesheet!K60","v":"00:00:00"},{"$f":"Timesheet!B60","v":"E33036"}]
[{"$f":"Timesheet!C61","v":23115},{"$f":"Timesheet!AF61","v":0},{"$f":"Timesheet!P61","v":0},{"$f":"Timesheet!K61","v":"00:00:00"},{"$f":"Timesheet!B61","v":"E33036"}]
[{"$f":"Timesheet!C62","v":14037690},{"$f":"Timesheet!AF62","v":0},{"$f":"Timesheet!P62","v":0},{"$f":"Timesheet!K62","v":"00:00:00"},{"$f":"Timesheet!B62","v":"E33036"}]
[{"$f":"Timesheet!C63","v":12174},{"$f":"Timesheet!AF63","v":0},{"$f":"Timesheet!P63","v":0},{"$f":"Timesheet!K63","v":"00:00:00"},{"$f":"Timesheet!B63","v":"E33036"}]
[{"$f":"Timesheet!C64","v":13009},{"$f":"Timesheet!AF64","v":0},{"$f":"Timesheet!P64","v":0},{"$f":"Timesheet!K64","v":"00:00:00"},{"$f":"Timesheet!B64","v":"E33036"}]
[{"$f":"Timesheet!C65","v":51874},{"$f":"Timesheet!AF65","v":0},{"$f":"Timesheet!P65","v":0},{"$f":"Timesheet!K65","v":"00:00:00"},{"$f":"Timesheet!B65","v":"E33036"}]
[{"$f":"Timesheet!C66","v":45964},{"$f":"Timesheet!AF66","v":0},{"$f":"Timesheet!P66","v":0},{"$f":"Timesheet!K66","v":"00:00:00"},{"$f":"Timesheet!B66","v":"E33036"}]
[{"$f":"Timesheet!C67","v":54194},{"$f":"Timesheet!AF67","v":0},{"$f":"Timesheet!P67","v":0},{"$f":"Timesheet!K67","v":"00:00:00"},{"$f":"Timesheet!B67","v":"E33036"}]
[{"$f":"Timesheet!C68","v":14299640},{"$f":"Timesheet!AF68","v":0},{"$f":"Timesheet!P68","v":0},{"$f":"Timesheet!K68","v":"00:00:00"},{"$f":"Timesheet!B68","v":"E33036"}]
[{"$f":"Timesheet!C69","v":28604},{"$f":"Timesheet!AF69","v":0},{"$f":"Timesheet!P69","v":0},{"$f":"Timesheet!K69","v":"00:00:00"},{"$f":"Timesheet!B69","v":"E33036"}]
[{"$f":"Timesheet!C70","v":28602},{"$f":"Timesheet!AF70","v":0},{"$f":"Timesheet!P70","v":0},{"$f":"Timesheet!K70","v":"00:00:00"},{"$f":"Timesheet!B70","v":"E33036"}]
[{"$f":"Timesheet!C71","v":28989},{"$f":"Timesheet!AF71","v":0},{"$f":"Timesheet!P71","v":0},{"$f":"Timesheet!K71","v":"00:00:00"},{"$f":"Timesheet!B71","v":"E33036"}]
[{"$f":"Timesheet!C72","v":28779},{"$f":"Timesheet!AF72","v":0},{"$f":"Timesheet!P72","v":0},{"$f":"Timesheet!K72","v":"00:00:00"},{"$f":"Timesheet!B72","v":"E33036"}]
[{"$f":"Timesheet!C73","v":20013},{"$f":"Timesheet!AF73","v":0},{"$f":"Timesheet!P73","v":0},{"$f":"Timesheet!K73","v":"00:00:00"},{"$f":"Timesheet!B73","v":"E33036"}]
[{"$f":"Timesheet!C74","v":0},{"$f":"Timesheet!AF74","v":0},{"$f":"Timesheet!P74","v":0},{"$f":"Timesheet!K74","v":"00:00:00"},{"$f":"Timesheet!B74","v":0}]
[{"$f":"Timesheet!C75","v":0},{"$f":"Timesheet!AF75","v":0},{"$f":"Timesheet!P75","v":0},{"$f":"Timesheet!K75","v":"00:00:00"},{"$f":"Timesheet!B75","v":0}]
[{"$f":"Timesheet!C76","v":0},{"$f":"Timesheet!AF76","v":0},{"$f":"Timesheet!P76","v":0},{"$f":"Timesheet!K76","v":"00:00:00"},{"$f":"Timesheet!B76","v":0}]
[{"$f":"Timesheet!C77","v":0},{"$f":"Timesheet!AF77","v":0},{"$f":"Timesheet!P77","v":0},{"$f":"Timesheet!K77","v":"00:00:00"},{"$f":"Timesheet!B77","v":0}]
[{"$f":"Timesheet!C78","v":0},{"$f":"Timesheet!AF78","v":0},{"$f":"Timesheet!P78","v":0},{"$f":"Timesheet!K78","v":"00:00:00"},{"$f":"Timesheet!B78","v":0}]
[{"$f":"Timesheet!C79","v":0},{"$f":"Timesheet!AF79","v":0},{"$f":"Timesheet!P79","v":0},{"$f":"Timesheet!K79","v":"00:00:00"},{"$f":"Timesheet!B79","v":0}]
[{"$f":"Timesheet!C80","v":0},{"$f":"Timesheet!AF80","v":0},{"$f":"Timesheet!P80","v":0},{"$f":"Timesheet!K80","v":"00:00:00"},{"$f":"Timesheet!B80","v":0}]
[{"$f":"Timesheet!C81","v":0},{"$f":"Timesheet!AF81","v":0},{"$f":"Timesheet!P81","v":0},{"$f":"Timesheet!K81","v":"00:00:00"},{"$f":"Timesheet!B81","v":0}]
[{"$f":"Timesheet!C82","v":0},{"$f":"Timesheet!AF82","v":0},{"$f":"Timesheet!P82","v":0},{"$f":"Timesheet!K82","v":"00:00:00"},{"$f":"Timesheet!B82","v":0}]
[{"$f":"Timesheet!C83","v":0},{"$f":"Timesheet!AF83","v":0},{"$f":"Timesheet!P83","v":0},{"$f":"Timesheet!K83","v":"00:00:00"},{"$f":"Timesheet!B83","v":0}]
[{"$f":"Timesheet!C84","v":0},{"$f":"Timesheet!AF84","v":0},{"$f":"Timesheet!P84","v":0},{"$f":"Timesheet!K84","v":"00:00:00"},{"$f":"Timesheet!B84","v":0}]
[{"$f":"Timesheet!C85","v":0},{"$f":"Timesheet!AF85","v":0},{"$f":"Timesheet!P85","v":0},{"$f":"Timesheet!K85","v":"00:00:00"},{"$f":"Timesheet!B85","v":0}]
[{"$f":"Timesheet!C86","v":0},{"$f":"Timesheet!AF86","v":0},{"$f":"Timesheet!P86","v":0},{"$f":"Timesheet!K86","v":"00:00:00"},{"$f":"Timesheet!B86","v":0}]
[{"$f":"Timesheet!C87","v":0},{"$f":"Timesheet!AF87","v":0},{"$f":"Timesheet!P87","v":0},{"$f":"Timesheet!K87","v":"00:00:00"},{"$f":"Timesheet!B87","v":0}]
[{"$f":"Timesheet!C88","v":0},{"$f":"Timesheet!AF88","v":0},{"$f":"Timesheet!P88","v":0},{"$f":"Timesheet!K88","v":"00:00:00"},{"$f":"Timesheet!B88","v":0}]
[{"$f":"Timesheet!C89","v":0},{"$f":"Timesheet!AF89","v":0},{"$f":"Timesheet!P89","v":0},{"$f":"Timesheet!K89","v":"00:00:00"},{"$f":"Timesheet!B89","v":0}]
[{"$f":"Timesheet!C90","v":0},{"$f":"Timesheet!AF90","v":0},{"$f":"Timesheet!P90","v":0},{"$f":"Timesheet!K90","v":"00:00:00"},{"$f":"Timesheet!B90","v":0}]
[{"$f":"Timesheet!C91","v":0},{"$f":"Timesheet!AF91","v":0},{"$f":"Timesheet!P91","v":0},{"$f":"Timesheet!K91","v":"00:00:00"},{"$f":"Timesheet!B91","v":0}]
[{"$f":"Timesheet!C92","v":0},{"$f":"Timesheet!AF92","v":0},{"$f":"Timesheet!P92","v":0},{"$f":"Timesheet!K92","v":"00:00:00"},{"$f":"Timesheet!B92","v":0}]
[{"$f":"Timesheet!C93","v":0},{"$f":"Timesheet!AF93","v":0},{"$f":"Timesheet!P93","v":0},{"$f":"Timesheet!K93","v":"00:00:00"},{"$f":"Timesheet!B93","v":0}]
[{"$f":"Timesheet!C94","v":0},{"$f":"Timesheet!AF94","v":0},{"$f":"Timesheet!P94","v":0},{"$f":"Timesheet!K94","v":"00:00:00"},{"$f":"Timesheet!B94","v":0}]
[{"$f":"Timesheet!C95","v":0},{"$f":"Timesheet!AF95","v":0},{"$f":"Timesheet!P95","v":0},{"$f":"Timesheet!K95","v":"00:00:00"},{"$f":"Timesheet!B95","v":0}]
[{"$f":"Timesheet!C96","v":0},{"$f":"Timesheet!AF96","v":0},{"$f":"Timesheet!P96","v":0},{"$f":"Timesheet!K96","v":"00:00:00"},{"$f":"Timesheet!B96","v":0}]
[{"$f":"Timesheet!C97","v":0},{"$f":"Timesheet!AF97","v":0},{"$f":"Timesheet!P97","v":0},{"$f":"Timesheet!K97","v":"00:00:00"},{"$f":"Timesheet!B97","v":0}]
[{"$f":"Timesheet!C98","v":0},{"$f":"Timesheet!AF98","v":0},{"$f":"Timesheet!P98","v":0},{"$f":"Timesheet!K98","v":"00:00:00"},{"$f":"Timesheet!B98","v":0}]
[{"$f":"Timesheet!C99","v":0},{"$f":"Timesheet!AF99","v":0},{"$f":"Timesheet!P99","v":0},{"$f":"Timesheet!K99","v":"00:00:00"},{"$f":"Timesheet!B99","v":0}]
[{"$f":"Timesheet!C100","v":0},{"$f":"Timesheet!AF100","v":0},{"$f":"Timesheet!P100","v":0},{"$f":"Timesheet!K100","v":"00:00:00"},{"$f":"Timesheet!B100","v":0}]
[{"$f":"Timesheet!C101","v":0},{"$f":"Timesheet!AF101","v":0},{"$f":"Timesheet!P101","v":0},{"$f":"Timesheet!K101","v":"00:00:00"},{"$f":"Timesheet!B101","v":0}]
[{"$f":"Timesheet!C102","v":0},{"$f":"Timesheet!AF102","v":0},{"$f":"Timesheet!P102","v":0},{"$f":"Timesheet!K102","v":"00:00:00"},{"$f":"Timesheet!B102","v":0}]
[{"$f":"Timesheet!C103","v":0},{"$f":"Timesheet!AF103","v":0},{"$f":"Timesheet!P103","v":0},{"$f":"Timesheet!K103","v":"00:00:00"},{"$f":"Timesheet!B103","v":0}]
[{"$f":"Timesheet!C104","v":0},{"$f":"Timesheet!AF104","v":0},{"$f":"Timesheet!P104","v":0},{"$f":"Timesheet!K104","v":"00:00:00"},{"$f":"Timesheet!B104","v":0}]
[{"$f":"Timesheet!C105","v":0},{"$f":"Timesheet!AF105","v":0},{"$f":"Timesheet!P105","v":0},{"$f":"Timesheet!K105","v":"00:00:00"},{"$f":"Timesheet!B105","v":0}]
[{"$f":"Timesheet!C106","v":0},{"$f":"Timesheet!AF106","v":0},{"$f":"Timesheet!P106","v":0},{"$f":"Timesheet!K106","v":"00:00:00"},{"$f":"Timesheet!B106","v":0}]
[{"$f":"Timesheet!C107","v":0},{"$f":"Timesheet!AF107","v":0},{"$f":"Timesheet!P107","v":0},{"$f":"Timesheet!K107","v":"00:00:00"},{"$f":"Timesheet!B107","v":0}]
[{"$f":"Timesheet!C108","v":0},{"$f":"Timesheet!AF108","v":0},{"$f":"Timesheet!P108","v":0},{"$f":"Timesheet!K108","v":"00:00:00"},{"$f":"Timesheet!B108","v":0}]
[{"$f":"Timesheet!C109","v":0},{"$f":"Timesheet!AF109","v":0},{"$f":"Timesheet!P109","v":0},{"$f":"Timesheet!K109","v":"00:00:00"},{"$f":"Timesheet!B109","v":0}]
[{"$f":"Timesheet!C110","v":0},{"$f":"Timesheet!AF110","v":0},{"$f":"Timesheet!P110","v":0},{"$f":"Timesheet!K110","v":"00:00:00"},{"$f":"Timesheet!B110","v":0}]
[{"$f":"Timesheet!C111","v":0},{"$f":"Timesheet!AF111","v":0},{"$f":"Timesheet!P111","v":0},{"$f":"Timesheet!K111","v":"00:00:00"},{"$f":"Timesheet!B111","v":0}]
[{"$f":"Timesheet!C112","v":0},{"$f":"Timesheet!AF112","v":0},{"$f":"Timesheet!P112","v":0},{"$f":"Timesheet!K112","v":"00:00:00"},{"$f":"Timesheet!B112","v":0}]
[{"$f":"Timesheet!C113","v":0},{"$f":"Timesheet!AF113","v":0},{"$f":"Timesheet!P113","v":0},{"$f":"Timesheet!K113","v":"00:00:00"},{"$f":"Timesheet!B113","v":0}]
[{"$f":"Timesheet!C114","v":0},{"$f":"Timesheet!AF114","v":0},{"$f":"Timesheet!P114","v":0},{"$f":"Timesheet!K114","v":"00:00:00"},{"$f":"Timesheet!B114","v":0}]
[{"$f":"Timesheet!C115","v":0},{"$f":"Timesheet!AF115","v":0},{"$f":"Timesheet!P115","v":0},{"$f":"Timesheet!K115","v":"00:00:00"},{"$f":"Timesheet!B115","v":0}]
[{"$f":"Timesheet!C116","v":0},{"$f":"Timesheet!AF116","v":0},{"$f":"Timesheet!P116","v":0},{"$f":"Timesheet!K116","v":"00:00:00"},{"$f":"Timesheet!B116","v":0}]
[{"$f":"Timesheet!C117","v":0},{"$f":"Timesheet!AF117","v":0},{"$f":"Timesheet!P117","v":0},{"$f":"Timesheet!K117","v":"00:00:00"},{"$f":"Timesheet!B117","v":0}]
[{"$f":"Timesheet!C118","v":0},{"$f":"Timesheet!AF118","v":0},{"$f":"Timesheet!P118","v":0},{"$f":"Timesheet!K118","v":"00:00:00"},{"$f":"Timesheet!B118","v":0}]
[{"$f":"Timesheet!C119","v":0},{"$f":"Timesheet!AF119","v":0},{"$f":"Timesheet!P119","v":0},{"$f":"Timesheet!K119","v":"00:00:00"},{"$f":"Timesheet!B119","v":0}]
[{"$f":"Timesheet!C120","v":0},{"$f":"Timesheet!AF120","v":0},{"$f":"Timesheet!P120","v":0},{"$f":"Timesheet!K120","v":"00:00:00"},{"$f":"Timesheet!B120","v":0}]
[{"$f":"Timesheet!C121","v":0},{"$f":"Timesheet!AF121","v":0},{"$f":"Timesheet!P121","v":0},{"$f":"Timesheet!K121","v":"00:00:00"},{"$f":"Timesheet!B121","v":0}]
[{"$f":"Timesheet!C122","v":0},{"$f":"Timesheet!AF122","v":0},{"$f":"Timesheet!P122","v":0},{"$f":"Timesheet!K122","v":"00:00:00"},{"$f":"Timesheet!B122","v":0}]
[{"$f":"Timesheet!C123","v":0},{"$f":"Timesheet!AF123","v":0},{"$f":"Timesheet!P123","v":0},{"$f":"Timesheet!K123","v":"00:00:00"},{"$f":"Timesheet!B123","v":0}]
[{"$f":"Timesheet!C124","v":0},{"$f":"Timesheet!AF124","v":0},{"$f":"Timesheet!P124","v":0},{"$f":"Timesheet!K124","v":"00:00:00"},{"$f":"Timesheet!B124","v":0}]
[{"$f":"Timesheet!C125","v":0},{"$f":"Timesheet!AF125","v":0},{"$f":"Timesheet!P125","v":0},{"$f":"Timesheet!K125","v":"00:00:00"},{"$f":"Timesheet!B125","v":0}]
[{"$f":"Timesheet!C126","v":0},{"$f":"Timesheet!AF126","v":0},{"$f":"Timesheet!P126","v":0},{"$f":"Timesheet!K126","v":"00:00:00"},{"$f":"Timesheet!B126","v":0}]
[{"$f":"Timesheet!C127","v":0},{"$f":"Timesheet!AF127","v":0},{"$f":"Timesheet!P127","v":0},{"$f":"Timesheet!K127","v":"00:00:00"},{"$f":"Timesheet!B127","v":0}]
[{"$f":"Timesheet!C128","v":0},{"$f":"Timesheet!AF128","v":0},{"$f":"Timesheet!P128","v":0},{"$f":"Timesheet!K128","v":"00:00:00"},{"$f":"Timesheet!B128","v":0}]
[{"$f":"Timesheet!C129","v":0},{"$f":"Timesheet!AF129","v":0},{"$f":"Timesheet!P129","v":0},{"$f":"Timesheet!K129","v":"00:00:00"},{"$f":"Timesheet!B129","v":0}]
[{"$f":"Timesheet!C130","v":0},{"$f":"Timesheet!AF130","v":0},{"$f":"Timesheet!P130","v":0},{"$f":"Timesheet!K130","v":"00:00:00"},{"$f":"Timesheet!B130","v":0}]
[{"$f":"Timesheet!C131","v":0},{"$f":"Timesheet!AF131","v":0},{"$f":"Timesheet!P131","v":0},{"$f":"Timesheet!K131","v":"00:00:00"},{"$f":"Timesheet!B131","v":0}]
[{"$f":"Timesheet!C132","v":0},{"$f":"Timesheet!AF132","v":0},{"$f":"Timesheet!P132","v":0},{"$f":"Timesheet!K132","v":"00:00:00"},{"$f":"Timesheet!B132","v":0}]
[{"$f":"Timesheet!C133","v":0},{"$f":"Timesheet!AF133","v":0},{"$f":"Timesheet!P133","v":0},{"$f":"Timesheet!K133","v":"00:00:00"},{"$f":"Timesheet!B133","v":0}]
[{"$f":"Timesheet!C134","v":0},{"$f":"Timesheet!AF134","v":0},{"$f":"Timesheet!P134","v":0},{"$f":"Timesheet!K134","v":"00:00:00"},{"$f":"Timesheet!B134","v":0}]
[{"$f":"Timesheet!C135","v":0},{"$f":"Timesheet!AF135","v":0},{"$f":"Timesheet!P135","v":0},{"$f":"Timesheet!K135","v":"00:00:00"},{"$f":"Timesheet!B135","v":0}]
[{"$f":"Timesheet!C136","v":0},{"$f":"Timesheet!AF136","v":0},{"$f":"Timesheet!P136","v":0},{"$f":"Timesheet!K136","v":"00:00:00"},{"$f":"Timesheet!B136","v":0}]
[{"$f":"Timesheet!C137","v":0},{"$f":"Timesheet!AF137","v":0},{"$f":"Timesheet!P137","v":0},{"$f":"Timesheet!K137","v":"00:00:00"},{"$f":"Timesheet!B137","v":0}]
[{"$f":"Timesheet!C138","v":0},{"$f":"Timesheet!AF138","v":0},{"$f":"Timesheet!P138","v":0},{"$f":"Timesheet!K138","v":"00:00:00"},{"$f":"Timesheet!B138","v":0}]
[{"$f":"Timesheet!C139","v":0},{"$f":"Timesheet!AF139","v":0},{"$f":"Timesheet!P139","v":0},{"$f":"Timesheet!K139","v":"00:00:00"},{"$f":"Timesheet!B139","v":0}]
[{"$f":"Timesheet!C140","v":0},{"$f":"Timesheet!AF140","v":0},{"$f":"Timesheet!P140","v":0},{"$f":"Timesheet!K140","v":"00:00:00"},{"$f":"Timesheet!B140","v":0}]
[{"$f":"Timesheet!C141","v":0},{"$f":"Timesheet!AF141","v":0},{"$f":"Timesheet!P141","v":0},{"$f":"Timesheet!K141","v":"00:00:00"},{"$f":"Timesheet!B141","v":0}]
[{"$f":"Timesheet!C142","v":0},{"$f":"Timesheet!AF142","v":0},{"$f":"Timesheet!P142","v":0},{"$f":"Timesheet!K142","v":"00:00:00"},{"$f":"Timesheet!B142","v":0}]
[{"$f":"Timesheet!C143","v":0},{"$f":"Timesheet!AF143","v":0},{"$f":"Timesheet!P143","v":0},{"$f":"Timesheet!K143","v":"00:00:00"},{"$f":"Timesheet!B143","v":0}]
[{"$f":"Timesheet!C144","v":0},{"$f":"Timesheet!AF144","v":0},{"$f":"Timesheet!P144","v":0},{"$f":"Timesheet!K144","v":"00:00:00"},{"$f":"Timesheet!B144","v":0}]
[{"$f":"Timesheet!C145","v":0},{"$f":"Timesheet!AF145","v":0},{"$f":"Timesheet!P145","v":0},{"$f":"Timesheet!K145","v":"00:00:00"},{"$f":"Timesheet!B145","v":0}]
[{"$f":"Timesheet!C146","v":0},{"$f":"Timesheet!AF146","v":0},{"$f":"Timesheet!P146","v":0},{"$f":"Timesheet!K146","v":"00:00:00"},{"$f":"Timesheet!B146","v":0}]
[{"$f":"Timesheet!C147","v":0},{"$f":"Timesheet!AF147","v":0},{"$f":"Timesheet!P147","v":0},{"$f":"Timesheet!K147","v":"00:00:00"},{"$f":"Timesheet!B147","v":0}]
[{"$f":"Timesheet!C148","v":0},{"$f":"Timesheet!AF148","v":0},{"$f":"Timesheet!P148","v":0},{"$f":"Timesheet!K148","v":"00:00:00"},{"$f":"Timesheet!B148","v":0}]
[{"$f":"Timesheet!C149","v":0},{"$f":"Timesheet!AF149","v":0},{"$f":"Timesheet!P149","v":0},{"$f":"Timesheet!K149","v":"00:00:00"},{"$f":"Timesheet!B149","v":0}]
[{"$f":"Timesheet!C150","v":0},{"$f":"Timesheet!AF150","v":0},{"$f":"Timesheet!P150","v":0},{"$f":"Timesheet!K150","v":"00:00:00"},{"$f":"Timesheet!B150","v":0}]
[{"$f":"Timesheet!C151","v":0},{"$f":"Timesheet!AF151","v":0},{"$f":"Timesheet!P151","v":0},{"$f":"Timesheet!K151","v":"00:00:00"},{"$f":"Timesheet!B151","v":0}]
[{"$f":"Timesheet!C152","v":0},{"$f":"Timesheet!AF152","v":0},{"$f":"Timesheet!P152","v":0},{"$f":"Timesheet!K152","v":"00:00:00"},{"$f":"Timesheet!B152","v":0}]
[{"$f":"Timesheet!C153","v":0},{"$f":"Timesheet!AF153","v":0},{"$f":"Timesheet!P153","v":0},{"$f":"Timesheet!K153","v":"00:00:00"},{"$f":"Timesheet!B153","v":0}]
[{"$f":"Timesheet!C154","v":0},{"$f":"Timesheet!AF154","v":0},{"$f":"Timesheet!P154","v":0},{"$f":"Timesheet!K154","v":"00:00:00"},{"$f":"Timesheet!B154","v":0}]
[{"$f":"Timesheet!C155","v":0},{"$f":"Timesheet!AF155","v":0},{"$f":"Timesheet!P155","v":0},{"$f":"Timesheet!K155","v":"00:00:00"},{"$f":"Timesheet!B155","v":0}]
[{"$f":"Timesheet!C156","v":0},{"$f":"Timesheet!AF156","v":0},{"$f":"Timesheet!P156","v":0},{"$f":"Timesheet!K156","v":"00:00:00"},{"$f":"Timesheet!B156","v":0}]
[{"$f":"Timesheet!C157","v":0},{"$f":"Timesheet!AF157","v":0},{"$f":"Timesheet!P157","v":0},{"$f":"Timesheet!K157","v":"00:00:00"},{"$f":"Timesheet!B157","v":0}]
[{"$f":"Timesheet!C158","v":0},{"$f":"Timesheet!AF158","v":0},{"$f":"Timesheet!P158","v":0},{"$f":"Timesheet!K158","v":"00:00:00"},{"$f":"Timesheet!B158","v":0}]
[{"$f":"Timesheet!C159","v":0},{"$f":"Timesheet!AF159","v":0},{"$f":"Timesheet!P159","v":0},{"$f":"Timesheet!K159","v":"00:00:00"},{"$f":"Timesheet!B159","v":0}]
[{"$f":"Timesheet!C160","v":0},{"$f":"Timesheet!AF160","v":0},{"$f":"Timesheet!P160","v":0},{"$f":"Timesheet!K160","v":"00:00:00"},{"$f":"Timesheet!B160","v":0}]
[{"$f":"Timesheet!C161","v":0},{"$f":"Timesheet!AF161","v":0},{"$f":"Timesheet!P161","v":0},{"$f":"Timesheet!K161","v":"00:00:00"},{"$f":"Timesheet!B161","v":0}]
[{"$f":"Timesheet!C162","v":0},{"$f":"Timesheet!AF162","v":0},{"$f":"Timesheet!P162","v":0},{"$f":"Timesheet!K162","v":"00:00:00"},{"$f":"Timesheet!B162","v":0}]
[{"$f":"Timesheet!C163","v":0},{"$f":"Timesheet!AF163","v":0},{"$f":"Timesheet!P163","v":0},{"$f":"Timesheet!K163","v":"00:00:00"},{"$f":"Timesheet!B163","v":0}]
[{"$f":"Timesheet!C164","v":0},{"$f":"Timesheet!AF164","v":0},{"$f":"Timesheet!P164","v":0},{"$f":"Timesheet!K164","v":"00:00:00"},{"$f":"Timesheet!B164","v":0}]
[{"$f":"Timesheet!C165","v":0},{"$f":"Timesheet!AF165","v":0},{"$f":"Timesheet!P165","v":0},{"$f":"Timesheet!K165","v":"00:00:00"},{"$f":"Timesheet!B165","v":0}]
[{"$f":"Timesheet!C166","v":0},{"$f":"Timesheet!AF166","v":0},{"$f":"Timesheet!P166","v":0},{"$f":"Timesheet!K166","v":"00:00:00"},{"$f":"Timesheet!B166","v":0}]
[{"$f":"Timesheet!C167","v":0},{"$f":"Timesheet!AF167","v":0},{"$f":"Timesheet!P167","v":0},{"$f":"Timesheet!K167","v":"00:00:00"},{"$f":"Timesheet!B167","v":0}]
[{"$f":"Timesheet!C168","v":0},{"$f":"Timesheet!AF168","v":0},{"$f":"Timesheet!P168","v":0},{"$f":"Timesheet!K168","v":"00:00:00"},{"$f":"Timesheet!B168","v":0}]
[{"$f":"Timesheet!C169","v":0},{"$f":"Timesheet!AF169","v":0},{"$f":"Timesheet!P169","v":0},{"$f":"Timesheet!K169","v":"00:00:00"},{"$f":"Timesheet!B169","v":0}]
[{"$f":"Timesheet!C170","v":0},{"$f":"Timesheet!AF170","v":0},{"$f":"Timesheet!P170","v":0},{"$f":"Timesheet!K170","v":"00:00:00"},{"$f":"Timesheet!B170","v":0}]
[{"$f":"Timesheet!C171","v":0},{"$f":"Timesheet!AF171","v":0},{"$f":"Timesheet!P171","v":0},{"$f":"Timesheet!K171","v":"00:00:00"},{"$f":"Timesheet!B171","v":0}]
[{"$f":"Timesheet!C172","v":0},{"$f":"Timesheet!AF172","v":0},{"$f":"Timesheet!P172","v":0},{"$f":"Timesheet!K172","v":"00:00:00"},{"$f":"Timesheet!B172","v":0}]
[{"$f":"Timesheet!C173","v":0},{"$f":"Timesheet!AF173","v":0},{"$f":"Timesheet!P173","v":0},{"$f":"Timesheet!K173","v":"00:00:00"},{"$f":"Timesheet!B173","v":0}]
[{"$f":"Timesheet!C174","v":0},{"$f":"Timesheet!AF174","v":0},{"$f":"Timesheet!P174","v":0},{"$f":"Timesheet!K174","v":"00:00:00"},{"$f":"Timesheet!B174","v":0}]
[{"$f":"Timesheet!C175","v":0},{"$f":"Timesheet!AF175","v":0},{"$f":"Timesheet!P175","v":0},{"$f":"Timesheet!K175","v":"00:00:00"},{"$f":"Timesheet!B175","v":0}]
[{"$f":"Timesheet!C176","v":0},{"$f":"Timesheet!AF176","v":0},{"$f":"Timesheet!P176","v":0},{"$f":"Timesheet!K176","v":"00:00:00"},{"$f":"Timesheet!B176","v":0}]
[{"$f":"Timesheet!C177","v":0},{"$f":"Timesheet!AF177","v":0},{"$f":"Timesheet!P177","v":0},{"$f":"Timesheet!K177","v":"00:00:00"},{"$f":"Timesheet!B177","v":0}]
[{"$f":"Timesheet!C178","v":0},{"$f":"Timesheet!AF178","v":0},{"$f":"Timesheet!P178","v":0},{"$f":"Timesheet!K178","v":"00:00:00"},{"$f":"Timesheet!B178","v":0}]
[{"$f":"Timesheet!C179","v":0},{"$f":"Timesheet!AF179","v":0},{"$f":"Timesheet!P179","v":0},{"$f":"Timesheet!K179","v":"00:00:00"},{"$f":"Timesheet!B179","v":0}]
[{"$f":"Timesheet!C180","v":0},{"$f":"Timesheet!AF180","v":0},{"$f":"Timesheet!P180","v":0},{"$f":"Timesheet!K180","v":"00:00:00"},{"$f":"Timesheet!B180","v":0}]
[{"$f":"Timesheet!C181","v":0},{"$f":"Timesheet!AF181","v":0},{"$f":"Timesheet!P181","v":0},{"$f":"Timesheet!K181","v":"00:00:00"},{"$f":"Timesheet!B181","v":0}]
[{"$f":"Timesheet!C182","v":0},{"$f":"Timesheet!AF182","v":0},{"$f":"Timesheet!P182","v":0},{"$f":"Timesheet!K182","v":"00:00:00"},{"$f":"Timesheet!B182","v":0}]
[{"$f":"Timesheet!C183","v":0},{"$f":"Timesheet!AF183","v":0},{"$f":"Timesheet!P183","v":0},{"$f":"Timesheet!K183","v":"00:00:00"},{"$f":"Timesheet!B183","v":0}]
[{"$f":"Timesheet!C184","v":0},{"$f":"Timesheet!AF184","v":0},{"$f":"Timesheet!P184","v":0},{"$f":"Timesheet!K184","v":"00:00:00"},{"$f":"Timesheet!B184","v":0}]
[{"$f":"Timesheet!C185","v":0},{"$f":"Timesheet!AF185","v":0},{"$f":"Timesheet!P185","v":0},{"$f":"Timesheet!K185","v":"00:00:00"},{"$f":"Timesheet!B185","v":0}]
[{"$f":"Timesheet!C186","v":0},{"$f":"Timesheet!AF186","v":0},{"$f":"Timesheet!P186","v":0},{"$f":"Timesheet!K186","v":"00:00:00"},{"$f":"Timesheet!B186","v":0}]
[{"$f":"Timesheet!C187","v":0},{"$f":"Timesheet!AF187","v":0},{"$f":"Timesheet!P187","v":0},{"$f":"Timesheet!K187","v":"00:00:00"},{"$f":"Timesheet!B187","v":0}]
[{"$f":"Timesheet!C188","v":0},{"$f":"Timesheet!AF188","v":0},{"$f":"Timesheet!P188","v":0},{"$f":"Timesheet!K188","v":"00:00:00"},{"$f":"Timesheet!B188","v":0}]
[{"$f":"Timesheet!C189","v":0},{"$f":"Timesheet!AF189","v":0},{"$f":"Timesheet!P189","v":0},{"$f":"Timesheet!K189","v":"00:00:00"},{"$f":"Timesheet!B189","v":0}]
[{"$f":"Timesheet!C190","v":0},{"$f":"Timesheet!AF190","v":0},{"$f":"Timesheet!P190","v":0},{"$f":"Timesheet!K190","v":"00:00:00"},{"$f":"Timesheet!B190","v":0}]
[{"$f":"Timesheet!C191","v":0},{"$f":"Timesheet!AF191","v":0},{"$f":"Timesheet!P191","v":0},{"$f":"Timesheet!K191","v":"00:00:00"},{"$f":"Timesheet!B191","v":0}]
[{"$f":"Timesheet!C192","v":0},{"$f":"Timesheet!AF192","v":0},{"$f":"Timesheet!P192","v":0},{"$f":"Timesheet!K192","v":"00:00:00"},{"$f":"Timesheet!B192","v":0}]
[{"$f":"Timesheet!C193","v":0},{"$f":"Timesheet!AF193","v":0},{"$f":"Timesheet!P193","v":0},{"$f":"Timesheet!K193","v":"00:00:00"},{"$f":"Timesheet!B193","v":0}]
[{"$f":"Timesheet!C194","v":0},{"$f":"Timesheet!AF194","v":0},{"$f":"Timesheet!P194","v":0},{"$f":"Timesheet!K194","v":"00:00:00"},{"$f":"Timesheet!B194","v":0}]
[{"$f":"Timesheet!C195","v":0},{"$f":"Timesheet!AF195","v":0},{"$f":"Timesheet!P195","v":0},{"$f":"Timesheet!K195","v":"00:00:00"},{"$f":"Timesheet!B195","v":0}]
[{"$f":"Timesheet!C196","v":0},{"$f":"Timesheet!AF196","v":0},{"$f":"Timesheet!P196","v":0},{"$f":"Timesheet!K196","v":"00:00:00"},{"$f":"Timesheet!B196","v":0}]
[{"$f":"Timesheet!C197","v":0},{"$f":"Timesheet!AF197","v":0},{"$f":"Timesheet!P197","v":0},{"$f":"Timesheet!K197","v":"00:00:00"},{"$f":"Timesheet!B197","v":0}]
[{"$f":"Timesheet!C198","v":0},{"$f":"Timesheet!AF198","v":0},{"$f":"Timesheet!P198","v":0},{"$f":"Timesheet!K198","v":"00:00:00"},{"$f":"Timesheet!B198","v":0}]
[{"$f":"Timesheet!C199","v":0},{"$f":"Timesheet!AF199","v":0},{"$f":"Timesheet!P199","v":0},{"$f":"Timesheet!K199","v":"00:00:00"},{"$f":"Timesheet!B199","v":0}]
[{"$f":"Timesheet!C200","v":0},{"$f":"Timesheet!AF200","v":0},{"$f":"Timesheet!P200","v":0},{"$f":"Timesheet!K200","v":"00:00:00"},{"$f":"Timesheet!B200","v":0}]
[{"$f":"Timesheet!C201","v":0},{"$f":"Timesheet!AF201","v":0},{"$f":"Timesheet!P201","v":0},{"$f":"Timesheet!K201","v":"00:00:00"},{"$f":"Timesheet!B201","v":0}]
[{"$f":"Timesheet!C202","v":0},{"$f":"Timesheet!AF202","v":0},{"$f":"Timesheet!P202","v":0},{"$f":"Timesheet!K202","v":"00:00:00"},{"$f":"Timesheet!B202","v":0}]
[{"$f":"Timesheet!C203","v":0},{"$f":"Timesheet!AF203","v":0},{"$f":"Timesheet!P203","v":0},{"$f":"Timesheet!K203","v":"00:00:00"},{"$f":"Timesheet!B203","v":0}]
[{"$f":"Timesheet!C204","v":0},{"$f":"Timesheet!AF204","v":0},{"$f":"Timesheet!P204","v":0},{"$f":"Timesheet!K204","v":"00:00:00"},{"$f":"Timesheet!B204","v":0}]
[{"$f":"Timesheet!C205","v":0},{"$f":"Timesheet!AF205","v":0},{"$f":"Timesheet!P205","v":0},{"$f":"Timesheet!K205","v":"00:00:00"},{"$f":"Timesheet!B205","v":0}]
[{"$f":"Timesheet!C206","v":0},{"$f":"Timesheet!AF206","v":0},{"$f":"Timesheet!P206","v":0},{"$f":"Timesheet!K206","v":"00:00:00"},{"$f":"Timesheet!B206","v":0}]
[{"$f":"Timesheet!C207","v":0},{"$f":"Timesheet!AF207","v":0},{"$f":"Timesheet!P207","v":0},{"$f":"Timesheet!K207","v":"00:00:00"},{"$f":"Timesheet!B207","v":0}]
[{"$f":"Timesheet!C208","v":0},{"$f":"Timesheet!AF208","v":0},{"$f":"Timesheet!P208","v":0},{"$f":"Timesheet!K208","v":"00:00:00"},{"$f":"Timesheet!B208","v":0}]
[{"$f":"Timesheet!C209","v":0},{"$f":"Timesheet!AF209","v":0},{"$f":"Timesheet!P209","v":0},{"$f":"Timesheet!K209","v":"00:00:00"},{"$f":"Timesheet!B209","v":0}]
[{"$f":"Timesheet!C210","v":0},{"$f":"Timesheet!AF210","v":0},{"$f":"Timesheet!P210","v":0},{"$f":"Timesheet!K210","v":"00:00:00"},{"$f":"Timesheet!B210","v":0}]
[{"$f":"Timesheet!C211","v":0},{"$f":"Timesheet!AF211","v":0},{"$f":"Timesheet!P211","v":0},{"$f":"Timesheet!K211","v":"00:00:00"},{"$f":"Timesheet!B211","v":0}]
[{"$f":"Timesheet!C212","v":0},{"$f":"Timesheet!AF212","v":0},{"$f":"Timesheet!P212","v":0},{"$f":"Timesheet!K212","v":"00:00:00"},{"$f":"Timesheet!B212","v":0}]
[{"$f":"Timesheet!C213","v":0},{"$f":"Timesheet!AF213","v":0},{"$f":"Timesheet!P213","v":0},{"$f":"Timesheet!K213","v":"00:00:00"},{"$f":"Timesheet!B213","v":0}]
[{"$f":"Timesheet!C214","v":0},{"$f":"Timesheet!AF214","v":0},{"$f":"Timesheet!P214","v":0},{"$f":"Timesheet!K214","v":"00:00:00"},{"$f":"Timesheet!B214","v":0}]
[{"$f":"Timesheet!C215","v":0},{"$f":"Timesheet!AF215","v":0},{"$f":"Timesheet!P215","v":0},{"$f":"Timesheet!K215","v":"00:00:00"},{"$f":"Timesheet!B215","v":0}]
[{"$f":"Timesheet!C216","v":0},{"$f":"Timesheet!AF216","v":0},{"$f":"Timesheet!P216","v":0},{"$f":"Timesheet!K216","v":"00:00:00"},{"$f":"Timesheet!B216","v":0}]
[{"$f":"Timesheet!C217","v":0},{"$f":"Timesheet!AF217","v":0},{"$f":"Timesheet!P217","v":0},{"$f":"Timesheet!K217","v":"00:00:00"},{"$f":"Timesheet!B217","v":0}]
[{"$f":"Timesheet!C218","v":0},{"$f":"Timesheet!AF218","v":0},{"$f":"Timesheet!P218","v":0},{"$f":"Timesheet!K218","v":"00:00:00"},{"$f":"Timesheet!B218","v":0}]
[{"$f":"Timesheet!C219","v":0},{"$f":"Timesheet!AF219","v":0},{"$f":"Timesheet!P219","v":0},{"$f":"Timesheet!K219","v":"00:00:00"},{"$f":"Timesheet!B219","v":0}]
[{"$f":"Timesheet!C220","v":0},{"$f":"Timesheet!AF220","v":0},{"$f":"Timesheet!P220","v":0},{"$f":"Timesheet!K220","v":"00:00:00"},{"$f":"Timesheet!B220","v":0}]
[{"$f":"Timesheet!C221","v":0},{"$f":"Timesheet!AF221","v":0},{"$f":"Timesheet!P221","v":0},{"$f":"Timesheet!K221","v":"00:00:00"},{"$f":"Timesheet!B221","v":0}]
[{"$f":"Timesheet!C222","v":0},{"$f":"Timesheet!AF222","v":0},{"$f":"Timesheet!P222","v":0},{"$f":"Timesheet!K222","v":"00:00:00"},{"$f":"Timesheet!B222","v":0}]
[{"$f":"Timesheet!C223","v":0},{"$f":"Timesheet!AF223","v":0},{"$f":"Timesheet!P223","v":0},{"$f":"Timesheet!K223","v":"00:00:00"},{"$f":"Timesheet!B223","v":0}]
[{"$f":"Timesheet!C224","v":0},{"$f":"Timesheet!AF224","v":0},{"$f":"Timesheet!P224","v":0},{"$f":"Timesheet!K224","v":"00:00:00"},{"$f":"Timesheet!B224","v":0}]
[{"$f":"Timesheet!C225","v":0},{"$f":"Timesheet!AF225","v":0},{"$f":"Timesheet!P225","v":0},{"$f":"Timesheet!K225","v":"00:00:00"},{"$f":"Timesheet!B225","v":0}]
[{"$f":"Timesheet!C226","v":0},{"$f":"Timesheet!AF226","v":0},{"$f":"Timesheet!P226","v":0},{"$f":"Timesheet!K226","v":"00:00:00"},{"$f":"Timesheet!B226","v":0}]
[{"$f":"Timesheet!C227","v":0},{"$f":"Timesheet!AF227","v":0},{"$f":"Timesheet!P227","v":0},{"$f":"Timesheet!K227","v":"00:00:00"},{"$f":"Timesheet!B227","v":0}]
[{"$f":"Timesheet!C228","v":0},{"$f":"Timesheet!AF228","v":0},{"$f":"Timesheet!P228","v":0},{"$f":"Timesheet!K228","v":"00:00:00"},{"$f":"Timesheet!B228","v":0}]
[{"$f":"Timesheet!C229","v":0},{"$f":"Timesheet!AF229","v":0},{"$f":"Timesheet!P229","v":0},{"$f":"Timesheet!K229","v":"00:00:00"},{"$f":"Timesheet!B229","v":0}]
[{"$f":"Timesheet!C230","v":0},{"$f":"Timesheet!AF230","v":0},{"$f":"Timesheet!P230","v":0},{"$f":"Timesheet!K230","v":"00:00:00"},{"$f":"Timesheet!B230","v":0}]
[{"$f":"Timesheet!C231","v":0},{"$f":"Timesheet!AF231","v":0},{"$f":"Timesheet!P231","v":0},{"$f":"Timesheet!K231","v":"00:00:00"},{"$f":"Timesheet!B231","v":0}]
[{"$f":"Timesheet!C232","v":0},{"$f":"Timesheet!AF232","v":0},{"$f":"Timesheet!P232","v":0},{"$f":"Timesheet!K232","v":"00:00:00"},{"$f":"Timesheet!B232","v":0}]
[{"$f":"Timesheet!C233","v":0},{"$f":"Timesheet!AF233","v":0},{"$f":"Timesheet!P233","v":0},{"$f":"Timesheet!K233","v":"00:00:00"},{"$f":"Timesheet!B233","v":0}]
[{"$f":"Timesheet!C234","v":0},{"$f":"Timesheet!AF234","v":0},{"$f":"Timesheet!P234","v":0},{"$f":"Timesheet!K234","v":"00:00:00"},{"$f":"Timesheet!B234","v":0}]
[{"$f":"Timesheet!C235","v":0},{"$f":"Timesheet!AF235","v":0},{"$f":"Timesheet!P235","v":0},{"$f":"Timesheet!K235","v":"00:00:00"},{"$f":"Timesheet!B235","v":0}]
[{"$f":"Timesheet!C236","v":0},{"$f":"Timesheet!AF236","v":0},{"$f":"Timesheet!P236","v":0},{"$f":"Timesheet!K236","v":"00:00:00"},{"$f":"Timesheet!B236","v":0}]
[{"$f":"Timesheet!C237","v":0},{"$f":"Timesheet!AF237","v":0},{"$f":"Timesheet!P237","v":0},{"$f":"Timesheet!K237","v":"00:00:00"},{"$f":"Timesheet!B237","v":0}]
[{"$f":"Timesheet!C238","v":0},{"$f":"Timesheet!AF238","v":0},{"$f":"Timesheet!P238","v":0},{"$f":"Timesheet!K238","v":"00:00:00"},{"$f":"Timesheet!B238","v":0}]
[{"$f":"Timesheet!C239","v":0},{"$f":"Timesheet!AF239","v":0},{"$f":"Timesheet!P239","v":0},{"$f":"Timesheet!K239","v":"00:00:00"},{"$f":"Timesheet!B239","v":0}]
[{"$f":"Timesheet!C240","v":0},{"$f":"Timesheet!AF240","v":0},{"$f":"Timesheet!P240","v":0},{"$f":"Timesheet!K240","v":"00:00:00"},{"$f":"Timesheet!B240","v":0}]
[{"$f":"Timesheet!C241","v":0},{"$f":"Timesheet!AF241","v":0},{"$f":"Timesheet!P241","v":0},{"$f":"Timesheet!K241","v":"00:00:00"},{"$f":"Timesheet!B241","v":0}]
[{"$f":"Timesheet!C242","v":0},{"$f":"Timesheet!AF242","v":0},{"$f":"Timesheet!P242","v":0},{"$f":"Timesheet!K242","v":"00:00:00"},{"$f":"Timesheet!B242","v":0}]
[{"$f":"Timesheet!C243","v":0},{"$f":"Timesheet!AF243","v":0},{"$f":"Timesheet!P243","v":0},{"$f":"Timesheet!K243","v":"00:00:00"},{"$f":"Timesheet!B243","v":0}]
[{"$f":"Timesheet!C244","v":0},{"$f":"Timesheet!AF244","v":0},{"$f":"Timesheet!P244","v":0},{"$f":"Timesheet!K244","v":"00:00:00"},{"$f":"Timesheet!B244","v":0}]
[{"$f":"Timesheet!C245","v":0},{"$f":"Timesheet!AF245","v":0},{"$f":"Timesheet!P245","v":0},{"$f":"Timesheet!K245","v":"00:00:00"},{"$f":"Timesheet!B245","v":0}]
[{"$f":"Timesheet!C246","v":0},{"$f":"Timesheet!AF246","v":0},{"$f":"Timesheet!P246","v":0},{"$f":"Timesheet!K246","v":"00:00:00"},{"$f":"Timesheet!B246","v":0}]
[{"$f":"Timesheet!C247","v":0},{"$f":"Timesheet!AF247","v":0},{"$f":"Timesheet!P247","v":0},{"$f":"Timesheet!K247","v":"00:00:00"},{"$f":"Timesheet!B247","v":0}]
[{"$f":"Timesheet!C248","v":0},{"$f":"Timesheet!AF248","v":0},{"$f":"Timesheet!P248","v":0},{"$f":"Timesheet!K248","v":"00:00:00"},{"$f":"Timesheet!B248","v":0}]
[{"$f":"Timesheet!C249","v":0},{"$f":"Timesheet!AF249","v":0},{"$f":"Timesheet!P249","v":0},{"$f":"Timesheet!K249","v":"00:00:00"},{"$f":"Timesheet!B249","v":0}]
[{"$f":"Timesheet!C250","v":0},{"$f":"Timesheet!AF250","v":0},{"$f":"Timesheet!P250","v":0},{"$f":"Timesheet!K250","v":"00:00:00"},{"$f":"Timesheet!B250","v":0}]
[{"$f":"Timesheet!C251","v":0},{"$f":"Timesheet!AF251","v":0},{"$f":"Timesheet!P251","v":0},{"$f":"Timesheet!K251","v":"00:00:00"},{"$f":"Timesheet!B251","v":0}]
[{"$f":"Timesheet!C252","v":0},{"$f":"Timesheet!AF252","v":0},{"$f":"Timesheet!P252","v":0},{"$f":"Timesheet!K252","v":"00:00:00"},{"$f":"Timesheet!B252","v":0}]
[{"$f":"Timesheet!C253","v":0},{"$f":"Timesheet!AF253","v":0},{"$f":"Timesheet!P253","v":0},{"$f":"Timesheet!K253","v":"00:00:00"},{"$f":"Timesheet!B253","v":0}]
[{"$f":"Timesheet!C254","v":0},{"$f":"Timesheet!AF254","v":0},{"$f":"Timesheet!P254","v":0},{"$f":"Timesheet!K254","v":"00:00:00"},{"$f":"Timesheet!B254","v":0}]
[{"$f":"Timesheet!C255","v":0},{"$f":"Timesheet!AF255","v":0},{"$f":"Timesheet!P255","v":0},{"$f":"Timesheet!K255","v":"00:00:00"},{"$f":"Timesheet!B255","v":0}]
[{"$f":"Timesheet!C256","v":0},{"$f":"Timesheet!AF256","v":0},{"$f":"Timesheet!P256","v":0},{"$f":"Timesheet!K256","v":"00:00:00"},{"$f":"Timesheet!B256","v":0}]
[{"$f":"Timesheet!C257","v":0},{"$f":"Timesheet!AF257","v":0},{"$f":"Timesheet!P257","v":0},{"$f":"Timesheet!K257","v":"00:00:00"},{"$f":"Timesheet!B257","v":0}]
[{"$f":"Timesheet!C258","v":0},{"$f":"Timesheet!AF258","v":0},{"$f":"Timesheet!P258","v":0},{"$f":"Timesheet!K258","v":"00:00:00"},{"$f":"Timesheet!B258","v":0}]
[{"$f":"Timesheet!C259","v":0},{"$f":"Timesheet!AF259","v":0},{"$f":"Timesheet!P259","v":0},{"$f":"Timesheet!K259","v":"00:00:00"},{"$f":"Timesheet!B259","v":0}]
[{"$f":"Timesheet!C260","v":0},{"$f":"Timesheet!AF260","v":0},{"$f":"Timesheet!P260","v":0},{"$f":"Timesheet!K260","v":"00:00:00"},{"$f":"Timesheet!B260","v":0}]
[{"$f":"Timesheet!C261","v":0},{"$f":"Timesheet!AF261","v":0},{"$f":"Timesheet!P261","v":0},{"$f":"Timesheet!K261","v":"00:00:00"},{"$f":"Timesheet!B261","v":0}]
[{"$f":"Timesheet!C262","v":0},{"$f":"Timesheet!AF262","v":0},{"$f":"Timesheet!P262","v":0},{"$f":"Timesheet!K262","v":"00:00:00"},{"$f":"Timesheet!B262","v":0}]
[{"$f":"Timesheet!C263","v":0},{"$f":"Timesheet!AF263","v":0},{"$f":"Timesheet!P263","v":0},{"$f":"Timesheet!K263","v":"00:00:00"},{"$f":"Timesheet!B263","v":0}]
[{"$f":"Timesheet!C264","v":0},{"$f":"Timesheet!AF264","v":0},{"$f":"Timesheet!P264","v":0},{"$f":"Timesheet!K264","v":"00:00:00"},{"$f":"Timesheet!B264","v":0}]
[{"$f":"Timesheet!C265","v":0},{"$f":"Timesheet!AF265","v":0},{"$f":"Timesheet!P265","v":0},{"$f":"Timesheet!K265","v":"00:00:00"},{"$f":"Timesheet!B265","v":0}]
[{"$f":"Timesheet!C266","v":0},{"$f":"Timesheet!AF266","v":0},{"$f":"Timesheet!P266","v":0},{"$f":"Timesheet!K266","v":"00:00:00"},{"$f":"Timesheet!B266","v":0}]
[{"$f":"Timesheet!C267","v":0},{"$f":"Timesheet!AF267","v":0},{"$f":"Timesheet!P267","v":0},{"$f":"Timesheet!K267","v":"00:00:00"},{"$f":"Timesheet!B267","v":0}]
[{"$f":"Timesheet!C268","v":0},{"$f":"Timesheet!AF268","v":0},{"$f":"Timesheet!P268","v":0},{"$f":"Timesheet!K268","v":"00:00:00"},{"$f":"Timesheet!B268","v":0}]
[{"$f":"Timesheet!C269","v":0},{"$f":"Timesheet!AF269","v":0},{"$f":"Timesheet!P269","v":0},{"$f":"Timesheet!K269","v":"00:00:00"},{"$f":"Timesheet!B269","v":0}]
[{"$f":"Timesheet!C270","v":0},{"$f":"Timesheet!AF270","v":0},{"$f":"Timesheet!P270","v":0},{"$f":"Timesheet!K270","v":"00:00:00"},{"$f":"Timesheet!B270","v":0}]
[{"$f":"Timesheet!C271","v":0},{"$f":"Timesheet!AF271","v":0},{"$f":"Timesheet!P271","v":0},{"$f":"Timesheet!K271","v":"00:00:00"},{"$f":"Timesheet!B271","v":0}]
[{"$f":"Timesheet!C272","v":0},{"$f":"Timesheet!AF272","v":0},{"$f":"Timesheet!P272","v":0},{"$f":"Timesheet!K272","v":"00:00:00"},{"$f":"Timesheet!B272","v":0}]
[{"$f":"Timesheet!C273","v":0},{"$f":"Timesheet!AF273","v":0},{"$f":"Timesheet!P273","v":0},{"$f":"Timesheet!K273","v":"00:00:00"},{"$f":"Timesheet!B273","v":0}]
[{"$f":"Timesheet!C274","v":0},{"$f":"Timesheet!AF274","v":0},{"$f":"Timesheet!P274","v":0},{"$f":"Timesheet!K274","v":"00:00:00"},{"$f":"Timesheet!B274","v":0}]
[{"$f":"Timesheet!C275","v":0},{"$f":"Timesheet!AF275","v":0},{"$f":"Timesheet!P275","v":0},{"$f":"Timesheet!K275","v":"00:00:00"},{"$f":"Timesheet!B275","v":0}]
[{"$f":"Timesheet!C276","v":0},{"$f":"Timesheet!AF276","v":0},{"$f":"Timesheet!P276","v":0},{"$f":"Timesheet!K276","v":"00:00:00"},{"$f":"Timesheet!B276","v":0}]
[{"$f":"Timesheet!C277","v":0},{"$f":"Timesheet!AF277","v":0},{"$f":"Timesheet!P277","v":0},{"$f":"Timesheet!K277","v":"00:00:00"},{"$f":"Timesheet!B277","v":0}]
[{"$f":"Timesheet!C278","v":0},{"$f":"Timesheet!AF278","v":0},{"$f":"Timesheet!P278","v":0},{"$f":"Timesheet!K278","v":"00:00:00"},{"$f":"Timesheet!B278","v":0}]
[{"$f":"Timesheet!C279","v":0},{"$f":"Timesheet!AF279","v":0},{"$f":"Timesheet!P279","v":0},{"$f":"Timesheet!K279","v":"00:00:00"},{"$f":"Timesheet!B279","v":0}]
[{"$f":"Timesheet!C280","v":0},{"$f":"Timesheet!AF280","v":0},{"$f":"Timesheet!P280","v":0},{"$f":"Timesheet!K280","v":"00:00:00"},{"$f":"Timesheet!B280","v":0}]
[{"$f":"Timesheet!C281","v":0},{"$f":"Timesheet!AF281","v":0},{"$f":"Timesheet!P281","v":0},{"$f":"Timesheet!K281","v":"00:00:00"},{"$f":"Timesheet!B281","v":0}]
[{"$f":"Timesheet!C282","v":0},{"$f":"Timesheet!AF282","v":0},{"$f":"Timesheet!P282","v":0},{"$f":"Timesheet!K282","v":"00:00:00"},{"$f":"Timesheet!B282","v":0}]
[{"$f":"Timesheet!C283","v":0},{"$f":"Timesheet!AF283","v":0},{"$f":"Timesheet!P283","v":0},{"$f":"Timesheet!K283","v":"00:00:00"},{"$f":"Timesheet!B283","v":0}]
[{"$f":"Timesheet!C284","v":0},{"$f":"Timesheet!AF284","v":0},{"$f":"Timesheet!P284","v":0},{"$f":"Timesheet!K284","v":"00:00:00"},{"$f":"Timesheet!B284","v":0}]
[{"$f":"Timesheet!C285","v":0},{"$f":"Timesheet!AF285","v":0},{"$f":"Timesheet!P285","v":0},{"$f":"Timesheet!K285","v":"00:00:00"},{"$f":"Timesheet!B285","v":0}]
[{"$f":"Timesheet!C286","v":0},{"$f":"Timesheet!AF286","v":0},{"$f":"Timesheet!P286","v":0},{"$f":"Timesheet!K286","v":"00:00:00"},{"$f":"Timesheet!B286","v":0}]
[{"$f":"Timesheet!C287","v":0},{"$f":"Timesheet!AF287","v":0},{"$f":"Timesheet!P287","v":0},{"$f":"Timesheet!K287","v":"00:00:00"},{"$f":"Timesheet!B287","v":0}]
[{"$f":"Timesheet!C288","v":0},{"$f":"Timesheet!AF288","v":0},{"$f":"Timesheet!P288","v":0},{"$f":"Timesheet!K288","v":"00:00:00"},{"$f":"Timesheet!B288","v":0}]
[{"$f":"Timesheet!C289","v":0},{"$f":"Timesheet!AF289","v":0},{"$f":"Timesheet!P289","v":0},{"$f":"Timesheet!K289","v":"00:00:00"},{"$f":"Timesheet!B289","v":0}]
[{"$f":"Timesheet!C290","v":0},{"$f":"Timesheet!AF290","v":0},{"$f":"Timesheet!P290","v":0},{"$f":"Timesheet!K290","v":"00:00:00"},{"$f":"Timesheet!B290","v":0}]
[{"$f":"Timesheet!C291","v":0},{"$f":"Timesheet!AF291","v":0},{"$f":"Timesheet!P291","v":0},{"$f":"Timesheet!K291","v":"00:00:00"},{"$f":"Timesheet!B291","v":0}]
[{"$f":"Timesheet!C292","v":0},{"$f":"Timesheet!AF292","v":0},{"$f":"Timesheet!P292","v":0},{"$f":"Timesheet!K292","v":"00:00:00"},{"$f":"Timesheet!B292","v":0}]
[{"$f":"Timesheet!C293","v":0},{"$f":"Timesheet!AF293","v":0},{"$f":"Timesheet!P293","v":0},{"$f":"Timesheet!K293","v":"00:00:00"},{"$f":"Timesheet!B293","v":0}]
[{"$f":"Timesheet!C294","v":0},{"$f":"Timesheet!AF294","v":0},{"$f":"Timesheet!P294","v":0},{"$f":"Timesheet!K294","v":"00:00:00"},{"$f":"Timesheet!B294","v":0}]
[{"$f":"Timesheet!C295","v":0},{"$f":"Timesheet!AF295","v":0},{"$f":"Timesheet!P295","v":0},{"$f":"Timesheet!K295","v":"00:00:00"},{"$f":"Timesheet!B295","v":0}]
[{"$f":"Timesheet!C296","v":0},{"$f":"Timesheet!AF296","v":0},{"$f":"Timesheet!P296","v":0},{"$f":"Timesheet!K296","v":"00:00:00"},{"$f":"Timesheet!B296","v":0}]
[{"$f":"Timesheet!C297","v":0},{"$f":"Timesheet!AF297","v":0},{"$f":"Timesheet!P297","v":0},{"$f":"Timesheet!K297","v":"00:00:00"},{"$f":"Timesheet!B297","v":0}]
[{"$f":"Timesheet!C298","v":0},{"$f":"Timesheet!AF298","v":0},{"$f":"Timesheet!P298","v":0},{"$f":"Timesheet!K298","v":"00:00:00"},{"$f":"Timesheet!B298","v":0}]
[{"$f":"Timesheet!C299","v":0},{"$f":"Timesheet!AF299","v":0},{"$f":"Timesheet!P299","v":0},{"$f":"Timesheet!K299","v":"00:00:00"},{"$f":"Timesheet!B299","v":0}]
[{"$f":"Timesheet!C300","v":0},{"$f":"Timesheet!AF300","v":0},{"$f":"Timesheet!P300","v":0},{"$f":"Timesheet!K300","v":"00:00:00"},{"$f":"Timesheet!B300","v":0}]
[{"$f":"Timesheet!C301","v":0},{"$f":"Timesheet!AF301","v":0},{"$f":"Timesheet!P301","v":0},{"$f":"Timesheet!K301","v":"00:00:00"},{"$f":"Timesheet!B301","v":0}]
[{"$f":"Timesheet!C302","v":0},{"$f":"Timesheet!AF302","v":0},{"$f":"Timesheet!P302","v":0},{"$f":"Timesheet!K302","v":"00:00:00"},{"$f":"Timesheet!B302","v":0}]
[{"$f":"Timesheet!C3","v":44789},{"$f":"Timesheet!AG3","v":0},{"$f":"Timesheet!R3","v":0},{"$f":"Timesheet!K3","v":"00:00:00"},{"$f":"Timesheet!B3","v":"E33036"}]
[{"$f":"Timesheet!C4","v":39452},{"$f":"Timesheet!AG4","v":0},{"$f":"Timesheet!R4","v":0},{"$f":"Timesheet!K4","v":"00:00:00"},{"$f":"Timesheet!B4","v":"E33036"}]
[{"$f":"Timesheet!C5","v":51119},{"$f":"Timesheet!AG5","v":0},{"$f":"Timesheet!R5","v":0},{"$f":"Timesheet!K5","v":"00:00:00"},{"$f":"Timesheet!B5","v":"E33036"}]
[{"$f":"Timesheet!C6","v":20999},{"$f":"Timesheet!AG6","v":0},{"$f":"Timesheet!R6","v":0},{"$f":"Timesheet!K6","v":"00:00:00"},{"$f":"Timesheet!B6","v":"E33036"}]
[{"$f":"Timesheet!C7","v":50140},{"$f":"Timesheet!AG7","v":0},{"$f":"Timesheet!R7","v":0},{"$f":"Timesheet!K7","v":"00:00:00"},{"$f":"Timesheet!B7","v":"E33036"}]
[{"$f":"Timesheet!C8","v":41120},{"$f":"Timesheet!AG8","v":0},{"$f":"Timesheet!R8","v":0},{"$f":"Timesheet!K8","v":"00:00:00"},{"$f":"Timesheet!B8","v":"E33036"}]
[{"$f":"Timesheet!C9","v":14019220},{"$f":"Timesheet!AG9","v":0},{"$f":"Timesheet!R9","v":0},{"$f":"Timesheet!K9","v":"00:00:00"},{"$f":"Timesheet!B9","v":"E33036"}]
[{"$f":"Timesheet!C10","v":33161},{"$f":"Timesheet!AG10","v":0},{"$f":"Timesheet!R10","v":0},{"$f":"Timesheet!K10","v":"00:00:00"},{"$f":"Timesheet!B10","v":"E33036"}]
[{"$f":"Timesheet!C11","v":44988},{"$f":"Timesheet!AG11","v":0},{"$f":"Timesheet!R11","v":0},{"$f":"Timesheet!K11","v":"00:00:00"},{"$f":"Timesheet!B11","v":"E33036"}]
[{"$f":"Timesheet!C12","v":19061},{"$f":"Timesheet!AG12","v":0},{"$f":"Timesheet!R12","v":0},{"$f":"Timesheet!K12","v":"00:00:00"},{"$f":"Timesheet!B12","v":"E33036"}]
[{"$f":"Timesheet!C13","v":42125},{"$f":"Timesheet!AG13","v":0},{"$f":"Timesheet!R13","v":0},{"$f":"Timesheet!K13","v":"00:00:00"},{"$f":"Timesheet!B13","v":"E33036"}]
[{"$f":"Timesheet!C14","v":35616},{"$f":"Timesheet!AG14","v":0},{"$f":"Timesheet!R14","v":0},{"$f":"Timesheet!K14","v":"00:00:00"},{"$f":"Timesheet!B14","v":"E33036"}]
[{"$f":"Timesheet!C15","v":11630},{"$f":"Timesheet!AG15","v":0},{"$f":"Timesheet!R15","v":0},{"$f":"Timesheet!K15","v":"00:00:00"},{"$f":"Timesheet!B15","v":"E33036"}]
[{"$f":"Timesheet!C16","v":33804},{"$f":"Timesheet!AG16","v":0},{"$f":"Timesheet!R16","v":0},{"$f":"Timesheet!K16","v":"00:00:00"},{"$f":"Timesheet!B16","v":"E33036"}]
[{"$f":"Timesheet!C17","v":11681},{"$f":"Timesheet!AG17","v":0},{"$f":"Timesheet!R17","v":0},{"$f":"Timesheet!K17","v":"00:00:00"},{"$f":"Timesheet!B17","v":"E33036"}]
[{"$f":"Timesheet!C18","v":51311},{"$f":"Timesheet!AG18","v":0},{"$f":"Timesheet!R18","v":0},{"$f":"Timesheet!K18","v":"00:00:00"},{"$f":"Timesheet!B18","v":"E33036"}]
[{"$f":"Timesheet!C19","v":19209},{"$f":"Timesheet!AG19","v":0},{"$f":"Timesheet!R19","v":0},{"$f":"Timesheet!K19","v":"00:00:00"},{"$f":"Timesheet!B19","v":"E33036"}]
[{"$f":"Timesheet!C20","v":40516},{"$f":"Timesheet!AG20","v":0},{"$f":"Timesheet!R20","v":0},{"$f":"Timesheet!K20","v":"00:00:00"},{"$f":"Timesheet!B20","v":"E33036"}]
[{"$f":"Timesheet!C21","v":42806},{"$f":"Timesheet!AG21","v":0},{"$f":"Timesheet!R21","v":0},{"$f":"Timesheet!K21","v":"00:00:00"},{"$f":"Timesheet!B21","v":"E33036"}]
[{"$f":"Timesheet!C22","v":47495},{"$f":"Timesheet!AG22","v":0},{"$f":"Timesheet!R22","v":0},{"$f":"Timesheet!K22","v":"00:00:00"},{"$f":"Timesheet!B22","v":"E33036"}]
[{"$f":"Timesheet!C23","v":38391},{"$f":"Timesheet!AG23","v":0},{"$f":"Timesheet!R23","v":0},{"$f":"Timesheet!K23","v":"00:00:00"},{"$f":"Timesheet!B23","v":"E33036"}]
[{"$f":"Timesheet!C24","v":28706},{"$f":"Timesheet!AG24","v":0},{"$f":"Timesheet!R24","v":0},{"$f":"Timesheet!K24","v":"00:00:00"},{"$f":"Timesheet!B24","v":"E33036"}]
[{"$f":"Timesheet!C25","v":44672},{"$f":"Timesheet!AG25","v":0},{"$f":"Timesheet!R25","v":0},{"$f":"Timesheet!K25","v":"00:00:00"},{"$f":"Timesheet!B25","v":"E33036"}]
[{"$f":"Timesheet!C26","v":14289262},{"$f":"Timesheet!AG26","v":0},{"$f":"Timesheet!R26","v":0},{"$f":"Timesheet!K26","v":"00:00:00"},{"$f":"Timesheet!B26","v":"E33036"}]
[{"$f":"Timesheet!C27","v":18068},{"$f":"Timesheet!AG27","v":0},{"$f":"Timesheet!R27","v":0},{"$f":"Timesheet!K27","v":"00:00:00"},{"$f":"Timesheet!B27","v":"E33036"}]
[{"$f":"Timesheet!C28","v":13209997},{"$f":"Timesheet!AG28","v":0},{"$f":"Timesheet!R28","v":0},{"$f":"Timesheet!K28","v":"00:00:00"},{"$f":"Timesheet!B28","v":"E33036"}]
[{"$f":"Timesheet!C29","v":59},{"$f":"Timesheet!AG29","v":0},{"$f":"Timesheet!R29","v":0},{"$f":"Timesheet!K29","v":"00:00:00"},{"$f":"Timesheet!B29","v":"E33036"}]
[{"$f":"Timesheet!C30","v":29923},{"$f":"Timesheet!AG30","v":0},{"$f":"Timesheet!R30","v":0},{"$f":"Timesheet!K30","v":"00:00:00"},{"$f":"Timesheet!B30","v":"E33036"}]
[{"$f":"Timesheet!C31","v":21790},{"$f":"Timesheet!AG31","v":0},{"$f":"Timesheet!R31","v":0},{"$f":"Timesheet!K31","v":"00:00:00"},{"$f":"Timesheet!B31","v":"E33036"}]
[{"$f":"Timesheet!C32","v":13016632},{"$f":"Timesheet!AG32","v":0},{"$f":"Timesheet!R32","v":0},{"$f":"Timesheet!K32","v":"00:00:00"},{"$f":"Timesheet!B32","v":"E33036"}]
[{"$f":"Timesheet!C33","v":13616632},{"$f":"Timesheet!AG33","v":0},{"$f":"Timesheet!R33","v":0},{"$f":"Timesheet!K33","v":"00:00:00"},{"$f":"Timesheet!B33","v":"E33036"}]
[{"$f":"Timesheet!C34","v":40046},{"$f":"Timesheet!AG34","v":0},{"$f":"Timesheet!R34","v":0},{"$f":"Timesheet!K34","v":"00:00:00"},{"$f":"Timesheet!B34","v":"E33036"}]
[{"$f":"Timesheet!C35","v":18140},{"$f":"Timesheet!AG35","v":0},{"$f":"Timesheet!R35","v":0},{"$f":"Timesheet!K35","v":"00:00:00"},{"$f":"Timesheet!B35","v":"E33036"}]
[{"$f":"Timesheet!C36","v":9922},{"$f":"Timesheet!AG36","v":0},{"$f":"Timesheet!R36","v":0},{"$f":"Timesheet!K36","v":"00:00:00"},{"$f":"Timesheet!B36","v":"E33036"}]
[{"$f":"Timesheet!C37","v":34724},{"$f":"Timesheet!AG37","v":0},{"$f":"Timesheet!R37","v":0},{"$f":"Timesheet!K37","v":"00:00:00"},{"$f":"Timesheet!B37","v":"E33036"}]
[{"$f":"Timesheet!C38","v":20933},{"$f":"Timesheet!AG38","v":0},{"$f":"Timesheet!R38","v":0},{"$f":"Timesheet!K38","v":"00:00:00"},{"$f":"Timesheet!B38","v":"E33036"}]
[{"$f":"Timesheet!C39","v":36025},{"$f":"Timesheet!AG39","v":0},{"$f":"Timesheet!R39","v":0},{"$f":"Timesheet!K39","v":"00:00:00"},{"$f":"Timesheet!B39","v":"E33036"}]
[{"$f":"Timesheet!C40","v":41681},{"$f":"Timesheet!AG40","v":0},{"$f":"Timesheet!R40","v":0},{"$f":"Timesheet!K40","v":"00:00:00"},{"$f":"Timesheet!B40","v":"E33036"}]
[{"$f":"Timesheet!C41","v":42644},{"$f":"Timesheet!AG41","v":0},{"$f":"Timesheet!R41","v":0},{"$f":"Timesheet!K41","v":"00:00:00"},{"$f":"Timesheet!B41","v":"E33036"}]
[{"$f":"Timesheet!C42","v":49476},{"$f":"Timesheet!AG42","v":0},{"$f":"Timesheet!R42","v":0},{"$f":"Timesheet!K42","v":"00:00:00"},{"$f":"Timesheet!B42","v":"E33036"}]
[{"$f":"Timesheet!C43","v":50978},{"$f":"Timesheet!AG43","v":0},{"$f":"Timesheet!R43","v":0},{"$f":"Timesheet!K43","v":"00:00:00"},{"$f":"Timesheet!B43","v":"E33036"}]
[{"$f":"Timesheet!C44","v":41705},{"$f":"Timesheet!AG44","v":0},{"$f":"Timesheet!R44","v":0},{"$f":"Timesheet!K44","v":"00:00:00"},{"$f":"Timesheet!B44","v":"E33036"}]
[{"$f":"Timesheet!C45","v":47311},{"$f":"Timesheet!AG45","v":0},{"$f":"Timesheet!R45","v":0},{"$f":"Timesheet!K45","v":"00:00:00"},{"$f":"Timesheet!B45","v":"E33036"}]
[{"$f":"Timesheet!C46","v":36728},{"$f":"Timesheet!AG46","v":0},{"$f":"Timesheet!R46","v":0},{"$f":"Timesheet!K46","v":"00:00:00"},{"$f":"Timesheet!B46","v":"E33036"}]
[{"$f":"Timesheet!C47","v":51863},{"$f":"Timesheet!AG47","v":3141},{"$f":"Timesheet!R47","v":4.5},{"$f":"Timesheet!K47","v":"19.10.2023"},{"$f":"Timesheet!B47","v":"E33036"}]
[{"$f":"Timesheet!C48","v":46769},{"$f":"Timesheet!AG48","v":0},{"$f":"Timesheet!R48","v":0},{"$f":"Timesheet!K48","v":"00:00:00"},{"$f":"Timesheet!B48","v":"E33036"}]
[{"$f":"Timesheet!C49","v":16845},{"$f":"Timesheet!AG49","v":0},{"$f":"Timesheet!R49","v":0},{"$f":"Timesheet!K49","v":"00:00:00"},{"$f":"Timesheet!B49","v":"E33036"}]
[{"$f":"Timesheet!C50","v":33960},{"$f":"Timesheet!AG50","v":0},{"$f":"Timesheet!R50","v":0},{"$f":"Timesheet!K50","v":"00:00:00"},{"$f":"Timesheet!B50","v":"E33036"}]
[{"$f":"Timesheet!C51","v":9019},{"$f":"Timesheet!AG51","v":0},{"$f":"Timesheet!R51","v":0},{"$f":"Timesheet!K51","v":"00:00:00"},{"$f":"Timesheet!B51","v":"E33036"}]
[{"$f":"Timesheet!C52","v":20207},{"$f":"Timesheet!AG52","v":0},{"$f":"Timesheet!R52","v":0},{"$f":"Timesheet!K52","v":"00:00:00"},{"$f":"Timesheet!B52","v":"E33036"}]
[{"$f":"Timesheet!C53","v":46771},{"$f":"Timesheet!AG53","v":0},{"$f":"Timesheet!R53","v":0},{"$f":"Timesheet!K53","v":"00:00:00"},{"$f":"Timesheet!B53","v":"E33036"}]
[{"$f":"Timesheet!C54","v":14387314},{"$f":"Timesheet!AG54","v":0},{"$f":"Timesheet!R54","v":0},{"$f":"Timesheet!K54","v":"00:00:00"},{"$f":"Timesheet!B54","v":"E33036"}]
[{"$f":"Timesheet!C55","v":38898},{"$f":"Timesheet!AG55","v":0},{"$f":"Timesheet!R55","v":0},{"$f":"Timesheet!K55","v":"00:00:00"},{"$f":"Timesheet!B55","v":"E33036"}]
[{"$f":"Timesheet!C56","v":14016208},{"$f":"Timesheet!AG56","v":0},{"$f":"Timesheet!R56","v":0},{"$f":"Timesheet!K56","v":"00:00:00"},{"$f":"Timesheet!B56","v":"E33036"}]
[{"$f":"Timesheet!C57","v":38962},{"$f":"Timesheet!AG57","v":0},{"$f":"Timesheet!R57","v":0},{"$f":"Timesheet!K57","v":"00:00:00"},{"$f":"Timesheet!B57","v":"E33036"}]
[{"$f":"Timesheet!C58","v":39361},{"$f":"Timesheet!AG58","v":0},{"$f":"Timesheet!R58","v":0},{"$f":"Timesheet!K58","v":"00:00:00"},{"$f":"Timesheet!B58","v":"E33036"}]
[{"$f":"Timesheet!C59","v":37015},{"$f":"Timesheet!AG59","v":0},{"$f":"Timesheet!R59","v":0},{"$f":"Timesheet!K59","v":"00:00:00"},{"$f":"Timesheet!B59","v":"E33036"}]
[{"$f":"Timesheet!C60","v":29683},{"$f":"Timesheet!AG60","v":0},{"$f":"Timesheet!R60","v":0},{"$f":"Timesheet!K60","v":"00:00:00"},{"$f":"Timesheet!B60","v":"E33036"}]
[{"$f":"Timesheet!C61","v":23115},{"$f":"Timesheet!AG61","v":0},{"$f":"Timesheet!R61","v":0},{"$f":"Timesheet!K61","v":"00:00:00"},{"$f":"Timesheet!B61","v":"E33036"}]
[{"$f":"Timesheet!C62","v":14037690},{"$f":"Timesheet!AG62","v":0},{"$f":"Timesheet!R62","v":0},{"$f":"Timesheet!K62","v":"00:00:00"},{"$f":"Timesheet!B62","v":"E33036"}]
[{"$f":"Timesheet!C63","v":12174},{"$f":"Timesheet!AG63","v":0},{"$f":"Timesheet!R63","v":0},{"$f":"Timesheet!K63","v":"00:00:00"},{"$f":"Timesheet!B63","v":"E33036"}]
[{"$f":"Timesheet!C64","v":13009},{"$f":"Timesheet!AG64","v":0},{"$f":"Timesheet!R64","v":0},{"$f":"Timesheet!K64","v":"00:00:00"},{"$f":"Timesheet!B64","v":"E33036"}]
[{"$f":"Timesheet!C65","v":51874},{"$f":"Timesheet!AG65","v":0},{"$f":"Timesheet!R65","v":0},{"$f":"Timesheet!K65","v":"00:00:00"},{"$f":"Timesheet!B65","v":"E33036"}]
[{"$f":"Timesheet!C66","v":45964},{"$f":"Timesheet!AG66","v":0},{"$f":"Timesheet!R66","v":0},{"$f":"Timesheet!K66","v":"00:00:00"},{"$f":"Timesheet!B66","v":"E33036"}]
[{"$f":"Timesheet!C67","v":54194},{"$f":"Timesheet!AG67","v":0},{"$f":"Timesheet!R67","v":0},{"$f":"Timesheet!K67","v":"00:00:00"},{"$f":"Timesheet!B67","v":"E33036"}]
[{"$f":"Timesheet!C68","v":14299640},{"$f":"Timesheet!AG68","v":0},{"$f":"Timesheet!R68","v":0},{"$f":"Timesheet!K68","v":"00:00:00"},{"$f":"Timesheet!B68","v":"E33036"}]
[{"$f":"Timesheet!C69","v":28604},{"$f":"Timesheet!AG69","v":0},{"$f":"Timesheet!R69","v":0},{"$f":"Timesheet!K69","v":"00:00:00"},{"$f":"Timesheet!B69","v":"E33036"}]
[{"$f":"Timesheet!C70","v":28602},{"$f":"Timesheet!AG70","v":0},{"$f":"Timesheet!R70","v":0},{"$f":"Timesheet!K70","v":"00:00:00"},{"$f":"Timesheet!B70","v":"E33036"}]
[{"$f":"Timesheet!C71","v":28989},{"$f":"Timesheet!AG71","v":0},{"$f":"Timesheet!R71","v":0},{"$f":"Timesheet!K71","v":"00:00:00"},{"$f":"Timesheet!B71","v":"E33036"}]
[{"$f":"Timesheet!C72","v":28779},{"$f":"Timesheet!AG72","v":0},{"$f":"Timesheet!R72","v":0},{"$f":"Timesheet!K72","v":"00:00:00"},{"$f":"Timesheet!B72","v":"E33036"}]
[{"$f":"Timesheet!C73","v":20013},{"$f":"Timesheet!AG73","v":0},{"$f":"Timesheet!R73","v":0},{"$f":"Timesheet!K73","v":"00:00:00"},{"$f":"Timesheet!B73","v":"E33036"}]
[{"$f":"Timesheet!C74","v":0},{"$f":"Timesheet!AG74","v":0},{"$f":"Timesheet!R74","v":0},{"$f":"Timesheet!K74","v":"00:00:00"},{"$f":"Timesheet!B74","v":0}]
[{"$f":"Timesheet!C75","v":0},{"$f":"Timesheet!AG75","v":0},{"$f":"Timesheet!R75","v":0},{"$f":"Timesheet!K75","v":"00:00:00"},{"$f":"Timesheet!B75","v":0}]
[{"$f":"Timesheet!C76","v":0},{"$f":"Timesheet!AG76","v":0},{"$f":"Timesheet!R76","v":0},{"$f":"Timesheet!K76","v":"00:00:00"},{"$f":"Timesheet!B76","v":0}]
[{"$f":"Timesheet!C77","v":0},{"$f":"Timesheet!AG77","v":0},{"$f":"Timesheet!R77","v":0},{"$f":"Timesheet!K77","v":"00:00:00"},{"$f":"Timesheet!B77","v":0}]
[{"$f":"Timesheet!C78","v":0},{"$f":"Timesheet!AG78","v":0},{"$f":"Timesheet!R78","v":0},{"$f":"Timesheet!K78","v":"00:00:00"},{"$f":"Timesheet!B78","v":0}]
[{"$f":"Timesheet!C79","v":0},{"$f":"Timesheet!AG79","v":0},{"$f":"Timesheet!R79","v":0},{"$f":"Timesheet!K79","v":"00:00:00"},{"$f":"Timesheet!B79","v":0}]
[{"$f":"Timesheet!C80","v":0},{"$f":"Timesheet!AG80","v":0},{"$f":"Timesheet!R80","v":0},{"$f":"Timesheet!K80","v":"00:00:00"},{"$f":"Timesheet!B80","v":0}]
[{"$f":"Timesheet!C81","v":0},{"$f":"Timesheet!AG81","v":0},{"$f":"Timesheet!R81","v":0},{"$f":"Timesheet!K81","v":"00:00:00"},{"$f":"Timesheet!B81","v":0}]
[{"$f":"Timesheet!C82","v":0},{"$f":"Timesheet!AG82","v":0},{"$f":"Timesheet!R82","v":0},{"$f":"Timesheet!K82","v":"00:00:00"},{"$f":"Timesheet!B82","v":0}]
[{"$f":"Timesheet!C83","v":0},{"$f":"Timesheet!AG83","v":0},{"$f":"Timesheet!R83","v":0},{"$f":"Timesheet!K83","v":"00:00:00"},{"$f":"Timesheet!B83","v":0}]
[{"$f":"Timesheet!C84","v":0},{"$f":"Timesheet!AG84","v":0},{"$f":"Timesheet!R84","v":0},{"$f":"Timesheet!K84","v":"00:00:00"},{"$f":"Timesheet!B84","v":0}]
[{"$f":"Timesheet!C85","v":0},{"$f":"Timesheet!AG85","v":0},{"$f":"Timesheet!R85","v":0},{"$f":"Timesheet!K85","v":"00:00:00"},{"$f":"Timesheet!B85","v":0}]
[{"$f":"Timesheet!C86","v":0},{"$f":"Timesheet!AG86","v":0},{"$f":"Timesheet!R86","v":0},{"$f":"Timesheet!K86","v":"00:00:00"},{"$f":"Timesheet!B86","v":0}]
[{"$f":"Timesheet!C87","v":0},{"$f":"Timesheet!AG87","v":0},{"$f":"Timesheet!R87","v":0},{"$f":"Timesheet!K87","v":"00:00:00"},{"$f":"Timesheet!B87","v":0}]
[{"$f":"Timesheet!C88","v":0},{"$f":"Timesheet!AG88","v":0},{"$f":"Timesheet!R88","v":0},{"$f":"Timesheet!K88","v":"00:00:00"},{"$f":"Timesheet!B88","v":0}]
[{"$f":"Timesheet!C89","v":0},{"$f":"Timesheet!AG89","v":0},{"$f":"Timesheet!R89","v":0},{"$f":"Timesheet!K89","v":"00:00:00"},{"$f":"Timesheet!B89","v":0}]
[{"$f":"Timesheet!C90","v":0},{"$f":"Timesheet!AG90","v":0},{"$f":"Timesheet!R90","v":0},{"$f":"Timesheet!K90","v":"00:00:00"},{"$f":"Timesheet!B90","v":0}]
[{"$f":"Timesheet!C91","v":0},{"$f":"Timesheet!AG91","v":0},{"$f":"Timesheet!R91","v":0},{"$f":"Timesheet!K91","v":"00:00:00"},{"$f":"Timesheet!B91","v":0}]
[{"$f":"Timesheet!C92","v":0},{"$f":"Timesheet!AG92","v":0},{"$f":"Timesheet!R92","v":0},{"$f":"Timesheet!K92","v":"00:00:00"},{"$f":"Timesheet!B92","v":0}]
[{"$f":"Timesheet!C93","v":0},{"$f":"Timesheet!AG93","v":0},{"$f":"Timesheet!R93","v":0},{"$f":"Timesheet!K93","v":"00:00:00"},{"$f":"Timesheet!B93","v":0}]
[{"$f":"Timesheet!C94","v":0},{"$f":"Timesheet!AG94","v":0},{"$f":"Timesheet!R94","v":0},{"$f":"Timesheet!K94","v":"00:00:00"},{"$f":"Timesheet!B94","v":0}]
[{"$f":"Timesheet!C95","v":0},{"$f":"Timesheet!AG95","v":0},{"$f":"Timesheet!R95","v":0},{"$f":"Timesheet!K95","v":"00:00:00"},{"$f":"Timesheet!B95","v":0}]
[{"$f":"Timesheet!C96","v":0},{"$f":"Timesheet!AG96","v":0},{"$f":"Timesheet!R96","v":0},{"$f":"Timesheet!K96","v":"00:00:00"},{"$f":"Timesheet!B96","v":0}]
[{"$f":"Timesheet!C97","v":0},{"$f":"Timesheet!AG97","v":0},{"$f":"Timesheet!R97","v":0},{"$f":"Timesheet!K97","v":"00:00:00"},{"$f":"Timesheet!B97","v":0}]
[{"$f":"Timesheet!C98","v":0},{"$f":"Timesheet!AG98","v":0},{"$f":"Timesheet!R98","v":0},{"$f":"Timesheet!K98","v":"00:00:00"},{"$f":"Timesheet!B98","v":0}]
[{"$f":"Timesheet!C99","v":0},{"$f":"Timesheet!AG99","v":0},{"$f":"Timesheet!R99","v":0},{"$f":"Timesheet!K99","v":"00:00:00"},{"$f":"Timesheet!B99","v":0}]
[{"$f":"Timesheet!C100","v":0},{"$f":"Timesheet!AG100","v":0},{"$f":"Timesheet!R100","v":0},{"$f":"Timesheet!K100","v":"00:00:00"},{"$f":"Timesheet!B100","v":0}]
[{"$f":"Timesheet!C101","v":0},{"$f":"Timesheet!AG101","v":0},{"$f":"Timesheet!R101","v":0},{"$f":"Timesheet!K101","v":"00:00:00"},{"$f":"Timesheet!B101","v":0}]
[{"$f":"Timesheet!C102","v":0},{"$f":"Timesheet!AG102","v":0},{"$f":"Timesheet!R102","v":0},{"$f":"Timesheet!K102","v":"00:00:00"},{"$f":"Timesheet!B102","v":0}]
[{"$f":"Timesheet!C103","v":0},{"$f":"Timesheet!AG103","v":0},{"$f":"Timesheet!R103","v":0},{"$f":"Timesheet!K103","v":"00:00:00"},{"$f":"Timesheet!B103","v":0}]
[{"$f":"Timesheet!C104","v":0},{"$f":"Timesheet!AG104","v":0},{"$f":"Timesheet!R104","v":0},{"$f":"Timesheet!K104","v":"00:00:00"},{"$f":"Timesheet!B104","v":0}]
[{"$f":"Timesheet!C105","v":0},{"$f":"Timesheet!AG105","v":0},{"$f":"Timesheet!R105","v":0},{"$f":"Timesheet!K105","v":"00:00:00"},{"$f":"Timesheet!B105","v":0}]
[{"$f":"Timesheet!C106","v":0},{"$f":"Timesheet!AG106","v":0},{"$f":"Timesheet!R106","v":0},{"$f":"Timesheet!K106","v":"00:00:00"},{"$f":"Timesheet!B106","v":0}]
[{"$f":"Timesheet!C107","v":0},{"$f":"Timesheet!AG107","v":0},{"$f":"Timesheet!R107","v":0},{"$f":"Timesheet!K107","v":"00:00:00"},{"$f":"Timesheet!B107","v":0}]
[{"$f":"Timesheet!C108","v":0},{"$f":"Timesheet!AG108","v":0},{"$f":"Timesheet!R108","v":0},{"$f":"Timesheet!K108","v":"00:00:00"},{"$f":"Timesheet!B108","v":0}]
[{"$f":"Timesheet!C109","v":0},{"$f":"Timesheet!AG109","v":0},{"$f":"Timesheet!R109","v":0},{"$f":"Timesheet!K109","v":"00:00:00"},{"$f":"Timesheet!B109","v":0}]
[{"$f":"Timesheet!C110","v":0},{"$f":"Timesheet!AG110","v":0},{"$f":"Timesheet!R110","v":0},{"$f":"Timesheet!K110","v":"00:00:00"},{"$f":"Timesheet!B110","v":0}]
[{"$f":"Timesheet!C111","v":0},{"$f":"Timesheet!AG111","v":0},{"$f":"Timesheet!R111","v":0},{"$f":"Timesheet!K111","v":"00:00:00"},{"$f":"Timesheet!B111","v":0}]
[{"$f":"Timesheet!C112","v":0},{"$f":"Timesheet!AG112","v":0},{"$f":"Timesheet!R112","v":0},{"$f":"Timesheet!K112","v":"00:00:00"},{"$f":"Timesheet!B112","v":0}]
[{"$f":"Timesheet!C113","v":0},{"$f":"Timesheet!AG113","v":0},{"$f":"Timesheet!R113","v":0},{"$f":"Timesheet!K113","v":"00:00:00"},{"$f":"Timesheet!B113","v":0}]
[{"$f":"Timesheet!C114","v":0},{"$f":"Timesheet!AG114","v":0},{"$f":"Timesheet!R114","v":0},{"$f":"Timesheet!K114","v":"00:00:00"},{"$f":"Timesheet!B114","v":0}]
[{"$f":"Timesheet!C115","v":0},{"$f":"Timesheet!AG115","v":0},{"$f":"Timesheet!R115","v":0},{"$f":"Timesheet!K115","v":"00:00:00"},{"$f":"Timesheet!B115","v":0}]
[{"$f":"Timesheet!C116","v":0},{"$f":"Timesheet!AG116","v":0},{"$f":"Timesheet!R116","v":0},{"$f":"Timesheet!K116","v":"00:00:00"},{"$f":"Timesheet!B116","v":0}]
[{"$f":"Timesheet!C117","v":0},{"$f":"Timesheet!AG117","v":0},{"$f":"Timesheet!R117","v":0},{"$f":"Timesheet!K117","v":"00:00:00"},{"$f":"Timesheet!B117","v":0}]
[{"$f":"Timesheet!C118","v":0},{"$f":"Timesheet!AG118","v":0},{"$f":"Timesheet!R118","v":0},{"$f":"Timesheet!K118","v":"00:00:00"},{"$f":"Timesheet!B118","v":0}]
[{"$f":"Timesheet!C119","v":0},{"$f":"Timesheet!AG119","v":0},{"$f":"Timesheet!R119","v":0},{"$f":"Timesheet!K119","v":"00:00:00"},{"$f":"Timesheet!B119","v":0}]
[{"$f":"Timesheet!C120","v":0},{"$f":"Timesheet!AG120","v":0},{"$f":"Timesheet!R120","v":0},{"$f":"Timesheet!K120","v":"00:00:00"},{"$f":"Timesheet!B120","v":0}]
[{"$f":"Timesheet!C121","v":0},{"$f":"Timesheet!AG121","v":0},{"$f":"Timesheet!R121","v":0},{"$f":"Timesheet!K121","v":"00:00:00"},{"$f":"Timesheet!B121","v":0}]
[{"$f":"Timesheet!C122","v":0},{"$f":"Timesheet!AG122","v":0},{"$f":"Timesheet!R122","v":0},{"$f":"Timesheet!K122","v":"00:00:00"},{"$f":"Timesheet!B122","v":0}]
[{"$f":"Timesheet!C123","v":0},{"$f":"Timesheet!AG123","v":0},{"$f":"Timesheet!R123","v":0},{"$f":"Timesheet!K123","v":"00:00:00"},{"$f":"Timesheet!B123","v":0}]
[{"$f":"Timesheet!C124","v":0},{"$f":"Timesheet!AG124","v":0},{"$f":"Timesheet!R124","v":0},{"$f":"Timesheet!K124","v":"00:00:00"},{"$f":"Timesheet!B124","v":0}]
[{"$f":"Timesheet!C125","v":0},{"$f":"Timesheet!AG125","v":0},{"$f":"Timesheet!R125","v":0},{"$f":"Timesheet!K125","v":"00:00:00"},{"$f":"Timesheet!B125","v":0}]
[{"$f":"Timesheet!C126","v":0},{"$f":"Timesheet!AG126","v":0},{"$f":"Timesheet!R126","v":0},{"$f":"Timesheet!K126","v":"00:00:00"},{"$f":"Timesheet!B126","v":0}]
[{"$f":"Timesheet!C127","v":0},{"$f":"Timesheet!AG127","v":0},{"$f":"Timesheet!R127","v":0},{"$f":"Timesheet!K127","v":"00:00:00"},{"$f":"Timesheet!B127","v":0}]
[{"$f":"Timesheet!C128","v":0},{"$f":"Timesheet!AG128","v":0},{"$f":"Timesheet!R128","v":0},{"$f":"Timesheet!K128","v":"00:00:00"},{"$f":"Timesheet!B128","v":0}]
[{"$f":"Timesheet!C129","v":0},{"$f":"Timesheet!AG129","v":0},{"$f":"Timesheet!R129","v":0},{"$f":"Timesheet!K129","v":"00:00:00"},{"$f":"Timesheet!B129","v":0}]
[{"$f":"Timesheet!C130","v":0},{"$f":"Timesheet!AG130","v":0},{"$f":"Timesheet!R130","v":0},{"$f":"Timesheet!K130","v":"00:00:00"},{"$f":"Timesheet!B130","v":0}]
[{"$f":"Timesheet!C131","v":0},{"$f":"Timesheet!AG131","v":0},{"$f":"Timesheet!R131","v":0},{"$f":"Timesheet!K131","v":"00:00:00"},{"$f":"Timesheet!B131","v":0}]
[{"$f":"Timesheet!C132","v":0},{"$f":"Timesheet!AG132","v":0},{"$f":"Timesheet!R132","v":0},{"$f":"Timesheet!K132","v":"00:00:00"},{"$f":"Timesheet!B132","v":0}]
[{"$f":"Timesheet!C133","v":0},{"$f":"Timesheet!AG133","v":0},{"$f":"Timesheet!R133","v":0},{"$f":"Timesheet!K133","v":"00:00:00"},{"$f":"Timesheet!B133","v":0}]
[{"$f":"Timesheet!C134","v":0},{"$f":"Timesheet!AG134","v":0},{"$f":"Timesheet!R134","v":0},{"$f":"Timesheet!K134","v":"00:00:00"},{"$f":"Timesheet!B134","v":0}]
[{"$f":"Timesheet!C135","v":0},{"$f":"Timesheet!AG135","v":0},{"$f":"Timesheet!R135","v":0},{"$f":"Timesheet!K135","v":"00:00:00"},{"$f":"Timesheet!B135","v":0}]
[{"$f":"Timesheet!C136","v":0},{"$f":"Timesheet!AG136","v":0},{"$f":"Timesheet!R136","v":0},{"$f":"Timesheet!K136","v":"00:00:00"},{"$f":"Timesheet!B136","v":0}]
[{"$f":"Timesheet!C137","v":0},{"$f":"Timesheet!AG137","v":0},{"$f":"Timesheet!R137","v":0},{"$f":"Timesheet!K137","v":"00:00:00"},{"$f":"Timesheet!B137","v":0}]
[{"$f":"Timesheet!C138","v":0},{"$f":"Timesheet!AG138","v":0},{"$f":"Timesheet!R138","v":0},{"$f":"Timesheet!K138","v":"00:00:00"},{"$f":"Timesheet!B138","v":0}]
[{"$f":"Timesheet!C139","v":0},{"$f":"Timesheet!AG139","v":0},{"$f":"Timesheet!R139","v":0},{"$f":"Timesheet!K139","v":"00:00:00"},{"$f":"Timesheet!B139","v":0}]
[{"$f":"Timesheet!C140","v":0},{"$f":"Timesheet!AG140","v":0},{"$f":"Timesheet!R140","v":0},{"$f":"Timesheet!K140","v":"00:00:00"},{"$f":"Timesheet!B140","v":0}]
[{"$f":"Timesheet!C141","v":0},{"$f":"Timesheet!AG141","v":0},{"$f":"Timesheet!R141","v":0},{"$f":"Timesheet!K141","v":"00:00:00"},{"$f":"Timesheet!B141","v":0}]
[{"$f":"Timesheet!C142","v":0},{"$f":"Timesheet!AG142","v":0},{"$f":"Timesheet!R142","v":0},{"$f":"Timesheet!K142","v":"00:00:00"},{"$f":"Timesheet!B142","v":0}]
[{"$f":"Timesheet!C143","v":0},{"$f":"Timesheet!AG143","v":0},{"$f":"Timesheet!R143","v":0},{"$f":"Timesheet!K143","v":"00:00:00"},{"$f":"Timesheet!B143","v":0}]
[{"$f":"Timesheet!C144","v":0},{"$f":"Timesheet!AG144","v":0},{"$f":"Timesheet!R144","v":0},{"$f":"Timesheet!K144","v":"00:00:00"},{"$f":"Timesheet!B144","v":0}]
[{"$f":"Timesheet!C145","v":0},{"$f":"Timesheet!AG145","v":0},{"$f":"Timesheet!R145","v":0},{"$f":"Timesheet!K145","v":"00:00:00"},{"$f":"Timesheet!B145","v":0}]
[{"$f":"Timesheet!C146","v":0},{"$f":"Timesheet!AG146","v":0},{"$f":"Timesheet!R146","v":0},{"$f":"Timesheet!K146","v":"00:00:00"},{"$f":"Timesheet!B146","v":0}]
[{"$f":"Timesheet!C147","v":0},{"$f":"Timesheet!AG147","v":0},{"$f":"Timesheet!R147","v":0},{"$f":"Timesheet!K147","v":"00:00:00"},{"$f":"Timesheet!B147","v":0}]
[{"$f":"Timesheet!C148","v":0},{"$f":"Timesheet!AG148","v":0},{"$f":"Timesheet!R148","v":0},{"$f":"Timesheet!K148","v":"00:00:00"},{"$f":"Timesheet!B148","v":0}]
[{"$f":"Timesheet!C149","v":0},{"$f":"Timesheet!AG149","v":0},{"$f":"Timesheet!R149","v":0},{"$f":"Timesheet!K149","v":"00:00:00"},{"$f":"Timesheet!B149","v":0}]
[{"$f":"Timesheet!C150","v":0},{"$f":"Timesheet!AG150","v":0},{"$f":"Timesheet!R150","v":0},{"$f":"Timesheet!K150","v":"00:00:00"},{"$f":"Timesheet!B150","v":0}]
[{"$f":"Timesheet!C151","v":0},{"$f":"Timesheet!AG151","v":0},{"$f":"Timesheet!R151","v":0},{"$f":"Timesheet!K151","v":"00:00:00"},{"$f":"Timesheet!B151","v":0}]
[{"$f":"Timesheet!C152","v":0},{"$f":"Timesheet!AG152","v":0},{"$f":"Timesheet!R152","v":0},{"$f":"Timesheet!K152","v":"00:00:00"},{"$f":"Timesheet!B152","v":0}]
[{"$f":"Timesheet!C153","v":0},{"$f":"Timesheet!AG153","v":0},{"$f":"Timesheet!R153","v":0},{"$f":"Timesheet!K153","v":"00:00:00"},{"$f":"Timesheet!B153","v":0}]
[{"$f":"Timesheet!C154","v":0},{"$f":"Timesheet!AG154","v":0},{"$f":"Timesheet!R154","v":0},{"$f":"Timesheet!K154","v":"00:00:00"},{"$f":"Timesheet!B154","v":0}]
[{"$f":"Timesheet!C155","v":0},{"$f":"Timesheet!AG155","v":0},{"$f":"Timesheet!R155","v":0},{"$f":"Timesheet!K155","v":"00:00:00"},{"$f":"Timesheet!B155","v":0}]
[{"$f":"Timesheet!C156","v":0},{"$f":"Timesheet!AG156","v":0},{"$f":"Timesheet!R156","v":0},{"$f":"Timesheet!K156","v":"00:00:00"},{"$f":"Timesheet!B156","v":0}]
[{"$f":"Timesheet!C157","v":0},{"$f":"Timesheet!AG157","v":0},{"$f":"Timesheet!R157","v":0},{"$f":"Timesheet!K157","v":"00:00:00"},{"$f":"Timesheet!B157","v":0}]
[{"$f":"Timesheet!C158","v":0},{"$f":"Timesheet!AG158","v":0},{"$f":"Timesheet!R158","v":0},{"$f":"Timesheet!K158","v":"00:00:00"},{"$f":"Timesheet!B158","v":0}]
[{"$f":"Timesheet!C159","v":0},{"$f":"Timesheet!AG159","v":0},{"$f":"Timesheet!R159","v":0},{"$f":"Timesheet!K159","v":"00:00:00"},{"$f":"Timesheet!B159","v":0}]
[{"$f":"Timesheet!C160","v":0},{"$f":"Timesheet!AG160","v":0},{"$f":"Timesheet!R160","v":0},{"$f":"Timesheet!K160","v":"00:00:00"},{"$f":"Timesheet!B160","v":0}]
[{"$f":"Timesheet!C161","v":0},{"$f":"Timesheet!AG161","v":0},{"$f":"Timesheet!R161","v":0},{"$f":"Timesheet!K161","v":"00:00:00"},{"$f":"Timesheet!B161","v":0}]
[{"$f":"Timesheet!C162","v":0},{"$f":"Timesheet!AG162","v":0},{"$f":"Timesheet!R162","v":0},{"$f":"Timesheet!K162","v":"00:00:00"},{"$f":"Timesheet!B162","v":0}]
[{"$f":"Timesheet!C163","v":0},{"$f":"Timesheet!AG163","v":0},{"$f":"Timesheet!R163","v":0},{"$f":"Timesheet!K163","v":"00:00:00"},{"$f":"Timesheet!B163","v":0}]
[{"$f":"Timesheet!C164","v":0},{"$f":"Timesheet!AG164","v":0},{"$f":"Timesheet!R164","v":0},{"$f":"Timesheet!K164","v":"00:00:00"},{"$f":"Timesheet!B164","v":0}]
[{"$f":"Timesheet!C165","v":0},{"$f":"Timesheet!AG165","v":0},{"$f":"Timesheet!R165","v":0},{"$f":"Timesheet!K165","v":"00:00:00"},{"$f":"Timesheet!B165","v":0}]
[{"$f":"Timesheet!C166","v":0},{"$f":"Timesheet!AG166","v":0},{"$f":"Timesheet!R166","v":0},{"$f":"Timesheet!K166","v":"00:00:00"},{"$f":"Timesheet!B166","v":0}]
[{"$f":"Timesheet!C167","v":0},{"$f":"Timesheet!AG167","v":0},{"$f":"Timesheet!R167","v":0},{"$f":"Timesheet!K167","v":"00:00:00"},{"$f":"Timesheet!B167","v":0}]
[{"$f":"Timesheet!C168","v":0},{"$f":"Timesheet!AG168","v":0},{"$f":"Timesheet!R168","v":0},{"$f":"Timesheet!K168","v":"00:00:00"},{"$f":"Timesheet!B168","v":0}]
[{"$f":"Timesheet!C169","v":0},{"$f":"Timesheet!AG169","v":0},{"$f":"Timesheet!R169","v":0},{"$f":"Timesheet!K169","v":"00:00:00"},{"$f":"Timesheet!B169","v":0}]
[{"$f":"Timesheet!C170","v":0},{"$f":"Timesheet!AG170","v":0},{"$f":"Timesheet!R170","v":0},{"$f":"Timesheet!K170","v":"00:00:00"},{"$f":"Timesheet!B170","v":0}]
[{"$f":"Timesheet!C171","v":0},{"$f":"Timesheet!AG171","v":0},{"$f":"Timesheet!R171","v":0},{"$f":"Timesheet!K171","v":"00:00:00"},{"$f":"Timesheet!B171","v":0}]
[{"$f":"Timesheet!C172","v":0},{"$f":"Timesheet!AG172","v":0},{"$f":"Timesheet!R172","v":0},{"$f":"Timesheet!K172","v":"00:00:00"},{"$f":"Timesheet!B172","v":0}]
[{"$f":"Timesheet!C173","v":0},{"$f":"Timesheet!AG173","v":0},{"$f":"Timesheet!R173","v":0},{"$f":"Timesheet!K173","v":"00:00:00"},{"$f":"Timesheet!B173","v":0}]
[{"$f":"Timesheet!C174","v":0},{"$f":"Timesheet!AG174","v":0},{"$f":"Timesheet!R174","v":0},{"$f":"Timesheet!K174","v":"00:00:00"},{"$f":"Timesheet!B174","v":0}]
[{"$f":"Timesheet!C175","v":0},{"$f":"Timesheet!AG175","v":0},{"$f":"Timesheet!R175","v":0},{"$f":"Timesheet!K175","v":"00:00:00"},{"$f":"Timesheet!B175","v":0}]
[{"$f":"Timesheet!C176","v":0},{"$f":"Timesheet!AG176","v":0},{"$f":"Timesheet!R176","v":0},{"$f":"Timesheet!K176","v":"00:00:00"},{"$f":"Timesheet!B176","v":0}]
[{"$f":"Timesheet!C177","v":0},{"$f":"Timesheet!AG177","v":0},{"$f":"Timesheet!R177","v":0},{"$f":"Timesheet!K177","v":"00:00:00"},{"$f":"Timesheet!B177","v":0}]
[{"$f":"Timesheet!C178","v":0},{"$f":"Timesheet!AG178","v":0},{"$f":"Timesheet!R178","v":0},{"$f":"Timesheet!K178","v":"00:00:00"},{"$f":"Timesheet!B178","v":0}]
[{"$f":"Timesheet!C179","v":0},{"$f":"Timesheet!AG179","v":0},{"$f":"Timesheet!R179","v":0},{"$f":"Timesheet!K179","v":"00:00:00"},{"$f":"Timesheet!B179","v":0}]
[{"$f":"Timesheet!C180","v":0},{"$f":"Timesheet!AG180","v":0},{"$f":"Timesheet!R180","v":0},{"$f":"Timesheet!K180","v":"00:00:00"},{"$f":"Timesheet!B180","v":0}]
[{"$f":"Timesheet!C181","v":0},{"$f":"Timesheet!AG181","v":0},{"$f":"Timesheet!R181","v":0},{"$f":"Timesheet!K181","v":"00:00:00"},{"$f":"Timesheet!B181","v":0}]
[{"$f":"Timesheet!C182","v":0},{"$f":"Timesheet!AG182","v":0},{"$f":"Timesheet!R182","v":0},{"$f":"Timesheet!K182","v":"00:00:00"},{"$f":"Timesheet!B182","v":0}]
[{"$f":"Timesheet!C183","v":0},{"$f":"Timesheet!AG183","v":0},{"$f":"Timesheet!R183","v":0},{"$f":"Timesheet!K183","v":"00:00:00"},{"$f":"Timesheet!B183","v":0}]
[{"$f":"Timesheet!C184","v":0},{"$f":"Timesheet!AG184","v":0},{"$f":"Timesheet!R184","v":0},{"$f":"Timesheet!K184","v":"00:00:00"},{"$f":"Timesheet!B184","v":0}]
[{"$f":"Timesheet!C185","v":0},{"$f":"Timesheet!AG185","v":0},{"$f":"Timesheet!R185","v":0},{"$f":"Timesheet!K185","v":"00:00:00"},{"$f":"Timesheet!B185","v":0}]
[{"$f":"Timesheet!C186","v":0},{"$f":"Timesheet!AG186","v":0},{"$f":"Timesheet!R186","v":0},{"$f":"Timesheet!K186","v":"00:00:00"},{"$f":"Timesheet!B186","v":0}]
[{"$f":"Timesheet!C187","v":0},{"$f":"Timesheet!AG187","v":0},{"$f":"Timesheet!R187","v":0},{"$f":"Timesheet!K187","v":"00:00:00"},{"$f":"Timesheet!B187","v":0}]
[{"$f":"Timesheet!C188","v":0},{"$f":"Timesheet!AG188","v":0},{"$f":"Timesheet!R188","v":0},{"$f":"Timesheet!K188","v":"00:00:00"},{"$f":"Timesheet!B188","v":0}]
[{"$f":"Timesheet!C189","v":0},{"$f":"Timesheet!AG189","v":0},{"$f":"Timesheet!R189","v":0},{"$f":"Timesheet!K189","v":"00:00:00"},{"$f":"Timesheet!B189","v":0}]
[{"$f":"Timesheet!C190","v":0},{"$f":"Timesheet!AG190","v":0},{"$f":"Timesheet!R190","v":0},{"$f":"Timesheet!K190","v":"00:00:00"},{"$f":"Timesheet!B190","v":0}]
[{"$f":"Timesheet!C191","v":0},{"$f":"Timesheet!AG191","v":0},{"$f":"Timesheet!R191","v":0},{"$f":"Timesheet!K191","v":"00:00:00"},{"$f":"Timesheet!B191","v":0}]
[{"$f":"Timesheet!C192","v":0},{"$f":"Timesheet!AG192","v":0},{"$f":"Timesheet!R192","v":0},{"$f":"Timesheet!K192","v":"00:00:00"},{"$f":"Timesheet!B192","v":0}]
[{"$f":"Timesheet!C193","v":0},{"$f":"Timesheet!AG193","v":0},{"$f":"Timesheet!R193","v":0},{"$f":"Timesheet!K193","v":"00:00:00"},{"$f":"Timesheet!B193","v":0}]
[{"$f":"Timesheet!C194","v":0},{"$f":"Timesheet!AG194","v":0},{"$f":"Timesheet!R194","v":0},{"$f":"Timesheet!K194","v":"00:00:00"},{"$f":"Timesheet!B194","v":0}]
[{"$f":"Timesheet!C195","v":0},{"$f":"Timesheet!AG195","v":0},{"$f":"Timesheet!R195","v":0},{"$f":"Timesheet!K195","v":"00:00:00"},{"$f":"Timesheet!B195","v":0}]
[{"$f":"Timesheet!C196","v":0},{"$f":"Timesheet!AG196","v":0},{"$f":"Timesheet!R196","v":0},{"$f":"Timesheet!K196","v":"00:00:00"},{"$f":"Timesheet!B196","v":0}]
[{"$f":"Timesheet!C197","v":0},{"$f":"Timesheet!AG197","v":0},{"$f":"Timesheet!R197","v":0},{"$f":"Timesheet!K197","v":"00:00:00"},{"$f":"Timesheet!B197","v":0}]
[{"$f":"Timesheet!C198","v":0},{"$f":"Timesheet!AG198","v":0},{"$f":"Timesheet!R198","v":0},{"$f":"Timesheet!K198","v":"00:00:00"},{"$f":"Timesheet!B198","v":0}]
[{"$f":"Timesheet!C199","v":0},{"$f":"Timesheet!AG199","v":0},{"$f":"Timesheet!R199","v":0},{"$f":"Timesheet!K199","v":"00:00:00"},{"$f":"Timesheet!B199","v":0}]
[{"$f":"Timesheet!C200","v":0},{"$f":"Timesheet!AG200","v":0},{"$f":"Timesheet!R200","v":0},{"$f":"Timesheet!K200","v":"00:00:00"},{"$f":"Timesheet!B200","v":0}]
[{"$f":"Timesheet!C201","v":0},{"$f":"Timesheet!AG201","v":0},{"$f":"Timesheet!R201","v":0},{"$f":"Timesheet!K201","v":"00:00:00"},{"$f":"Timesheet!B201","v":0}]
[{"$f":"Timesheet!C202","v":0},{"$f":"Timesheet!AG202","v":0},{"$f":"Timesheet!R202","v":0},{"$f":"Timesheet!K202","v":"00:00:00"},{"$f":"Timesheet!B202","v":0}]
[{"$f":"Timesheet!C203","v":0},{"$f":"Timesheet!AG203","v":0},{"$f":"Timesheet!R203","v":0},{"$f":"Timesheet!K203","v":"00:00:00"},{"$f":"Timesheet!B203","v":0}]
[{"$f":"Timesheet!C204","v":0},{"$f":"Timesheet!AG204","v":0},{"$f":"Timesheet!R204","v":0},{"$f":"Timesheet!K204","v":"00:00:00"},{"$f":"Timesheet!B204","v":0}]
[{"$f":"Timesheet!C205","v":0},{"$f":"Timesheet!AG205","v":0},{"$f":"Timesheet!R205","v":0},{"$f":"Timesheet!K205","v":"00:00:00"},{"$f":"Timesheet!B205","v":0}]
[{"$f":"Timesheet!C206","v":0},{"$f":"Timesheet!AG206","v":0},{"$f":"Timesheet!R206","v":0},{"$f":"Timesheet!K206","v":"00:00:00"},{"$f":"Timesheet!B206","v":0}]
[{"$f":"Timesheet!C207","v":0},{"$f":"Timesheet!AG207","v":0},{"$f":"Timesheet!R207","v":0},{"$f":"Timesheet!K207","v":"00:00:00"},{"$f":"Timesheet!B207","v":0}]
[{"$f":"Timesheet!C208","v":0},{"$f":"Timesheet!AG208","v":0},{"$f":"Timesheet!R208","v":0},{"$f":"Timesheet!K208","v":"00:00:00"},{"$f":"Timesheet!B208","v":0}]
[{"$f":"Timesheet!C209","v":0},{"$f":"Timesheet!AG209","v":0},{"$f":"Timesheet!R209","v":0},{"$f":"Timesheet!K209","v":"00:00:00"},{"$f":"Timesheet!B209","v":0}]
[{"$f":"Timesheet!C210","v":0},{"$f":"Timesheet!AG210","v":0},{"$f":"Timesheet!R210","v":0},{"$f":"Timesheet!K210","v":"00:00:00"},{"$f":"Timesheet!B210","v":0}]
[{"$f":"Timesheet!C211","v":0},{"$f":"Timesheet!AG211","v":0},{"$f":"Timesheet!R211","v":0},{"$f":"Timesheet!K211","v":"00:00:00"},{"$f":"Timesheet!B211","v":0}]
[{"$f":"Timesheet!C212","v":0},{"$f":"Timesheet!AG212","v":0},{"$f":"Timesheet!R212","v":0},{"$f":"Timesheet!K212","v":"00:00:00"},{"$f":"Timesheet!B212","v":0}]
[{"$f":"Timesheet!C213","v":0},{"$f":"Timesheet!AG213","v":0},{"$f":"Timesheet!R213","v":0},{"$f":"Timesheet!K213","v":"00:00:00"},{"$f":"Timesheet!B213","v":0}]
[{"$f":"Timesheet!C214","v":0},{"$f":"Timesheet!AG214","v":0},{"$f":"Timesheet!R214","v":0},{"$f":"Timesheet!K214","v":"00:00:00"},{"$f":"Timesheet!B214","v":0}]
[{"$f":"Timesheet!C215","v":0},{"$f":"Timesheet!AG215","v":0},{"$f":"Timesheet!R215","v":0},{"$f":"Timesheet!K215","v":"00:00:00"},{"$f":"Timesheet!B215","v":0}]
[{"$f":"Timesheet!C216","v":0},{"$f":"Timesheet!AG216","v":0},{"$f":"Timesheet!R216","v":0},{"$f":"Timesheet!K216","v":"00:00:00"},{"$f":"Timesheet!B216","v":0}]
[{"$f":"Timesheet!C217","v":0},{"$f":"Timesheet!AG217","v":0},{"$f":"Timesheet!R217","v":0},{"$f":"Timesheet!K217","v":"00:00:00"},{"$f":"Timesheet!B217","v":0}]
[{"$f":"Timesheet!C218","v":0},{"$f":"Timesheet!AG218","v":0},{"$f":"Timesheet!R218","v":0},{"$f":"Timesheet!K218","v":"00:00:00"},{"$f":"Timesheet!B218","v":0}]
[{"$f":"Timesheet!C219","v":0},{"$f":"Timesheet!AG219","v":0},{"$f":"Timesheet!R219","v":0},{"$f":"Timesheet!K219","v":"00:00:00"},{"$f":"Timesheet!B219","v":0}]
[{"$f":"Timesheet!C220","v":0},{"$f":"Timesheet!AG220","v":0},{"$f":"Timesheet!R220","v":0},{"$f":"Timesheet!K220","v":"00:00:00"},{"$f":"Timesheet!B220","v":0}]
[{"$f":"Timesheet!C221","v":0},{"$f":"Timesheet!AG221","v":0},{"$f":"Timesheet!R221","v":0},{"$f":"Timesheet!K221","v":"00:00:00"},{"$f":"Timesheet!B221","v":0}]
[{"$f":"Timesheet!C222","v":0},{"$f":"Timesheet!AG222","v":0},{"$f":"Timesheet!R222","v":0},{"$f":"Timesheet!K222","v":"00:00:00"},{"$f":"Timesheet!B222","v":0}]
[{"$f":"Timesheet!C223","v":0},{"$f":"Timesheet!AG223","v":0},{"$f":"Timesheet!R223","v":0},{"$f":"Timesheet!K223","v":"00:00:00"},{"$f":"Timesheet!B223","v":0}]
[{"$f":"Timesheet!C224","v":0},{"$f":"Timesheet!AG224","v":0},{"$f":"Timesheet!R224","v":0},{"$f":"Timesheet!K224","v":"00:00:00"},{"$f":"Timesheet!B224","v":0}]
[{"$f":"Timesheet!C225","v":0},{"$f":"Timesheet!AG225","v":0},{"$f":"Timesheet!R225","v":0},{"$f":"Timesheet!K225","v":"00:00:00"},{"$f":"Timesheet!B225","v":0}]
[{"$f":"Timesheet!C226","v":0},{"$f":"Timesheet!AG226","v":0},{"$f":"Timesheet!R226","v":0},{"$f":"Timesheet!K226","v":"00:00:00"},{"$f":"Timesheet!B226","v":0}]
[{"$f":"Timesheet!C227","v":0},{"$f":"Timesheet!AG227","v":0},{"$f":"Timesheet!R227","v":0},{"$f":"Timesheet!K227","v":"00:00:00"},{"$f":"Timesheet!B227","v":0}]
[{"$f":"Timesheet!C228","v":0},{"$f":"Timesheet!AG228","v":0},{"$f":"Timesheet!R228","v":0},{"$f":"Timesheet!K228","v":"00:00:00"},{"$f":"Timesheet!B228","v":0}]
[{"$f":"Timesheet!C229","v":0},{"$f":"Timesheet!AG229","v":0},{"$f":"Timesheet!R229","v":0},{"$f":"Timesheet!K229","v":"00:00:00"},{"$f":"Timesheet!B229","v":0}]
[{"$f":"Timesheet!C230","v":0},{"$f":"Timesheet!AG230","v":0},{"$f":"Timesheet!R230","v":0},{"$f":"Timesheet!K230","v":"00:00:00"},{"$f":"Timesheet!B230","v":0}]
[{"$f":"Timesheet!C231","v":0},{"$f":"Timesheet!AG231","v":0},{"$f":"Timesheet!R231","v":0},{"$f":"Timesheet!K231","v":"00:00:00"},{"$f":"Timesheet!B231","v":0}]
[{"$f":"Timesheet!C232","v":0},{"$f":"Timesheet!AG232","v":0},{"$f":"Timesheet!R232","v":0},{"$f":"Timesheet!K232","v":"00:00:00"},{"$f":"Timesheet!B232","v":0}]
[{"$f":"Timesheet!C233","v":0},{"$f":"Timesheet!AG233","v":0},{"$f":"Timesheet!R233","v":0},{"$f":"Timesheet!K233","v":"00:00:00"},{"$f":"Timesheet!B233","v":0}]
[{"$f":"Timesheet!C234","v":0},{"$f":"Timesheet!AG234","v":0},{"$f":"Timesheet!R234","v":0},{"$f":"Timesheet!K234","v":"00:00:00"},{"$f":"Timesheet!B234","v":0}]
[{"$f":"Timesheet!C235","v":0},{"$f":"Timesheet!AG235","v":0},{"$f":"Timesheet!R235","v":0},{"$f":"Timesheet!K235","v":"00:00:00"},{"$f":"Timesheet!B235","v":0}]
[{"$f":"Timesheet!C236","v":0},{"$f":"Timesheet!AG236","v":0},{"$f":"Timesheet!R236","v":0},{"$f":"Timesheet!K236","v":"00:00:00"},{"$f":"Timesheet!B236","v":0}]
[{"$f":"Timesheet!C237","v":0},{"$f":"Timesheet!AG237","v":0},{"$f":"Timesheet!R237","v":0},{"$f":"Timesheet!K237","v":"00:00:00"},{"$f":"Timesheet!B237","v":0}]
[{"$f":"Timesheet!C238","v":0},{"$f":"Timesheet!AG238","v":0},{"$f":"Timesheet!R238","v":0},{"$f":"Timesheet!K238","v":"00:00:00"},{"$f":"Timesheet!B238","v":0}]
[{"$f":"Timesheet!C239","v":0},{"$f":"Timesheet!AG239","v":0},{"$f":"Timesheet!R239","v":0},{"$f":"Timesheet!K239","v":"00:00:00"},{"$f":"Timesheet!B239","v":0}]
[{"$f":"Timesheet!C240","v":0},{"$f":"Timesheet!AG240","v":0},{"$f":"Timesheet!R240","v":0},{"$f":"Timesheet!K240","v":"00:00:00"},{"$f":"Timesheet!B240","v":0}]
[{"$f":"Timesheet!C241","v":0},{"$f":"Timesheet!AG241","v":0},{"$f":"Timesheet!R241","v":0},{"$f":"Timesheet!K241","v":"00:00:00"},{"$f":"Timesheet!B241","v":0}]
[{"$f":"Timesheet!C242","v":0},{"$f":"Timesheet!AG242","v":0},{"$f":"Timesheet!R242","v":0},{"$f":"Timesheet!K242","v":"00:00:00"},{"$f":"Timesheet!B242","v":0}]
[{"$f":"Timesheet!C243","v":0},{"$f":"Timesheet!AG243","v":0},{"$f":"Timesheet!R243","v":0},{"$f":"Timesheet!K243","v":"00:00:00"},{"$f":"Timesheet!B243","v":0}]
[{"$f":"Timesheet!C244","v":0},{"$f":"Timesheet!AG244","v":0},{"$f":"Timesheet!R244","v":0},{"$f":"Timesheet!K244","v":"00:00:00"},{"$f":"Timesheet!B244","v":0}]
[{"$f":"Timesheet!C245","v":0},{"$f":"Timesheet!AG245","v":0},{"$f":"Timesheet!R245","v":0},{"$f":"Timesheet!K245","v":"00:00:00"},{"$f":"Timesheet!B245","v":0}]
[{"$f":"Timesheet!C246","v":0},{"$f":"Timesheet!AG246","v":0},{"$f":"Timesheet!R246","v":0},{"$f":"Timesheet!K246","v":"00:00:00"},{"$f":"Timesheet!B246","v":0}]
[{"$f":"Timesheet!C247","v":0},{"$f":"Timesheet!AG247","v":0},{"$f":"Timesheet!R247","v":0},{"$f":"Timesheet!K247","v":"00:00:00"},{"$f":"Timesheet!B247","v":0}]
[{"$f":"Timesheet!C248","v":0},{"$f":"Timesheet!AG248","v":0},{"$f":"Timesheet!R248","v":0},{"$f":"Timesheet!K248","v":"00:00:00"},{"$f":"Timesheet!B248","v":0}]
[{"$f":"Timesheet!C249","v":0},{"$f":"Timesheet!AG249","v":0},{"$f":"Timesheet!R249","v":0},{"$f":"Timesheet!K249","v":"00:00:00"},{"$f":"Timesheet!B249","v":0}]
[{"$f":"Timesheet!C250","v":0},{"$f":"Timesheet!AG250","v":0},{"$f":"Timesheet!R250","v":0},{"$f":"Timesheet!K250","v":"00:00:00"},{"$f":"Timesheet!B250","v":0}]
[{"$f":"Timesheet!C251","v":0},{"$f":"Timesheet!AG251","v":0},{"$f":"Timesheet!R251","v":0},{"$f":"Timesheet!K251","v":"00:00:00"},{"$f":"Timesheet!B251","v":0}]
[{"$f":"Timesheet!C252","v":0},{"$f":"Timesheet!AG252","v":0},{"$f":"Timesheet!R252","v":0},{"$f":"Timesheet!K252","v":"00:00:00"},{"$f":"Timesheet!B252","v":0}]
[{"$f":"Timesheet!C253","v":0},{"$f":"Timesheet!AG253","v":0},{"$f":"Timesheet!R253","v":0},{"$f":"Timesheet!K253","v":"00:00:00"},{"$f":"Timesheet!B253","v":0}]
[{"$f":"Timesheet!C254","v":0},{"$f":"Timesheet!AG254","v":0},{"$f":"Timesheet!R254","v":0},{"$f":"Timesheet!K254","v":"00:00:00"},{"$f":"Timesheet!B254","v":0}]
[{"$f":"Timesheet!C255","v":0},{"$f":"Timesheet!AG255","v":0},{"$f":"Timesheet!R255","v":0},{"$f":"Timesheet!K255","v":"00:00:00"},{"$f":"Timesheet!B255","v":0}]
[{"$f":"Timesheet!C256","v":0},{"$f":"Timesheet!AG256","v":0},{"$f":"Timesheet!R256","v":0},{"$f":"Timesheet!K256","v":"00:00:00"},{"$f":"Timesheet!B256","v":0}]
[{"$f":"Timesheet!C257","v":0},{"$f":"Timesheet!AG257","v":0},{"$f":"Timesheet!R257","v":0},{"$f":"Timesheet!K257","v":"00:00:00"},{"$f":"Timesheet!B257","v":0}]
[{"$f":"Timesheet!C258","v":0},{"$f":"Timesheet!AG258","v":0},{"$f":"Timesheet!R258","v":0},{"$f":"Timesheet!K258","v":"00:00:00"},{"$f":"Timesheet!B258","v":0}]
[{"$f":"Timesheet!C259","v":0},{"$f":"Timesheet!AG259","v":0},{"$f":"Timesheet!R259","v":0},{"$f":"Timesheet!K259","v":"00:00:00"},{"$f":"Timesheet!B259","v":0}]
[{"$f":"Timesheet!C260","v":0},{"$f":"Timesheet!AG260","v":0},{"$f":"Timesheet!R260","v":0},{"$f":"Timesheet!K260","v":"00:00:00"},{"$f":"Timesheet!B260","v":0}]
[{"$f":"Timesheet!C261","v":0},{"$f":"Timesheet!AG261","v":0},{"$f":"Timesheet!R261","v":0},{"$f":"Timesheet!K261","v":"00:00:00"},{"$f":"Timesheet!B261","v":0}]
[{"$f":"Timesheet!C262","v":0},{"$f":"Timesheet!AG262","v":0},{"$f":"Timesheet!R262","v":0},{"$f":"Timesheet!K262","v":"00:00:00"},{"$f":"Timesheet!B262","v":0}]
[{"$f":"Timesheet!C263","v":0},{"$f":"Timesheet!AG263","v":0},{"$f":"Timesheet!R263","v":0},{"$f":"Timesheet!K263","v":"00:00:00"},{"$f":"Timesheet!B263","v":0}]
[{"$f":"Timesheet!C264","v":0},{"$f":"Timesheet!AG264","v":0},{"$f":"Timesheet!R264","v":0},{"$f":"Timesheet!K264","v":"00:00:00"},{"$f":"Timesheet!B264","v":0}]
[{"$f":"Timesheet!C265","v":0},{"$f":"Timesheet!AG265","v":0},{"$f":"Timesheet!R265","v":0},{"$f":"Timesheet!K265","v":"00:00:00"},{"$f":"Timesheet!B265","v":0}]
[{"$f":"Timesheet!C266","v":0},{"$f":"Timesheet!AG266","v":0},{"$f":"Timesheet!R266","v":0},{"$f":"Timesheet!K266","v":"00:00:00"},{"$f":"Timesheet!B266","v":0}]
[{"$f":"Timesheet!C267","v":0},{"$f":"Timesheet!AG267","v":0},{"$f":"Timesheet!R267","v":0},{"$f":"Timesheet!K267","v":"00:00:00"},{"$f":"Timesheet!B267","v":0}]
[{"$f":"Timesheet!C268","v":0},{"$f":"Timesheet!AG268","v":0},{"$f":"Timesheet!R268","v":0},{"$f":"Timesheet!K268","v":"00:00:00"},{"$f":"Timesheet!B268","v":0}]
[{"$f":"Timesheet!C269","v":0},{"$f":"Timesheet!AG269","v":0},{"$f":"Timesheet!R269","v":0},{"$f":"Timesheet!K269","v":"00:00:00"},{"$f":"Timesheet!B269","v":0}]
[{"$f":"Timesheet!C270","v":0},{"$f":"Timesheet!AG270","v":0},{"$f":"Timesheet!R270","v":0},{"$f":"Timesheet!K270","v":"00:00:00"},{"$f":"Timesheet!B270","v":0}]
[{"$f":"Timesheet!C271","v":0},{"$f":"Timesheet!AG271","v":0},{"$f":"Timesheet!R271","v":0},{"$f":"Timesheet!K271","v":"00:00:00"},{"$f":"Timesheet!B271","v":0}]
[{"$f":"Timesheet!C272","v":0},{"$f":"Timesheet!AG272","v":0},{"$f":"Timesheet!R272","v":0},{"$f":"Timesheet!K272","v":"00:00:00"},{"$f":"Timesheet!B272","v":0}]
[{"$f":"Timesheet!C273","v":0},{"$f":"Timesheet!AG273","v":0},{"$f":"Timesheet!R273","v":0},{"$f":"Timesheet!K273","v":"00:00:00"},{"$f":"Timesheet!B273","v":0}]
[{"$f":"Timesheet!C274","v":0},{"$f":"Timesheet!AG274","v":0},{"$f":"Timesheet!R274","v":0},{"$f":"Timesheet!K274","v":"00:00:00"},{"$f":"Timesheet!B274","v":0}]
[{"$f":"Timesheet!C275","v":0},{"$f":"Timesheet!AG275","v":0},{"$f":"Timesheet!R275","v":0},{"$f":"Timesheet!K275","v":"00:00:00"},{"$f":"Timesheet!B275","v":0}]
[{"$f":"Timesheet!C276","v":0},{"$f":"Timesheet!AG276","v":0},{"$f":"Timesheet!R276","v":0},{"$f":"Timesheet!K276","v":"00:00:00"},{"$f":"Timesheet!B276","v":0}]
[{"$f":"Timesheet!C277","v":0},{"$f":"Timesheet!AG277","v":0},{"$f":"Timesheet!R277","v":0},{"$f":"Timesheet!K277","v":"00:00:00"},{"$f":"Timesheet!B277","v":0}]
[{"$f":"Timesheet!C278","v":0},{"$f":"Timesheet!AG278","v":0},{"$f":"Timesheet!R278","v":0},{"$f":"Timesheet!K278","v":"00:00:00"},{"$f":"Timesheet!B278","v":0}]
[{"$f":"Timesheet!C279","v":0},{"$f":"Timesheet!AG279","v":0},{"$f":"Timesheet!R279","v":0},{"$f":"Timesheet!K279","v":"00:00:00"},{"$f":"Timesheet!B279","v":0}]
[{"$f":"Timesheet!C280","v":0},{"$f":"Timesheet!AG280","v":0},{"$f":"Timesheet!R280","v":0},{"$f":"Timesheet!K280","v":"00:00:00"},{"$f":"Timesheet!B280","v":0}]
[{"$f":"Timesheet!C281","v":0},{"$f":"Timesheet!AG281","v":0},{"$f":"Timesheet!R281","v":0},{"$f":"Timesheet!K281","v":"00:00:00"},{"$f":"Timesheet!B281","v":0}]
[{"$f":"Timesheet!C282","v":0},{"$f":"Timesheet!AG282","v":0},{"$f":"Timesheet!R282","v":0},{"$f":"Timesheet!K282","v":"00:00:00"},{"$f":"Timesheet!B282","v":0}]
[{"$f":"Timesheet!C283","v":0},{"$f":"Timesheet!AG283","v":0},{"$f":"Timesheet!R283","v":0},{"$f":"Timesheet!K283","v":"00:00:00"},{"$f":"Timesheet!B283","v":0}]
[{"$f":"Timesheet!C284","v":0},{"$f":"Timesheet!AG284","v":0},{"$f":"Timesheet!R284","v":0},{"$f":"Timesheet!K284","v":"00:00:00"},{"$f":"Timesheet!B284","v":0}]
[{"$f":"Timesheet!C285","v":0},{"$f":"Timesheet!AG285","v":0},{"$f":"Timesheet!R285","v":0},{"$f":"Timesheet!K285","v":"00:00:00"},{"$f":"Timesheet!B285","v":0}]
[{"$f":"Timesheet!C286","v":0},{"$f":"Timesheet!AG286","v":0},{"$f":"Timesheet!R286","v":0},{"$f":"Timesheet!K286","v":"00:00:00"},{"$f":"Timesheet!B286","v":0}]
[{"$f":"Timesheet!C287","v":0},{"$f":"Timesheet!AG287","v":0},{"$f":"Timesheet!R287","v":0},{"$f":"Timesheet!K287","v":"00:00:00"},{"$f":"Timesheet!B287","v":0}]
[{"$f":"Timesheet!C288","v":0},{"$f":"Timesheet!AG288","v":0},{"$f":"Timesheet!R288","v":0},{"$f":"Timesheet!K288","v":"00:00:00"},{"$f":"Timesheet!B288","v":0}]
[{"$f":"Timesheet!C289","v":0},{"$f":"Timesheet!AG289","v":0},{"$f":"Timesheet!R289","v":0},{"$f":"Timesheet!K289","v":"00:00:00"},{"$f":"Timesheet!B289","v":0}]
[{"$f":"Timesheet!C290","v":0},{"$f":"Timesheet!AG290","v":0},{"$f":"Timesheet!R290","v":0},{"$f":"Timesheet!K290","v":"00:00:00"},{"$f":"Timesheet!B290","v":0}]
[{"$f":"Timesheet!C291","v":0},{"$f":"Timesheet!AG291","v":0},{"$f":"Timesheet!R291","v":0},{"$f":"Timesheet!K291","v":"00:00:00"},{"$f":"Timesheet!B291","v":0}]
[{"$f":"Timesheet!C292","v":0},{"$f":"Timesheet!AG292","v":0},{"$f":"Timesheet!R292","v":0},{"$f":"Timesheet!K292","v":"00:00:00"},{"$f":"Timesheet!B292","v":0}]
[{"$f":"Timesheet!C293","v":0},{"$f":"Timesheet!AG293","v":0},{"$f":"Timesheet!R293","v":0},{"$f":"Timesheet!K293","v":"00:00:00"},{"$f":"Timesheet!B293","v":0}]
[{"$f":"Timesheet!C294","v":0},{"$f":"Timesheet!AG294","v":0},{"$f":"Timesheet!R294","v":0},{"$f":"Timesheet!K294","v":"00:00:00"},{"$f":"Timesheet!B294","v":0}]
[{"$f":"Timesheet!C295","v":0},{"$f":"Timesheet!AG295","v":0},{"$f":"Timesheet!R295","v":0},{"$f":"Timesheet!K295","v":"00:00:00"},{"$f":"Timesheet!B295","v":0}]
[{"$f":"Timesheet!C296","v":0},{"$f":"Timesheet!AG296","v":0},{"$f":"Timesheet!R296","v":0},{"$f":"Timesheet!K296","v":"00:00:00"},{"$f":"Timesheet!B296","v":0}]
[{"$f":"Timesheet!C297","v":0},{"$f":"Timesheet!AG297","v":0},{"$f":"Timesheet!R297","v":0},{"$f":"Timesheet!K297","v":"00:00:00"},{"$f":"Timesheet!B297","v":0}]
[{"$f":"Timesheet!C298","v":0},{"$f":"Timesheet!AG298","v":0},{"$f":"Timesheet!R298","v":0},{"$f":"Timesheet!K298","v":"00:00:00"},{"$f":"Timesheet!B298","v":0}]
[{"$f":"Timesheet!C299","v":0},{"$f":"Timesheet!AG299","v":0},{"$f":"Timesheet!R299","v":0},{"$f":"Timesheet!K299","v":"00:00:00"},{"$f":"Timesheet!B299","v":0}]
[{"$f":"Timesheet!C300","v":0},{"$f":"Timesheet!AG300","v":0},{"$f":"Timesheet!R300","v":0},{"$f":"Timesheet!K300","v":"00:00:00"},{"$f":"Timesheet!B300","v":0}]
[{"$f":"Timesheet!C301","v":0},{"$f":"Timesheet!AG301","v":0},{"$f":"Timesheet!R301","v":0},{"$f":"Timesheet!K301","v":"00:00:00"},{"$f":"Timesheet!B301","v":0}]
[{"$f":"Timesheet!C302","v":0},{"$f":"Timesheet!AG302","v":0},{"$f":"Timesheet!R302","v":0},{"$f":"Timesheet!K302","v":"00:00:00"},{"$f":"Timesheet!B302","v":0}]
[{"$f":"Timesheet!C3","v":44789},{"$f":"Timesheet!AH3","v":0},{"$f":"Timesheet!T3","v":0},{"$f":"Timesheet!K3","v":"00:00:00"},{"$f":"Timesheet!B3","v":"E33036"}]
[{"$f":"Timesheet!C4","v":39452},{"$f":"Timesheet!AH4","v":0},{"$f":"Timesheet!T4","v":0},{"$f":"Timesheet!K4","v":"00:00:00"},{"$f":"Timesheet!B4","v":"E33036"}]
[{"$f":"Timesheet!C5","v":51119},{"$f":"Timesheet!AH5","v":0},{"$f":"Timesheet!T5","v":0},{"$f":"Timesheet!K5","v":"00:00:00"},{"$f":"Timesheet!B5","v":"E33036"}]
[{"$f":"Timesheet!C6","v":20999},{"$f":"Timesheet!AH6","v":0},{"$f":"Timesheet!T6","v":0},{"$f":"Timesheet!K6","v":"00:00:00"},{"$f":"Timesheet!B6","v":"E33036"}]
[{"$f":"Timesheet!C7","v":50140},{"$f":"Timesheet!AH7","v":0},{"$f":"Timesheet!T7","v":0},{"$f":"Timesheet!K7","v":"00:00:00"},{"$f":"Timesheet!B7","v":"E33036"}]
[{"$f":"Timesheet!C8","v":41120},{"$f":"Timesheet!AH8","v":0},{"$f":"Timesheet!T8","v":0},{"$f":"Timesheet!K8","v":"00:00:00"},{"$f":"Timesheet!B8","v":"E33036"}]
[{"$f":"Timesheet!C9","v":14019220},{"$f":"Timesheet!AH9","v":0},{"$f":"Timesheet!T9","v":0},{"$f":"Timesheet!K9","v":"00:00:00"},{"$f":"Timesheet!B9","v":"E33036"}]
[{"$f":"Timesheet!C10","v":33161},{"$f":"Timesheet!AH10","v":0},{"$f":"Timesheet!T10","v":0},{"$f":"Timesheet!K10","v":"00:00:00"},{"$f":"Timesheet!B10","v":"E33036"}]
[{"$f":"Timesheet!C11","v":44988},{"$f":"Timesheet!AH11","v":0},{"$f":"Timesheet!T11","v":0},{"$f":"Timesheet!K11","v":"00:00:00"},{"$f":"Timesheet!B11","v":"E33036"}]
[{"$f":"Timesheet!C12","v":19061},{"$f":"Timesheet!AH12","v":0},{"$f":"Timesheet!T12","v":0},{"$f":"Timesheet!K12","v":"00:00:00"},{"$f":"Timesheet!B12","v":"E33036"}]
[{"$f":"Timesheet!C13","v":42125},{"$f":"Timesheet!AH13","v":0},{"$f":"Timesheet!T13","v":0},{"$f":"Timesheet!K13","v":"00:00:00"},{"$f":"Timesheet!B13","v":"E33036"}]
[{"$f":"Timesheet!C14","v":35616},{"$f":"Timesheet!AH14","v":0},{"$f":"Timesheet!T14","v":0},{"$f":"Timesheet!K14","v":"00:00:00"},{"$f":"Timesheet!B14","v":"E33036"}]
[{"$f":"Timesheet!C15","v":11630},{"$f":"Timesheet!AH15","v":0},{"$f":"Timesheet!T15","v":0},{"$f":"Timesheet!K15","v":"00:00:00"},{"$f":"Timesheet!B15","v":"E33036"}]
[{"$f":"Timesheet!C16","v":33804},{"$f":"Timesheet!AH16","v":0},{"$f":"Timesheet!T16","v":0},{"$f":"Timesheet!K16","v":"00:00:00"},{"$f":"Timesheet!B16","v":"E33036"}]
[{"$f":"Timesheet!C17","v":11681},{"$f":"Timesheet!AH17","v":0},{"$f":"Timesheet!T17","v":0},{"$f":"Timesheet!K17","v":"00:00:00"},{"$f":"Timesheet!B17","v":"E33036"}]
[{"$f":"Timesheet!C18","v":51311},{"$f":"Timesheet!AH18","v":0},{"$f":"Timesheet!T18","v":0},{"$f":"Timesheet!K18","v":"00:00:00"},{"$f":"Timesheet!B18","v":"E33036"}]
[{"$f":"Timesheet!C19","v":19209},{"$f":"Timesheet!AH19","v":0},{"$f":"Timesheet!T19","v":0},{"$f":"Timesheet!K19","v":"00:00:00"},{"$f":"Timesheet!B19","v":"E33036"}]
[{"$f":"Timesheet!C20","v":40516},{"$f":"Timesheet!AH20","v":0},{"$f":"Timesheet!T20","v":0},{"$f":"Timesheet!K20","v":"00:00:00"},{"$f":"Timesheet!B20","v":"E33036"}]
[{"$f":"Timesheet!C21","v":42806},{"$f":"Timesheet!AH21","v":0},{"$f":"Timesheet!T21","v":0},{"$f":"Timesheet!K21","v":"00:00:00"},{"$f":"Timesheet!B21","v":"E33036"}]
[{"$f":"Timesheet!C22","v":47495},{"$f":"Timesheet!AH22","v":0},{"$f":"Timesheet!T22","v":0},{"$f":"Timesheet!K22","v":"00:00:00"},{"$f":"Timesheet!B22","v":"E33036"}]
[{"$f":"Timesheet!C23","v":38391},{"$f":"Timesheet!AH23","v":0},{"$f":"Timesheet!T23","v":0},{"$f":"Timesheet!K23","v":"00:00:00"},{"$f":"Timesheet!B23","v":"E33036"}]
[{"$f":"Timesheet!C24","v":28706},{"$f":"Timesheet!AH24","v":0},{"$f":"Timesheet!T24","v":0},{"$f":"Timesheet!K24","v":"00:00:00"},{"$f":"Timesheet!B24","v":"E33036"}]
[{"$f":"Timesheet!C25","v":44672},{"$f":"Timesheet!AH25","v":0},{"$f":"Timesheet!T25","v":0},{"$f":"Timesheet!K25","v":"00:00:00"},{"$f":"Timesheet!B25","v":"E33036"}]
[{"$f":"Timesheet!C26","v":14289262},{"$f":"Timesheet!AH26","v":0},{"$f":"Timesheet!T26","v":0},{"$f":"Timesheet!K26","v":"00:00:00"},{"$f":"Timesheet!B26","v":"E33036"}]
[{"$f":"Timesheet!C27","v":18068},{"$f":"Timesheet!AH27","v":0},{"$f":"Timesheet!T27","v":0},{"$f":"Timesheet!K27","v":"00:00:00"},{"$f":"Timesheet!B27","v":"E33036"}]
[{"$f":"Timesheet!C28","v":13209997},{"$f":"Timesheet!AH28","v":0},{"$f":"Timesheet!T28","v":0},{"$f":"Timesheet!K28","v":"00:00:00"},{"$f":"Timesheet!B28","v":"E33036"}]
[{"$f":"Timesheet!C29","v":59},{"$f":"Timesheet!AH29","v":0},{"$f":"Timesheet!T29","v":0},{"$f":"Timesheet!K29","v":"00:00:00"},{"$f":"Timesheet!B29","v":"E33036"}]
[{"$f":"Timesheet!C30","v":29923},{"$f":"Timesheet!AH30","v":0},{"$f":"Timesheet!T30","v":0},{"$f":"Timesheet!K30","v":"00:00:00"},{"$f":"Timesheet!B30","v":"E33036"}]
[{"$f":"Timesheet!C31","v":21790},{"$f":"Timesheet!AH31","v":0},{"$f":"Timesheet!T31","v":0},{"$f":"Timesheet!K31","v":"00:00:00"},{"$f":"Timesheet!B31","v":"E33036"}]
[{"$f":"Timesheet!C32","v":13016632},{"$f":"Timesheet!AH32","v":0},{"$f":"Timesheet!T32","v":0},{"$f":"Timesheet!K32","v":"00:00:00"},{"$f":"Timesheet!B32","v":"E33036"}]
[{"$f":"Timesheet!C33","v":13616632},{"$f":"Timesheet!AH33","v":0},{"$f":"Timesheet!T33","v":0},{"$f":"Timesheet!K33","v":"00:00:00"},{"$f":"Timesheet!B33","v":"E33036"}]
[{"$f":"Timesheet!C34","v":40046},{"$f":"Timesheet!AH34","v":0},{"$f":"Timesheet!T34","v":0},{"$f":"Timesheet!K34","v":"00:00:00"},{"$f":"Timesheet!B34","v":"E33036"}]
[{"$f":"Timesheet!C35","v":18140},{"$f":"Timesheet!AH35","v":0},{"$f":"Timesheet!T35","v":0},{"$f":"Timesheet!K35","v":"00:00:00"},{"$f":"Timesheet!B35","v":"E33036"}]
[{"$f":"Timesheet!C36","v":9922},{"$f":"Timesheet!AH36","v":0},{"$f":"Timesheet!T36","v":0},{"$f":"Timesheet!K36","v":"00:00:00"},{"$f":"Timesheet!B36","v":"E33036"}]
[{"$f":"Timesheet!C37","v":34724},{"$f":"Timesheet!AH37","v":0},{"$f":"Timesheet!T37","v":0},{"$f":"Timesheet!K37","v":"00:00:00"},{"$f":"Timesheet!B37","v":"E33036"}]
[{"$f":"Timesheet!C38","v":20933},{"$f":"Timesheet!AH38","v":0},{"$f":"Timesheet!T38","v":0},{"$f":"Timesheet!K38","v":"00:00:00"},{"$f":"Timesheet!B38","v":"E33036"}]
[{"$f":"Timesheet!C39","v":36025},{"$f":"Timesheet!AH39","v":0},{"$f":"Timesheet!T39","v":0},{"$f":"Timesheet!K39","v":"00:00:00"},{"$f":"Timesheet!B39","v":"E33036"}]
[{"$f":"Timesheet!C40","v":41681},{"$f":"Timesheet!AH40","v":0},{"$f":"Timesheet!T40","v":0},{"$f":"Timesheet!K40","v":"00:00:00"},{"$f":"Timesheet!B40","v":"E33036"}]
[{"$f":"Timesheet!C41","v":42644},{"$f":"Timesheet!AH41","v":0},{"$f":"Timesheet!T41","v":0},{"$f":"Timesheet!K41","v":"00:00:00"},{"$f":"Timesheet!B41","v":"E33036"}]
[{"$f":"Timesheet!C42","v":49476},{"$f":"Timesheet!AH42","v":0},{"$f":"Timesheet!T42","v":0},{"$f":"Timesheet!K42","v":"00:00:00"},{"$f":"Timesheet!B42","v":"E33036"}]
[{"$f":"Timesheet!C43","v":50978},{"$f":"Timesheet!AH43","v":0},{"$f":"Timesheet!T43","v":0},{"$f":"Timesheet!K43","v":"00:00:00"},{"$f":"Timesheet!B43","v":"E33036"}]
[{"$f":"Timesheet!C44","v":41705},{"$f":"Timesheet!AH44","v":0},{"$f":"Timesheet!T44","v":0},{"$f":"Timesheet!K44","v":"00:00:00"},{"$f":"Timesheet!B44","v":"E33036"}]
[{"$f":"Timesheet!C45","v":47311},{"$f":"Timesheet!AH45","v":0},{"$f":"Timesheet!T45","v":0},{"$f":"Timesheet!K45","v":"00:00:00"},{"$f":"Timesheet!B45","v":"E33036"}]
[{"$f":"Timesheet!C46","v":36728},{"$f":"Timesheet!AH46","v":0},{"$f":"Timesheet!T46","v":0},{"$f":"Timesheet!K46","v":"00:00:00"},{"$f":"Timesheet!B46","v":"E33036"}]
[{"$f":"Timesheet!C47","v":51863},{"$f":"Timesheet!AH47","v":0},{"$f":"Timesheet!T47","v":0},{"$f":"Timesheet!K47","v":"19.10.2023"},{"$f":"Timesheet!B47","v":"E33036"}]
[{"$f":"Timesheet!C48","v":46769},{"$f":"Timesheet!AH48","v":0},{"$f":"Timesheet!T48","v":0},{"$f":"Timesheet!K48","v":"00:00:00"},{"$f":"Timesheet!B48","v":"E33036"}]
[{"$f":"Timesheet!C49","v":16845},{"$f":"Timesheet!AH49","v":0},{"$f":"Timesheet!T49","v":0},{"$f":"Timesheet!K49","v":"00:00:00"},{"$f":"Timesheet!B49","v":"E33036"}]
[{"$f":"Timesheet!C50","v":33960},{"$f":"Timesheet!AH50","v":0},{"$f":"Timesheet!T50","v":0},{"$f":"Timesheet!K50","v":"00:00:00"},{"$f":"Timesheet!B50","v":"E33036"}]
[{"$f":"Timesheet!C51","v":9019},{"$f":"Timesheet!AH51","v":0},{"$f":"Timesheet!T51","v":0},{"$f":"Timesheet!K51","v":"00:00:00"},{"$f":"Timesheet!B51","v":"E33036"}]
[{"$f":"Timesheet!C52","v":20207},{"$f":"Timesheet!AH52","v":0},{"$f":"Timesheet!T52","v":0},{"$f":"Timesheet!K52","v":"00:00:00"},{"$f":"Timesheet!B52","v":"E33036"}]
[{"$f":"Timesheet!C53","v":46771},{"$f":"Timesheet!AH53","v":0},{"$f":"Timesheet!T53","v":0},{"$f":"Timesheet!K53","v":"00:00:00"},{"$f":"Timesheet!B53","v":"E33036"}]
[{"$f":"Timesheet!C54","v":14387314},{"$f":"Timesheet!AH54","v":0},{"$f":"Timesheet!T54","v":0},{"$f":"Timesheet!K54","v":"00:00:00"},{"$f":"Timesheet!B54","v":"E33036"}]
[{"$f":"Timesheet!C55","v":38898},{"$f":"Timesheet!AH55","v":0},{"$f":"Timesheet!T55","v":0},{"$f":"Timesheet!K55","v":"00:00:00"},{"$f":"Timesheet!B55","v":"E33036"}]
[{"$f":"Timesheet!C56","v":14016208},{"$f":"Timesheet!AH56","v":0},{"$f":"Timesheet!T56","v":0},{"$f":"Timesheet!K56","v":"00:00:00"},{"$f":"Timesheet!B56","v":"E33036"}]
[{"$f":"Timesheet!C57","v":38962},{"$f":"Timesheet!AH57","v":0},{"$f":"Timesheet!T57","v":0},{"$f":"Timesheet!K57","v":"00:00:00"},{"$f":"Timesheet!B57","v":"E33036"}]
[{"$f":"Timesheet!C58","v":39361},{"$f":"Timesheet!AH58","v":0},{"$f":"Timesheet!T58","v":0},{"$f":"Timesheet!K58","v":"00:00:00"},{"$f":"Timesheet!B58","v":"E33036"}]
[{"$f":"Timesheet!C59","v":37015},{"$f":"Timesheet!AH59","v":0},{"$f":"Timesheet!T59","v":0},{"$f":"Timesheet!K59","v":"00:00:00"},{"$f":"Timesheet!B59","v":"E33036"}]
[{"$f":"Timesheet!C60","v":29683},{"$f":"Timesheet!AH60","v":0},{"$f":"Timesheet!T60","v":0},{"$f":"Timesheet!K60","v":"00:00:00"},{"$f":"Timesheet!B60","v":"E33036"}]
[{"$f":"Timesheet!C61","v":23115},{"$f":"Timesheet!AH61","v":0},{"$f":"Timesheet!T61","v":0},{"$f":"Timesheet!K61","v":"00:00:00"},{"$f":"Timesheet!B61","v":"E33036"}]
[{"$f":"Timesheet!C62","v":14037690},{"$f":"Timesheet!AH62","v":0},{"$f":"Timesheet!T62","v":0},{"$f":"Timesheet!K62","v":"00:00:00"},{"$f":"Timesheet!B62","v":"E33036"}]
[{"$f":"Timesheet!C63","v":12174},{"$f":"Timesheet!AH63","v":0},{"$f":"Timesheet!T63","v":0},{"$f":"Timesheet!K63","v":"00:00:00"},{"$f":"Timesheet!B63","v":"E33036"}]
[{"$f":"Timesheet!C64","v":13009},{"$f":"Timesheet!AH64","v":0},{"$f":"Timesheet!T64","v":0},{"$f":"Timesheet!K64","v":"00:00:00"},{"$f":"Timesheet!B64","v":"E33036"}]
[{"$f":"Timesheet!C65","v":51874},{"$f":"Timesheet!AH65","v":0},{"$f":"Timesheet!T65","v":0},{"$f":"Timesheet!K65","v":"00:00:00"},{"$f":"Timesheet!B65","v":"E33036"}]
[{"$f":"Timesheet!C66","v":45964},{"$f":"Timesheet!AH66","v":0},{"$f":"Timesheet!T66","v":0},{"$f":"Timesheet!K66","v":"00:00:00"},{"$f":"Timesheet!B66","v":"E33036"}]
[{"$f":"Timesheet!C67","v":54194},{"$f":"Timesheet!AH67","v":0},{"$f":"Timesheet!T67","v":0},{"$f":"Timesheet!K67","v":"00:00:00"},{"$f":"Timesheet!B67","v":"E33036"}]
[{"$f":"Timesheet!C68","v":14299640},{"$f":"Timesheet!AH68","v":0},{"$f":"Timesheet!T68","v":0},{"$f":"Timesheet!K68","v":"00:00:00"},{"$f":"Timesheet!B68","v":"E33036"}]
[{"$f":"Timesheet!C69","v":28604},{"$f":"Timesheet!AH69","v":0},{"$f":"Timesheet!T69","v":0},{"$f":"Timesheet!K69","v":"00:00:00"},{"$f":"Timesheet!B69","v":"E33036"}]
[{"$f":"Timesheet!C70","v":28602},{"$f":"Timesheet!AH70","v":0},{"$f":"Timesheet!T70","v":0},{"$f":"Timesheet!K70","v":"00:00:00"},{"$f":"Timesheet!B70","v":"E33036"}]
[{"$f":"Timesheet!C71","v":28989},{"$f":"Timesheet!AH71","v":0},{"$f":"Timesheet!T71","v":0},{"$f":"Timesheet!K71","v":"00:00:00"},{"$f":"Timesheet!B71","v":"E33036"}]
[{"$f":"Timesheet!C72","v":28779},{"$f":"Timesheet!AH72","v":0},{"$f":"Timesheet!T72","v":0},{"$f":"Timesheet!K72","v":"00:00:00"},{"$f":"Timesheet!B72","v":"E33036"}]
[{"$f":"Timesheet!C73","v":20013},{"$f":"Timesheet!AH73","v":0},{"$f":"Timesheet!T73","v":0},{"$f":"Timesheet!K73","v":"00:00:00"},{"$f":"Timesheet!B73","v":"E33036"}]
[{"$f":"Timesheet!C74","v":0},{"$f":"Timesheet!AH74","v":0},{"$f":"Timesheet!T74","v":0},{"$f":"Timesheet!K74","v":"00:00:00"},{"$f":"Timesheet!B74","v":0}]
[{"$f":"Timesheet!C75","v":0},{"$f":"Timesheet!AH75","v":0},{"$f":"Timesheet!T75","v":0},{"$f":"Timesheet!K75","v":"00:00:00"},{"$f":"Timesheet!B75","v":0}]
[{"$f":"Timesheet!C76","v":0},{"$f":"Timesheet!AH76","v":0},{"$f":"Timesheet!T76","v":0},{"$f":"Timesheet!K76","v":"00:00:00"},{"$f":"Timesheet!B76","v":0}]
[{"$f":"Timesheet!C77","v":0},{"$f":"Timesheet!AH77","v":0},{"$f":"Timesheet!T77","v":0},{"$f":"Timesheet!K77","v":"00:00:00"},{"$f":"Timesheet!B77","v":0}]
[{"$f":"Timesheet!C78","v":0},{"$f":"Timesheet!AH78","v":0},{"$f":"Timesheet!T78","v":0},{"$f":"Timesheet!K78","v":"00:00:00"},{"$f":"Timesheet!B78","v":0}]
[{"$f":"Timesheet!C79","v":0},{"$f":"Timesheet!AH79","v":0},{"$f":"Timesheet!T79","v":0},{"$f":"Timesheet!K79","v":"00:00:00"},{"$f":"Timesheet!B79","v":0}]
[{"$f":"Timesheet!C80","v":0},{"$f":"Timesheet!AH80","v":0},{"$f":"Timesheet!T80","v":0},{"$f":"Timesheet!K80","v":"00:00:00"},{"$f":"Timesheet!B80","v":0}]
[{"$f":"Timesheet!C81","v":0},{"$f":"Timesheet!AH81","v":0},{"$f":"Timesheet!T81","v":0},{"$f":"Timesheet!K81","v":"00:00:00"},{"$f":"Timesheet!B81","v":0}]
[{"$f":"Timesheet!C82","v":0},{"$f":"Timesheet!AH82","v":0},{"$f":"Timesheet!T82","v":0},{"$f":"Timesheet!K82","v":"00:00:00"},{"$f":"Timesheet!B82","v":0}]
[{"$f":"Timesheet!C83","v":0},{"$f":"Timesheet!AH83","v":0},{"$f":"Timesheet!T83","v":0},{"$f":"Timesheet!K83","v":"00:00:00"},{"$f":"Timesheet!B83","v":0}]
[{"$f":"Timesheet!C84","v":0},{"$f":"Timesheet!AH84","v":0},{"$f":"Timesheet!T84","v":0},{"$f":"Timesheet!K84","v":"00:00:00"},{"$f":"Timesheet!B84","v":0}]
[{"$f":"Timesheet!C85","v":0},{"$f":"Timesheet!AH85","v":0},{"$f":"Timesheet!T85","v":0},{"$f":"Timesheet!K85","v":"00:00:00"},{"$f":"Timesheet!B85","v":0}]
[{"$f":"Timesheet!C86","v":0},{"$f":"Timesheet!AH86","v":0},{"$f":"Timesheet!T86","v":0},{"$f":"Timesheet!K86","v":"00:00:00"},{"$f":"Timesheet!B86","v":0}]
[{"$f":"Timesheet!C87","v":0},{"$f":"Timesheet!AH87","v":0},{"$f":"Timesheet!T87","v":0},{"$f":"Timesheet!K87","v":"00:00:00"},{"$f":"Timesheet!B87","v":0}]
[{"$f":"Timesheet!C88","v":0},{"$f":"Timesheet!AH88","v":0},{"$f":"Timesheet!T88","v":0},{"$f":"Timesheet!K88","v":"00:00:00"},{"$f":"Timesheet!B88","v":0}]
[{"$f":"Timesheet!C89","v":0},{"$f":"Timesheet!AH89","v":0},{"$f":"Timesheet!T89","v":0},{"$f":"Timesheet!K89","v":"00:00:00"},{"$f":"Timesheet!B89","v":0}]
[{"$f":"Timesheet!C90","v":0},{"$f":"Timesheet!AH90","v":0},{"$f":"Timesheet!T90","v":0},{"$f":"Timesheet!K90","v":"00:00:00"},{"$f":"Timesheet!B90","v":0}]
[{"$f":"Timesheet!C91","v":0},{"$f":"Timesheet!AH91","v":0},{"$f":"Timesheet!T91","v":0},{"$f":"Timesheet!K91","v":"00:00:00"},{"$f":"Timesheet!B91","v":0}]
[{"$f":"Timesheet!C92","v":0},{"$f":"Timesheet!AH92","v":0},{"$f":"Timesheet!T92","v":0},{"$f":"Timesheet!K92","v":"00:00:00"},{"$f":"Timesheet!B92","v":0}]
[{"$f":"Timesheet!C93","v":0},{"$f":"Timesheet!AH93","v":0},{"$f":"Timesheet!T93","v":0},{"$f":"Timesheet!K93","v":"00:00:00"},{"$f":"Timesheet!B93","v":0}]
[{"$f":"Timesheet!C94","v":0},{"$f":"Timesheet!AH94","v":0},{"$f":"Timesheet!T94","v":0},{"$f":"Timesheet!K94","v":"00:00:00"},{"$f":"Timesheet!B94","v":0}]
[{"$f":"Timesheet!C95","v":0},{"$f":"Timesheet!AH95","v":0},{"$f":"Timesheet!T95","v":0},{"$f":"Timesheet!K95","v":"00:00:00"},{"$f":"Timesheet!B95","v":0}]
[{"$f":"Timesheet!C96","v":0},{"$f":"Timesheet!AH96","v":0},{"$f":"Timesheet!T96","v":0},{"$f":"Timesheet!K96","v":"00:00:00"},{"$f":"Timesheet!B96","v":0}]
[{"$f":"Timesheet!C97","v":0},{"$f":"Timesheet!AH97","v":0},{"$f":"Timesheet!T97","v":0},{"$f":"Timesheet!K97","v":"00:00:00"},{"$f":"Timesheet!B97","v":0}]
[{"$f":"Timesheet!C98","v":0},{"$f":"Timesheet!AH98","v":0},{"$f":"Timesheet!T98","v":0},{"$f":"Timesheet!K98","v":"00:00:00"},{"$f":"Timesheet!B98","v":0}]
[{"$f":"Timesheet!C99","v":0},{"$f":"Timesheet!AH99","v":0},{"$f":"Timesheet!T99","v":0},{"$f":"Timesheet!K99","v":"00:00:00"},{"$f":"Timesheet!B99","v":0}]
[{"$f":"Timesheet!C100","v":0},{"$f":"Timesheet!AH100","v":0},{"$f":"Timesheet!T100","v":0},{"$f":"Timesheet!K100","v":"00:00:00"},{"$f":"Timesheet!B100","v":0}]
[{"$f":"Timesheet!C101","v":0},{"$f":"Timesheet!AH101","v":0},{"$f":"Timesheet!T101","v":0},{"$f":"Timesheet!K101","v":"00:00:00"},{"$f":"Timesheet!B101","v":0}]
[{"$f":"Timesheet!C102","v":0},{"$f":"Timesheet!AH102","v":0},{"$f":"Timesheet!T102","v":0},{"$f":"Timesheet!K102","v":"00:00:00"},{"$f":"Timesheet!B102","v":0}]
[{"$f":"Timesheet!C103","v":0},{"$f":"Timesheet!AH103","v":0},{"$f":"Timesheet!T103","v":0},{"$f":"Timesheet!K103","v":"00:00:00"},{"$f":"Timesheet!B103","v":0}]
[{"$f":"Timesheet!C104","v":0},{"$f":"Timesheet!AH104","v":0},{"$f":"Timesheet!T104","v":0},{"$f":"Timesheet!K104","v":"00:00:00"},{"$f":"Timesheet!B104","v":0}]
[{"$f":"Timesheet!C105","v":0},{"$f":"Timesheet!AH105","v":0},{"$f":"Timesheet!T105","v":0},{"$f":"Timesheet!K105","v":"00:00:00"},{"$f":"Timesheet!B105","v":0}]
[{"$f":"Timesheet!C106","v":0},{"$f":"Timesheet!AH106","v":0},{"$f":"Timesheet!T106","v":0},{"$f":"Timesheet!K106","v":"00:00:00"},{"$f":"Timesheet!B106","v":0}]
[{"$f":"Timesheet!C107","v":0},{"$f":"Timesheet!AH107","v":0},{"$f":"Timesheet!T107","v":0},{"$f":"Timesheet!K107","v":"00:00:00"},{"$f":"Timesheet!B107","v":0}]
[{"$f":"Timesheet!C108","v":0},{"$f":"Timesheet!AH108","v":0},{"$f":"Timesheet!T108","v":0},{"$f":"Timesheet!K108","v":"00:00:00"},{"$f":"Timesheet!B108","v":0}]
[{"$f":"Timesheet!C109","v":0},{"$f":"Timesheet!AH109","v":0},{"$f":"Timesheet!T109","v":0},{"$f":"Timesheet!K109","v":"00:00:00"},{"$f":"Timesheet!B109","v":0}]
[{"$f":"Timesheet!C110","v":0},{"$f":"Timesheet!AH110","v":0},{"$f":"Timesheet!T110","v":0},{"$f":"Timesheet!K110","v":"00:00:00"},{"$f":"Timesheet!B110","v":0}]
[{"$f":"Timesheet!C111","v":0},{"$f":"Timesheet!AH111","v":0},{"$f":"Timesheet!T111","v":0},{"$f":"Timesheet!K111","v":"00:00:00"},{"$f":"Timesheet!B111","v":0}]
[{"$f":"Timesheet!C112","v":0},{"$f":"Timesheet!AH112","v":0},{"$f":"Timesheet!T112","v":0},{"$f":"Timesheet!K112","v":"00:00:00"},{"$f":"Timesheet!B112","v":0}]
[{"$f":"Timesheet!C113","v":0},{"$f":"Timesheet!AH113","v":0},{"$f":"Timesheet!T113","v":0},{"$f":"Timesheet!K113","v":"00:00:00"},{"$f":"Timesheet!B113","v":0}]
[{"$f":"Timesheet!C114","v":0},{"$f":"Timesheet!AH114","v":0},{"$f":"Timesheet!T114","v":0},{"$f":"Timesheet!K114","v":"00:00:00"},{"$f":"Timesheet!B114","v":0}]
[{"$f":"Timesheet!C115","v":0},{"$f":"Timesheet!AH115","v":0},{"$f":"Timesheet!T115","v":0},{"$f":"Timesheet!K115","v":"00:00:00"},{"$f":"Timesheet!B115","v":0}]
[{"$f":"Timesheet!C116","v":0},{"$f":"Timesheet!AH116","v":0},{"$f":"Timesheet!T116","v":0},{"$f":"Timesheet!K116","v":"00:00:00"},{"$f":"Timesheet!B116","v":0}]
[{"$f":"Timesheet!C117","v":0},{"$f":"Timesheet!AH117","v":0},{"$f":"Timesheet!T117","v":0},{"$f":"Timesheet!K117","v":"00:00:00"},{"$f":"Timesheet!B117","v":0}]
[{"$f":"Timesheet!C118","v":0},{"$f":"Timesheet!AH118","v":0},{"$f":"Timesheet!T118","v":0},{"$f":"Timesheet!K118","v":"00:00:00"},{"$f":"Timesheet!B118","v":0}]
[{"$f":"Timesheet!C119","v":0},{"$f":"Timesheet!AH119","v":0},{"$f":"Timesheet!T119","v":0},{"$f":"Timesheet!K119","v":"00:00:00"},{"$f":"Timesheet!B119","v":0}]
[{"$f":"Timesheet!C120","v":0},{"$f":"Timesheet!AH120","v":0},{"$f":"Timesheet!T120","v":0},{"$f":"Timesheet!K120","v":"00:00:00"},{"$f":"Timesheet!B120","v":0}]
[{"$f":"Timesheet!C121","v":0},{"$f":"Timesheet!AH121","v":0},{"$f":"Timesheet!T121","v":0},{"$f":"Timesheet!K121","v":"00:00:00"},{"$f":"Timesheet!B121","v":0}]
[{"$f":"Timesheet!C122","v":0},{"$f":"Timesheet!AH122","v":0},{"$f":"Timesheet!T122","v":0},{"$f":"Timesheet!K122","v":"00:00:00"},{"$f":"Timesheet!B122","v":0}]
[{"$f":"Timesheet!C123","v":0},{"$f":"Timesheet!AH123","v":0},{"$f":"Timesheet!T123","v":0},{"$f":"Timesheet!K123","v":"00:00:00"},{"$f":"Timesheet!B123","v":0}]
[{"$f":"Timesheet!C124","v":0},{"$f":"Timesheet!AH124","v":0},{"$f":"Timesheet!T124","v":0},{"$f":"Timesheet!K124","v":"00:00:00"},{"$f":"Timesheet!B124","v":0}]
[{"$f":"Timesheet!C125","v":0},{"$f":"Timesheet!AH125","v":0},{"$f":"Timesheet!T125","v":0},{"$f":"Timesheet!K125","v":"00:00:00"},{"$f":"Timesheet!B125","v":0}]
[{"$f":"Timesheet!C126","v":0},{"$f":"Timesheet!AH126","v":0},{"$f":"Timesheet!T126","v":0},{"$f":"Timesheet!K126","v":"00:00:00"},{"$f":"Timesheet!B126","v":0}]
[{"$f":"Timesheet!C127","v":0},{"$f":"Timesheet!AH127","v":0},{"$f":"Timesheet!T127","v":0},{"$f":"Timesheet!K127","v":"00:00:00"},{"$f":"Timesheet!B127","v":0}]
[{"$f":"Timesheet!C128","v":0},{"$f":"Timesheet!AH128","v":0},{"$f":"Timesheet!T128","v":0},{"$f":"Timesheet!K128","v":"00:00:00"},{"$f":"Timesheet!B128","v":0}]
[{"$f":"Timesheet!C129","v":0},{"$f":"Timesheet!AH129","v":0},{"$f":"Timesheet!T129","v":0},{"$f":"Timesheet!K129","v":"00:00:00"},{"$f":"Timesheet!B129","v":0}]
[{"$f":"Timesheet!C130","v":0},{"$f":"Timesheet!AH130","v":0},{"$f":"Timesheet!T130","v":0},{"$f":"Timesheet!K130","v":"00:00:00"},{"$f":"Timesheet!B130","v":0}]
[{"$f":"Timesheet!C131","v":0},{"$f":"Timesheet!AH131","v":0},{"$f":"Timesheet!T131","v":0},{"$f":"Timesheet!K131","v":"00:00:00"},{"$f":"Timesheet!B131","v":0}]
[{"$f":"Timesheet!C132","v":0},{"$f":"Timesheet!AH132","v":0},{"$f":"Timesheet!T132","v":0},{"$f":"Timesheet!K132","v":"00:00:00"},{"$f":"Timesheet!B132","v":0}]
[{"$f":"Timesheet!C133","v":0},{"$f":"Timesheet!AH133","v":0},{"$f":"Timesheet!T133","v":0},{"$f":"Timesheet!K133","v":"00:00:00"},{"$f":"Timesheet!B133","v":0}]
[{"$f":"Timesheet!C134","v":0},{"$f":"Timesheet!AH134","v":0},{"$f":"Timesheet!T134","v":0},{"$f":"Timesheet!K134","v":"00:00:00"},{"$f":"Timesheet!B134","v":0}]
[{"$f":"Timesheet!C135","v":0},{"$f":"Timesheet!AH135","v":0},{"$f":"Timesheet!T135","v":0},{"$f":"Timesheet!K135","v":"00:00:00"},{"$f":"Timesheet!B135","v":0}]
[{"$f":"Timesheet!C136","v":0},{"$f":"Timesheet!AH136","v":0},{"$f":"Timesheet!T136","v":0},{"$f":"Timesheet!K136","v":"00:00:00"},{"$f":"Timesheet!B136","v":0}]
[{"$f":"Timesheet!C137","v":0},{"$f":"Timesheet!AH137","v":0},{"$f":"Timesheet!T137","v":0},{"$f":"Timesheet!K137","v":"00:00:00"},{"$f":"Timesheet!B137","v":0}]
[{"$f":"Timesheet!C138","v":0},{"$f":"Timesheet!AH138","v":0},{"$f":"Timesheet!T138","v":0},{"$f":"Timesheet!K138","v":"00:00:00"},{"$f":"Timesheet!B138","v":0}]
[{"$f":"Timesheet!C139","v":0},{"$f":"Timesheet!AH139","v":0},{"$f":"Timesheet!T139","v":0},{"$f":"Timesheet!K139","v":"00:00:00"},{"$f":"Timesheet!B139","v":0}]
[{"$f":"Timesheet!C140","v":0},{"$f":"Timesheet!AH140","v":0},{"$f":"Timesheet!T140","v":0},{"$f":"Timesheet!K140","v":"00:00:00"},{"$f":"Timesheet!B140","v":0}]
[{"$f":"Timesheet!C141","v":0},{"$f":"Timesheet!AH141","v":0},{"$f":"Timesheet!T141","v":0},{"$f":"Timesheet!K141","v":"00:00:00"},{"$f":"Timesheet!B141","v":0}]
[{"$f":"Timesheet!C142","v":0},{"$f":"Timesheet!AH142","v":0},{"$f":"Timesheet!T142","v":0},{"$f":"Timesheet!K142","v":"00:00:00"},{"$f":"Timesheet!B142","v":0}]
[{"$f":"Timesheet!C143","v":0},{"$f":"Timesheet!AH143","v":0},{"$f":"Timesheet!T143","v":0},{"$f":"Timesheet!K143","v":"00:00:00"},{"$f":"Timesheet!B143","v":0}]
[{"$f":"Timesheet!C144","v":0},{"$f":"Timesheet!AH144","v":0},{"$f":"Timesheet!T144","v":0},{"$f":"Timesheet!K144","v":"00:00:00"},{"$f":"Timesheet!B144","v":0}]
[{"$f":"Timesheet!C145","v":0},{"$f":"Timesheet!AH145","v":0},{"$f":"Timesheet!T145","v":0},{"$f":"Timesheet!K145","v":"00:00:00"},{"$f":"Timesheet!B145","v":0}]
[{"$f":"Timesheet!C146","v":0},{"$f":"Timesheet!AH146","v":0},{"$f":"Timesheet!T146","v":0},{"$f":"Timesheet!K146","v":"00:00:00"},{"$f":"Timesheet!B146","v":0}]
[{"$f":"Timesheet!C147","v":0},{"$f":"Timesheet!AH147","v":0},{"$f":"Timesheet!T147","v":0},{"$f":"Timesheet!K147","v":"00:00:00"},{"$f":"Timesheet!B147","v":0}]
[{"$f":"Timesheet!C148","v":0},{"$f":"Timesheet!AH148","v":0},{"$f":"Timesheet!T148","v":0},{"$f":"Timesheet!K148","v":"00:00:00"},{"$f":"Timesheet!B148","v":0}]
[{"$f":"Timesheet!C149","v":0},{"$f":"Timesheet!AH149","v":0},{"$f":"Timesheet!T149","v":0},{"$f":"Timesheet!K149","v":"00:00:00"},{"$f":"Timesheet!B149","v":0}]
[{"$f":"Timesheet!C150","v":0},{"$f":"Timesheet!AH150","v":0},{"$f":"Timesheet!T150","v":0},{"$f":"Timesheet!K150","v":"00:00:00"},{"$f":"Timesheet!B150","v":0}]
[{"$f":"Timesheet!C151","v":0},{"$f":"Timesheet!AH151","v":0},{"$f":"Timesheet!T151","v":0},{"$f":"Timesheet!K151","v":"00:00:00"},{"$f":"Timesheet!B151","v":0}]
[{"$f":"Timesheet!C152","v":0},{"$f":"Timesheet!AH152","v":0},{"$f":"Timesheet!T152","v":0},{"$f":"Timesheet!K152","v":"00:00:00"},{"$f":"Timesheet!B152","v":0}]
[{"$f":"Timesheet!C153","v":0},{"$f":"Timesheet!AH153","v":0},{"$f":"Timesheet!T153","v":0},{"$f":"Timesheet!K153","v":"00:00:00"},{"$f":"Timesheet!B153","v":0}]
[{"$f":"Timesheet!C154","v":0},{"$f":"Timesheet!AH154","v":0},{"$f":"Timesheet!T154","v":0},{"$f":"Timesheet!K154","v":"00:00:00"},{"$f":"Timesheet!B154","v":0}]
[{"$f":"Timesheet!C155","v":0},{"$f":"Timesheet!AH155","v":0},{"$f":"Timesheet!T155","v":0},{"$f":"Timesheet!K155","v":"00:00:00"},{"$f":"Timesheet!B155","v":0}]
[{"$f":"Timesheet!C156","v":0},{"$f":"Timesheet!AH156","v":0},{"$f":"Timesheet!T156","v":0},{"$f":"Timesheet!K156","v":"00:00:00"},{"$f":"Timesheet!B156","v":0}]
[{"$f":"Timesheet!C157","v":0},{"$f":"Timesheet!AH157","v":0},{"$f":"Timesheet!T157","v":0},{"$f":"Timesheet!K157","v":"00:00:00"},{"$f":"Timesheet!B157","v":0}]
[{"$f":"Timesheet!C158","v":0},{"$f":"Timesheet!AH158","v":0},{"$f":"Timesheet!T158","v":0},{"$f":"Timesheet!K158","v":"00:00:00"},{"$f":"Timesheet!B158","v":0}]
[{"$f":"Timesheet!C159","v":0},{"$f":"Timesheet!AH159","v":0},{"$f":"Timesheet!T159","v":0},{"$f":"Timesheet!K159","v":"00:00:00"},{"$f":"Timesheet!B159","v":0}]
[{"$f":"Timesheet!C160","v":0},{"$f":"Timesheet!AH160","v":0},{"$f":"Timesheet!T160","v":0},{"$f":"Timesheet!K160","v":"00:00:00"},{"$f":"Timesheet!B160","v":0}]
[{"$f":"Timesheet!C161","v":0},{"$f":"Timesheet!AH161","v":0},{"$f":"Timesheet!T161","v":0},{"$f":"Timesheet!K161","v":"00:00:00"},{"$f":"Timesheet!B161","v":0}]
[{"$f":"Timesheet!C162","v":0},{"$f":"Timesheet!AH162","v":0},{"$f":"Timesheet!T162","v":0},{"$f":"Timesheet!K162","v":"00:00:00"},{"$f":"Timesheet!B162","v":0}]
[{"$f":"Timesheet!C163","v":0},{"$f":"Timesheet!AH163","v":0},{"$f":"Timesheet!T163","v":0},{"$f":"Timesheet!K163","v":"00:00:00"},{"$f":"Timesheet!B163","v":0}]
[{"$f":"Timesheet!C164","v":0},{"$f":"Timesheet!AH164","v":0},{"$f":"Timesheet!T164","v":0},{"$f":"Timesheet!K164","v":"00:00:00"},{"$f":"Timesheet!B164","v":0}]
[{"$f":"Timesheet!C165","v":0},{"$f":"Timesheet!AH165","v":0},{"$f":"Timesheet!T165","v":0},{"$f":"Timesheet!K165","v":"00:00:00"},{"$f":"Timesheet!B165","v":0}]
[{"$f":"Timesheet!C166","v":0},{"$f":"Timesheet!AH166","v":0},{"$f":"Timesheet!T166","v":0},{"$f":"Timesheet!K166","v":"00:00:00"},{"$f":"Timesheet!B166","v":0}]
[{"$f":"Timesheet!C167","v":0},{"$f":"Timesheet!AH167","v":0},{"$f":"Timesheet!T167","v":0},{"$f":"Timesheet!K167","v":"00:00:00"},{"$f":"Timesheet!B167","v":0}]
[{"$f":"Timesheet!C168","v":0},{"$f":"Timesheet!AH168","v":0},{"$f":"Timesheet!T168","v":0},{"$f":"Timesheet!K168","v":"00:00:00"},{"$f":"Timesheet!B168","v":0}]
[{"$f":"Timesheet!C169","v":0},{"$f":"Timesheet!AH169","v":0},{"$f":"Timesheet!T169","v":0},{"$f":"Timesheet!K169","v":"00:00:00"},{"$f":"Timesheet!B169","v":0}]
[{"$f":"Timesheet!C170","v":0},{"$f":"Timesheet!AH170","v":0},{"$f":"Timesheet!T170","v":0},{"$f":"Timesheet!K170","v":"00:00:00"},{"$f":"Timesheet!B170","v":0}]
[{"$f":"Timesheet!C171","v":0},{"$f":"Timesheet!AH171","v":0},{"$f":"Timesheet!T171","v":0},{"$f":"Timesheet!K171","v":"00:00:00"},{"$f":"Timesheet!B171","v":0}]
[{"$f":"Timesheet!C172","v":0},{"$f":"Timesheet!AH172","v":0},{"$f":"Timesheet!T172","v":0},{"$f":"Timesheet!K172","v":"00:00:00"},{"$f":"Timesheet!B172","v":0}]
[{"$f":"Timesheet!C173","v":0},{"$f":"Timesheet!AH173","v":0},{"$f":"Timesheet!T173","v":0},{"$f":"Timesheet!K173","v":"00:00:00"},{"$f":"Timesheet!B173","v":0}]
[{"$f":"Timesheet!C174","v":0},{"$f":"Timesheet!AH174","v":0},{"$f":"Timesheet!T174","v":0},{"$f":"Timesheet!K174","v":"00:00:00"},{"$f":"Timesheet!B174","v":0}]
[{"$f":"Timesheet!C175","v":0},{"$f":"Timesheet!AH175","v":0},{"$f":"Timesheet!T175","v":0},{"$f":"Timesheet!K175","v":"00:00:00"},{"$f":"Timesheet!B175","v":0}]
[{"$f":"Timesheet!C176","v":0},{"$f":"Timesheet!AH176","v":0},{"$f":"Timesheet!T176","v":0},{"$f":"Timesheet!K176","v":"00:00:00"},{"$f":"Timesheet!B176","v":0}]
[{"$f":"Timesheet!C177","v":0},{"$f":"Timesheet!AH177","v":0},{"$f":"Timesheet!T177","v":0},{"$f":"Timesheet!K177","v":"00:00:00"},{"$f":"Timesheet!B177","v":0}]
[{"$f":"Timesheet!C178","v":0},{"$f":"Timesheet!AH178","v":0},{"$f":"Timesheet!T178","v":0},{"$f":"Timesheet!K178","v":"00:00:00"},{"$f":"Timesheet!B178","v":0}]
[{"$f":"Timesheet!C179","v":0},{"$f":"Timesheet!AH179","v":0},{"$f":"Timesheet!T179","v":0},{"$f":"Timesheet!K179","v":"00:00:00"},{"$f":"Timesheet!B179","v":0}]
[{"$f":"Timesheet!C180","v":0},{"$f":"Timesheet!AH180","v":0},{"$f":"Timesheet!T180","v":0},{"$f":"Timesheet!K180","v":"00:00:00"},{"$f":"Timesheet!B180","v":0}]
[{"$f":"Timesheet!C181","v":0},{"$f":"Timesheet!AH181","v":0},{"$f":"Timesheet!T181","v":0},{"$f":"Timesheet!K181","v":"00:00:00"},{"$f":"Timesheet!B181","v":0}]
[{"$f":"Timesheet!C182","v":0},{"$f":"Timesheet!AH182","v":0},{"$f":"Timesheet!T182","v":0},{"$f":"Timesheet!K182","v":"00:00:00"},{"$f":"Timesheet!B182","v":0}]
[{"$f":"Timesheet!C183","v":0},{"$f":"Timesheet!AH183","v":0},{"$f":"Timesheet!T183","v":0},{"$f":"Timesheet!K183","v":"00:00:00"},{"$f":"Timesheet!B183","v":0}]
[{"$f":"Timesheet!C184","v":0},{"$f":"Timesheet!AH184","v":0},{"$f":"Timesheet!T184","v":0},{"$f":"Timesheet!K184","v":"00:00:00"},{"$f":"Timesheet!B184","v":0}]
[{"$f":"Timesheet!C185","v":0},{"$f":"Timesheet!AH185","v":0},{"$f":"Timesheet!T185","v":0},{"$f":"Timesheet!K185","v":"00:00:00"},{"$f":"Timesheet!B185","v":0}]
[{"$f":"Timesheet!C186","v":0},{"$f":"Timesheet!AH186","v":0},{"$f":"Timesheet!T186","v":0},{"$f":"Timesheet!K186","v":"00:00:00"},{"$f":"Timesheet!B186","v":0}]
[{"$f":"Timesheet!C187","v":0},{"$f":"Timesheet!AH187","v":0},{"$f":"Timesheet!T187","v":0},{"$f":"Timesheet!K187","v":"00:00:00"},{"$f":"Timesheet!B187","v":0}]
[{"$f":"Timesheet!C188","v":0},{"$f":"Timesheet!AH188","v":0},{"$f":"Timesheet!T188","v":0},{"$f":"Timesheet!K188","v":"00:00:00"},{"$f":"Timesheet!B188","v":0}]
[{"$f":"Timesheet!C189","v":0},{"$f":"Timesheet!AH189","v":0},{"$f":"Timesheet!T189","v":0},{"$f":"Timesheet!K189","v":"00:00:00"},{"$f":"Timesheet!B189","v":0}]
[{"$f":"Timesheet!C190","v":0},{"$f":"Timesheet!AH190","v":0},{"$f":"Timesheet!T190","v":0},{"$f":"Timesheet!K190","v":"00:00:00"},{"$f":"Timesheet!B190","v":0}]
[{"$f":"Timesheet!C191","v":0},{"$f":"Timesheet!AH191","v":0},{"$f":"Timesheet!T191","v":0},{"$f":"Timesheet!K191","v":"00:00:00"},{"$f":"Timesheet!B191","v":0}]
[{"$f":"Timesheet!C192","v":0},{"$f":"Timesheet!AH192","v":0},{"$f":"Timesheet!T192","v":0},{"$f":"Timesheet!K192","v":"00:00:00"},{"$f":"Timesheet!B192","v":0}]
[{"$f":"Timesheet!C193","v":0},{"$f":"Timesheet!AH193","v":0},{"$f":"Timesheet!T193","v":0},{"$f":"Timesheet!K193","v":"00:00:00"},{"$f":"Timesheet!B193","v":0}]
[{"$f":"Timesheet!C194","v":0},{"$f":"Timesheet!AH194","v":0},{"$f":"Timesheet!T194","v":0},{"$f":"Timesheet!K194","v":"00:00:00"},{"$f":"Timesheet!B194","v":0}]
[{"$f":"Timesheet!C195","v":0},{"$f":"Timesheet!AH195","v":0},{"$f":"Timesheet!T195","v":0},{"$f":"Timesheet!K195","v":"00:00:00"},{"$f":"Timesheet!B195","v":0}]
[{"$f":"Timesheet!C196","v":0},{"$f":"Timesheet!AH196","v":0},{"$f":"Timesheet!T196","v":0},{"$f":"Timesheet!K196","v":"00:00:00"},{"$f":"Timesheet!B196","v":0}]
[{"$f":"Timesheet!C197","v":0},{"$f":"Timesheet!AH197","v":0},{"$f":"Timesheet!T197","v":0},{"$f":"Timesheet!K197","v":"00:00:00"},{"$f":"Timesheet!B197","v":0}]
[{"$f":"Timesheet!C198","v":0},{"$f":"Timesheet!AH198","v":0},{"$f":"Timesheet!T198","v":0},{"$f":"Timesheet!K198","v":"00:00:00"},{"$f":"Timesheet!B198","v":0}]
[{"$f":"Timesheet!C199","v":0},{"$f":"Timesheet!AH199","v":0},{"$f":"Timesheet!T199","v":0},{"$f":"Timesheet!K199","v":"00:00:00"},{"$f":"Timesheet!B199","v":0}]
[{"$f":"Timesheet!C200","v":0},{"$f":"Timesheet!AH200","v":0},{"$f":"Timesheet!T200","v":0},{"$f":"Timesheet!K200","v":"00:00:00"},{"$f":"Timesheet!B200","v":0}]
[{"$f":"Timesheet!C201","v":0},{"$f":"Timesheet!AH201","v":0},{"$f":"Timesheet!T201","v":0},{"$f":"Timesheet!K201","v":"00:00:00"},{"$f":"Timesheet!B201","v":0}]
[{"$f":"Timesheet!C202","v":0},{"$f":"Timesheet!AH202","v":0},{"$f":"Timesheet!T202","v":0},{"$f":"Timesheet!K202","v":"00:00:00"},{"$f":"Timesheet!B202","v":0}]
[{"$f":"Timesheet!C203","v":0},{"$f":"Timesheet!AH203","v":0},{"$f":"Timesheet!T203","v":0},{"$f":"Timesheet!K203","v":"00:00:00"},{"$f":"Timesheet!B203","v":0}]
[{"$f":"Timesheet!C204","v":0},{"$f":"Timesheet!AH204","v":0},{"$f":"Timesheet!T204","v":0},{"$f":"Timesheet!K204","v":"00:00:00"},{"$f":"Timesheet!B204","v":0}]
[{"$f":"Timesheet!C205","v":0},{"$f":"Timesheet!AH205","v":0},{"$f":"Timesheet!T205","v":0},{"$f":"Timesheet!K205","v":"00:00:00"},{"$f":"Timesheet!B205","v":0}]
[{"$f":"Timesheet!C206","v":0},{"$f":"Timesheet!AH206","v":0},{"$f":"Timesheet!T206","v":0},{"$f":"Timesheet!K206","v":"00:00:00"},{"$f":"Timesheet!B206","v":0}]
[{"$f":"Timesheet!C207","v":0},{"$f":"Timesheet!AH207","v":0},{"$f":"Timesheet!T207","v":0},{"$f":"Timesheet!K207","v":"00:00:00"},{"$f":"Timesheet!B207","v":0}]
[{"$f":"Timesheet!C208","v":0},{"$f":"Timesheet!AH208","v":0},{"$f":"Timesheet!T208","v":0},{"$f":"Timesheet!K208","v":"00:00:00"},{"$f":"Timesheet!B208","v":0}]
[{"$f":"Timesheet!C209","v":0},{"$f":"Timesheet!AH209","v":0},{"$f":"Timesheet!T209","v":0},{"$f":"Timesheet!K209","v":"00:00:00"},{"$f":"Timesheet!B209","v":0}]
[{"$f":"Timesheet!C210","v":0},{"$f":"Timesheet!AH210","v":0},{"$f":"Timesheet!T210","v":0},{"$f":"Timesheet!K210","v":"00:00:00"},{"$f":"Timesheet!B210","v":0}]
[{"$f":"Timesheet!C211","v":0},{"$f":"Timesheet!AH211","v":0},{"$f":"Timesheet!T211","v":0},{"$f":"Timesheet!K211","v":"00:00:00"},{"$f":"Timesheet!B211","v":0}]
[{"$f":"Timesheet!C212","v":0},{"$f":"Timesheet!AH212","v":0},{"$f":"Timesheet!T212","v":0},{"$f":"Timesheet!K212","v":"00:00:00"},{"$f":"Timesheet!B212","v":0}]
[{"$f":"Timesheet!C213","v":0},{"$f":"Timesheet!AH213","v":0},{"$f":"Timesheet!T213","v":0},{"$f":"Timesheet!K213","v":"00:00:00"},{"$f":"Timesheet!B213","v":0}]
[{"$f":"Timesheet!C214","v":0},{"$f":"Timesheet!AH214","v":0},{"$f":"Timesheet!T214","v":0},{"$f":"Timesheet!K214","v":"00:00:00"},{"$f":"Timesheet!B214","v":0}]
[{"$f":"Timesheet!C215","v":0},{"$f":"Timesheet!AH215","v":0},{"$f":"Timesheet!T215","v":0},{"$f":"Timesheet!K215","v":"00:00:00"},{"$f":"Timesheet!B215","v":0}]
[{"$f":"Timesheet!C216","v":0},{"$f":"Timesheet!AH216","v":0},{"$f":"Timesheet!T216","v":0},{"$f":"Timesheet!K216","v":"00:00:00"},{"$f":"Timesheet!B216","v":0}]
[{"$f":"Timesheet!C217","v":0},{"$f":"Timesheet!AH217","v":0},{"$f":"Timesheet!T217","v":0},{"$f":"Timesheet!K217","v":"00:00:00"},{"$f":"Timesheet!B217","v":0}]
[{"$f":"Timesheet!C218","v":0},{"$f":"Timesheet!AH218","v":0},{"$f":"Timesheet!T218","v":0},{"$f":"Timesheet!K218","v":"00:00:00"},{"$f":"Timesheet!B218","v":0}]
[{"$f":"Timesheet!C219","v":0},{"$f":"Timesheet!AH219","v":0},{"$f":"Timesheet!T219","v":0},{"$f":"Timesheet!K219","v":"00:00:00"},{"$f":"Timesheet!B219","v":0}]
[{"$f":"Timesheet!C220","v":0},{"$f":"Timesheet!AH220","v":0},{"$f":"Timesheet!T220","v":0},{"$f":"Timesheet!K220","v":"00:00:00"},{"$f":"Timesheet!B220","v":0}]
[{"$f":"Timesheet!C221","v":0},{"$f":"Timesheet!AH221","v":0},{"$f":"Timesheet!T221","v":0},{"$f":"Timesheet!K221","v":"00:00:00"},{"$f":"Timesheet!B221","v":0}]
[{"$f":"Timesheet!C222","v":0},{"$f":"Timesheet!AH222","v":0},{"$f":"Timesheet!T222","v":0},{"$f":"Timesheet!K222","v":"00:00:00"},{"$f":"Timesheet!B222","v":0}]
[{"$f":"Timesheet!C223","v":0},{"$f":"Timesheet!AH223","v":0},{"$f":"Timesheet!T223","v":0},{"$f":"Timesheet!K223","v":"00:00:00"},{"$f":"Timesheet!B223","v":0}]
[{"$f":"Timesheet!C224","v":0},{"$f":"Timesheet!AH224","v":0},{"$f":"Timesheet!T224","v":0},{"$f":"Timesheet!K224","v":"00:00:00"},{"$f":"Timesheet!B224","v":0}]
[{"$f":"Timesheet!C225","v":0},{"$f":"Timesheet!AH225","v":0},{"$f":"Timesheet!T225","v":0},{"$f":"Timesheet!K225","v":"00:00:00"},{"$f":"Timesheet!B225","v":0}]
[{"$f":"Timesheet!C226","v":0},{"$f":"Timesheet!AH226","v":0},{"$f":"Timesheet!T226","v":0},{"$f":"Timesheet!K226","v":"00:00:00"},{"$f":"Timesheet!B226","v":0}]
[{"$f":"Timesheet!C227","v":0},{"$f":"Timesheet!AH227","v":0},{"$f":"Timesheet!T227","v":0},{"$f":"Timesheet!K227","v":"00:00:00"},{"$f":"Timesheet!B227","v":0}]
[{"$f":"Timesheet!C228","v":0},{"$f":"Timesheet!AH228","v":0},{"$f":"Timesheet!T228","v":0},{"$f":"Timesheet!K228","v":"00:00:00"},{"$f":"Timesheet!B228","v":0}]
[{"$f":"Timesheet!C229","v":0},{"$f":"Timesheet!AH229","v":0},{"$f":"Timesheet!T229","v":0},{"$f":"Timesheet!K229","v":"00:00:00"},{"$f":"Timesheet!B229","v":0}]
[{"$f":"Timesheet!C230","v":0},{"$f":"Timesheet!AH230","v":0},{"$f":"Timesheet!T230","v":0},{"$f":"Timesheet!K230","v":"00:00:00"},{"$f":"Timesheet!B230","v":0}]
[{"$f":"Timesheet!C231","v":0},{"$f":"Timesheet!AH231","v":0},{"$f":"Timesheet!T231","v":0},{"$f":"Timesheet!K231","v":"00:00:00"},{"$f":"Timesheet!B231","v":0}]
[{"$f":"Timesheet!C232","v":0},{"$f":"Timesheet!AH232","v":0},{"$f":"Timesheet!T232","v":0},{"$f":"Timesheet!K232","v":"00:00:00"},{"$f":"Timesheet!B232","v":0}]
[{"$f":"Timesheet!C233","v":0},{"$f":"Timesheet!AH233","v":0},{"$f":"Timesheet!T233","v":0},{"$f":"Timesheet!K233","v":"00:00:00"},{"$f":"Timesheet!B233","v":0}]
[{"$f":"Timesheet!C234","v":0},{"$f":"Timesheet!AH234","v":0},{"$f":"Timesheet!T234","v":0},{"$f":"Timesheet!K234","v":"00:00:00"},{"$f":"Timesheet!B234","v":0}]
[{"$f":"Timesheet!C235","v":0},{"$f":"Timesheet!AH235","v":0},{"$f":"Timesheet!T235","v":0},{"$f":"Timesheet!K235","v":"00:00:00"},{"$f":"Timesheet!B235","v":0}]
[{"$f":"Timesheet!C236","v":0},{"$f":"Timesheet!AH236","v":0},{"$f":"Timesheet!T236","v":0},{"$f":"Timesheet!K236","v":"00:00:00"},{"$f":"Timesheet!B236","v":0}]
[{"$f":"Timesheet!C237","v":0},{"$f":"Timesheet!AH237","v":0},{"$f":"Timesheet!T237","v":0},{"$f":"Timesheet!K237","v":"00:00:00"},{"$f":"Timesheet!B237","v":0}]
[{"$f":"Timesheet!C238","v":0},{"$f":"Timesheet!AH238","v":0},{"$f":"Timesheet!T238","v":0},{"$f":"Timesheet!K238","v":"00:00:00"},{"$f":"Timesheet!B238","v":0}]
[{"$f":"Timesheet!C239","v":0},{"$f":"Timesheet!AH239","v":0},{"$f":"Timesheet!T239","v":0},{"$f":"Timesheet!K239","v":"00:00:00"},{"$f":"Timesheet!B239","v":0}]
[{"$f":"Timesheet!C240","v":0},{"$f":"Timesheet!AH240","v":0},{"$f":"Timesheet!T240","v":0},{"$f":"Timesheet!K240","v":"00:00:00"},{"$f":"Timesheet!B240","v":0}]
[{"$f":"Timesheet!C241","v":0},{"$f":"Timesheet!AH241","v":0},{"$f":"Timesheet!T241","v":0},{"$f":"Timesheet!K241","v":"00:00:00"},{"$f":"Timesheet!B241","v":0}]
[{"$f":"Timesheet!C242","v":0},{"$f":"Timesheet!AH242","v":0},{"$f":"Timesheet!T242","v":0},{"$f":"Timesheet!K242","v":"00:00:00"},{"$f":"Timesheet!B242","v":0}]
[{"$f":"Timesheet!C243","v":0},{"$f":"Timesheet!AH243","v":0},{"$f":"Timesheet!T243","v":0},{"$f":"Timesheet!K243","v":"00:00:00"},{"$f":"Timesheet!B243","v":0}]
[{"$f":"Timesheet!C244","v":0},{"$f":"Timesheet!AH244","v":0},{"$f":"Timesheet!T244","v":0},{"$f":"Timesheet!K244","v":"00:00:00"},{"$f":"Timesheet!B244","v":0}]
[{"$f":"Timesheet!C245","v":0},{"$f":"Timesheet!AH245","v":0},{"$f":"Timesheet!T245","v":0},{"$f":"Timesheet!K245","v":"00:00:00"},{"$f":"Timesheet!B245","v":0}]
[{"$f":"Timesheet!C246","v":0},{"$f":"Timesheet!AH246","v":0},{"$f":"Timesheet!T246","v":0},{"$f":"Timesheet!K246","v":"00:00:00"},{"$f":"Timesheet!B246","v":0}]
[{"$f":"Timesheet!C247","v":0},{"$f":"Timesheet!AH247","v":0},{"$f":"Timesheet!T247","v":0},{"$f":"Timesheet!K247","v":"00:00:00"},{"$f":"Timesheet!B247","v":0}]
[{"$f":"Timesheet!C248","v":0},{"$f":"Timesheet!AH248","v":0},{"$f":"Timesheet!T248","v":0},{"$f":"Timesheet!K248","v":"00:00:00"},{"$f":"Timesheet!B248","v":0}]
[{"$f":"Timesheet!C249","v":0},{"$f":"Timesheet!AH249","v":0},{"$f":"Timesheet!T249","v":0},{"$f":"Timesheet!K249","v":"00:00:00"},{"$f":"Timesheet!B249","v":0}]
[{"$f":"Timesheet!C250","v":0},{"$f":"Timesheet!AH250","v":0},{"$f":"Timesheet!T250","v":0},{"$f":"Timesheet!K250","v":"00:00:00"},{"$f":"Timesheet!B250","v":0}]
[{"$f":"Timesheet!C251","v":0},{"$f":"Timesheet!AH251","v":0},{"$f":"Timesheet!T251","v":0},{"$f":"Timesheet!K251","v":"00:00:00"},{"$f":"Timesheet!B251","v":0}]
[{"$f":"Timesheet!C252","v":0},{"$f":"Timesheet!AH252","v":0},{"$f":"Timesheet!T252","v":0},{"$f":"Timesheet!K252","v":"00:00:00"},{"$f":"Timesheet!B252","v":0}]
[{"$f":"Timesheet!C253","v":0},{"$f":"Timesheet!AH253","v":0},{"$f":"Timesheet!T253","v":0},{"$f":"Timesheet!K253","v":"00:00:00"},{"$f":"Timesheet!B253","v":0}]
[{"$f":"Timesheet!C254","v":0},{"$f":"Timesheet!AH254","v":0},{"$f":"Timesheet!T254","v":0},{"$f":"Timesheet!K254","v":"00:00:00"},{"$f":"Timesheet!B254","v":0}]
[{"$f":"Timesheet!C255","v":0},{"$f":"Timesheet!AH255","v":0},{"$f":"Timesheet!T255","v":0},{"$f":"Timesheet!K255","v":"00:00:00"},{"$f":"Timesheet!B255","v":0}]
[{"$f":"Timesheet!C256","v":0},{"$f":"Timesheet!AH256","v":0},{"$f":"Timesheet!T256","v":0},{"$f":"Timesheet!K256","v":"00:00:00"},{"$f":"Timesheet!B256","v":0}]
[{"$f":"Timesheet!C257","v":0},{"$f":"Timesheet!AH257","v":0},{"$f":"Timesheet!T257","v":0},{"$f":"Timesheet!K257","v":"00:00:00"},{"$f":"Timesheet!B257","v":0}]
[{"$f":"Timesheet!C258","v":0},{"$f":"Timesheet!AH258","v":0},{"$f":"Timesheet!T258","v":0},{"$f":"Timesheet!K258","v":"00:00:00"},{"$f":"Timesheet!B258","v":0}]
[{"$f":"Timesheet!C259","v":0},{"$f":"Timesheet!AH259","v":0},{"$f":"Timesheet!T259","v":0},{"$f":"Timesheet!K259","v":"00:00:00"},{"$f":"Timesheet!B259","v":0}]
[{"$f":"Timesheet!C260","v":0},{"$f":"Timesheet!AH260","v":0},{"$f":"Timesheet!T260","v":0},{"$f":"Timesheet!K260","v":"00:00:00"},{"$f":"Timesheet!B260","v":0}]
[{"$f":"Timesheet!C261","v":0},{"$f":"Timesheet!AH261","v":0},{"$f":"Timesheet!T261","v":0},{"$f":"Timesheet!K261","v":"00:00:00"},{"$f":"Timesheet!B261","v":0}]
[{"$f":"Timesheet!C262","v":0},{"$f":"Timesheet!AH262","v":0},{"$f":"Timesheet!T262","v":0},{"$f":"Timesheet!K262","v":"00:00:00"},{"$f":"Timesheet!B262","v":0}]
[{"$f":"Timesheet!C263","v":0},{"$f":"Timesheet!AH263","v":0},{"$f":"Timesheet!T263","v":0},{"$f":"Timesheet!K263","v":"00:00:00"},{"$f":"Timesheet!B263","v":0}]
[{"$f":"Timesheet!C264","v":0},{"$f":"Timesheet!AH264","v":0},{"$f":"Timesheet!T264","v":0},{"$f":"Timesheet!K264","v":"00:00:00"},{"$f":"Timesheet!B264","v":0}]
[{"$f":"Timesheet!C265","v":0},{"$f":"Timesheet!AH265","v":0},{"$f":"Timesheet!T265","v":0},{"$f":"Timesheet!K265","v":"00:00:00"},{"$f":"Timesheet!B265","v":0}]
[{"$f":"Timesheet!C266","v":0},{"$f":"Timesheet!AH266","v":0},{"$f":"Timesheet!T266","v":0},{"$f":"Timesheet!K266","v":"00:00:00"},{"$f":"Timesheet!B266","v":0}]
[{"$f":"Timesheet!C267","v":0},{"$f":"Timesheet!AH267","v":0},{"$f":"Timesheet!T267","v":0},{"$f":"Timesheet!K267","v":"00:00:00"},{"$f":"Timesheet!B267","v":0}]
[{"$f":"Timesheet!C268","v":0},{"$f":"Timesheet!AH268","v":0},{"$f":"Timesheet!T268","v":0},{"$f":"Timesheet!K268","v":"00:00:00"},{"$f":"Timesheet!B268","v":0}]
[{"$f":"Timesheet!C269","v":0},{"$f":"Timesheet!AH269","v":0},{"$f":"Timesheet!T269","v":0},{"$f":"Timesheet!K269","v":"00:00:00"},{"$f":"Timesheet!B269","v":0}]
[{"$f":"Timesheet!C270","v":0},{"$f":"Timesheet!AH270","v":0},{"$f":"Timesheet!T270","v":0},{"$f":"Timesheet!K270","v":"00:00:00"},{"$f":"Timesheet!B270","v":0}]
[{"$f":"Timesheet!C271","v":0},{"$f":"Timesheet!AH271","v":0},{"$f":"Timesheet!T271","v":0},{"$f":"Timesheet!K271","v":"00:00:00"},{"$f":"Timesheet!B271","v":0}]
[{"$f":"Timesheet!C272","v":0},{"$f":"Timesheet!AH272","v":0},{"$f":"Timesheet!T272","v":0},{"$f":"Timesheet!K272","v":"00:00:00"},{"$f":"Timesheet!B272","v":0}]
[{"$f":"Timesheet!C273","v":0},{"$f":"Timesheet!AH273","v":0},{"$f":"Timesheet!T273","v":0},{"$f":"Timesheet!K273","v":"00:00:00"},{"$f":"Timesheet!B273","v":0}]
[{"$f":"Timesheet!C274","v":0},{"$f":"Timesheet!AH274","v":0},{"$f":"Timesheet!T274","v":0},{"$f":"Timesheet!K274","v":"00:00:00"},{"$f":"Timesheet!B274","v":0}]
[{"$f":"Timesheet!C275","v":0},{"$f":"Timesheet!AH275","v":0},{"$f":"Timesheet!T275","v":0},{"$f":"Timesheet!K275","v":"00:00:00"},{"$f":"Timesheet!B275","v":0}]
[{"$f":"Timesheet!C276","v":0},{"$f":"Timesheet!AH276","v":0},{"$f":"Timesheet!T276","v":0},{"$f":"Timesheet!K276","v":"00:00:00"},{"$f":"Timesheet!B276","v":0}]
[{"$f":"Timesheet!C277","v":0},{"$f":"Timesheet!AH277","v":0},{"$f":"Timesheet!T277","v":0},{"$f":"Timesheet!K277","v":"00:00:00"},{"$f":"Timesheet!B277","v":0}]
[{"$f":"Timesheet!C278","v":0},{"$f":"Timesheet!AH278","v":0},{"$f":"Timesheet!T278","v":0},{"$f":"Timesheet!K278","v":"00:00:00"},{"$f":"Timesheet!B278","v":0}]
[{"$f":"Timesheet!C279","v":0},{"$f":"Timesheet!AH279","v":0},{"$f":"Timesheet!T279","v":0},{"$f":"Timesheet!K279","v":"00:00:00"},{"$f":"Timesheet!B279","v":0}]
[{"$f":"Timesheet!C280","v":0},{"$f":"Timesheet!AH280","v":0},{"$f":"Timesheet!T280","v":0},{"$f":"Timesheet!K280","v":"00:00:00"},{"$f":"Timesheet!B280","v":0}]
[{"$f":"Timesheet!C281","v":0},{"$f":"Timesheet!AH281","v":0},{"$f":"Timesheet!T281","v":0},{"$f":"Timesheet!K281","v":"00:00:00"},{"$f":"Timesheet!B281","v":0}]
[{"$f":"Timesheet!C282","v":0},{"$f":"Timesheet!AH282","v":0},{"$f":"Timesheet!T282","v":0},{"$f":"Timesheet!K282","v":"00:00:00"},{"$f":"Timesheet!B282","v":0}]
[{"$f":"Timesheet!C283","v":0},{"$f":"Timesheet!AH283","v":0},{"$f":"Timesheet!T283","v":0},{"$f":"Timesheet!K283","v":"00:00:00"},{"$f":"Timesheet!B283","v":0}]
[{"$f":"Timesheet!C284","v":0},{"$f":"Timesheet!AH284","v":0},{"$f":"Timesheet!T284","v":0},{"$f":"Timesheet!K284","v":"00:00:00"},{"$f":"Timesheet!B284","v":0}]
[{"$f":"Timesheet!C285","v":0},{"$f":"Timesheet!AH285","v":0},{"$f":"Timesheet!T285","v":0},{"$f":"Timesheet!K285","v":"00:00:00"},{"$f":"Timesheet!B285","v":0}]
[{"$f":"Timesheet!C286","v":0},{"$f":"Timesheet!AH286","v":0},{"$f":"Timesheet!T286","v":0},{"$f":"Timesheet!K286","v":"00:00:00"},{"$f":"Timesheet!B286","v":0}]
[{"$f":"Timesheet!C287","v":0},{"$f":"Timesheet!AH287","v":0},{"$f":"Timesheet!T287","v":0},{"$f":"Timesheet!K287","v":"00:00:00"},{"$f":"Timesheet!B287","v":0}]
[{"$f":"Timesheet!C288","v":0},{"$f":"Timesheet!AH288","v":0},{"$f":"Timesheet!T288","v":0},{"$f":"Timesheet!K288","v":"00:00:00"},{"$f":"Timesheet!B288","v":0}]
[{"$f":"Timesheet!C289","v":0},{"$f":"Timesheet!AH289","v":0},{"$f":"Timesheet!T289","v":0},{"$f":"Timesheet!K289","v":"00:00:00"},{"$f":"Timesheet!B289","v":0}]
[{"$f":"Timesheet!C290","v":0},{"$f":"Timesheet!AH290","v":0},{"$f":"Timesheet!T290","v":0},{"$f":"Timesheet!K290","v":"00:00:00"},{"$f":"Timesheet!B290","v":0}]
[{"$f":"Timesheet!C291","v":0},{"$f":"Timesheet!AH291","v":0},{"$f":"Timesheet!T291","v":0},{"$f":"Timesheet!K291","v":"00:00:00"},{"$f":"Timesheet!B291","v":0}]
[{"$f":"Timesheet!C292","v":0},{"$f":"Timesheet!AH292","v":0},{"$f":"Timesheet!T292","v":0},{"$f":"Timesheet!K292","v":"00:00:00"},{"$f":"Timesheet!B292","v":0}]
[{"$f":"Timesheet!C293","v":0},{"$f":"Timesheet!AH293","v":0},{"$f":"Timesheet!T293","v":0},{"$f":"Timesheet!K293","v":"00:00:00"},{"$f":"Timesheet!B293","v":0}]
[{"$f":"Timesheet!C294","v":0},{"$f":"Timesheet!AH294","v":0},{"$f":"Timesheet!T294","v":0},{"$f":"Timesheet!K294","v":"00:00:00"},{"$f":"Timesheet!B294","v":0}]
[{"$f":"Timesheet!C295","v":0},{"$f":"Timesheet!AH295","v":0},{"$f":"Timesheet!T295","v":0},{"$f":"Timesheet!K295","v":"00:00:00"},{"$f":"Timesheet!B295","v":0}]
[{"$f":"Timesheet!C296","v":0},{"$f":"Timesheet!AH296","v":0},{"$f":"Timesheet!T296","v":0},{"$f":"Timesheet!K296","v":"00:00:00"},{"$f":"Timesheet!B296","v":0}]
[{"$f":"Timesheet!C297","v":0},{"$f":"Timesheet!AH297","v":0},{"$f":"Timesheet!T297","v":0},{"$f":"Timesheet!K297","v":"00:00:00"},{"$f":"Timesheet!B297","v":0}]
[{"$f":"Timesheet!C298","v":0},{"$f":"Timesheet!AH298","v":0},{"$f":"Timesheet!T298","v":0},{"$f":"Timesheet!K298","v":"00:00:00"},{"$f":"Timesheet!B298","v":0}]
[{"$f":"Timesheet!C299","v":0},{"$f":"Timesheet!AH299","v":0},{"$f":"Timesheet!T299","v":0},{"$f":"Timesheet!K299","v":"00:00:00"},{"$f":"Timesheet!B299","v":0}]
[{"$f":"Timesheet!C300","v":0},{"$f":"Timesheet!AH300","v":0},{"$f":"Timesheet!T300","v":0},{"$f":"Timesheet!K300","v":"00:00:00"},{"$f":"Timesheet!B300","v":0}]
[{"$f":"Timesheet!C301","v":0},{"$f":"Timesheet!AH301","v":0},{"$f":"Timesheet!T301","v":0},{"$f":"Timesheet!K301","v":"00:00:00"},{"$f":"Timesheet!B301","v":0}]
[{"$f":"Timesheet!C302","v":0},{"$f":"Timesheet!AH302","v":0},{"$f":"Timesheet!T302","v":0},{"$f":"Timesheet!K302","v":"00:00:00"},{"$f":"Timesheet!B302","v":0}]
[{"$f":"Timesheet!C3","v":44789},{"$f":"Timesheet!AI3","v":0},{"$f":"Timesheet!V3","v":0},{"$f":"Timesheet!K3","v":"00:00:00"},{"$f":"Timesheet!B3","v":"E33036"}]
[{"$f":"Timesheet!C4","v":39452},{"$f":"Timesheet!AI4","v":0},{"$f":"Timesheet!V4","v":0},{"$f":"Timesheet!K4","v":"00:00:00"},{"$f":"Timesheet!B4","v":"E33036"}]
[{"$f":"Timesheet!C5","v":51119},{"$f":"Timesheet!AI5","v":0},{"$f":"Timesheet!V5","v":0},{"$f":"Timesheet!K5","v":"00:00:00"},{"$f":"Timesheet!B5","v":"E33036"}]
[{"$f":"Timesheet!C6","v":20999},{"$f":"Timesheet!AI6","v":0},{"$f":"Timesheet!V6","v":0},{"$f":"Timesheet!K6","v":"00:00:00"},{"$f":"Timesheet!B6","v":"E33036"}]
[{"$f":"Timesheet!C7","v":50140},{"$f":"Timesheet!AI7","v":0},{"$f":"Timesheet!V7","v":0},{"$f":"Timesheet!K7","v":"00:00:00"},{"$f":"Timesheet!B7","v":"E33036"}]
[{"$f":"Timesheet!C8","v":41120},{"$f":"Timesheet!AI8","v":0},{"$f":"Timesheet!V8","v":0},{"$f":"Timesheet!K8","v":"00:00:00"},{"$f":"Timesheet!B8","v":"E33036"}]
[{"$f":"Timesheet!C9","v":14019220},{"$f":"Timesheet!AI9","v":0},{"$f":"Timesheet!V9","v":0},{"$f":"Timesheet!K9","v":"00:00:00"},{"$f":"Timesheet!B9","v":"E33036"}]
[{"$f":"Timesheet!C10","v":33161},{"$f":"Timesheet!AI10","v":0},{"$f":"Timesheet!V10","v":0},{"$f":"Timesheet!K10","v":"00:00:00"},{"$f":"Timesheet!B10","v":"E33036"}]
[{"$f":"Timesheet!C11","v":44988},{"$f":"Timesheet!AI11","v":0},{"$f":"Timesheet!V11","v":0},{"$f":"Timesheet!K11","v":"00:00:00"},{"$f":"Timesheet!B11","v":"E33036"}]
[{"$f":"Timesheet!C12","v":19061},{"$f":"Timesheet!AI12","v":0},{"$f":"Timesheet!V12","v":0},{"$f":"Timesheet!K12","v":"00:00:00"},{"$f":"Timesheet!B12","v":"E33036"}]
[{"$f":"Timesheet!C13","v":42125},{"$f":"Timesheet!AI13","v":0},{"$f":"Timesheet!V13","v":0},{"$f":"Timesheet!K13","v":"00:00:00"},{"$f":"Timesheet!B13","v":"E33036"}]
[{"$f":"Timesheet!C14","v":35616},{"$f":"Timesheet!AI14","v":0},{"$f":"Timesheet!V14","v":0},{"$f":"Timesheet!K14","v":"00:00:00"},{"$f":"Timesheet!B14","v":"E33036"}]
[{"$f":"Timesheet!C15","v":11630},{"$f":"Timesheet!AI15","v":0},{"$f":"Timesheet!V15","v":0},{"$f":"Timesheet!K15","v":"00:00:00"},{"$f":"Timesheet!B15","v":"E33036"}]
[{"$f":"Timesheet!C16","v":33804},{"$f":"Timesheet!AI16","v":0},{"$f":"Timesheet!V16","v":0},{"$f":"Timesheet!K16","v":"00:00:00"},{"$f":"Timesheet!B16","v":"E33036"}]
[{"$f":"Timesheet!C17","v":11681},{"$f":"Timesheet!AI17","v":0},{"$f":"Timesheet!V17","v":0},{"$f":"Timesheet!K17","v":"00:00:00"},{"$f":"Timesheet!B17","v":"E33036"}]
[{"$f":"Timesheet!C18","v":51311},{"$f":"Timesheet!AI18","v":0},{"$f":"Timesheet!V18","v":0},{"$f":"Timesheet!K18","v":"00:00:00"},{"$f":"Timesheet!B18","v":"E33036"}]
[{"$f":"Timesheet!C19","v":19209},{"$f":"Timesheet!AI19","v":0},{"$f":"Timesheet!V19","v":0},{"$f":"Timesheet!K19","v":"00:00:00"},{"$f":"Timesheet!B19","v":"E33036"}]
[{"$f":"Timesheet!C20","v":40516},{"$f":"Timesheet!AI20","v":0},{"$f":"Timesheet!V20","v":0},{"$f":"Timesheet!K20","v":"00:00:00"},{"$f":"Timesheet!B20","v":"E33036"}]
[{"$f":"Timesheet!C21","v":42806},{"$f":"Timesheet!AI21","v":0},{"$f":"Timesheet!V21","v":0},{"$f":"Timesheet!K21","v":"00:00:00"},{"$f":"Timesheet!B21","v":"E33036"}]
[{"$f":"Timesheet!C22","v":47495},{"$f":"Timesheet!AI22","v":0},{"$f":"Timesheet!V22","v":0},{"$f":"Timesheet!K22","v":"00:00:00"},{"$f":"Timesheet!B22","v":"E33036"}]
[{"$f":"Timesheet!C23","v":38391},{"$f":"Timesheet!AI23","v":0},{"$f":"Timesheet!V23","v":0},{"$f":"Timesheet!K23","v":"00:00:00"},{"$f":"Timesheet!B23","v":"E33036"}]
[{"$f":"Timesheet!C24","v":28706},{"$f":"Timesheet!AI24","v":0},{"$f":"Timesheet!V24","v":0},{"$f":"Timesheet!K24","v":"00:00:00"},{"$f":"Timesheet!B24","v":"E33036"}]
[{"$f":"Timesheet!C25","v":44672},{"$f":"Timesheet!AI25","v":0},{"$f":"Timesheet!V25","v":0},{"$f":"Timesheet!K25","v":"00:00:00"},{"$f":"Timesheet!B25","v":"E33036"}]
[{"$f":"Timesheet!C26","v":14289262},{"$f":"Timesheet!AI26","v":0},{"$f":"Timesheet!V26","v":0},{"$f":"Timesheet!K26","v":"00:00:00"},{"$f":"Timesheet!B26","v":"E33036"}]
[{"$f":"Timesheet!C27","v":18068},{"$f":"Timesheet!AI27","v":0},{"$f":"Timesheet!V27","v":0},{"$f":"Timesheet!K27","v":"00:00:00"},{"$f":"Timesheet!B27","v":"E33036"}]
[{"$f":"Timesheet!C28","v":13209997},{"$f":"Timesheet!AI28","v":0},{"$f":"Timesheet!V28","v":0},{"$f":"Timesheet!K28","v":"00:00:00"},{"$f":"Timesheet!B28","v":"E33036"}]
[{"$f":"Timesheet!C29","v":59},{"$f":"Timesheet!AI29","v":0},{"$f":"Timesheet!V29","v":0},{"$f":"Timesheet!K29","v":"00:00:00"},{"$f":"Timesheet!B29","v":"E33036"}]
[{"$f":"Timesheet!C30","v":29923},{"$f":"Timesheet!AI30","v":0},{"$f":"Timesheet!V30","v":0},{"$f":"Timesheet!K30","v":"00:00:00"},{"$f":"Timesheet!B30","v":"E33036"}]
[{"$f":"Timesheet!C31","v":21790},{"$f":"Timesheet!AI31","v":0},{"$f":"Timesheet!V31","v":0},{"$f":"Timesheet!K31","v":"00:00:00"},{"$f":"Timesheet!B31","v":"E33036"}]
[{"$f":"Timesheet!C32","v":13016632},{"$f":"Timesheet!AI32","v":0},{"$f":"Timesheet!V32","v":0},{"$f":"Timesheet!K32","v":"00:00:00"},{"$f":"Timesheet!B32","v":"E33036"}]
[{"$f":"Timesheet!C33","v":13616632},{"$f":"Timesheet!AI33","v":0},{"$f":"Timesheet!V33","v":0},{"$f":"Timesheet!K33","v":"00:00:00"},{"$f":"Timesheet!B33","v":"E33036"}]
[{"$f":"Timesheet!C34","v":40046},{"$f":"Timesheet!AI34","v":0},{"$f":"Timesheet!V34","v":0},{"$f":"Timesheet!K34","v":"00:00:00"},{"$f":"Timesheet!B34","v":"E33036"}]
[{"$f":"Timesheet!C35","v":18140},{"$f":"Timesheet!AI35","v":0},{"$f":"Timesheet!V35","v":0},{"$f":"Timesheet!K35","v":"00:00:00"},{"$f":"Timesheet!B35","v":"E33036"}]
[{"$f":"Timesheet!C36","v":9922},{"$f":"Timesheet!AI36","v":0},{"$f":"Timesheet!V36","v":0},{"$f":"Timesheet!K36","v":"00:00:00"},{"$f":"Timesheet!B36","v":"E33036"}]
[{"$f":"Timesheet!C37","v":34724},{"$f":"Timesheet!AI37","v":0},{"$f":"Timesheet!V37","v":0},{"$f":"Timesheet!K37","v":"00:00:00"},{"$f":"Timesheet!B37","v":"E33036"}]
[{"$f":"Timesheet!C38","v":20933},{"$f":"Timesheet!AI38","v":0},{"$f":"Timesheet!V38","v":0},{"$f":"Timesheet!K38","v":"00:00:00"},{"$f":"Timesheet!B38","v":"E33036"}]
[{"$f":"Timesheet!C39","v":36025},{"$f":"Timesheet!AI39","v":0},{"$f":"Timesheet!V39","v":0},{"$f":"Timesheet!K39","v":"00:00:00"},{"$f":"Timesheet!B39","v":"E33036"}]
[{"$f":"Timesheet!C40","v":41681},{"$f":"Timesheet!AI40","v":0},{"$f":"Timesheet!V40","v":0},{"$f":"Timesheet!K40","v":"00:00:00"},{"$f":"Timesheet!B40","v":"E33036"}]
[{"$f":"Timesheet!C41","v":42644},{"$f":"Timesheet!AI41","v":0},{"$f":"Timesheet!V41","v":0},{"$f":"Timesheet!K41","v":"00:00:00"},{"$f":"Timesheet!B41","v":"E33036"}]
[{"$f":"Timesheet!C42","v":49476},{"$f":"Timesheet!AI42","v":0},{"$f":"Timesheet!V42","v":0},{"$f":"Timesheet!K42","v":"00:00:00"},{"$f":"Timesheet!B42","v":"E33036"}]
[{"$f":"Timesheet!C43","v":50978},{"$f":"Timesheet!AI43","v":0},{"$f":"Timesheet!V43","v":0},{"$f":"Timesheet!K43","v":"00:00:00"},{"$f":"Timesheet!B43","v":"E33036"}]
[{"$f":"Timesheet!C44","v":41705},{"$f":"Timesheet!AI44","v":0},{"$f":"Timesheet!V44","v":0},{"$f":"Timesheet!K44","v":"00:00:00"},{"$f":"Timesheet!B44","v":"E33036"}]
[{"$f":"Timesheet!C45","v":47311},{"$f":"Timesheet!AI45","v":0},{"$f":"Timesheet!V45","v":0},{"$f":"Timesheet!K45","v":"00:00:00"},{"$f":"Timesheet!B45","v":"E33036"}]
[{"$f":"Timesheet!C46","v":36728},{"$f":"Timesheet!AI46","v":0},{"$f":"Timesheet!V46","v":0},{"$f":"Timesheet!K46","v":"00:00:00"},{"$f":"Timesheet!B46","v":"E33036"}]
[{"$f":"Timesheet!C47","v":51863},{"$f":"Timesheet!AI47","v":0},{"$f":"Timesheet!V47","v":0},{"$f":"Timesheet!K47","v":"19.10.2023"},{"$f":"Timesheet!B47","v":"E33036"}]
[{"$f":"Timesheet!C48","v":46769},{"$f":"Timesheet!AI48","v":0},{"$f":"Timesheet!V48","v":0},{"$f":"Timesheet!K48","v":"00:00:00"},{"$f":"Timesheet!B48","v":"E33036"}]
[{"$f":"Timesheet!C49","v":16845},{"$f":"Timesheet!AI49","v":0},{"$f":"Timesheet!V49","v":0},{"$f":"Timesheet!K49","v":"00:00:00"},{"$f":"Timesheet!B49","v":"E33036"}]
[{"$f":"Timesheet!C50","v":33960},{"$f":"Timesheet!AI50","v":0},{"$f":"Timesheet!V50","v":0},{"$f":"Timesheet!K50","v":"00:00:00"},{"$f":"Timesheet!B50","v":"E33036"}]
[{"$f":"Timesheet!C51","v":9019},{"$f":"Timesheet!AI51","v":0},{"$f":"Timesheet!V51","v":0},{"$f":"Timesheet!K51","v":"00:00:00"},{"$f":"Timesheet!B51","v":"E33036"}]
[{"$f":"Timesheet!C52","v":20207},{"$f":"Timesheet!AI52","v":0},{"$f":"Timesheet!V52","v":0},{"$f":"Timesheet!K52","v":"00:00:00"},{"$f":"Timesheet!B52","v":"E33036"}]
[{"$f":"Timesheet!C53","v":46771},{"$f":"Timesheet!AI53","v":0},{"$f":"Timesheet!V53","v":0},{"$f":"Timesheet!K53","v":"00:00:00"},{"$f":"Timesheet!B53","v":"E33036"}]
[{"$f":"Timesheet!C54","v":14387314},{"$f":"Timesheet!AI54","v":0},{"$f":"Timesheet!V54","v":0},{"$f":"Timesheet!K54","v":"00:00:00"},{"$f":"Timesheet!B54","v":"E33036"}]
[{"$f":"Timesheet!C55","v":38898},{"$f":"Timesheet!AI55","v":0},{"$f":"Timesheet!V55","v":0},{"$f":"Timesheet!K55","v":"00:00:00"},{"$f":"Timesheet!B55","v":"E33036"}]
[{"$f":"Timesheet!C56","v":14016208},{"$f":"Timesheet!AI56","v":0},{"$f":"Timesheet!V56","v":0},{"$f":"Timesheet!K56","v":"00:00:00"},{"$f":"Timesheet!B56","v":"E33036"}]
[{"$f":"Timesheet!C57","v":38962},{"$f":"Timesheet!AI57","v":0},{"$f":"Timesheet!V57","v":0},{"$f":"Timesheet!K57","v":"00:00:00"},{"$f":"Timesheet!B57","v":"E33036"}]
[{"$f":"Timesheet!C58","v":39361},{"$f":"Timesheet!AI58","v":0},{"$f":"Timesheet!V58","v":0},{"$f":"Timesheet!K58","v":"00:00:00"},{"$f":"Timesheet!B58","v":"E33036"}]
[{"$f":"Timesheet!C59","v":37015},{"$f":"Timesheet!AI59","v":0},{"$f":"Timesheet!V59","v":0},{"$f":"Timesheet!K59","v":"00:00:00"},{"$f":"Timesheet!B59","v":"E33036"}]
[{"$f":"Timesheet!C60","v":29683},{"$f":"Timesheet!AI60","v":0},{"$f":"Timesheet!V60","v":0},{"$f":"Timesheet!K60","v":"00:00:00"},{"$f":"Timesheet!B60","v":"E33036"}]
[{"$f":"Timesheet!C61","v":23115},{"$f":"Timesheet!AI61","v":0},{"$f":"Timesheet!V61","v":0},{"$f":"Timesheet!K61","v":"00:00:00"},{"$f":"Timesheet!B61","v":"E33036"}]
[{"$f":"Timesheet!C62","v":14037690},{"$f":"Timesheet!AI62","v":0},{"$f":"Timesheet!V62","v":0},{"$f":"Timesheet!K62","v":"00:00:00"},{"$f":"Timesheet!B62","v":"E33036"}]
[{"$f":"Timesheet!C63","v":12174},{"$f":"Timesheet!AI63","v":0},{"$f":"Timesheet!V63","v":0},{"$f":"Timesheet!K63","v":"00:00:00"},{"$f":"Timesheet!B63","v":"E33036"}]
[{"$f":"Timesheet!C64","v":13009},{"$f":"Timesheet!AI64","v":0},{"$f":"Timesheet!V64","v":0},{"$f":"Timesheet!K64","v":"00:00:00"},{"$f":"Timesheet!B64","v":"E33036"}]
[{"$f":"Timesheet!C65","v":51874},{"$f":"Timesheet!AI65","v":0},{"$f":"Timesheet!V65","v":0},{"$f":"Timesheet!K65","v":"00:00:00"},{"$f":"Timesheet!B65","v":"E33036"}]
[{"$f":"Timesheet!C66","v":45964},{"$f":"Timesheet!AI66","v":0},{"$f":"Timesheet!V66","v":0},{"$f":"Timesheet!K66","v":"00:00:00"},{"$f":"Timesheet!B66","v":"E33036"}]
[{"$f":"Timesheet!C67","v":54194},{"$f":"Timesheet!AI67","v":0},{"$f":"Timesheet!V67","v":0},{"$f":"Timesheet!K67","v":"00:00:00"},{"$f":"Timesheet!B67","v":"E33036"}]
[{"$f":"Timesheet!C68","v":14299640},{"$f":"Timesheet!AI68","v":0},{"$f":"Timesheet!V68","v":0},{"$f":"Timesheet!K68","v":"00:00:00"},{"$f":"Timesheet!B68","v":"E33036"}]
[{"$f":"Timesheet!C69","v":28604},{"$f":"Timesheet!AI69","v":0},{"$f":"Timesheet!V69","v":0},{"$f":"Timesheet!K69","v":"00:00:00"},{"$f":"Timesheet!B69","v":"E33036"}]
[{"$f":"Timesheet!C70","v":28602},{"$f":"Timesheet!AI70","v":0},{"$f":"Timesheet!V70","v":0},{"$f":"Timesheet!K70","v":"00:00:00"},{"$f":"Timesheet!B70","v":"E33036"}]
[{"$f":"Timesheet!C71","v":28989},{"$f":"Timesheet!AI71","v":0},{"$f":"Timesheet!V71","v":0},{"$f":"Timesheet!K71","v":"00:00:00"},{"$f":"Timesheet!B71","v":"E33036"}]
[{"$f":"Timesheet!C72","v":28779},{"$f":"Timesheet!AI72","v":0},{"$f":"Timesheet!V72","v":0},{"$f":"Timesheet!K72","v":"00:00:00"},{"$f":"Timesheet!B72","v":"E33036"}]
[{"$f":"Timesheet!C73","v":20013},{"$f":"Timesheet!AI73","v":0},{"$f":"Timesheet!V73","v":0},{"$f":"Timesheet!K73","v":"00:00:00"},{"$f":"Timesheet!B73","v":"E33036"}]
[{"$f":"Timesheet!C74","v":0},{"$f":"Timesheet!AI74","v":0},{"$f":"Timesheet!V74","v":0},{"$f":"Timesheet!K74","v":"00:00:00"},{"$f":"Timesheet!B74","v":0}]
[{"$f":"Timesheet!C75","v":0},{"$f":"Timesheet!AI75","v":0},{"$f":"Timesheet!V75","v":0},{"$f":"Timesheet!K75","v":"00:00:00"},{"$f":"Timesheet!B75","v":0}]
[{"$f":"Timesheet!C76","v":0},{"$f":"Timesheet!AI76","v":0},{"$f":"Timesheet!V76","v":0},{"$f":"Timesheet!K76","v":"00:00:00"},{"$f":"Timesheet!B76","v":0}]
[{"$f":"Timesheet!C77","v":0},{"$f":"Timesheet!AI77","v":0},{"$f":"Timesheet!V77","v":0},{"$f":"Timesheet!K77","v":"00:00:00"},{"$f":"Timesheet!B77","v":0}]
[{"$f":"Timesheet!C78","v":0},{"$f":"Timesheet!AI78","v":0},{"$f":"Timesheet!V78","v":0},{"$f":"Timesheet!K78","v":"00:00:00"},{"$f":"Timesheet!B78","v":0}]
[{"$f":"Timesheet!C79","v":0},{"$f":"Timesheet!AI79","v":0},{"$f":"Timesheet!V79","v":0},{"$f":"Timesheet!K79","v":"00:00:00"},{"$f":"Timesheet!B79","v":0}]
[{"$f":"Timesheet!C80","v":0},{"$f":"Timesheet!AI80","v":0},{"$f":"Timesheet!V80","v":0},{"$f":"Timesheet!K80","v":"00:00:00"},{"$f":"Timesheet!B80","v":0}]
[{"$f":"Timesheet!C81","v":0},{"$f":"Timesheet!AI81","v":0},{"$f":"Timesheet!V81","v":0},{"$f":"Timesheet!K81","v":"00:00:00"},{"$f":"Timesheet!B81","v":0}]
[{"$f":"Timesheet!C82","v":0},{"$f":"Timesheet!AI82","v":0},{"$f":"Timesheet!V82","v":0},{"$f":"Timesheet!K82","v":"00:00:00"},{"$f":"Timesheet!B82","v":0}]
[{"$f":"Timesheet!C83","v":0},{"$f":"Timesheet!AI83","v":0},{"$f":"Timesheet!V83","v":0},{"$f":"Timesheet!K83","v":"00:00:00"},{"$f":"Timesheet!B83","v":0}]
[{"$f":"Timesheet!C84","v":0},{"$f":"Timesheet!AI84","v":0},{"$f":"Timesheet!V84","v":0},{"$f":"Timesheet!K84","v":"00:00:00"},{"$f":"Timesheet!B84","v":0}]
[{"$f":"Timesheet!C85","v":0},{"$f":"Timesheet!AI85","v":0},{"$f":"Timesheet!V85","v":0},{"$f":"Timesheet!K85","v":"00:00:00"},{"$f":"Timesheet!B85","v":0}]
[{"$f":"Timesheet!C86","v":0},{"$f":"Timesheet!AI86","v":0},{"$f":"Timesheet!V86","v":0},{"$f":"Timesheet!K86","v":"00:00:00"},{"$f":"Timesheet!B86","v":0}]
[{"$f":"Timesheet!C87","v":0},{"$f":"Timesheet!AI87","v":0},{"$f":"Timesheet!V87","v":0},{"$f":"Timesheet!K87","v":"00:00:00"},{"$f":"Timesheet!B87","v":0}]
[{"$f":"Timesheet!C88","v":0},{"$f":"Timesheet!AI88","v":0},{"$f":"Timesheet!V88","v":0},{"$f":"Timesheet!K88","v":"00:00:00"},{"$f":"Timesheet!B88","v":0}]
[{"$f":"Timesheet!C89","v":0},{"$f":"Timesheet!AI89","v":0},{"$f":"Timesheet!V89","v":0},{"$f":"Timesheet!K89","v":"00:00:00"},{"$f":"Timesheet!B89","v":0}]
[{"$f":"Timesheet!C90","v":0},{"$f":"Timesheet!AI90","v":0},{"$f":"Timesheet!V90","v":0},{"$f":"Timesheet!K90","v":"00:00:00"},{"$f":"Timesheet!B90","v":0}]
[{"$f":"Timesheet!C91","v":0},{"$f":"Timesheet!AI91","v":0},{"$f":"Timesheet!V91","v":0},{"$f":"Timesheet!K91","v":"00:00:00"},{"$f":"Timesheet!B91","v":0}]
[{"$f":"Timesheet!C92","v":0},{"$f":"Timesheet!AI92","v":0},{"$f":"Timesheet!V92","v":0},{"$f":"Timesheet!K92","v":"00:00:00"},{"$f":"Timesheet!B92","v":0}]
[{"$f":"Timesheet!C93","v":0},{"$f":"Timesheet!AI93","v":0},{"$f":"Timesheet!V93","v":0},{"$f":"Timesheet!K93","v":"00:00:00"},{"$f":"Timesheet!B93","v":0}]
[{"$f":"Timesheet!C94","v":0},{"$f":"Timesheet!AI94","v":0},{"$f":"Timesheet!V94","v":0},{"$f":"Timesheet!K94","v":"00:00:00"},{"$f":"Timesheet!B94","v":0}]
[{"$f":"Timesheet!C95","v":0},{"$f":"Timesheet!AI95","v":0},{"$f":"Timesheet!V95","v":0},{"$f":"Timesheet!K95","v":"00:00:00"},{"$f":"Timesheet!B95","v":0}]
[{"$f":"Timesheet!C96","v":0},{"$f":"Timesheet!AI96","v":0},{"$f":"Timesheet!V96","v":0},{"$f":"Timesheet!K96","v":"00:00:00"},{"$f":"Timesheet!B96","v":0}]
[{"$f":"Timesheet!C97","v":0},{"$f":"Timesheet!AI97","v":0},{"$f":"Timesheet!V97","v":0},{"$f":"Timesheet!K97","v":"00:00:00"},{"$f":"Timesheet!B97","v":0}]
[{"$f":"Timesheet!C98","v":0},{"$f":"Timesheet!AI98","v":0},{"$f":"Timesheet!V98","v":0},{"$f":"Timesheet!K98","v":"00:00:00"},{"$f":"Timesheet!B98","v":0}]
[{"$f":"Timesheet!C99","v":0},{"$f":"Timesheet!AI99","v":0},{"$f":"Timesheet!V99","v":0},{"$f":"Timesheet!K99","v":"00:00:00"},{"$f":"Timesheet!B99","v":0}]
[{"$f":"Timesheet!C100","v":0},{"$f":"Timesheet!AI100","v":0},{"$f":"Timesheet!V100","v":0},{"$f":"Timesheet!K100","v":"00:00:00"},{"$f":"Timesheet!B100","v":0}]
[{"$f":"Timesheet!C101","v":0},{"$f":"Timesheet!AI101","v":0},{"$f":"Timesheet!V101","v":0},{"$f":"Timesheet!K101","v":"00:00:00"},{"$f":"Timesheet!B101","v":0}]
[{"$f":"Timesheet!C102","v":0},{"$f":"Timesheet!AI102","v":0},{"$f":"Timesheet!V102","v":0},{"$f":"Timesheet!K102","v":"00:00:00"},{"$f":"Timesheet!B102","v":0}]
[{"$f":"Timesheet!C103","v":0},{"$f":"Timesheet!AI103","v":0},{"$f":"Timesheet!V103","v":0},{"$f":"Timesheet!K103","v":"00:00:00"},{"$f":"Timesheet!B103","v":0}]
[{"$f":"Timesheet!C104","v":0},{"$f":"Timesheet!AI104","v":0},{"$f":"Timesheet!V104","v":0},{"$f":"Timesheet!K104","v":"00:00:00"},{"$f":"Timesheet!B104","v":0}]
[{"$f":"Timesheet!C105","v":0},{"$f":"Timesheet!AI105","v":0},{"$f":"Timesheet!V105","v":0},{"$f":"Timesheet!K105","v":"00:00:00"},{"$f":"Timesheet!B105","v":0}]
[{"$f":"Timesheet!C106","v":0},{"$f":"Timesheet!AI106","v":0},{"$f":"Timesheet!V106","v":0},{"$f":"Timesheet!K106","v":"00:00:00"},{"$f":"Timesheet!B106","v":0}]
[{"$f":"Timesheet!C107","v":0},{"$f":"Timesheet!AI107","v":0},{"$f":"Timesheet!V107","v":0},{"$f":"Timesheet!K107","v":"00:00:00"},{"$f":"Timesheet!B107","v":0}]
[{"$f":"Timesheet!C108","v":0},{"$f":"Timesheet!AI108","v":0},{"$f":"Timesheet!V108","v":0},{"$f":"Timesheet!K108","v":"00:00:00"},{"$f":"Timesheet!B108","v":0}]
[{"$f":"Timesheet!C109","v":0},{"$f":"Timesheet!AI109","v":0},{"$f":"Timesheet!V109","v":0},{"$f":"Timesheet!K109","v":"00:00:00"},{"$f":"Timesheet!B109","v":0}]
[{"$f":"Timesheet!C110","v":0},{"$f":"Timesheet!AI110","v":0},{"$f":"Timesheet!V110","v":0},{"$f":"Timesheet!K110","v":"00:00:00"},{"$f":"Timesheet!B110","v":0}]
[{"$f":"Timesheet!C111","v":0},{"$f":"Timesheet!AI111","v":0},{"$f":"Timesheet!V111","v":0},{"$f":"Timesheet!K111","v":"00:00:00"},{"$f":"Timesheet!B111","v":0}]
[{"$f":"Timesheet!C112","v":0},{"$f":"Timesheet!AI112","v":0},{"$f":"Timesheet!V112","v":0},{"$f":"Timesheet!K112","v":"00:00:00"},{"$f":"Timesheet!B112","v":0}]
[{"$f":"Timesheet!C113","v":0},{"$f":"Timesheet!AI113","v":0},{"$f":"Timesheet!V113","v":0},{"$f":"Timesheet!K113","v":"00:00:00"},{"$f":"Timesheet!B113","v":0}]
[{"$f":"Timesheet!C114","v":0},{"$f":"Timesheet!AI114","v":0},{"$f":"Timesheet!V114","v":0},{"$f":"Timesheet!K114","v":"00:00:00"},{"$f":"Timesheet!B114","v":0}]
[{"$f":"Timesheet!C115","v":0},{"$f":"Timesheet!AI115","v":0},{"$f":"Timesheet!V115","v":0},{"$f":"Timesheet!K115","v":"00:00:00"},{"$f":"Timesheet!B115","v":0}]
[{"$f":"Timesheet!C116","v":0},{"$f":"Timesheet!AI116","v":0},{"$f":"Timesheet!V116","v":0},{"$f":"Timesheet!K116","v":"00:00:00"},{"$f":"Timesheet!B116","v":0}]
[{"$f":"Timesheet!C117","v":0},{"$f":"Timesheet!AI117","v":0},{"$f":"Timesheet!V117","v":0},{"$f":"Timesheet!K117","v":"00:00:00"},{"$f":"Timesheet!B117","v":0}]
[{"$f":"Timesheet!C118","v":0},{"$f":"Timesheet!AI118","v":0},{"$f":"Timesheet!V118","v":0},{"$f":"Timesheet!K118","v":"00:00:00"},{"$f":"Timesheet!B118","v":0}]
[{"$f":"Timesheet!C119","v":0},{"$f":"Timesheet!AI119","v":0},{"$f":"Timesheet!V119","v":0},{"$f":"Timesheet!K119","v":"00:00:00"},{"$f":"Timesheet!B119","v":0}]
[{"$f":"Timesheet!C120","v":0},{"$f":"Timesheet!AI120","v":0},{"$f":"Timesheet!V120","v":0},{"$f":"Timesheet!K120","v":"00:00:00"},{"$f":"Timesheet!B120","v":0}]
[{"$f":"Timesheet!C121","v":0},{"$f":"Timesheet!AI121","v":0},{"$f":"Timesheet!V121","v":0},{"$f":"Timesheet!K121","v":"00:00:00"},{"$f":"Timesheet!B121","v":0}]
[{"$f":"Timesheet!C122","v":0},{"$f":"Timesheet!AI122","v":0},{"$f":"Timesheet!V122","v":0},{"$f":"Timesheet!K122","v":"00:00:00"},{"$f":"Timesheet!B122","v":0}]
[{"$f":"Timesheet!C123","v":0},{"$f":"Timesheet!AI123","v":0},{"$f":"Timesheet!V123","v":0},{"$f":"Timesheet!K123","v":"00:00:00"},{"$f":"Timesheet!B123","v":0}]
[{"$f":"Timesheet!C124","v":0},{"$f":"Timesheet!AI124","v":0},{"$f":"Timesheet!V124","v":0},{"$f":"Timesheet!K124","v":"00:00:00"},{"$f":"Timesheet!B124","v":0}]
[{"$f":"Timesheet!C125","v":0},{"$f":"Timesheet!AI125","v":0},{"$f":"Timesheet!V125","v":0},{"$f":"Timesheet!K125","v":"00:00:00"},{"$f":"Timesheet!B125","v":0}]
[{"$f":"Timesheet!C126","v":0},{"$f":"Timesheet!AI126","v":0},{"$f":"Timesheet!V126","v":0},{"$f":"Timesheet!K126","v":"00:00:00"},{"$f":"Timesheet!B126","v":0}]
[{"$f":"Timesheet!C127","v":0},{"$f":"Timesheet!AI127","v":0},{"$f":"Timesheet!V127","v":0},{"$f":"Timesheet!K127","v":"00:00:00"},{"$f":"Timesheet!B127","v":0}]
[{"$f":"Timesheet!C128","v":0},{"$f":"Timesheet!AI128","v":0},{"$f":"Timesheet!V128","v":0},{"$f":"Timesheet!K128","v":"00:00:00"},{"$f":"Timesheet!B128","v":0}]
[{"$f":"Timesheet!C129","v":0},{"$f":"Timesheet!AI129","v":0},{"$f":"Timesheet!V129","v":0},{"$f":"Timesheet!K129","v":"00:00:00"},{"$f":"Timesheet!B129","v":0}]
[{"$f":"Timesheet!C130","v":0},{"$f":"Timesheet!AI130","v":0},{"$f":"Timesheet!V130","v":0},{"$f":"Timesheet!K130","v":"00:00:00"},{"$f":"Timesheet!B130","v":0}]
[{"$f":"Timesheet!C131","v":0},{"$f":"Timesheet!AI131","v":0},{"$f":"Timesheet!V131","v":0},{"$f":"Timesheet!K131","v":"00:00:00"},{"$f":"Timesheet!B131","v":0}]
[{"$f":"Timesheet!C132","v":0},{"$f":"Timesheet!AI132","v":0},{"$f":"Timesheet!V132","v":0},{"$f":"Timesheet!K132","v":"00:00:00"},{"$f":"Timesheet!B132","v":0}]
[{"$f":"Timesheet!C133","v":0},{"$f":"Timesheet!AI133","v":0},{"$f":"Timesheet!V133","v":0},{"$f":"Timesheet!K133","v":"00:00:00"},{"$f":"Timesheet!B133","v":0}]
[{"$f":"Timesheet!C134","v":0},{"$f":"Timesheet!AI134","v":0},{"$f":"Timesheet!V134","v":0},{"$f":"Timesheet!K134","v":"00:00:00"},{"$f":"Timesheet!B134","v":0}]
[{"$f":"Timesheet!C135","v":0},{"$f":"Timesheet!AI135","v":0},{"$f":"Timesheet!V135","v":0},{"$f":"Timesheet!K135","v":"00:00:00"},{"$f":"Timesheet!B135","v":0}]
[{"$f":"Timesheet!C136","v":0},{"$f":"Timesheet!AI136","v":0},{"$f":"Timesheet!V136","v":0},{"$f":"Timesheet!K136","v":"00:00:00"},{"$f":"Timesheet!B136","v":0}]
[{"$f":"Timesheet!C137","v":0},{"$f":"Timesheet!AI137","v":0},{"$f":"Timesheet!V137","v":0},{"$f":"Timesheet!K137","v":"00:00:00"},{"$f":"Timesheet!B137","v":0}]
[{"$f":"Timesheet!C138","v":0},{"$f":"Timesheet!AI138","v":0},{"$f":"Timesheet!V138","v":0},{"$f":"Timesheet!K138","v":"00:00:00"},{"$f":"Timesheet!B138","v":0}]
[{"$f":"Timesheet!C139","v":0},{"$f":"Timesheet!AI139","v":0},{"$f":"Timesheet!V139","v":0},{"$f":"Timesheet!K139","v":"00:00:00"},{"$f":"Timesheet!B139","v":0}]
[{"$f":"Timesheet!C140","v":0},{"$f":"Timesheet!AI140","v":0},{"$f":"Timesheet!V140","v":0},{"$f":"Timesheet!K140","v":"00:00:00"},{"$f":"Timesheet!B140","v":0}]
[{"$f":"Timesheet!C141","v":0},{"$f":"Timesheet!AI141","v":0},{"$f":"Timesheet!V141","v":0},{"$f":"Timesheet!K141","v":"00:00:00"},{"$f":"Timesheet!B141","v":0}]
[{"$f":"Timesheet!C142","v":0},{"$f":"Timesheet!AI142","v":0},{"$f":"Timesheet!V142","v":0},{"$f":"Timesheet!K142","v":"00:00:00"},{"$f":"Timesheet!B142","v":0}]
[{"$f":"Timesheet!C143","v":0},{"$f":"Timesheet!AI143","v":0},{"$f":"Timesheet!V143","v":0},{"$f":"Timesheet!K143","v":"00:00:00"},{"$f":"Timesheet!B143","v":0}]
[{"$f":"Timesheet!C144","v":0},{"$f":"Timesheet!AI144","v":0},{"$f":"Timesheet!V144","v":0},{"$f":"Timesheet!K144","v":"00:00:00"},{"$f":"Timesheet!B144","v":0}]
[{"$f":"Timesheet!C145","v":0},{"$f":"Timesheet!AI145","v":0},{"$f":"Timesheet!V145","v":0},{"$f":"Timesheet!K145","v":"00:00:00"},{"$f":"Timesheet!B145","v":0}]
[{"$f":"Timesheet!C146","v":0},{"$f":"Timesheet!AI146","v":0},{"$f":"Timesheet!V146","v":0},{"$f":"Timesheet!K146","v":"00:00:00"},{"$f":"Timesheet!B146","v":0}]
[{"$f":"Timesheet!C147","v":0},{"$f":"Timesheet!AI147","v":0},{"$f":"Timesheet!V147","v":0},{"$f":"Timesheet!K147","v":"00:00:00"},{"$f":"Timesheet!B147","v":0}]
[{"$f":"Timesheet!C148","v":0},{"$f":"Timesheet!AI148","v":0},{"$f":"Timesheet!V148","v":0},{"$f":"Timesheet!K148","v":"00:00:00"},{"$f":"Timesheet!B148","v":0}]
[{"$f":"Timesheet!C149","v":0},{"$f":"Timesheet!AI149","v":0},{"$f":"Timesheet!V149","v":0},{"$f":"Timesheet!K149","v":"00:00:00"},{"$f":"Timesheet!B149","v":0}]
[{"$f":"Timesheet!C150","v":0},{"$f":"Timesheet!AI150","v":0},{"$f":"Timesheet!V150","v":0},{"$f":"Timesheet!K150","v":"00:00:00"},{"$f":"Timesheet!B150","v":0}]
[{"$f":"Timesheet!C151","v":0},{"$f":"Timesheet!AI151","v":0},{"$f":"Timesheet!V151","v":0},{"$f":"Timesheet!K151","v":"00:00:00"},{"$f":"Timesheet!B151","v":0}]
[{"$f":"Timesheet!C152","v":0},{"$f":"Timesheet!AI152","v":0},{"$f":"Timesheet!V152","v":0},{"$f":"Timesheet!K152","v":"00:00:00"},{"$f":"Timesheet!B152","v":0}]
[{"$f":"Timesheet!C153","v":0},{"$f":"Timesheet!AI153","v":0},{"$f":"Timesheet!V153","v":0},{"$f":"Timesheet!K153","v":"00:00:00"},{"$f":"Timesheet!B153","v":0}]
[{"$f":"Timesheet!C154","v":0},{"$f":"Timesheet!AI154","v":0},{"$f":"Timesheet!V154","v":0},{"$f":"Timesheet!K154","v":"00:00:00"},{"$f":"Timesheet!B154","v":0}]
[{"$f":"Timesheet!C155","v":0},{"$f":"Timesheet!AI155","v":0},{"$f":"Timesheet!V155","v":0},{"$f":"Timesheet!K155","v":"00:00:00"},{"$f":"Timesheet!B155","v":0}]
[{"$f":"Timesheet!C156","v":0},{"$f":"Timesheet!AI156","v":0},{"$f":"Timesheet!V156","v":0},{"$f":"Timesheet!K156","v":"00:00:00"},{"$f":"Timesheet!B156","v":0}]
[{"$f":"Timesheet!C157","v":0},{"$f":"Timesheet!AI157","v":0},{"$f":"Timesheet!V157","v":0},{"$f":"Timesheet!K157","v":"00:00:00"},{"$f":"Timesheet!B157","v":0}]
[{"$f":"Timesheet!C158","v":0},{"$f":"Timesheet!AI158","v":0},{"$f":"Timesheet!V158","v":0},{"$f":"Timesheet!K158","v":"00:00:00"},{"$f":"Timesheet!B158","v":0}]
[{"$f":"Timesheet!C159","v":0},{"$f":"Timesheet!AI159","v":0},{"$f":"Timesheet!V159","v":0},{"$f":"Timesheet!K159","v":"00:00:00"},{"$f":"Timesheet!B159","v":0}]
[{"$f":"Timesheet!C160","v":0},{"$f":"Timesheet!AI160","v":0},{"$f":"Timesheet!V160","v":0},{"$f":"Timesheet!K160","v":"00:00:00"},{"$f":"Timesheet!B160","v":0}]
[{"$f":"Timesheet!C161","v":0},{"$f":"Timesheet!AI161","v":0},{"$f":"Timesheet!V161","v":0},{"$f":"Timesheet!K161","v":"00:00:00"},{"$f":"Timesheet!B161","v":0}]
[{"$f":"Timesheet!C162","v":0},{"$f":"Timesheet!AI162","v":0},{"$f":"Timesheet!V162","v":0},{"$f":"Timesheet!K162","v":"00:00:00"},{"$f":"Timesheet!B162","v":0}]
[{"$f":"Timesheet!C163","v":0},{"$f":"Timesheet!AI163","v":0},{"$f":"Timesheet!V163","v":0},{"$f":"Timesheet!K163","v":"00:00:00"},{"$f":"Timesheet!B163","v":0}]
[{"$f":"Timesheet!C164","v":0},{"$f":"Timesheet!AI164","v":0},{"$f":"Timesheet!V164","v":0},{"$f":"Timesheet!K164","v":"00:00:00"},{"$f":"Timesheet!B164","v":0}]
[{"$f":"Timesheet!C165","v":0},{"$f":"Timesheet!AI165","v":0},{"$f":"Timesheet!V165","v":0},{"$f":"Timesheet!K165","v":"00:00:00"},{"$f":"Timesheet!B165","v":0}]
[{"$f":"Timesheet!C166","v":0},{"$f":"Timesheet!AI166","v":0},{"$f":"Timesheet!V166","v":0},{"$f":"Timesheet!K166","v":"00:00:00"},{"$f":"Timesheet!B166","v":0}]
[{"$f":"Timesheet!C167","v":0},{"$f":"Timesheet!AI167","v":0},{"$f":"Timesheet!V167","v":0},{"$f":"Timesheet!K167","v":"00:00:00"},{"$f":"Timesheet!B167","v":0}]
[{"$f":"Timesheet!C168","v":0},{"$f":"Timesheet!AI168","v":0},{"$f":"Timesheet!V168","v":0},{"$f":"Timesheet!K168","v":"00:00:00"},{"$f":"Timesheet!B168","v":0}]
[{"$f":"Timesheet!C169","v":0},{"$f":"Timesheet!AI169","v":0},{"$f":"Timesheet!V169","v":0},{"$f":"Timesheet!K169","v":"00:00:00"},{"$f":"Timesheet!B169","v":0}]
[{"$f":"Timesheet!C170","v":0},{"$f":"Timesheet!AI170","v":0},{"$f":"Timesheet!V170","v":0},{"$f":"Timesheet!K170","v":"00:00:00"},{"$f":"Timesheet!B170","v":0}]
[{"$f":"Timesheet!C171","v":0},{"$f":"Timesheet!AI171","v":0},{"$f":"Timesheet!V171","v":0},{"$f":"Timesheet!K171","v":"00:00:00"},{"$f":"Timesheet!B171","v":0}]
[{"$f":"Timesheet!C172","v":0},{"$f":"Timesheet!AI172","v":0},{"$f":"Timesheet!V172","v":0},{"$f":"Timesheet!K172","v":"00:00:00"},{"$f":"Timesheet!B172","v":0}]
[{"$f":"Timesheet!C173","v":0},{"$f":"Timesheet!AI173","v":0},{"$f":"Timesheet!V173","v":0},{"$f":"Timesheet!K173","v":"00:00:00"},{"$f":"Timesheet!B173","v":0}]
[{"$f":"Timesheet!C174","v":0},{"$f":"Timesheet!AI174","v":0},{"$f":"Timesheet!V174","v":0},{"$f":"Timesheet!K174","v":"00:00:00"},{"$f":"Timesheet!B174","v":0}]
[{"$f":"Timesheet!C175","v":0},{"$f":"Timesheet!AI175","v":0},{"$f":"Timesheet!V175","v":0},{"$f":"Timesheet!K175","v":"00:00:00"},{"$f":"Timesheet!B175","v":0}]
[{"$f":"Timesheet!C176","v":0},{"$f":"Timesheet!AI176","v":0},{"$f":"Timesheet!V176","v":0},{"$f":"Timesheet!K176","v":"00:00:00"},{"$f":"Timesheet!B176","v":0}]
[{"$f":"Timesheet!C177","v":0},{"$f":"Timesheet!AI177","v":0},{"$f":"Timesheet!V177","v":0},{"$f":"Timesheet!K177","v":"00:00:00"},{"$f":"Timesheet!B177","v":0}]
[{"$f":"Timesheet!C178","v":0},{"$f":"Timesheet!AI178","v":0},{"$f":"Timesheet!V178","v":0},{"$f":"Timesheet!K178","v":"00:00:00"},{"$f":"Timesheet!B178","v":0}]
[{"$f":"Timesheet!C179","v":0},{"$f":"Timesheet!AI179","v":0},{"$f":"Timesheet!V179","v":0},{"$f":"Timesheet!K179","v":"00:00:00"},{"$f":"Timesheet!B179","v":0}]
[{"$f":"Timesheet!C180","v":0},{"$f":"Timesheet!AI180","v":0},{"$f":"Timesheet!V180","v":0},{"$f":"Timesheet!K180","v":"00:00:00"},{"$f":"Timesheet!B180","v":0}]
[{"$f":"Timesheet!C181","v":0},{"$f":"Timesheet!AI181","v":0},{"$f":"Timesheet!V181","v":0},{"$f":"Timesheet!K181","v":"00:00:00"},{"$f":"Timesheet!B181","v":0}]
[{"$f":"Timesheet!C182","v":0},{"$f":"Timesheet!AI182","v":0},{"$f":"Timesheet!V182","v":0},{"$f":"Timesheet!K182","v":"00:00:00"},{"$f":"Timesheet!B182","v":0}]
[{"$f":"Timesheet!C183","v":0},{"$f":"Timesheet!AI183","v":0},{"$f":"Timesheet!V183","v":0},{"$f":"Timesheet!K183","v":"00:00:00"},{"$f":"Timesheet!B183","v":0}]
[{"$f":"Timesheet!C184","v":0},{"$f":"Timesheet!AI184","v":0},{"$f":"Timesheet!V184","v":0},{"$f":"Timesheet!K184","v":"00:00:00"},{"$f":"Timesheet!B184","v":0}]
[{"$f":"Timesheet!C185","v":0},{"$f":"Timesheet!AI185","v":0},{"$f":"Timesheet!V185","v":0},{"$f":"Timesheet!K185","v":"00:00:00"},{"$f":"Timesheet!B185","v":0}]
[{"$f":"Timesheet!C186","v":0},{"$f":"Timesheet!AI186","v":0},{"$f":"Timesheet!V186","v":0},{"$f":"Timesheet!K186","v":"00:00:00"},{"$f":"Timesheet!B186","v":0}]
[{"$f":"Timesheet!C187","v":0},{"$f":"Timesheet!AI187","v":0},{"$f":"Timesheet!V187","v":0},{"$f":"Timesheet!K187","v":"00:00:00"},{"$f":"Timesheet!B187","v":0}]
[{"$f":"Timesheet!C188","v":0},{"$f":"Timesheet!AI188","v":0},{"$f":"Timesheet!V188","v":0},{"$f":"Timesheet!K188","v":"00:00:00"},{"$f":"Timesheet!B188","v":0}]
[{"$f":"Timesheet!C189","v":0},{"$f":"Timesheet!AI189","v":0},{"$f":"Timesheet!V189","v":0},{"$f":"Timesheet!K189","v":"00:00:00"},{"$f":"Timesheet!B189","v":0}]
[{"$f":"Timesheet!C190","v":0},{"$f":"Timesheet!AI190","v":0},{"$f":"Timesheet!V190","v":0},{"$f":"Timesheet!K190","v":"00:00:00"},{"$f":"Timesheet!B190","v":0}]
[{"$f":"Timesheet!C191","v":0},{"$f":"Timesheet!AI191","v":0},{"$f":"Timesheet!V191","v":0},{"$f":"Timesheet!K191","v":"00:00:00"},{"$f":"Timesheet!B191","v":0}]
[{"$f":"Timesheet!C192","v":0},{"$f":"Timesheet!AI192","v":0},{"$f":"Timesheet!V192","v":0},{"$f":"Timesheet!K192","v":"00:00:00"},{"$f":"Timesheet!B192","v":0}]
[{"$f":"Timesheet!C193","v":0},{"$f":"Timesheet!AI193","v":0},{"$f":"Timesheet!V193","v":0},{"$f":"Timesheet!K193","v":"00:00:00"},{"$f":"Timesheet!B193","v":0}]
[{"$f":"Timesheet!C194","v":0},{"$f":"Timesheet!AI194","v":0},{"$f":"Timesheet!V194","v":0},{"$f":"Timesheet!K194","v":"00:00:00"},{"$f":"Timesheet!B194","v":0}]
[{"$f":"Timesheet!C195","v":0},{"$f":"Timesheet!AI195","v":0},{"$f":"Timesheet!V195","v":0},{"$f":"Timesheet!K195","v":"00:00:00"},{"$f":"Timesheet!B195","v":0}]
[{"$f":"Timesheet!C196","v":0},{"$f":"Timesheet!AI196","v":0},{"$f":"Timesheet!V196","v":0},{"$f":"Timesheet!K196","v":"00:00:00"},{"$f":"Timesheet!B196","v":0}]
[{"$f":"Timesheet!C197","v":0},{"$f":"Timesheet!AI197","v":0},{"$f":"Timesheet!V197","v":0},{"$f":"Timesheet!K197","v":"00:00:00"},{"$f":"Timesheet!B197","v":0}]
[{"$f":"Timesheet!C198","v":0},{"$f":"Timesheet!AI198","v":0},{"$f":"Timesheet!V198","v":0},{"$f":"Timesheet!K198","v":"00:00:00"},{"$f":"Timesheet!B198","v":0}]
[{"$f":"Timesheet!C199","v":0},{"$f":"Timesheet!AI199","v":0},{"$f":"Timesheet!V199","v":0},{"$f":"Timesheet!K199","v":"00:00:00"},{"$f":"Timesheet!B199","v":0}]
[{"$f":"Timesheet!C200","v":0},{"$f":"Timesheet!AI200","v":0},{"$f":"Timesheet!V200","v":0},{"$f":"Timesheet!K200","v":"00:00:00"},{"$f":"Timesheet!B200","v":0}]
[{"$f":"Timesheet!C201","v":0},{"$f":"Timesheet!AI201","v":0},{"$f":"Timesheet!V201","v":0},{"$f":"Timesheet!K201","v":"00:00:00"},{"$f":"Timesheet!B201","v":0}]
[{"$f":"Timesheet!C202","v":0},{"$f":"Timesheet!AI202","v":0},{"$f":"Timesheet!V202","v":0},{"$f":"Timesheet!K202","v":"00:00:00"},{"$f":"Timesheet!B202","v":0}]
[{"$f":"Timesheet!C203","v":0},{"$f":"Timesheet!AI203","v":0},{"$f":"Timesheet!V203","v":0},{"$f":"Timesheet!K203","v":"00:00:00"},{"$f":"Timesheet!B203","v":0}]
[{"$f":"Timesheet!C204","v":0},{"$f":"Timesheet!AI204","v":0},{"$f":"Timesheet!V204","v":0},{"$f":"Timesheet!K204","v":"00:00:00"},{"$f":"Timesheet!B204","v":0}]
[{"$f":"Timesheet!C205","v":0},{"$f":"Timesheet!AI205","v":0},{"$f":"Timesheet!V205","v":0},{"$f":"Timesheet!K205","v":"00:00:00"},{"$f":"Timesheet!B205","v":0}]
[{"$f":"Timesheet!C206","v":0},{"$f":"Timesheet!AI206","v":0},{"$f":"Timesheet!V206","v":0},{"$f":"Timesheet!K206","v":"00:00:00"},{"$f":"Timesheet!B206","v":0}]
[{"$f":"Timesheet!C207","v":0},{"$f":"Timesheet!AI207","v":0},{"$f":"Timesheet!V207","v":0},{"$f":"Timesheet!K207","v":"00:00:00"},{"$f":"Timesheet!B207","v":0}]
[{"$f":"Timesheet!C208","v":0},{"$f":"Timesheet!AI208","v":0},{"$f":"Timesheet!V208","v":0},{"$f":"Timesheet!K208","v":"00:00:00"},{"$f":"Timesheet!B208","v":0}]
[{"$f":"Timesheet!C209","v":0},{"$f":"Timesheet!AI209","v":0},{"$f":"Timesheet!V209","v":0},{"$f":"Timesheet!K209","v":"00:00:00"},{"$f":"Timesheet!B209","v":0}]
[{"$f":"Timesheet!C210","v":0},{"$f":"Timesheet!AI210","v":0},{"$f":"Timesheet!V210","v":0},{"$f":"Timesheet!K210","v":"00:00:00"},{"$f":"Timesheet!B210","v":0}]
[{"$f":"Timesheet!C211","v":0},{"$f":"Timesheet!AI211","v":0},{"$f":"Timesheet!V211","v":0},{"$f":"Timesheet!K211","v":"00:00:00"},{"$f":"Timesheet!B211","v":0}]
[{"$f":"Timesheet!C212","v":0},{"$f":"Timesheet!AI212","v":0},{"$f":"Timesheet!V212","v":0},{"$f":"Timesheet!K212","v":"00:00:00"},{"$f":"Timesheet!B212","v":0}]
[{"$f":"Timesheet!C213","v":0},{"$f":"Timesheet!AI213","v":0},{"$f":"Timesheet!V213","v":0},{"$f":"Timesheet!K213","v":"00:00:00"},{"$f":"Timesheet!B213","v":0}]
[{"$f":"Timesheet!C214","v":0},{"$f":"Timesheet!AI214","v":0},{"$f":"Timesheet!V214","v":0},{"$f":"Timesheet!K214","v":"00:00:00"},{"$f":"Timesheet!B214","v":0}]
[{"$f":"Timesheet!C215","v":0},{"$f":"Timesheet!AI215","v":0},{"$f":"Timesheet!V215","v":0},{"$f":"Timesheet!K215","v":"00:00:00"},{"$f":"Timesheet!B215","v":0}]
[{"$f":"Timesheet!C216","v":0},{"$f":"Timesheet!AI216","v":0},{"$f":"Timesheet!V216","v":0},{"$f":"Timesheet!K216","v":"00:00:00"},{"$f":"Timesheet!B216","v":0}]
[{"$f":"Timesheet!C217","v":0},{"$f":"Timesheet!AI217","v":0},{"$f":"Timesheet!V217","v":0},{"$f":"Timesheet!K217","v":"00:00:00"},{"$f":"Timesheet!B217","v":0}]
[{"$f":"Timesheet!C218","v":0},{"$f":"Timesheet!AI218","v":0},{"$f":"Timesheet!V218","v":0},{"$f":"Timesheet!K218","v":"00:00:00"},{"$f":"Timesheet!B218","v":0}]
[{"$f":"Timesheet!C219","v":0},{"$f":"Timesheet!AI219","v":0},{"$f":"Timesheet!V219","v":0},{"$f":"Timesheet!K219","v":"00:00:00"},{"$f":"Timesheet!B219","v":0}]
[{"$f":"Timesheet!C220","v":0},{"$f":"Timesheet!AI220","v":0},{"$f":"Timesheet!V220","v":0},{"$f":"Timesheet!K220","v":"00:00:00"},{"$f":"Timesheet!B220","v":0}]
[{"$f":"Timesheet!C221","v":0},{"$f":"Timesheet!AI221","v":0},{"$f":"Timesheet!V221","v":0},{"$f":"Timesheet!K221","v":"00:00:00"},{"$f":"Timesheet!B221","v":0}]
[{"$f":"Timesheet!C222","v":0},{"$f":"Timesheet!AI222","v":0},{"$f":"Timesheet!V222","v":0},{"$f":"Timesheet!K222","v":"00:00:00"},{"$f":"Timesheet!B222","v":0}]
[{"$f":"Timesheet!C223","v":0},{"$f":"Timesheet!AI223","v":0},{"$f":"Timesheet!V223","v":0},{"$f":"Timesheet!K223","v":"00:00:00"},{"$f":"Timesheet!B223","v":0}]
[{"$f":"Timesheet!C224","v":0},{"$f":"Timesheet!AI224","v":0},{"$f":"Timesheet!V224","v":0},{"$f":"Timesheet!K224","v":"00:00:00"},{"$f":"Timesheet!B224","v":0}]
[{"$f":"Timesheet!C225","v":0},{"$f":"Timesheet!AI225","v":0},{"$f":"Timesheet!V225","v":0},{"$f":"Timesheet!K225","v":"00:00:00"},{"$f":"Timesheet!B225","v":0}]
[{"$f":"Timesheet!C226","v":0},{"$f":"Timesheet!AI226","v":0},{"$f":"Timesheet!V226","v":0},{"$f":"Timesheet!K226","v":"00:00:00"},{"$f":"Timesheet!B226","v":0}]
[{"$f":"Timesheet!C227","v":0},{"$f":"Timesheet!AI227","v":0},{"$f":"Timesheet!V227","v":0},{"$f":"Timesheet!K227","v":"00:00:00"},{"$f":"Timesheet!B227","v":0}]
[{"$f":"Timesheet!C228","v":0},{"$f":"Timesheet!AI228","v":0},{"$f":"Timesheet!V228","v":0},{"$f":"Timesheet!K228","v":"00:00:00"},{"$f":"Timesheet!B228","v":0}]
[{"$f":"Timesheet!C229","v":0},{"$f":"Timesheet!AI229","v":0},{"$f":"Timesheet!V229","v":0},{"$f":"Timesheet!K229","v":"00:00:00"},{"$f":"Timesheet!B229","v":0}]
[{"$f":"Timesheet!C230","v":0},{"$f":"Timesheet!AI230","v":0},{"$f":"Timesheet!V230","v":0},{"$f":"Timesheet!K230","v":"00:00:00"},{"$f":"Timesheet!B230","v":0}]
[{"$f":"Timesheet!C231","v":0},{"$f":"Timesheet!AI231","v":0},{"$f":"Timesheet!V231","v":0},{"$f":"Timesheet!K231","v":"00:00:00"},{"$f":"Timesheet!B231","v":0}]
[{"$f":"Timesheet!C232","v":0},{"$f":"Timesheet!AI232","v":0},{"$f":"Timesheet!V232","v":0},{"$f":"Timesheet!K232","v":"00:00:00"},{"$f":"Timesheet!B232","v":0}]
[{"$f":"Timesheet!C233","v":0},{"$f":"Timesheet!AI233","v":0},{"$f":"Timesheet!V233","v":0},{"$f":"Timesheet!K233","v":"00:00:00"},{"$f":"Timesheet!B233","v":0}]
[{"$f":"Timesheet!C234","v":0},{"$f":"Timesheet!AI234","v":0},{"$f":"Timesheet!V234","v":0},{"$f":"Timesheet!K234","v":"00:00:00"},{"$f":"Timesheet!B234","v":0}]
[{"$f":"Timesheet!C235","v":0},{"$f":"Timesheet!AI235","v":0},{"$f":"Timesheet!V235","v":0},{"$f":"Timesheet!K235","v":"00:00:00"},{"$f":"Timesheet!B235","v":0}]
[{"$f":"Timesheet!C236","v":0},{"$f":"Timesheet!AI236","v":0},{"$f":"Timesheet!V236","v":0},{"$f":"Timesheet!K236","v":"00:00:00"},{"$f":"Timesheet!B236","v":0}]
[{"$f":"Timesheet!C237","v":0},{"$f":"Timesheet!AI237","v":0},{"$f":"Timesheet!V237","v":0},{"$f":"Timesheet!K237","v":"00:00:00"},{"$f":"Timesheet!B237","v":0}]
[{"$f":"Timesheet!C238","v":0},{"$f":"Timesheet!AI238","v":0},{"$f":"Timesheet!V238","v":0},{"$f":"Timesheet!K238","v":"00:00:00"},{"$f":"Timesheet!B238","v":0}]
[{"$f":"Timesheet!C239","v":0},{"$f":"Timesheet!AI239","v":0},{"$f":"Timesheet!V239","v":0},{"$f":"Timesheet!K239","v":"00:00:00"},{"$f":"Timesheet!B239","v":0}]
[{"$f":"Timesheet!C240","v":0},{"$f":"Timesheet!AI240","v":0},{"$f":"Timesheet!V240","v":0},{"$f":"Timesheet!K240","v":"00:00:00"},{"$f":"Timesheet!B240","v":0}]
[{"$f":"Timesheet!C241","v":0},{"$f":"Timesheet!AI241","v":0},{"$f":"Timesheet!V241","v":0},{"$f":"Timesheet!K241","v":"00:00:00"},{"$f":"Timesheet!B241","v":0}]
[{"$f":"Timesheet!C242","v":0},{"$f":"Timesheet!AI242","v":0},{"$f":"Timesheet!V242","v":0},{"$f":"Timesheet!K242","v":"00:00:00"},{"$f":"Timesheet!B242","v":0}]
[{"$f":"Timesheet!C243","v":0},{"$f":"Timesheet!AI243","v":0},{"$f":"Timesheet!V243","v":0},{"$f":"Timesheet!K243","v":"00:00:00"},{"$f":"Timesheet!B243","v":0}]
[{"$f":"Timesheet!C244","v":0},{"$f":"Timesheet!AI244","v":0},{"$f":"Timesheet!V244","v":0},{"$f":"Timesheet!K244","v":"00:00:00"},{"$f":"Timesheet!B244","v":0}]
[{"$f":"Timesheet!C245","v":0},{"$f":"Timesheet!AI245","v":0},{"$f":"Timesheet!V245","v":0},{"$f":"Timesheet!K245","v":"00:00:00"},{"$f":"Timesheet!B245","v":0}]
[{"$f":"Timesheet!C246","v":0},{"$f":"Timesheet!AI246","v":0},{"$f":"Timesheet!V246","v":0},{"$f":"Timesheet!K246","v":"00:00:00"},{"$f":"Timesheet!B246","v":0}]
[{"$f":"Timesheet!C247","v":0},{"$f":"Timesheet!AI247","v":0},{"$f":"Timesheet!V247","v":0},{"$f":"Timesheet!K247","v":"00:00:00"},{"$f":"Timesheet!B247","v":0}]
[{"$f":"Timesheet!C248","v":0},{"$f":"Timesheet!AI248","v":0},{"$f":"Timesheet!V248","v":0},{"$f":"Timesheet!K248","v":"00:00:00"},{"$f":"Timesheet!B248","v":0}]
[{"$f":"Timesheet!C249","v":0},{"$f":"Timesheet!AI249","v":0},{"$f":"Timesheet!V249","v":0},{"$f":"Timesheet!K249","v":"00:00:00"},{"$f":"Timesheet!B249","v":0}]
[{"$f":"Timesheet!C250","v":0},{"$f":"Timesheet!AI250","v":0},{"$f":"Timesheet!V250","v":0},{"$f":"Timesheet!K250","v":"00:00:00"},{"$f":"Timesheet!B250","v":0}]
[{"$f":"Timesheet!C251","v":0},{"$f":"Timesheet!AI251","v":0},{"$f":"Timesheet!V251","v":0},{"$f":"Timesheet!K251","v":"00:00:00"},{"$f":"Timesheet!B251","v":0}]
[{"$f":"Timesheet!C252","v":0},{"$f":"Timesheet!AI252","v":0},{"$f":"Timesheet!V252","v":0},{"$f":"Timesheet!K252","v":"00:00:00"},{"$f":"Timesheet!B252","v":0}]
[{"$f":"Timesheet!C253","v":0},{"$f":"Timesheet!AI253","v":0},{"$f":"Timesheet!V253","v":0},{"$f":"Timesheet!K253","v":"00:00:00"},{"$f":"Timesheet!B253","v":0}]
[{"$f":"Timesheet!C254","v":0},{"$f":"Timesheet!AI254","v":0},{"$f":"Timesheet!V254","v":0},{"$f":"Timesheet!K254","v":"00:00:00"},{"$f":"Timesheet!B254","v":0}]
[{"$f":"Timesheet!C255","v":0},{"$f":"Timesheet!AI255","v":0},{"$f":"Timesheet!V255","v":0},{"$f":"Timesheet!K255","v":"00:00:00"},{"$f":"Timesheet!B255","v":0}]
[{"$f":"Timesheet!C256","v":0},{"$f":"Timesheet!AI256","v":0},{"$f":"Timesheet!V256","v":0},{"$f":"Timesheet!K256","v":"00:00:00"},{"$f":"Timesheet!B256","v":0}]
[{"$f":"Timesheet!C257","v":0},{"$f":"Timesheet!AI257","v":0},{"$f":"Timesheet!V257","v":0},{"$f":"Timesheet!K257","v":"00:00:00"},{"$f":"Timesheet!B257","v":0}]
[{"$f":"Timesheet!C258","v":0},{"$f":"Timesheet!AI258","v":0},{"$f":"Timesheet!V258","v":0},{"$f":"Timesheet!K258","v":"00:00:00"},{"$f":"Timesheet!B258","v":0}]
[{"$f":"Timesheet!C259","v":0},{"$f":"Timesheet!AI259","v":0},{"$f":"Timesheet!V259","v":0},{"$f":"Timesheet!K259","v":"00:00:00"},{"$f":"Timesheet!B259","v":0}]
[{"$f":"Timesheet!C260","v":0},{"$f":"Timesheet!AI260","v":0},{"$f":"Timesheet!V260","v":0},{"$f":"Timesheet!K260","v":"00:00:00"},{"$f":"Timesheet!B260","v":0}]
[{"$f":"Timesheet!C261","v":0},{"$f":"Timesheet!AI261","v":0},{"$f":"Timesheet!V261","v":0},{"$f":"Timesheet!K261","v":"00:00:00"},{"$f":"Timesheet!B261","v":0}]
[{"$f":"Timesheet!C262","v":0},{"$f":"Timesheet!AI262","v":0},{"$f":"Timesheet!V262","v":0},{"$f":"Timesheet!K262","v":"00:00:00"},{"$f":"Timesheet!B262","v":0}]
[{"$f":"Timesheet!C263","v":0},{"$f":"Timesheet!AI263","v":0},{"$f":"Timesheet!V263","v":0},{"$f":"Timesheet!K263","v":"00:00:00"},{"$f":"Timesheet!B263","v":0}]
[{"$f":"Timesheet!C264","v":0},{"$f":"Timesheet!AI264","v":0},{"$f":"Timesheet!V264","v":0},{"$f":"Timesheet!K264","v":"00:00:00"},{"$f":"Timesheet!B264","v":0}]
[{"$f":"Timesheet!C265","v":0},{"$f":"Timesheet!AI265","v":0},{"$f":"Timesheet!V265","v":0},{"$f":"Timesheet!K265","v":"00:00:00"},{"$f":"Timesheet!B265","v":0}]
[{"$f":"Timesheet!C266","v":0},{"$f":"Timesheet!AI266","v":0},{"$f":"Timesheet!V266","v":0},{"$f":"Timesheet!K266","v":"00:00:00"},{"$f":"Timesheet!B266","v":0}]
[{"$f":"Timesheet!C267","v":0},{"$f":"Timesheet!AI267","v":0},{"$f":"Timesheet!V267","v":0},{"$f":"Timesheet!K267","v":"00:00:00"},{"$f":"Timesheet!B267","v":0}]
[{"$f":"Timesheet!C268","v":0},{"$f":"Timesheet!AI268","v":0},{"$f":"Timesheet!V268","v":0},{"$f":"Timesheet!K268","v":"00:00:00"},{"$f":"Timesheet!B268","v":0}]
[{"$f":"Timesheet!C269","v":0},{"$f":"Timesheet!AI269","v":0},{"$f":"Timesheet!V269","v":0},{"$f":"Timesheet!K269","v":"00:00:00"},{"$f":"Timesheet!B269","v":0}]
[{"$f":"Timesheet!C270","v":0},{"$f":"Timesheet!AI270","v":0},{"$f":"Timesheet!V270","v":0},{"$f":"Timesheet!K270","v":"00:00:00"},{"$f":"Timesheet!B270","v":0}]
[{"$f":"Timesheet!C271","v":0},{"$f":"Timesheet!AI271","v":0},{"$f":"Timesheet!V271","v":0},{"$f":"Timesheet!K271","v":"00:00:00"},{"$f":"Timesheet!B271","v":0}]
[{"$f":"Timesheet!C272","v":0},{"$f":"Timesheet!AI272","v":0},{"$f":"Timesheet!V272","v":0},{"$f":"Timesheet!K272","v":"00:00:00"},{"$f":"Timesheet!B272","v":0}]
[{"$f":"Timesheet!C273","v":0},{"$f":"Timesheet!AI273","v":0},{"$f":"Timesheet!V273","v":0},{"$f":"Timesheet!K273","v":"00:00:00"},{"$f":"Timesheet!B273","v":0}]
[{"$f":"Timesheet!C274","v":0},{"$f":"Timesheet!AI274","v":0},{"$f":"Timesheet!V274","v":0},{"$f":"Timesheet!K274","v":"00:00:00"},{"$f":"Timesheet!B274","v":0}]
[{"$f":"Timesheet!C275","v":0},{"$f":"Timesheet!AI275","v":0},{"$f":"Timesheet!V275","v":0},{"$f":"Timesheet!K275","v":"00:00:00"},{"$f":"Timesheet!B275","v":0}]
[{"$f":"Timesheet!C276","v":0},{"$f":"Timesheet!AI276","v":0},{"$f":"Timesheet!V276","v":0},{"$f":"Timesheet!K276","v":"00:00:00"},{"$f":"Timesheet!B276","v":0}]
[{"$f":"Timesheet!C277","v":0},{"$f":"Timesheet!AI277","v":0},{"$f":"Timesheet!V277","v":0},{"$f":"Timesheet!K277","v":"00:00:00"},{"$f":"Timesheet!B277","v":0}]
[{"$f":"Timesheet!C278","v":0},{"$f":"Timesheet!AI278","v":0},{"$f":"Timesheet!V278","v":0},{"$f":"Timesheet!K278","v":"00:00:00"},{"$f":"Timesheet!B278","v":0}]
[{"$f":"Timesheet!C279","v":0},{"$f":"Timesheet!AI279","v":0},{"$f":"Timesheet!V279","v":0},{"$f":"Timesheet!K279","v":"00:00:00"},{"$f":"Timesheet!B279","v":0}]
[{"$f":"Timesheet!C280","v":0},{"$f":"Timesheet!AI280","v":0},{"$f":"Timesheet!V280","v":0},{"$f":"Timesheet!K280","v":"00:00:00"},{"$f":"Timesheet!B280","v":0}]
[{"$f":"Timesheet!C281","v":0},{"$f":"Timesheet!AI281","v":0},{"$f":"Timesheet!V281","v":0},{"$f":"Timesheet!K281","v":"00:00:00"},{"$f":"Timesheet!B281","v":0}]
[{"$f":"Timesheet!C282","v":0},{"$f":"Timesheet!AI282","v":0},{"$f":"Timesheet!V282","v":0},{"$f":"Timesheet!K282","v":"00:00:00"},{"$f":"Timesheet!B282","v":0}]
[{"$f":"Timesheet!C283","v":0},{"$f":"Timesheet!AI283","v":0},{"$f":"Timesheet!V283","v":0},{"$f":"Timesheet!K283","v":"00:00:00"},{"$f":"Timesheet!B283","v":0}]
[{"$f":"Timesheet!C284","v":0},{"$f":"Timesheet!AI284","v":0},{"$f":"Timesheet!V284","v":0},{"$f":"Timesheet!K284","v":"00:00:00"},{"$f":"Timesheet!B284","v":0}]
[{"$f":"Timesheet!C285","v":0},{"$f":"Timesheet!AI285","v":0},{"$f":"Timesheet!V285","v":0},{"$f":"Timesheet!K285","v":"00:00:00"},{"$f":"Timesheet!B285","v":0}]
[{"$f":"Timesheet!C286","v":0},{"$f":"Timesheet!AI286","v":0},{"$f":"Timesheet!V286","v":0},{"$f":"Timesheet!K286","v":"00:00:00"},{"$f":"Timesheet!B286","v":0}]
[{"$f":"Timesheet!C287","v":0},{"$f":"Timesheet!AI287","v":0},{"$f":"Timesheet!V287","v":0},{"$f":"Timesheet!K287","v":"00:00:00"},{"$f":"Timesheet!B287","v":0}]
[{"$f":"Timesheet!C288","v":0},{"$f":"Timesheet!AI288","v":0},{"$f":"Timesheet!V288","v":0},{"$f":"Timesheet!K288","v":"00:00:00"},{"$f":"Timesheet!B288","v":0}]
[{"$f":"Timesheet!C289","v":0},{"$f":"Timesheet!AI289","v":0},{"$f":"Timesheet!V289","v":0},{"$f":"Timesheet!K289","v":"00:00:00"},{"$f":"Timesheet!B289","v":0}]
[{"$f":"Timesheet!C290","v":0},{"$f":"Timesheet!AI290","v":0},{"$f":"Timesheet!V290","v":0},{"$f":"Timesheet!K290","v":"00:00:00"},{"$f":"Timesheet!B290","v":0}]
[{"$f":"Timesheet!C291","v":0},{"$f":"Timesheet!AI291","v":0},{"$f":"Timesheet!V291","v":0},{"$f":"Timesheet!K291","v":"00:00:00"},{"$f":"Timesheet!B291","v":0}]
[{"$f":"Timesheet!C292","v":0},{"$f":"Timesheet!AI292","v":0},{"$f":"Timesheet!V292","v":0},{"$f":"Timesheet!K292","v":"00:00:00"},{"$f":"Timesheet!B292","v":0}]
[{"$f":"Timesheet!C293","v":0},{"$f":"Timesheet!AI293","v":0},{"$f":"Timesheet!V293","v":0},{"$f":"Timesheet!K293","v":"00:00:00"},{"$f":"Timesheet!B293","v":0}]
[{"$f":"Timesheet!C294","v":0},{"$f":"Timesheet!AI294","v":0},{"$f":"Timesheet!V294","v":0},{"$f":"Timesheet!K294","v":"00:00:00"},{"$f":"Timesheet!B294","v":0}]
[{"$f":"Timesheet!C295","v":0},{"$f":"Timesheet!AI295","v":0},{"$f":"Timesheet!V295","v":0},{"$f":"Timesheet!K295","v":"00:00:00"},{"$f":"Timesheet!B295","v":0}]
[{"$f":"Timesheet!C296","v":0},{"$f":"Timesheet!AI296","v":0},{"$f":"Timesheet!V296","v":0},{"$f":"Timesheet!K296","v":"00:00:00"},{"$f":"Timesheet!B296","v":0}]
[{"$f":"Timesheet!C297","v":0},{"$f":"Timesheet!AI297","v":0},{"$f":"Timesheet!V297","v":0},{"$f":"Timesheet!K297","v":"00:00:00"},{"$f":"Timesheet!B297","v":0}]
[{"$f":"Timesheet!C298","v":0},{"$f":"Timesheet!AI298","v":0},{"$f":"Timesheet!V298","v":0},{"$f":"Timesheet!K298","v":"00:00:00"},{"$f":"Timesheet!B298","v":0}]
[{"$f":"Timesheet!C299","v":0},{"$f":"Timesheet!AI299","v":0},{"$f":"Timesheet!V299","v":0},{"$f":"Timesheet!K299","v":"00:00:00"},{"$f":"Timesheet!B299","v":0}]
[{"$f":"Timesheet!C300","v":0},{"$f":"Timesheet!AI300","v":0},{"$f":"Timesheet!V300","v":0},{"$f":"Timesheet!K300","v":"00:00:00"},{"$f":"Timesheet!B300","v":0}]
[{"$f":"Timesheet!C301","v":0},{"$f":"Timesheet!AI301","v":0},{"$f":"Timesheet!V301","v":0},{"$f":"Timesheet!K301","v":"00:00:00"},{"$f":"Timesheet!B301","v":0}]
[{"$f":"Timesheet!C302","v":0},{"$f":"Timesheet!AI302","v":0},{"$f":"Timesheet!V302","v":0},{"$f":"Timesheet!K302","v":"00:00:00"},{"$f":"Timesheet!B302","v":0}]
[{"$f":"Timesheet!C3","v":44789},{"$f":"Timesheet!AJ3","v":0},{"$f":"Timesheet!X3","v":0},{"$f":"Timesheet!K3","v":"00:00:00"},{"$f":"Timesheet!B3","v":"E33036"}]
[{"$f":"Timesheet!C4","v":39452},{"$f":"Timesheet!AJ4","v":0},{"$f":"Timesheet!X4","v":0},{"$f":"Timesheet!K4","v":"00:00:00"},{"$f":"Timesheet!B4","v":"E33036"}]
[{"$f":"Timesheet!C5","v":51119},{"$f":"Timesheet!AJ5","v":0},{"$f":"Timesheet!X5","v":0},{"$f":"Timesheet!K5","v":"00:00:00"},{"$f":"Timesheet!B5","v":"E33036"}]
[{"$f":"Timesheet!C6","v":20999},{"$f":"Timesheet!AJ6","v":0},{"$f":"Timesheet!X6","v":0},{"$f":"Timesheet!K6","v":"00:00:00"},{"$f":"Timesheet!B6","v":"E33036"}]
[{"$f":"Timesheet!C7","v":50140},{"$f":"Timesheet!AJ7","v":0},{"$f":"Timesheet!X7","v":0},{"$f":"Timesheet!K7","v":"00:00:00"},{"$f":"Timesheet!B7","v":"E33036"}]
[{"$f":"Timesheet!C8","v":41120},{"$f":"Timesheet!AJ8","v":0},{"$f":"Timesheet!X8","v":0},{"$f":"Timesheet!K8","v":"00:00:00"},{"$f":"Timesheet!B8","v":"E33036"}]
[{"$f":"Timesheet!C9","v":14019220},{"$f":"Timesheet!AJ9","v":0},{"$f":"Timesheet!X9","v":0},{"$f":"Timesheet!K9","v":"00:00:00"},{"$f":"Timesheet!B9","v":"E33036"}]
[{"$f":"Timesheet!C10","v":33161},{"$f":"Timesheet!AJ10","v":0},{"$f":"Timesheet!X10","v":0},{"$f":"Timesheet!K10","v":"00:00:00"},{"$f":"Timesheet!B10","v":"E33036"}]
[{"$f":"Timesheet!C11","v":44988},{"$f":"Timesheet!AJ11","v":0},{"$f":"Timesheet!X11","v":0},{"$f":"Timesheet!K11","v":"00:00:00"},{"$f":"Timesheet!B11","v":"E33036"}]
[{"$f":"Timesheet!C12","v":19061},{"$f":"Timesheet!AJ12","v":0},{"$f":"Timesheet!X12","v":0},{"$f":"Timesheet!K12","v":"00:00:00"},{"$f":"Timesheet!B12","v":"E33036"}]
[{"$f":"Timesheet!C13","v":42125},{"$f":"Timesheet!AJ13","v":0},{"$f":"Timesheet!X13","v":0},{"$f":"Timesheet!K13","v":"00:00:00"},{"$f":"Timesheet!B13","v":"E33036"}]
[{"$f":"Timesheet!C14","v":35616},{"$f":"Timesheet!AJ14","v":0},{"$f":"Timesheet!X14","v":0},{"$f":"Timesheet!K14","v":"00:00:00"},{"$f":"Timesheet!B14","v":"E33036"}]
[{"$f":"Timesheet!C15","v":11630},{"$f":"Timesheet!AJ15","v":0},{"$f":"Timesheet!X15","v":0},{"$f":"Timesheet!K15","v":"00:00:00"},{"$f":"Timesheet!B15","v":"E33036"}]
[{"$f":"Timesheet!C16","v":33804},{"$f":"Timesheet!AJ16","v":0},{"$f":"Timesheet!X16","v":0},{"$f":"Timesheet!K16","v":"00:00:00"},{"$f":"Timesheet!B16","v":"E33036"}]
[{"$f":"Timesheet!C17","v":11681},{"$f":"Timesheet!AJ17","v":0},{"$f":"Timesheet!X17","v":0},{"$f":"Timesheet!K17","v":"00:00:00"},{"$f":"Timesheet!B17","v":"E33036"}]
[{"$f":"Timesheet!C18","v":51311},{"$f":"Timesheet!AJ18","v":0},{"$f":"Timesheet!X18","v":0},{"$f":"Timesheet!K18","v":"00:00:00"},{"$f":"Timesheet!B18","v":"E33036"}]
[{"$f":"Timesheet!C19","v":19209},{"$f":"Timesheet!AJ19","v":0},{"$f":"Timesheet!X19","v":0},{"$f":"Timesheet!K19","v":"00:00:00"},{"$f":"Timesheet!B19","v":"E33036"}]
[{"$f":"Timesheet!C20","v":40516},{"$f":"Timesheet!AJ20","v":0},{"$f":"Timesheet!X20","v":0},{"$f":"Timesheet!K20","v":"00:00:00"},{"$f":"Timesheet!B20","v":"E33036"}]
[{"$f":"Timesheet!C21","v":42806},{"$f":"Timesheet!AJ21","v":0},{"$f":"Timesheet!X21","v":0},{"$f":"Timesheet!K21","v":"00:00:00"},{"$f":"Timesheet!B21","v":"E33036"}]
[{"$f":"Timesheet!C22","v":47495},{"$f":"Timesheet!AJ22","v":0},{"$f":"Timesheet!X22","v":0},{"$f":"Timesheet!K22","v":"00:00:00"},{"$f":"Timesheet!B22","v":"E33036"}]
[{"$f":"Timesheet!C23","v":38391},{"$f":"Timesheet!AJ23","v":0},{"$f":"Timesheet!X23","v":0},{"$f":"Timesheet!K23","v":"00:00:00"},{"$f":"Timesheet!B23","v":"E33036"}]
[{"$f":"Timesheet!C24","v":28706},{"$f":"Timesheet!AJ24","v":0},{"$f":"Timesheet!X24","v":0},{"$f":"Timesheet!K24","v":"00:00:00"},{"$f":"Timesheet!B24","v":"E33036"}]
[{"$f":"Timesheet!C25","v":44672},{"$f":"Timesheet!AJ25","v":0},{"$f":"Timesheet!X25","v":0},{"$f":"Timesheet!K25","v":"00:00:00"},{"$f":"Timesheet!B25","v":"E33036"}]
[{"$f":"Timesheet!C26","v":14289262},{"$f":"Timesheet!AJ26","v":0},{"$f":"Timesheet!X26","v":0},{"$f":"Timesheet!K26","v":"00:00:00"},{"$f":"Timesheet!B26","v":"E33036"}]
[{"$f":"Timesheet!C27","v":18068},{"$f":"Timesheet!AJ27","v":0},{"$f":"Timesheet!X27","v":0},{"$f":"Timesheet!K27","v":"00:00:00"},{"$f":"Timesheet!B27","v":"E33036"}]
[{"$f":"Timesheet!C28","v":13209997},{"$f":"Timesheet!AJ28","v":0},{"$f":"Timesheet!X28","v":0},{"$f":"Timesheet!K28","v":"00:00:00"},{"$f":"Timesheet!B28","v":"E33036"}]
[{"$f":"Timesheet!C29","v":59},{"$f":"Timesheet!AJ29","v":0},{"$f":"Timesheet!X29","v":0},{"$f":"Timesheet!K29","v":"00:00:00"},{"$f":"Timesheet!B29","v":"E33036"}]
[{"$f":"Timesheet!C30","v":29923},{"$f":"Timesheet!AJ30","v":0},{"$f":"Timesheet!X30","v":0},{"$f":"Timesheet!K30","v":"00:00:00"},{"$f":"Timesheet!B30","v":"E33036"}]
[{"$f":"Timesheet!C31","v":21790},{"$f":"Timesheet!AJ31","v":0},{"$f":"Timesheet!X31","v":0},{"$f":"Timesheet!K31","v":"00:00:00"},{"$f":"Timesheet!B31","v":"E33036"}]
[{"$f":"Timesheet!C32","v":13016632},{"$f":"Timesheet!AJ32","v":0},{"$f":"Timesheet!X32","v":0},{"$f":"Timesheet!K32","v":"00:00:00"},{"$f":"Timesheet!B32","v":"E33036"}]
[{"$f":"Timesheet!C33","v":13616632},{"$f":"Timesheet!AJ33","v":0},{"$f":"Timesheet!X33","v":0},{"$f":"Timesheet!K33","v":"00:00:00"},{"$f":"Timesheet!B33","v":"E33036"}]
[{"$f":"Timesheet!C34","v":40046},{"$f":"Timesheet!AJ34","v":0},{"$f":"Timesheet!X34","v":0},{"$f":"Timesheet!K34","v":"00:00:00"},{"$f":"Timesheet!B34","v":"E33036"}]
[{"$f":"Timesheet!C35","v":18140},{"$f":"Timesheet!AJ35","v":0},{"$f":"Timesheet!X35","v":0},{"$f":"Timesheet!K35","v":"00:00:00"},{"$f":"Timesheet!B35","v":"E33036"}]
[{"$f":"Timesheet!C36","v":9922},{"$f":"Timesheet!AJ36","v":0},{"$f":"Timesheet!X36","v":0},{"$f":"Timesheet!K36","v":"00:00:00"},{"$f":"Timesheet!B36","v":"E33036"}]
[{"$f":"Timesheet!C37","v":34724},{"$f":"Timesheet!AJ37","v":0},{"$f":"Timesheet!X37","v":0},{"$f":"Timesheet!K37","v":"00:00:00"},{"$f":"Timesheet!B37","v":"E33036"}]
[{"$f":"Timesheet!C38","v":20933},{"$f":"Timesheet!AJ38","v":0},{"$f":"Timesheet!X38","v":0},{"$f":"Timesheet!K38","v":"00:00:00"},{"$f":"Timesheet!B38","v":"E33036"}]
[{"$f":"Timesheet!C39","v":36025},{"$f":"Timesheet!AJ39","v":0},{"$f":"Timesheet!X39","v":0},{"$f":"Timesheet!K39","v":"00:00:00"},{"$f":"Timesheet!B39","v":"E33036"}]
[{"$f":"Timesheet!C40","v":41681},{"$f":"Timesheet!AJ40","v":0},{"$f":"Timesheet!X40","v":0},{"$f":"Timesheet!K40","v":"00:00:00"},{"$f":"Timesheet!B40","v":"E33036"}]
[{"$f":"Timesheet!C41","v":42644},{"$f":"Timesheet!AJ41","v":0},{"$f":"Timesheet!X41","v":0},{"$f":"Timesheet!K41","v":"00:00:00"},{"$f":"Timesheet!B41","v":"E33036"}]
[{"$f":"Timesheet!C42","v":49476},{"$f":"Timesheet!AJ42","v":0},{"$f":"Timesheet!X42","v":0},{"$f":"Timesheet!K42","v":"00:00:00"},{"$f":"Timesheet!B42","v":"E33036"}]
[{"$f":"Timesheet!C43","v":50978},{"$f":"Timesheet!AJ43","v":0},{"$f":"Timesheet!X43","v":0},{"$f":"Timesheet!K43","v":"00:00:00"},{"$f":"Timesheet!B43","v":"E33036"}]
[{"$f":"Timesheet!C44","v":41705},{"$f":"Timesheet!AJ44","v":0},{"$f":"Timesheet!X44","v":0},{"$f":"Timesheet!K44","v":"00:00:00"},{"$f":"Timesheet!B44","v":"E33036"}]
[{"$f":"Timesheet!C45","v":47311},{"$f":"Timesheet!AJ45","v":0},{"$f":"Timesheet!X45","v":0},{"$f":"Timesheet!K45","v":"00:00:00"},{"$f":"Timesheet!B45","v":"E33036"}]
[{"$f":"Timesheet!C46","v":36728},{"$f":"Timesheet!AJ46","v":0},{"$f":"Timesheet!X46","v":0},{"$f":"Timesheet!K46","v":"00:00:00"},{"$f":"Timesheet!B46","v":"E33036"}]
[{"$f":"Timesheet!C47","v":51863},{"$f":"Timesheet!AJ47","v":0},{"$f":"Timesheet!X47","v":0},{"$f":"Timesheet!K47","v":"19.10.2023"},{"$f":"Timesheet!B47","v":"E33036"}]
[{"$f":"Timesheet!C48","v":46769},{"$f":"Timesheet!AJ48","v":0},{"$f":"Timesheet!X48","v":0},{"$f":"Timesheet!K48","v":"00:00:00"},{"$f":"Timesheet!B48","v":"E33036"}]
[{"$f":"Timesheet!C49","v":16845},{"$f":"Timesheet!AJ49","v":0},{"$f":"Timesheet!X49","v":0},{"$f":"Timesheet!K49","v":"00:00:00"},{"$f":"Timesheet!B49","v":"E33036"}]
[{"$f":"Timesheet!C50","v":33960},{"$f":"Timesheet!AJ50","v":0},{"$f":"Timesheet!X50","v":0},{"$f":"Timesheet!K50","v":"00:00:00"},{"$f":"Timesheet!B50","v":"E33036"}]
[{"$f":"Timesheet!C51","v":9019},{"$f":"Timesheet!AJ51","v":0},{"$f":"Timesheet!X51","v":0},{"$f":"Timesheet!K51","v":"00:00:00"},{"$f":"Timesheet!B51","v":"E33036"}]
[{"$f":"Timesheet!C52","v":20207},{"$f":"Timesheet!AJ52","v":0},{"$f":"Timesheet!X52","v":0},{"$f":"Timesheet!K52","v":"00:00:00"},{"$f":"Timesheet!B52","v":"E33036"}]
[{"$f":"Timesheet!C53","v":46771},{"$f":"Timesheet!AJ53","v":0},{"$f":"Timesheet!X53","v":0},{"$f":"Timesheet!K53","v":"00:00:00"},{"$f":"Timesheet!B53","v":"E33036"}]
[{"$f":"Timesheet!C54","v":14387314},{"$f":"Timesheet!AJ54","v":0},{"$f":"Timesheet!X54","v":0},{"$f":"Timesheet!K54","v":"00:00:00"},{"$f":"Timesheet!B54","v":"E33036"}]
[{"$f":"Timesheet!C55","v":38898},{"$f":"Timesheet!AJ55","v":0},{"$f":"Timesheet!X55","v":0},{"$f":"Timesheet!K55","v":"00:00:00"},{"$f":"Timesheet!B55","v":"E33036"}]
[{"$f":"Timesheet!C56","v":14016208},{"$f":"Timesheet!AJ56","v":0},{"$f":"Timesheet!X56","v":0},{"$f":"Timesheet!K56","v":"00:00:00"},{"$f":"Timesheet!B56","v":"E33036"}]
[{"$f":"Timesheet!C57","v":38962},{"$f":"Timesheet!AJ57","v":0},{"$f":"Timesheet!X57","v":0},{"$f":"Timesheet!K57","v":"00:00:00"},{"$f":"Timesheet!B57","v":"E33036"}]
[{"$f":"Timesheet!C58","v":39361},{"$f":"Timesheet!AJ58","v":0},{"$f":"Timesheet!X58","v":0},{"$f":"Timesheet!K58","v":"00:00:00"},{"$f":"Timesheet!B58","v":"E33036"}]
[{"$f":"Timesheet!C59","v":37015},{"$f":"Timesheet!AJ59","v":0},{"$f":"Timesheet!X59","v":0},{"$f":"Timesheet!K59","v":"00:00:00"},{"$f":"Timesheet!B59","v":"E33036"}]
[{"$f":"Timesheet!C60","v":29683},{"$f":"Timesheet!AJ60","v":0},{"$f":"Timesheet!X60","v":0},{"$f":"Timesheet!K60","v":"00:00:00"},{"$f":"Timesheet!B60","v":"E33036"}]
[{"$f":"Timesheet!C61","v":23115},{"$f":"Timesheet!AJ61","v":0},{"$f":"Timesheet!X61","v":0},{"$f":"Timesheet!K61","v":"00:00:00"},{"$f":"Timesheet!B61","v":"E33036"}]
[{"$f":"Timesheet!C62","v":14037690},{"$f":"Timesheet!AJ62","v":0},{"$f":"Timesheet!X62","v":0},{"$f":"Timesheet!K62","v":"00:00:00"},{"$f":"Timesheet!B62","v":"E33036"}]
[{"$f":"Timesheet!C63","v":12174},{"$f":"Timesheet!AJ63","v":0},{"$f":"Timesheet!X63","v":0},{"$f":"Timesheet!K63","v":"00:00:00"},{"$f":"Timesheet!B63","v":"E33036"}]
[{"$f":"Timesheet!C64","v":13009},{"$f":"Timesheet!AJ64","v":0},{"$f":"Timesheet!X64","v":0},{"$f":"Timesheet!K64","v":"00:00:00"},{"$f":"Timesheet!B64","v":"E33036"}]
[{"$f":"Timesheet!C65","v":51874},{"$f":"Timesheet!AJ65","v":0},{"$f":"Timesheet!X65","v":0},{"$f":"Timesheet!K65","v":"00:00:00"},{"$f":"Timesheet!B65","v":"E33036"}]
[{"$f":"Timesheet!C66","v":45964},{"$f":"Timesheet!AJ66","v":0},{"$f":"Timesheet!X66","v":0},{"$f":"Timesheet!K66","v":"00:00:00"},{"$f":"Timesheet!B66","v":"E33036"}]
[{"$f":"Timesheet!C67","v":54194},{"$f":"Timesheet!AJ67","v":0},{"$f":"Timesheet!X67","v":0},{"$f":"Timesheet!K67","v":"00:00:00"},{"$f":"Timesheet!B67","v":"E33036"}]
[{"$f":"Timesheet!C68","v":14299640},{"$f":"Timesheet!AJ68","v":0},{"$f":"Timesheet!X68","v":0},{"$f":"Timesheet!K68","v":"00:00:00"},{"$f":"Timesheet!B68","v":"E33036"}]
[{"$f":"Timesheet!C69","v":28604},{"$f":"Timesheet!AJ69","v":0},{"$f":"Timesheet!X69","v":0},{"$f":"Timesheet!K69","v":"00:00:00"},{"$f":"Timesheet!B69","v":"E33036"}]
[{"$f":"Timesheet!C70","v":28602},{"$f":"Timesheet!AJ70","v":0},{"$f":"Timesheet!X70","v":0},{"$f":"Timesheet!K70","v":"00:00:00"},{"$f":"Timesheet!B70","v":"E33036"}]
[{"$f":"Timesheet!C71","v":28989},{"$f":"Timesheet!AJ71","v":0},{"$f":"Timesheet!X71","v":0},{"$f":"Timesheet!K71","v":"00:00:00"},{"$f":"Timesheet!B71","v":"E33036"}]
[{"$f":"Timesheet!C72","v":28779},{"$f":"Timesheet!AJ72","v":0},{"$f":"Timesheet!X72","v":0},{"$f":"Timesheet!K72","v":"00:00:00"},{"$f":"Timesheet!B72","v":"E33036"}]
[{"$f":"Timesheet!C73","v":20013},{"$f":"Timesheet!AJ73","v":0},{"$f":"Timesheet!X73","v":0},{"$f":"Timesheet!K73","v":"00:00:00"},{"$f":"Timesheet!B73","v":"E33036"}]
[{"$f":"Timesheet!C74","v":0},{"$f":"Timesheet!AJ74","v":0},{"$f":"Timesheet!X74","v":0},{"$f":"Timesheet!K74","v":"00:00:00"},{"$f":"Timesheet!B74","v":0}]
[{"$f":"Timesheet!C75","v":0},{"$f":"Timesheet!AJ75","v":0},{"$f":"Timesheet!X75","v":0},{"$f":"Timesheet!K75","v":"00:00:00"},{"$f":"Timesheet!B75","v":0}]
[{"$f":"Timesheet!C76","v":0},{"$f":"Timesheet!AJ76","v":0},{"$f":"Timesheet!X76","v":0},{"$f":"Timesheet!K76","v":"00:00:00"},{"$f":"Timesheet!B76","v":0}]
[{"$f":"Timesheet!C77","v":0},{"$f":"Timesheet!AJ77","v":0},{"$f":"Timesheet!X77","v":0},{"$f":"Timesheet!K77","v":"00:00:00"},{"$f":"Timesheet!B77","v":0}]
[{"$f":"Timesheet!C78","v":0},{"$f":"Timesheet!AJ78","v":0},{"$f":"Timesheet!X78","v":0},{"$f":"Timesheet!K78","v":"00:00:00"},{"$f":"Timesheet!B78","v":0}]
[{"$f":"Timesheet!C79","v":0},{"$f":"Timesheet!AJ79","v":0},{"$f":"Timesheet!X79","v":0},{"$f":"Timesheet!K79","v":"00:00:00"},{"$f":"Timesheet!B79","v":0}]
[{"$f":"Timesheet!C80","v":0},{"$f":"Timesheet!AJ80","v":0},{"$f":"Timesheet!X80","v":0},{"$f":"Timesheet!K80","v":"00:00:00"},{"$f":"Timesheet!B80","v":0}]
[{"$f":"Timesheet!C81","v":0},{"$f":"Timesheet!AJ81","v":0},{"$f":"Timesheet!X81","v":0},{"$f":"Timesheet!K81","v":"00:00:00"},{"$f":"Timesheet!B81","v":0}]
[{"$f":"Timesheet!C82","v":0},{"$f":"Timesheet!AJ82","v":0},{"$f":"Timesheet!X82","v":0},{"$f":"Timesheet!K82","v":"00:00:00"},{"$f":"Timesheet!B82","v":0}]
[{"$f":"Timesheet!C83","v":0},{"$f":"Timesheet!AJ83","v":0},{"$f":"Timesheet!X83","v":0},{"$f":"Timesheet!K83","v":"00:00:00"},{"$f":"Timesheet!B83","v":0}]
[{"$f":"Timesheet!C84","v":0},{"$f":"Timesheet!AJ84","v":0},{"$f":"Timesheet!X84","v":0},{"$f":"Timesheet!K84","v":"00:00:00"},{"$f":"Timesheet!B84","v":0}]
[{"$f":"Timesheet!C85","v":0},{"$f":"Timesheet!AJ85","v":0},{"$f":"Timesheet!X85","v":0},{"$f":"Timesheet!K85","v":"00:00:00"},{"$f":"Timesheet!B85","v":0}]
[{"$f":"Timesheet!C86","v":0},{"$f":"Timesheet!AJ86","v":0},{"$f":"Timesheet!X86","v":0},{"$f":"Timesheet!K86","v":"00:00:00"},{"$f":"Timesheet!B86","v":0}]
[{"$f":"Timesheet!C87","v":0},{"$f":"Timesheet!AJ87","v":0},{"$f":"Timesheet!X87","v":0},{"$f":"Timesheet!K87","v":"00:00:00"},{"$f":"Timesheet!B87","v":0}]
[{"$f":"Timesheet!C88","v":0},{"$f":"Timesheet!AJ88","v":0},{"$f":"Timesheet!X88","v":0},{"$f":"Timesheet!K88","v":"00:00:00"},{"$f":"Timesheet!B88","v":0}]
[{"$f":"Timesheet!C89","v":0},{"$f":"Timesheet!AJ89","v":0},{"$f":"Timesheet!X89","v":0},{"$f":"Timesheet!K89","v":"00:00:00"},{"$f":"Timesheet!B89","v":0}]
[{"$f":"Timesheet!C90","v":0},{"$f":"Timesheet!AJ90","v":0},{"$f":"Timesheet!X90","v":0},{"$f":"Timesheet!K90","v":"00:00:00"},{"$f":"Timesheet!B90","v":0}]
[{"$f":"Timesheet!C91","v":0},{"$f":"Timesheet!AJ91","v":0},{"$f":"Timesheet!X91","v":0},{"$f":"Timesheet!K91","v":"00:00:00"},{"$f":"Timesheet!B91","v":0}]
[{"$f":"Timesheet!C92","v":0},{"$f":"Timesheet!AJ92","v":0},{"$f":"Timesheet!X92","v":0},{"$f":"Timesheet!K92","v":"00:00:00"},{"$f":"Timesheet!B92","v":0}]
[{"$f":"Timesheet!C93","v":0},{"$f":"Timesheet!AJ93","v":0},{"$f":"Timesheet!X93","v":0},{"$f":"Timesheet!K93","v":"00:00:00"},{"$f":"Timesheet!B93","v":0}]
[{"$f":"Timesheet!C94","v":0},{"$f":"Timesheet!AJ94","v":0},{"$f":"Timesheet!X94","v":0},{"$f":"Timesheet!K94","v":"00:00:00"},{"$f":"Timesheet!B94","v":0}]
[{"$f":"Timesheet!C95","v":0},{"$f":"Timesheet!AJ95","v":0},{"$f":"Timesheet!X95","v":0},{"$f":"Timesheet!K95","v":"00:00:00"},{"$f":"Timesheet!B95","v":0}]
[{"$f":"Timesheet!C96","v":0},{"$f":"Timesheet!AJ96","v":0},{"$f":"Timesheet!X96","v":0},{"$f":"Timesheet!K96","v":"00:00:00"},{"$f":"Timesheet!B96","v":0}]
[{"$f":"Timesheet!C97","v":0},{"$f":"Timesheet!AJ97","v":0},{"$f":"Timesheet!X97","v":0},{"$f":"Timesheet!K97","v":"00:00:00"},{"$f":"Timesheet!B97","v":0}]
[{"$f":"Timesheet!C98","v":0},{"$f":"Timesheet!AJ98","v":0},{"$f":"Timesheet!X98","v":0},{"$f":"Timesheet!K98","v":"00:00:00"},{"$f":"Timesheet!B98","v":0}]
[{"$f":"Timesheet!C99","v":0},{"$f":"Timesheet!AJ99","v":0},{"$f":"Timesheet!X99","v":0},{"$f":"Timesheet!K99","v":"00:00:00"},{"$f":"Timesheet!B99","v":0}]
[{"$f":"Timesheet!C100","v":0},{"$f":"Timesheet!AJ100","v":0},{"$f":"Timesheet!X100","v":0},{"$f":"Timesheet!K100","v":"00:00:00"},{"$f":"Timesheet!B100","v":0}]
[{"$f":"Timesheet!C101","v":0},{"$f":"Timesheet!AJ101","v":0},{"$f":"Timesheet!X101","v":0},{"$f":"Timesheet!K101","v":"00:00:00"},{"$f":"Timesheet!B101","v":0}]
[{"$f":"Timesheet!C102","v":0},{"$f":"Timesheet!AJ102","v":0},{"$f":"Timesheet!X102","v":0},{"$f":"Timesheet!K102","v":"00:00:00"},{"$f":"Timesheet!B102","v":0}]
[{"$f":"Timesheet!C103","v":0},{"$f":"Timesheet!AJ103","v":0},{"$f":"Timesheet!X103","v":0},{"$f":"Timesheet!K103","v":"00:00:00"},{"$f":"Timesheet!B103","v":0}]
[{"$f":"Timesheet!C104","v":0},{"$f":"Timesheet!AJ104","v":0},{"$f":"Timesheet!X104","v":0},{"$f":"Timesheet!K104","v":"00:00:00"},{"$f":"Timesheet!B104","v":0}]
[{"$f":"Timesheet!C105","v":0},{"$f":"Timesheet!AJ105","v":0},{"$f":"Timesheet!X105","v":0},{"$f":"Timesheet!K105","v":"00:00:00"},{"$f":"Timesheet!B105","v":0}]
[{"$f":"Timesheet!C106","v":0},{"$f":"Timesheet!AJ106","v":0},{"$f":"Timesheet!X106","v":0},{"$f":"Timesheet!K106","v":"00:00:00"},{"$f":"Timesheet!B106","v":0}]
[{"$f":"Timesheet!C107","v":0},{"$f":"Timesheet!AJ107","v":0},{"$f":"Timesheet!X107","v":0},{"$f":"Timesheet!K107","v":"00:00:00"},{"$f":"Timesheet!B107","v":0}]
[{"$f":"Timesheet!C108","v":0},{"$f":"Timesheet!AJ108","v":0},{"$f":"Timesheet!X108","v":0},{"$f":"Timesheet!K108","v":"00:00:00"},{"$f":"Timesheet!B108","v":0}]
[{"$f":"Timesheet!C109","v":0},{"$f":"Timesheet!AJ109","v":0},{"$f":"Timesheet!X109","v":0},{"$f":"Timesheet!K109","v":"00:00:00"},{"$f":"Timesheet!B109","v":0}]
[{"$f":"Timesheet!C110","v":0},{"$f":"Timesheet!AJ110","v":0},{"$f":"Timesheet!X110","v":0},{"$f":"Timesheet!K110","v":"00:00:00"},{"$f":"Timesheet!B110","v":0}]
[{"$f":"Timesheet!C111","v":0},{"$f":"Timesheet!AJ111","v":0},{"$f":"Timesheet!X111","v":0},{"$f":"Timesheet!K111","v":"00:00:00"},{"$f":"Timesheet!B111","v":0}]
[{"$f":"Timesheet!C112","v":0},{"$f":"Timesheet!AJ112","v":0},{"$f":"Timesheet!X112","v":0},{"$f":"Timesheet!K112","v":"00:00:00"},{"$f":"Timesheet!B112","v":0}]
[{"$f":"Timesheet!C113","v":0},{"$f":"Timesheet!AJ113","v":0},{"$f":"Timesheet!X113","v":0},{"$f":"Timesheet!K113","v":"00:00:00"},{"$f":"Timesheet!B113","v":0}]
[{"$f":"Timesheet!C114","v":0},{"$f":"Timesheet!AJ114","v":0},{"$f":"Timesheet!X114","v":0},{"$f":"Timesheet!K114","v":"00:00:00"},{"$f":"Timesheet!B114","v":0}]
[{"$f":"Timesheet!C115","v":0},{"$f":"Timesheet!AJ115","v":0},{"$f":"Timesheet!X115","v":0},{"$f":"Timesheet!K115","v":"00:00:00"},{"$f":"Timesheet!B115","v":0}]
[{"$f":"Timesheet!C116","v":0},{"$f":"Timesheet!AJ116","v":0},{"$f":"Timesheet!X116","v":0},{"$f":"Timesheet!K116","v":"00:00:00"},{"$f":"Timesheet!B116","v":0}]
[{"$f":"Timesheet!C117","v":0},{"$f":"Timesheet!AJ117","v":0},{"$f":"Timesheet!X117","v":0},{"$f":"Timesheet!K117","v":"00:00:00"},{"$f":"Timesheet!B117","v":0}]
[{"$f":"Timesheet!C118","v":0},{"$f":"Timesheet!AJ118","v":0},{"$f":"Timesheet!X118","v":0},{"$f":"Timesheet!K118","v":"00:00:00"},{"$f":"Timesheet!B118","v":0}]
[{"$f":"Timesheet!C119","v":0},{"$f":"Timesheet!AJ119","v":0},{"$f":"Timesheet!X119","v":0},{"$f":"Timesheet!K119","v":"00:00:00"},{"$f":"Timesheet!B119","v":0}]
[{"$f":"Timesheet!C120","v":0},{"$f":"Timesheet!AJ120","v":0},{"$f":"Timesheet!X120","v":0},{"$f":"Timesheet!K120","v":"00:00:00"},{"$f":"Timesheet!B120","v":0}]
[{"$f":"Timesheet!C121","v":0},{"$f":"Timesheet!AJ121","v":0},{"$f":"Timesheet!X121","v":0},{"$f":"Timesheet!K121","v":"00:00:00"},{"$f":"Timesheet!B121","v":0}]
[{"$f":"Timesheet!C122","v":0},{"$f":"Timesheet!AJ122","v":0},{"$f":"Timesheet!X122","v":0},{"$f":"Timesheet!K122","v":"00:00:00"},{"$f":"Timesheet!B122","v":0}]
[{"$f":"Timesheet!C123","v":0},{"$f":"Timesheet!AJ123","v":0},{"$f":"Timesheet!X123","v":0},{"$f":"Timesheet!K123","v":"00:00:00"},{"$f":"Timesheet!B123","v":0}]
[{"$f":"Timesheet!C124","v":0},{"$f":"Timesheet!AJ124","v":0},{"$f":"Timesheet!X124","v":0},{"$f":"Timesheet!K124","v":"00:00:00"},{"$f":"Timesheet!B124","v":0}]
[{"$f":"Timesheet!C125","v":0},{"$f":"Timesheet!AJ125","v":0},{"$f":"Timesheet!X125","v":0},{"$f":"Timesheet!K125","v":"00:00:00"},{"$f":"Timesheet!B125","v":0}]
[{"$f":"Timesheet!C126","v":0},{"$f":"Timesheet!AJ126","v":0},{"$f":"Timesheet!X126","v":0},{"$f":"Timesheet!K126","v":"00:00:00"},{"$f":"Timesheet!B126","v":0}]
[{"$f":"Timesheet!C127","v":0},{"$f":"Timesheet!AJ127","v":0},{"$f":"Timesheet!X127","v":0},{"$f":"Timesheet!K127","v":"00:00:00"},{"$f":"Timesheet!B127","v":0}]
[{"$f":"Timesheet!C128","v":0},{"$f":"Timesheet!AJ128","v":0},{"$f":"Timesheet!X128","v":0},{"$f":"Timesheet!K128","v":"00:00:00"},{"$f":"Timesheet!B128","v":0}]
[{"$f":"Timesheet!C129","v":0},{"$f":"Timesheet!AJ129","v":0},{"$f":"Timesheet!X129","v":0},{"$f":"Timesheet!K129","v":"00:00:00"},{"$f":"Timesheet!B129","v":0}]
[{"$f":"Timesheet!C130","v":0},{"$f":"Timesheet!AJ130","v":0},{"$f":"Timesheet!X130","v":0},{"$f":"Timesheet!K130","v":"00:00:00"},{"$f":"Timesheet!B130","v":0}]
[{"$f":"Timesheet!C131","v":0},{"$f":"Timesheet!AJ131","v":0},{"$f":"Timesheet!X131","v":0},{"$f":"Timesheet!K131","v":"00:00:00"},{"$f":"Timesheet!B131","v":0}]
[{"$f":"Timesheet!C132","v":0},{"$f":"Timesheet!AJ132","v":0},{"$f":"Timesheet!X132","v":0},{"$f":"Timesheet!K132","v":"00:00:00"},{"$f":"Timesheet!B132","v":0}]
[{"$f":"Timesheet!C133","v":0},{"$f":"Timesheet!AJ133","v":0},{"$f":"Timesheet!X133","v":0},{"$f":"Timesheet!K133","v":"00:00:00"},{"$f":"Timesheet!B133","v":0}]
[{"$f":"Timesheet!C134","v":0},{"$f":"Timesheet!AJ134","v":0},{"$f":"Timesheet!X134","v":0},{"$f":"Timesheet!K134","v":"00:00:00"},{"$f":"Timesheet!B134","v":0}]
[{"$f":"Timesheet!C135","v":0},{"$f":"Timesheet!AJ135","v":0},{"$f":"Timesheet!X135","v":0},{"$f":"Timesheet!K135","v":"00:00:00"},{"$f":"Timesheet!B135","v":0}]
[{"$f":"Timesheet!C136","v":0},{"$f":"Timesheet!AJ136","v":0},{"$f":"Timesheet!X136","v":0},{"$f":"Timesheet!K136","v":"00:00:00"},{"$f":"Timesheet!B136","v":0}]
[{"$f":"Timesheet!C137","v":0},{"$f":"Timesheet!AJ137","v":0},{"$f":"Timesheet!X137","v":0},{"$f":"Timesheet!K137","v":"00:00:00"},{"$f":"Timesheet!B137","v":0}]
[{"$f":"Timesheet!C138","v":0},{"$f":"Timesheet!AJ138","v":0},{"$f":"Timesheet!X138","v":0},{"$f":"Timesheet!K138","v":"00:00:00"},{"$f":"Timesheet!B138","v":0}]
[{"$f":"Timesheet!C139","v":0},{"$f":"Timesheet!AJ139","v":0},{"$f":"Timesheet!X139","v":0},{"$f":"Timesheet!K139","v":"00:00:00"},{"$f":"Timesheet!B139","v":0}]
[{"$f":"Timesheet!C140","v":0},{"$f":"Timesheet!AJ140","v":0},{"$f":"Timesheet!X140","v":0},{"$f":"Timesheet!K140","v":"00:00:00"},{"$f":"Timesheet!B140","v":0}]
[{"$f":"Timesheet!C141","v":0},{"$f":"Timesheet!AJ141","v":0},{"$f":"Timesheet!X141","v":0},{"$f":"Timesheet!K141","v":"00:00:00"},{"$f":"Timesheet!B141","v":0}]
[{"$f":"Timesheet!C142","v":0},{"$f":"Timesheet!AJ142","v":0},{"$f":"Timesheet!X142","v":0},{"$f":"Timesheet!K142","v":"00:00:00"},{"$f":"Timesheet!B142","v":0}]
[{"$f":"Timesheet!C143","v":0},{"$f":"Timesheet!AJ143","v":0},{"$f":"Timesheet!X143","v":0},{"$f":"Timesheet!K143","v":"00:00:00"},{"$f":"Timesheet!B143","v":0}]
[{"$f":"Timesheet!C144","v":0},{"$f":"Timesheet!AJ144","v":0},{"$f":"Timesheet!X144","v":0},{"$f":"Timesheet!K144","v":"00:00:00"},{"$f":"Timesheet!B144","v":0}]
[{"$f":"Timesheet!C145","v":0},{"$f":"Timesheet!AJ145","v":0},{"$f":"Timesheet!X145","v":0},{"$f":"Timesheet!K145","v":"00:00:00"},{"$f":"Timesheet!B145","v":0}]
[{"$f":"Timesheet!C146","v":0},{"$f":"Timesheet!AJ146","v":0},{"$f":"Timesheet!X146","v":0},{"$f":"Timesheet!K146","v":"00:00:00"},{"$f":"Timesheet!B146","v":0}]
[{"$f":"Timesheet!C147","v":0},{"$f":"Timesheet!AJ147","v":0},{"$f":"Timesheet!X147","v":0},{"$f":"Timesheet!K147","v":"00:00:00"},{"$f":"Timesheet!B147","v":0}]
[{"$f":"Timesheet!C148","v":0},{"$f":"Timesheet!AJ148","v":0},{"$f":"Timesheet!X148","v":0},{"$f":"Timesheet!K148","v":"00:00:00"},{"$f":"Timesheet!B148","v":0}]
[{"$f":"Timesheet!C149","v":0},{"$f":"Timesheet!AJ149","v":0},{"$f":"Timesheet!X149","v":0},{"$f":"Timesheet!K149","v":"00:00:00"},{"$f":"Timesheet!B149","v":0}]
[{"$f":"Timesheet!C150","v":0},{"$f":"Timesheet!AJ150","v":0},{"$f":"Timesheet!X150","v":0},{"$f":"Timesheet!K150","v":"00:00:00"},{"$f":"Timesheet!B150","v":0}]
[{"$f":"Timesheet!C151","v":0},{"$f":"Timesheet!AJ151","v":0},{"$f":"Timesheet!X151","v":0},{"$f":"Timesheet!K151","v":"00:00:00"},{"$f":"Timesheet!B151","v":0}]
[{"$f":"Timesheet!C152","v":0},{"$f":"Timesheet!AJ152","v":0},{"$f":"Timesheet!X152","v":0},{"$f":"Timesheet!K152","v":"00:00:00"},{"$f":"Timesheet!B152","v":0}]
[{"$f":"Timesheet!C153","v":0},{"$f":"Timesheet!AJ153","v":0},{"$f":"Timesheet!X153","v":0},{"$f":"Timesheet!K153","v":"00:00:00"},{"$f":"Timesheet!B153","v":0}]
[{"$f":"Timesheet!C154","v":0},{"$f":"Timesheet!AJ154","v":0},{"$f":"Timesheet!X154","v":0},{"$f":"Timesheet!K154","v":"00:00:00"},{"$f":"Timesheet!B154","v":0}]
[{"$f":"Timesheet!C155","v":0},{"$f":"Timesheet!AJ155","v":0},{"$f":"Timesheet!X155","v":0},{"$f":"Timesheet!K155","v":"00:00:00"},{"$f":"Timesheet!B155","v":0}]
[{"$f":"Timesheet!C156","v":0},{"$f":"Timesheet!AJ156","v":0},{"$f":"Timesheet!X156","v":0},{"$f":"Timesheet!K156","v":"00:00:00"},{"$f":"Timesheet!B156","v":0}]
[{"$f":"Timesheet!C157","v":0},{"$f":"Timesheet!AJ157","v":0},{"$f":"Timesheet!X157","v":0},{"$f":"Timesheet!K157","v":"00:00:00"},{"$f":"Timesheet!B157","v":0}]
[{"$f":"Timesheet!C158","v":0},{"$f":"Timesheet!AJ158","v":0},{"$f":"Timesheet!X158","v":0},{"$f":"Timesheet!K158","v":"00:00:00"},{"$f":"Timesheet!B158","v":0}]
[{"$f":"Timesheet!C159","v":0},{"$f":"Timesheet!AJ159","v":0},{"$f":"Timesheet!X159","v":0},{"$f":"Timesheet!K159","v":"00:00:00"},{"$f":"Timesheet!B159","v":0}]
[{"$f":"Timesheet!C160","v":0},{"$f":"Timesheet!AJ160","v":0},{"$f":"Timesheet!X160","v":0},{"$f":"Timesheet!K160","v":"00:00:00"},{"$f":"Timesheet!B160","v":0}]
[{"$f":"Timesheet!C161","v":0},{"$f":"Timesheet!AJ161","v":0},{"$f":"Timesheet!X161","v":0},{"$f":"Timesheet!K161","v":"00:00:00"},{"$f":"Timesheet!B161","v":0}]
[{"$f":"Timesheet!C162","v":0},{"$f":"Timesheet!AJ162","v":0},{"$f":"Timesheet!X162","v":0},{"$f":"Timesheet!K162","v":"00:00:00"},{"$f":"Timesheet!B162","v":0}]
[{"$f":"Timesheet!C163","v":0},{"$f":"Timesheet!AJ163","v":0},{"$f":"Timesheet!X163","v":0},{"$f":"Timesheet!K163","v":"00:00:00"},{"$f":"Timesheet!B163","v":0}]
[{"$f":"Timesheet!C164","v":0},{"$f":"Timesheet!AJ164","v":0},{"$f":"Timesheet!X164","v":0},{"$f":"Timesheet!K164","v":"00:00:00"},{"$f":"Timesheet!B164","v":0}]
[{"$f":"Timesheet!C165","v":0},{"$f":"Timesheet!AJ165","v":0},{"$f":"Timesheet!X165","v":0},{"$f":"Timesheet!K165","v":"00:00:00"},{"$f":"Timesheet!B165","v":0}]
[{"$f":"Timesheet!C166","v":0},{"$f":"Timesheet!AJ166","v":0},{"$f":"Timesheet!X166","v":0},{"$f":"Timesheet!K166","v":"00:00:00"},{"$f":"Timesheet!B166","v":0}]
[{"$f":"Timesheet!C167","v":0},{"$f":"Timesheet!AJ167","v":0},{"$f":"Timesheet!X167","v":0},{"$f":"Timesheet!K167","v":"00:00:00"},{"$f":"Timesheet!B167","v":0}]
[{"$f":"Timesheet!C168","v":0},{"$f":"Timesheet!AJ168","v":0},{"$f":"Timesheet!X168","v":0},{"$f":"Timesheet!K168","v":"00:00:00"},{"$f":"Timesheet!B168","v":0}]
[{"$f":"Timesheet!C169","v":0},{"$f":"Timesheet!AJ169","v":0},{"$f":"Timesheet!X169","v":0},{"$f":"Timesheet!K169","v":"00:00:00"},{"$f":"Timesheet!B169","v":0}]
[{"$f":"Timesheet!C170","v":0},{"$f":"Timesheet!AJ170","v":0},{"$f":"Timesheet!X170","v":0},{"$f":"Timesheet!K170","v":"00:00:00"},{"$f":"Timesheet!B170","v":0}]
[{"$f":"Timesheet!C171","v":0},{"$f":"Timesheet!AJ171","v":0},{"$f":"Timesheet!X171","v":0},{"$f":"Timesheet!K171","v":"00:00:00"},{"$f":"Timesheet!B171","v":0}]
[{"$f":"Timesheet!C172","v":0},{"$f":"Timesheet!AJ172","v":0},{"$f":"Timesheet!X172","v":0},{"$f":"Timesheet!K172","v":"00:00:00"},{"$f":"Timesheet!B172","v":0}]
[{"$f":"Timesheet!C173","v":0},{"$f":"Timesheet!AJ173","v":0},{"$f":"Timesheet!X173","v":0},{"$f":"Timesheet!K173","v":"00:00:00"},{"$f":"Timesheet!B173","v":0}]
[{"$f":"Timesheet!C174","v":0},{"$f":"Timesheet!AJ174","v":0},{"$f":"Timesheet!X174","v":0},{"$f":"Timesheet!K174","v":"00:00:00"},{"$f":"Timesheet!B174","v":0}]
[{"$f":"Timesheet!C175","v":0},{"$f":"Timesheet!AJ175","v":0},{"$f":"Timesheet!X175","v":0},{"$f":"Timesheet!K175","v":"00:00:00"},{"$f":"Timesheet!B175","v":0}]
[{"$f":"Timesheet!C176","v":0},{"$f":"Timesheet!AJ176","v":0},{"$f":"Timesheet!X176","v":0},{"$f":"Timesheet!K176","v":"00:00:00"},{"$f":"Timesheet!B176","v":0}]
[{"$f":"Timesheet!C177","v":0},{"$f":"Timesheet!AJ177","v":0},{"$f":"Timesheet!X177","v":0},{"$f":"Timesheet!K177","v":"00:00:00"},{"$f":"Timesheet!B177","v":0}]
[{"$f":"Timesheet!C178","v":0},{"$f":"Timesheet!AJ178","v":0},{"$f":"Timesheet!X178","v":0},{"$f":"Timesheet!K178","v":"00:00:00"},{"$f":"Timesheet!B178","v":0}]
[{"$f":"Timesheet!C179","v":0},{"$f":"Timesheet!AJ179","v":0},{"$f":"Timesheet!X179","v":0},{"$f":"Timesheet!K179","v":"00:00:00"},{"$f":"Timesheet!B179","v":0}]
[{"$f":"Timesheet!C180","v":0},{"$f":"Timesheet!AJ180","v":0},{"$f":"Timesheet!X180","v":0},{"$f":"Timesheet!K180","v":"00:00:00"},{"$f":"Timesheet!B180","v":0}]
[{"$f":"Timesheet!C181","v":0},{"$f":"Timesheet!AJ181","v":0},{"$f":"Timesheet!X181","v":0},{"$f":"Timesheet!K181","v":"00:00:00"},{"$f":"Timesheet!B181","v":0}]
[{"$f":"Timesheet!C182","v":0},{"$f":"Timesheet!AJ182","v":0},{"$f":"Timesheet!X182","v":0},{"$f":"Timesheet!K182","v":"00:00:00"},{"$f":"Timesheet!B182","v":0}]
[{"$f":"Timesheet!C183","v":0},{"$f":"Timesheet!AJ183","v":0},{"$f":"Timesheet!X183","v":0},{"$f":"Timesheet!K183","v":"00:00:00"},{"$f":"Timesheet!B183","v":0}]
[{"$f":"Timesheet!C184","v":0},{"$f":"Timesheet!AJ184","v":0},{"$f":"Timesheet!X184","v":0},{"$f":"Timesheet!K184","v":"00:00:00"},{"$f":"Timesheet!B184","v":0}]
[{"$f":"Timesheet!C185","v":0},{"$f":"Timesheet!AJ185","v":0},{"$f":"Timesheet!X185","v":0},{"$f":"Timesheet!K185","v":"00:00:00"},{"$f":"Timesheet!B185","v":0}]
[{"$f":"Timesheet!C186","v":0},{"$f":"Timesheet!AJ186","v":0},{"$f":"Timesheet!X186","v":0},{"$f":"Timesheet!K186","v":"00:00:00"},{"$f":"Timesheet!B186","v":0}]
[{"$f":"Timesheet!C187","v":0},{"$f":"Timesheet!AJ187","v":0},{"$f":"Timesheet!X187","v":0},{"$f":"Timesheet!K187","v":"00:00:00"},{"$f":"Timesheet!B187","v":0}]
[{"$f":"Timesheet!C188","v":0},{"$f":"Timesheet!AJ188","v":0},{"$f":"Timesheet!X188","v":0},{"$f":"Timesheet!K188","v":"00:00:00"},{"$f":"Timesheet!B188","v":0}]
[{"$f":"Timesheet!C189","v":0},{"$f":"Timesheet!AJ189","v":0},{"$f":"Timesheet!X189","v":0},{"$f":"Timesheet!K189","v":"00:00:00"},{"$f":"Timesheet!B189","v":0}]
[{"$f":"Timesheet!C190","v":0},{"$f":"Timesheet!AJ190","v":0},{"$f":"Timesheet!X190","v":0},{"$f":"Timesheet!K190","v":"00:00:00"},{"$f":"Timesheet!B190","v":0}]
[{"$f":"Timesheet!C191","v":0},{"$f":"Timesheet!AJ191","v":0},{"$f":"Timesheet!X191","v":0},{"$f":"Timesheet!K191","v":"00:00:00"},{"$f":"Timesheet!B191","v":0}]
[{"$f":"Timesheet!C192","v":0},{"$f":"Timesheet!AJ192","v":0},{"$f":"Timesheet!X192","v":0},{"$f":"Timesheet!K192","v":"00:00:00"},{"$f":"Timesheet!B192","v":0}]
[{"$f":"Timesheet!C193","v":0},{"$f":"Timesheet!AJ193","v":0},{"$f":"Timesheet!X193","v":0},{"$f":"Timesheet!K193","v":"00:00:00"},{"$f":"Timesheet!B193","v":0}]
[{"$f":"Timesheet!C194","v":0},{"$f":"Timesheet!AJ194","v":0},{"$f":"Timesheet!X194","v":0},{"$f":"Timesheet!K194","v":"00:00:00"},{"$f":"Timesheet!B194","v":0}]
[{"$f":"Timesheet!C195","v":0},{"$f":"Timesheet!AJ195","v":0},{"$f":"Timesheet!X195","v":0},{"$f":"Timesheet!K195","v":"00:00:00"},{"$f":"Timesheet!B195","v":0}]
[{"$f":"Timesheet!C196","v":0},{"$f":"Timesheet!AJ196","v":0},{"$f":"Timesheet!X196","v":0},{"$f":"Timesheet!K196","v":"00:00:00"},{"$f":"Timesheet!B196","v":0}]
[{"$f":"Timesheet!C197","v":0},{"$f":"Timesheet!AJ197","v":0},{"$f":"Timesheet!X197","v":0},{"$f":"Timesheet!K197","v":"00:00:00"},{"$f":"Timesheet!B197","v":0}]
[{"$f":"Timesheet!C198","v":0},{"$f":"Timesheet!AJ198","v":0},{"$f":"Timesheet!X198","v":0},{"$f":"Timesheet!K198","v":"00:00:00"},{"$f":"Timesheet!B198","v":0}]
[{"$f":"Timesheet!C199","v":0},{"$f":"Timesheet!AJ199","v":0},{"$f":"Timesheet!X199","v":0},{"$f":"Timesheet!K199","v":"00:00:00"},{"$f":"Timesheet!B199","v":0}]
[{"$f":"Timesheet!C200","v":0},{"$f":"Timesheet!AJ200","v":0},{"$f":"Timesheet!X200","v":0},{"$f":"Timesheet!K200","v":"00:00:00"},{"$f":"Timesheet!B200","v":0}]
[{"$f":"Timesheet!C201","v":0},{"$f":"Timesheet!AJ201","v":0},{"$f":"Timesheet!X201","v":0},{"$f":"Timesheet!K201","v":"00:00:00"},{"$f":"Timesheet!B201","v":0}]
[{"$f":"Timesheet!C202","v":0},{"$f":"Timesheet!AJ202","v":0},{"$f":"Timesheet!X202","v":0},{"$f":"Timesheet!K202","v":"00:00:00"},{"$f":"Timesheet!B202","v":0}]
[{"$f":"Timesheet!C203","v":0},{"$f":"Timesheet!AJ203","v":0},{"$f":"Timesheet!X203","v":0},{"$f":"Timesheet!K203","v":"00:00:00"},{"$f":"Timesheet!B203","v":0}]
[{"$f":"Timesheet!C204","v":0},{"$f":"Timesheet!AJ204","v":0},{"$f":"Timesheet!X204","v":0},{"$f":"Timesheet!K204","v":"00:00:00"},{"$f":"Timesheet!B204","v":0}]
[{"$f":"Timesheet!C205","v":0},{"$f":"Timesheet!AJ205","v":0},{"$f":"Timesheet!X205","v":0},{"$f":"Timesheet!K205","v":"00:00:00"},{"$f":"Timesheet!B205","v":0}]
[{"$f":"Timesheet!C206","v":0},{"$f":"Timesheet!AJ206","v":0},{"$f":"Timesheet!X206","v":0},{"$f":"Timesheet!K206","v":"00:00:00"},{"$f":"Timesheet!B206","v":0}]
[{"$f":"Timesheet!C207","v":0},{"$f":"Timesheet!AJ207","v":0},{"$f":"Timesheet!X207","v":0},{"$f":"Timesheet!K207","v":"00:00:00"},{"$f":"Timesheet!B207","v":0}]
[{"$f":"Timesheet!C208","v":0},{"$f":"Timesheet!AJ208","v":0},{"$f":"Timesheet!X208","v":0},{"$f":"Timesheet!K208","v":"00:00:00"},{"$f":"Timesheet!B208","v":0}]
[{"$f":"Timesheet!C209","v":0},{"$f":"Timesheet!AJ209","v":0},{"$f":"Timesheet!X209","v":0},{"$f":"Timesheet!K209","v":"00:00:00"},{"$f":"Timesheet!B209","v":0}]
[{"$f":"Timesheet!C210","v":0},{"$f":"Timesheet!AJ210","v":0},{"$f":"Timesheet!X210","v":0},{"$f":"Timesheet!K210","v":"00:00:00"},{"$f":"Timesheet!B210","v":0}]
[{"$f":"Timesheet!C211","v":0},{"$f":"Timesheet!AJ211","v":0},{"$f":"Timesheet!X211","v":0},{"$f":"Timesheet!K211","v":"00:00:00"},{"$f":"Timesheet!B211","v":0}]
[{"$f":"Timesheet!C212","v":0},{"$f":"Timesheet!AJ212","v":0},{"$f":"Timesheet!X212","v":0},{"$f":"Timesheet!K212","v":"00:00:00"},{"$f":"Timesheet!B212","v":0}]
[{"$f":"Timesheet!C213","v":0},{"$f":"Timesheet!AJ213","v":0},{"$f":"Timesheet!X213","v":0},{"$f":"Timesheet!K213","v":"00:00:00"},{"$f":"Timesheet!B213","v":0}]
[{"$f":"Timesheet!C214","v":0},{"$f":"Timesheet!AJ214","v":0},{"$f":"Timesheet!X214","v":0},{"$f":"Timesheet!K214","v":"00:00:00"},{"$f":"Timesheet!B214","v":0}]
[{"$f":"Timesheet!C215","v":0},{"$f":"Timesheet!AJ215","v":0},{"$f":"Timesheet!X215","v":0},{"$f":"Timesheet!K215","v":"00:00:00"},{"$f":"Timesheet!B215","v":0}]
[{"$f":"Timesheet!C216","v":0},{"$f":"Timesheet!AJ216","v":0},{"$f":"Timesheet!X216","v":0},{"$f":"Timesheet!K216","v":"00:00:00"},{"$f":"Timesheet!B216","v":0}]
[{"$f":"Timesheet!C217","v":0},{"$f":"Timesheet!AJ217","v":0},{"$f":"Timesheet!X217","v":0},{"$f":"Timesheet!K217","v":"00:00:00"},{"$f":"Timesheet!B217","v":0}]
[{"$f":"Timesheet!C218","v":0},{"$f":"Timesheet!AJ218","v":0},{"$f":"Timesheet!X218","v":0},{"$f":"Timesheet!K218","v":"00:00:00"},{"$f":"Timesheet!B218","v":0}]
[{"$f":"Timesheet!C219","v":0},{"$f":"Timesheet!AJ219","v":0},{"$f":"Timesheet!X219","v":0},{"$f":"Timesheet!K219","v":"00:00:00"},{"$f":"Timesheet!B219","v":0}]
[{"$f":"Timesheet!C220","v":0},{"$f":"Timesheet!AJ220","v":0},{"$f":"Timesheet!X220","v":0},{"$f":"Timesheet!K220","v":"00:00:00"},{"$f":"Timesheet!B220","v":0}]
[{"$f":"Timesheet!C221","v":0},{"$f":"Timesheet!AJ221","v":0},{"$f":"Timesheet!X221","v":0},{"$f":"Timesheet!K221","v":"00:00:00"},{"$f":"Timesheet!B221","v":0}]
[{"$f":"Timesheet!C222","v":0},{"$f":"Timesheet!AJ222","v":0},{"$f":"Timesheet!X222","v":0},{"$f":"Timesheet!K222","v":"00:00:00"},{"$f":"Timesheet!B222","v":0}]
[{"$f":"Timesheet!C223","v":0},{"$f":"Timesheet!AJ223","v":0},{"$f":"Timesheet!X223","v":0},{"$f":"Timesheet!K223","v":"00:00:00"},{"$f":"Timesheet!B223","v":0}]
[{"$f":"Timesheet!C224","v":0},{"$f":"Timesheet!AJ224","v":0},{"$f":"Timesheet!X224","v":0},{"$f":"Timesheet!K224","v":"00:00:00"},{"$f":"Timesheet!B224","v":0}]
[{"$f":"Timesheet!C225","v":0},{"$f":"Timesheet!AJ225","v":0},{"$f":"Timesheet!X225","v":0},{"$f":"Timesheet!K225","v":"00:00:00"},{"$f":"Timesheet!B225","v":0}]
[{"$f":"Timesheet!C226","v":0},{"$f":"Timesheet!AJ226","v":0},{"$f":"Timesheet!X226","v":0},{"$f":"Timesheet!K226","v":"00:00:00"},{"$f":"Timesheet!B226","v":0}]
[{"$f":"Timesheet!C227","v":0},{"$f":"Timesheet!AJ227","v":0},{"$f":"Timesheet!X227","v":0},{"$f":"Timesheet!K227","v":"00:00:00"},{"$f":"Timesheet!B227","v":0}]
[{"$f":"Timesheet!C228","v":0},{"$f":"Timesheet!AJ228","v":0},{"$f":"Timesheet!X228","v":0},{"$f":"Timesheet!K228","v":"00:00:00"},{"$f":"Timesheet!B228","v":0}]
[{"$f":"Timesheet!C229","v":0},{"$f":"Timesheet!AJ229","v":0},{"$f":"Timesheet!X229","v":0},{"$f":"Timesheet!K229","v":"00:00:00"},{"$f":"Timesheet!B229","v":0}]
[{"$f":"Timesheet!C230","v":0},{"$f":"Timesheet!AJ230","v":0},{"$f":"Timesheet!X230","v":0},{"$f":"Timesheet!K230","v":"00:00:00"},{"$f":"Timesheet!B230","v":0}]
[{"$f":"Timesheet!C231","v":0},{"$f":"Timesheet!AJ231","v":0},{"$f":"Timesheet!X231","v":0},{"$f":"Timesheet!K231","v":"00:00:00"},{"$f":"Timesheet!B231","v":0}]
[{"$f":"Timesheet!C232","v":0},{"$f":"Timesheet!AJ232","v":0},{"$f":"Timesheet!X232","v":0},{"$f":"Timesheet!K232","v":"00:00:00"},{"$f":"Timesheet!B232","v":0}]
[{"$f":"Timesheet!C233","v":0},{"$f":"Timesheet!AJ233","v":0},{"$f":"Timesheet!X233","v":0},{"$f":"Timesheet!K233","v":"00:00:00"},{"$f":"Timesheet!B233","v":0}]
[{"$f":"Timesheet!C234","v":0},{"$f":"Timesheet!AJ234","v":0},{"$f":"Timesheet!X234","v":0},{"$f":"Timesheet!K234","v":"00:00:00"},{"$f":"Timesheet!B234","v":0}]
[{"$f":"Timesheet!C235","v":0},{"$f":"Timesheet!AJ235","v":0},{"$f":"Timesheet!X235","v":0},{"$f":"Timesheet!K235","v":"00:00:00"},{"$f":"Timesheet!B235","v":0}]
[{"$f":"Timesheet!C236","v":0},{"$f":"Timesheet!AJ236","v":0},{"$f":"Timesheet!X236","v":0},{"$f":"Timesheet!K236","v":"00:00:00"},{"$f":"Timesheet!B236","v":0}]
[{"$f":"Timesheet!C237","v":0},{"$f":"Timesheet!AJ237","v":0},{"$f":"Timesheet!X237","v":0},{"$f":"Timesheet!K237","v":"00:00:00"},{"$f":"Timesheet!B237","v":0}]
[{"$f":"Timesheet!C238","v":0},{"$f":"Timesheet!AJ238","v":0},{"$f":"Timesheet!X238","v":0},{"$f":"Timesheet!K238","v":"00:00:00"},{"$f":"Timesheet!B238","v":0}]
[{"$f":"Timesheet!C239","v":0},{"$f":"Timesheet!AJ239","v":0},{"$f":"Timesheet!X239","v":0},{"$f":"Timesheet!K239","v":"00:00:00"},{"$f":"Timesheet!B239","v":0}]
[{"$f":"Timesheet!C240","v":0},{"$f":"Timesheet!AJ240","v":0},{"$f":"Timesheet!X240","v":0},{"$f":"Timesheet!K240","v":"00:00:00"},{"$f":"Timesheet!B240","v":0}]
[{"$f":"Timesheet!C241","v":0},{"$f":"Timesheet!AJ241","v":0},{"$f":"Timesheet!X241","v":0},{"$f":"Timesheet!K241","v":"00:00:00"},{"$f":"Timesheet!B241","v":0}]
[{"$f":"Timesheet!C242","v":0},{"$f":"Timesheet!AJ242","v":0},{"$f":"Timesheet!X242","v":0},{"$f":"Timesheet!K242","v":"00:00:00"},{"$f":"Timesheet!B242","v":0}]
[{"$f":"Timesheet!C243","v":0},{"$f":"Timesheet!AJ243","v":0},{"$f":"Timesheet!X243","v":0},{"$f":"Timesheet!K243","v":"00:00:00"},{"$f":"Timesheet!B243","v":0}]
[{"$f":"Timesheet!C244","v":0},{"$f":"Timesheet!AJ244","v":0},{"$f":"Timesheet!X244","v":0},{"$f":"Timesheet!K244","v":"00:00:00"},{"$f":"Timesheet!B244","v":0}]
[{"$f":"Timesheet!C245","v":0},{"$f":"Timesheet!AJ245","v":0},{"$f":"Timesheet!X245","v":0},{"$f":"Timesheet!K245","v":"00:00:00"},{"$f":"Timesheet!B245","v":0}]
[{"$f":"Timesheet!C246","v":0},{"$f":"Timesheet!AJ246","v":0},{"$f":"Timesheet!X246","v":0},{"$f":"Timesheet!K246","v":"00:00:00"},{"$f":"Timesheet!B246","v":0}]
[{"$f":"Timesheet!C247","v":0},{"$f":"Timesheet!AJ247","v":0},{"$f":"Timesheet!X247","v":0},{"$f":"Timesheet!K247","v":"00:00:00"},{"$f":"Timesheet!B247","v":0}]
[{"$f":"Timesheet!C248","v":0},{"$f":"Timesheet!AJ248","v":0},{"$f":"Timesheet!X248","v":0},{"$f":"Timesheet!K248","v":"00:00:00"},{"$f":"Timesheet!B248","v":0}]
[{"$f":"Timesheet!C249","v":0},{"$f":"Timesheet!AJ249","v":0},{"$f":"Timesheet!X249","v":0},{"$f":"Timesheet!K249","v":"00:00:00"},{"$f":"Timesheet!B249","v":0}]
[{"$f":"Timesheet!C250","v":0},{"$f":"Timesheet!AJ250","v":0},{"$f":"Timesheet!X250","v":0},{"$f":"Timesheet!K250","v":"00:00:00"},{"$f":"Timesheet!B250","v":0}]
[{"$f":"Timesheet!C251","v":0},{"$f":"Timesheet!AJ251","v":0},{"$f":"Timesheet!X251","v":0},{"$f":"Timesheet!K251","v":"00:00:00"},{"$f":"Timesheet!B251","v":0}]
[{"$f":"Timesheet!C252","v":0},{"$f":"Timesheet!AJ252","v":0},{"$f":"Timesheet!X252","v":0},{"$f":"Timesheet!K252","v":"00:00:00"},{"$f":"Timesheet!B252","v":0}]
[{"$f":"Timesheet!C253","v":0},{"$f":"Timesheet!AJ253","v":0},{"$f":"Timesheet!X253","v":0},{"$f":"Timesheet!K253","v":"00:00:00"},{"$f":"Timesheet!B253","v":0}]
[{"$f":"Timesheet!C254","v":0},{"$f":"Timesheet!AJ254","v":0},{"$f":"Timesheet!X254","v":0},{"$f":"Timesheet!K254","v":"00:00:00"},{"$f":"Timesheet!B254","v":0}]
[{"$f":"Timesheet!C255","v":0},{"$f":"Timesheet!AJ255","v":0},{"$f":"Timesheet!X255","v":0},{"$f":"Timesheet!K255","v":"00:00:00"},{"$f":"Timesheet!B255","v":0}]
[{"$f":"Timesheet!C256","v":0},{"$f":"Timesheet!AJ256","v":0},{"$f":"Timesheet!X256","v":0},{"$f":"Timesheet!K256","v":"00:00:00"},{"$f":"Timesheet!B256","v":0}]
[{"$f":"Timesheet!C257","v":0},{"$f":"Timesheet!AJ257","v":0},{"$f":"Timesheet!X257","v":0},{"$f":"Timesheet!K257","v":"00:00:00"},{"$f":"Timesheet!B257","v":0}]
[{"$f":"Timesheet!C258","v":0},{"$f":"Timesheet!AJ258","v":0},{"$f":"Timesheet!X258","v":0},{"$f":"Timesheet!K258","v":"00:00:00"},{"$f":"Timesheet!B258","v":0}]
[{"$f":"Timesheet!C259","v":0},{"$f":"Timesheet!AJ259","v":0},{"$f":"Timesheet!X259","v":0},{"$f":"Timesheet!K259","v":"00:00:00"},{"$f":"Timesheet!B259","v":0}]
[{"$f":"Timesheet!C260","v":0},{"$f":"Timesheet!AJ260","v":0},{"$f":"Timesheet!X260","v":0},{"$f":"Timesheet!K260","v":"00:00:00"},{"$f":"Timesheet!B260","v":0}]
[{"$f":"Timesheet!C261","v":0},{"$f":"Timesheet!AJ261","v":0},{"$f":"Timesheet!X261","v":0},{"$f":"Timesheet!K261","v":"00:00:00"},{"$f":"Timesheet!B261","v":0}]
[{"$f":"Timesheet!C262","v":0},{"$f":"Timesheet!AJ262","v":0},{"$f":"Timesheet!X262","v":0},{"$f":"Timesheet!K262","v":"00:00:00"},{"$f":"Timesheet!B262","v":0}]
[{"$f":"Timesheet!C263","v":0},{"$f":"Timesheet!AJ263","v":0},{"$f":"Timesheet!X263","v":0},{"$f":"Timesheet!K263","v":"00:00:00"},{"$f":"Timesheet!B263","v":0}]
[{"$f":"Timesheet!C264","v":0},{"$f":"Timesheet!AJ264","v":0},{"$f":"Timesheet!X264","v":0},{"$f":"Timesheet!K264","v":"00:00:00"},{"$f":"Timesheet!B264","v":0}]
[{"$f":"Timesheet!C265","v":0},{"$f":"Timesheet!AJ265","v":0},{"$f":"Timesheet!X265","v":0},{"$f":"Timesheet!K265","v":"00:00:00"},{"$f":"Timesheet!B265","v":0}]
[{"$f":"Timesheet!C266","v":0},{"$f":"Timesheet!AJ266","v":0},{"$f":"Timesheet!X266","v":0},{"$f":"Timesheet!K266","v":"00:00:00"},{"$f":"Timesheet!B266","v":0}]
[{"$f":"Timesheet!C267","v":0},{"$f":"Timesheet!AJ267","v":0},{"$f":"Timesheet!X267","v":0},{"$f":"Timesheet!K267","v":"00:00:00"},{"$f":"Timesheet!B267","v":0}]
[{"$f":"Timesheet!C268","v":0},{"$f":"Timesheet!AJ268","v":0},{"$f":"Timesheet!X268","v":0},{"$f":"Timesheet!K268","v":"00:00:00"},{"$f":"Timesheet!B268","v":0}]
[{"$f":"Timesheet!C269","v":0},{"$f":"Timesheet!AJ269","v":0},{"$f":"Timesheet!X269","v":0},{"$f":"Timesheet!K269","v":"00:00:00"},{"$f":"Timesheet!B269","v":0}]
[{"$f":"Timesheet!C270","v":0},{"$f":"Timesheet!AJ270","v":0},{"$f":"Timesheet!X270","v":0},{"$f":"Timesheet!K270","v":"00:00:00"},{"$f":"Timesheet!B270","v":0}]
[{"$f":"Timesheet!C271","v":0},{"$f":"Timesheet!AJ271","v":0},{"$f":"Timesheet!X271","v":0},{"$f":"Timesheet!K271","v":"00:00:00"},{"$f":"Timesheet!B271","v":0}]
[{"$f":"Timesheet!C272","v":0},{"$f":"Timesheet!AJ272","v":0},{"$f":"Timesheet!X272","v":0},{"$f":"Timesheet!K272","v":"00:00:00"},{"$f":"Timesheet!B272","v":0}]
[{"$f":"Timesheet!C273","v":0},{"$f":"Timesheet!AJ273","v":0},{"$f":"Timesheet!X273","v":0},{"$f":"Timesheet!K273","v":"00:00:00"},{"$f":"Timesheet!B273","v":0}]
[{"$f":"Timesheet!C274","v":0},{"$f":"Timesheet!AJ274","v":0},{"$f":"Timesheet!X274","v":0},{"$f":"Timesheet!K274","v":"00:00:00"},{"$f":"Timesheet!B274","v":0}]
[{"$f":"Timesheet!C275","v":0},{"$f":"Timesheet!AJ275","v":0},{"$f":"Timesheet!X275","v":0},{"$f":"Timesheet!K275","v":"00:00:00"},{"$f":"Timesheet!B275","v":0}]
[{"$f":"Timesheet!C276","v":0},{"$f":"Timesheet!AJ276","v":0},{"$f":"Timesheet!X276","v":0},{"$f":"Timesheet!K276","v":"00:00:00"},{"$f":"Timesheet!B276","v":0}]
[{"$f":"Timesheet!C277","v":0},{"$f":"Timesheet!AJ277","v":0},{"$f":"Timesheet!X277","v":0},{"$f":"Timesheet!K277","v":"00:00:00"},{"$f":"Timesheet!B277","v":0}]
[{"$f":"Timesheet!C278","v":0},{"$f":"Timesheet!AJ278","v":0},{"$f":"Timesheet!X278","v":0},{"$f":"Timesheet!K278","v":"00:00:00"},{"$f":"Timesheet!B278","v":0}]
[{"$f":"Timesheet!C279","v":0},{"$f":"Timesheet!AJ279","v":0},{"$f":"Timesheet!X279","v":0},{"$f":"Timesheet!K279","v":"00:00:00"},{"$f":"Timesheet!B279","v":0}]
[{"$f":"Timesheet!C280","v":0},{"$f":"Timesheet!AJ280","v":0},{"$f":"Timesheet!X280","v":0},{"$f":"Timesheet!K280","v":"00:00:00"},{"$f":"Timesheet!B280","v":0}]
[{"$f":"Timesheet!C281","v":0},{"$f":"Timesheet!AJ281","v":0},{"$f":"Timesheet!X281","v":0},{"$f":"Timesheet!K281","v":"00:00:00"},{"$f":"Timesheet!B281","v":0}]
[{"$f":"Timesheet!C282","v":0},{"$f":"Timesheet!AJ282","v":0},{"$f":"Timesheet!X282","v":0},{"$f":"Timesheet!K282","v":"00:00:00"},{"$f":"Timesheet!B282","v":0}]
[{"$f":"Timesheet!C283","v":0},{"$f":"Timesheet!AJ283","v":0},{"$f":"Timesheet!X283","v":0},{"$f":"Timesheet!K283","v":"00:00:00"},{"$f":"Timesheet!B283","v":0}]
[{"$f":"Timesheet!C284","v":0},{"$f":"Timesheet!AJ284","v":0},{"$f":"Timesheet!X284","v":0},{"$f":"Timesheet!K284","v":"00:00:00"},{"$f":"Timesheet!B284","v":0}]
[{"$f":"Timesheet!C285","v":0},{"$f":"Timesheet!AJ285","v":0},{"$f":"Timesheet!X285","v":0},{"$f":"Timesheet!K285","v":"00:00:00"},{"$f":"Timesheet!B285","v":0}]
[{"$f":"Timesheet!C286","v":0},{"$f":"Timesheet!AJ286","v":0},{"$f":"Timesheet!X286","v":0},{"$f":"Timesheet!K286","v":"00:00:00"},{"$f":"Timesheet!B286","v":0}]
[{"$f":"Timesheet!C287","v":0},{"$f":"Timesheet!AJ287","v":0},{"$f":"Timesheet!X287","v":0},{"$f":"Timesheet!K287","v":"00:00:00"},{"$f":"Timesheet!B287","v":0}]
[{"$f":"Timesheet!C288","v":0},{"$f":"Timesheet!AJ288","v":0},{"$f":"Timesheet!X288","v":0},{"$f":"Timesheet!K288","v":"00:00:00"},{"$f":"Timesheet!B288","v":0}]
[{"$f":"Timesheet!C289","v":0},{"$f":"Timesheet!AJ289","v":0},{"$f":"Timesheet!X289","v":0},{"$f":"Timesheet!K289","v":"00:00:00"},{"$f":"Timesheet!B289","v":0}]
[{"$f":"Timesheet!C290","v":0},{"$f":"Timesheet!AJ290","v":0},{"$f":"Timesheet!X290","v":0},{"$f":"Timesheet!K290","v":"00:00:00"},{"$f":"Timesheet!B290","v":0}]
[{"$f":"Timesheet!C291","v":0},{"$f":"Timesheet!AJ291","v":0},{"$f":"Timesheet!X291","v":0},{"$f":"Timesheet!K291","v":"00:00:00"},{"$f":"Timesheet!B291","v":0}]
[{"$f":"Timesheet!C292","v":0},{"$f":"Timesheet!AJ292","v":0},{"$f":"Timesheet!X292","v":0},{"$f":"Timesheet!K292","v":"00:00:00"},{"$f":"Timesheet!B292","v":0}]
[{"$f":"Timesheet!C293","v":0},{"$f":"Timesheet!AJ293","v":0},{"$f":"Timesheet!X293","v":0},{"$f":"Timesheet!K293","v":"00:00:00"},{"$f":"Timesheet!B293","v":0}]
[{"$f":"Timesheet!C294","v":0},{"$f":"Timesheet!AJ294","v":0},{"$f":"Timesheet!X294","v":0},{"$f":"Timesheet!K294","v":"00:00:00"},{"$f":"Timesheet!B294","v":0}]
[{"$f":"Timesheet!C295","v":0},{"$f":"Timesheet!AJ295","v":0},{"$f":"Timesheet!X295","v":0},{"$f":"Timesheet!K295","v":"00:00:00"},{"$f":"Timesheet!B295","v":0}]
[{"$f":"Timesheet!C296","v":0},{"$f":"Timesheet!AJ296","v":0},{"$f":"Timesheet!X296","v":0},{"$f":"Timesheet!K296","v":"00:00:00"},{"$f":"Timesheet!B296","v":0}]
[{"$f":"Timesheet!C297","v":0},{"$f":"Timesheet!AJ297","v":0},{"$f":"Timesheet!X297","v":0},{"$f":"Timesheet!K297","v":"00:00:00"},{"$f":"Timesheet!B297","v":0}]
[{"$f":"Timesheet!C298","v":0},{"$f":"Timesheet!AJ298","v":0},{"$f":"Timesheet!X298","v":0},{"$f":"Timesheet!K298","v":"00:00:00"},{"$f":"Timesheet!B298","v":0}]
[{"$f":"Timesheet!C299","v":0},{"$f":"Timesheet!AJ299","v":0},{"$f":"Timesheet!X299","v":0},{"$f":"Timesheet!K299","v":"00:00:00"},{"$f":"Timesheet!B299","v":0}]
[{"$f":"Timesheet!C300","v":0},{"$f":"Timesheet!AJ300","v":0},{"$f":"Timesheet!X300","v":0},{"$f":"Timesheet!K300","v":"00:00:00"},{"$f":"Timesheet!B300","v":0}]
[{"$f":"Timesheet!C301","v":0},{"$f":"Timesheet!AJ301","v":0},{"$f":"Timesheet!X301","v":0},{"$f":"Timesheet!K301","v":"00:00:00"},{"$f":"Timesheet!B301","v":0}]
[{"$f":"Timesheet!C302","v":0},{"$f":"Timesheet!AJ302","v":0},{"$f":"Timesheet!X302","v":0},{"$f":"Timesheet!K302","v":"00:00:00"},{"$f":"Timesheet!B302","v":0}]
[{"$f":"Timesheet!C3","v":44789},{"$f":"Timesheet!AK3","v":0},{"$f":"Timesheet!Z3","v":0},{"$f":"Timesheet!K3","v":"00:00:00"},{"$f":"Timesheet!B3","v":"E33036"}]
[{"$f":"Timesheet!C4","v":39452},{"$f":"Timesheet!AK4","v":0},{"$f":"Timesheet!Z4","v":0},{"$f":"Timesheet!K4","v":"00:00:00"},{"$f":"Timesheet!B4","v":"E33036"}]
[{"$f":"Timesheet!C5","v":51119},{"$f":"Timesheet!AK5","v":0},{"$f":"Timesheet!Z5","v":0},{"$f":"Timesheet!K5","v":"00:00:00"},{"$f":"Timesheet!B5","v":"E33036"}]
[{"$f":"Timesheet!C6","v":20999},{"$f":"Timesheet!AK6","v":0},{"$f":"Timesheet!Z6","v":0},{"$f":"Timesheet!K6","v":"00:00:00"},{"$f":"Timesheet!B6","v":"E33036"}]
[{"$f":"Timesheet!C7","v":50140},{"$f":"Timesheet!AK7","v":0},{"$f":"Timesheet!Z7","v":0},{"$f":"Timesheet!K7","v":"00:00:00"},{"$f":"Timesheet!B7","v":"E33036"}]
[{"$f":"Timesheet!C8","v":41120},{"$f":"Timesheet!AK8","v":0},{"$f":"Timesheet!Z8","v":0},{"$f":"Timesheet!K8","v":"00:00:00"},{"$f":"Timesheet!B8","v":"E33036"}]
[{"$f":"Timesheet!C9","v":14019220},{"$f":"Timesheet!AK9","v":0},{"$f":"Timesheet!Z9","v":0},{"$f":"Timesheet!K9","v":"00:00:00"},{"$f":"Timesheet!B9","v":"E33036"}]
[{"$f":"Timesheet!C10","v":33161},{"$f":"Timesheet!AK10","v":0},{"$f":"Timesheet!Z10","v":0},{"$f":"Timesheet!K10","v":"00:00:00"},{"$f":"Timesheet!B10","v":"E33036"}]
[{"$f":"Timesheet!C11","v":44988},{"$f":"Timesheet!AK11","v":0},{"$f":"Timesheet!Z11","v":0},{"$f":"Timesheet!K11","v":"00:00:00"},{"$f":"Timesheet!B11","v":"E33036"}]
[{"$f":"Timesheet!C12","v":19061},{"$f":"Timesheet!AK12","v":0},{"$f":"Timesheet!Z12","v":0},{"$f":"Timesheet!K12","v":"00:00:00"},{"$f":"Timesheet!B12","v":"E33036"}]
[{"$f":"Timesheet!C13","v":42125},{"$f":"Timesheet!AK13","v":0},{"$f":"Timesheet!Z13","v":0},{"$f":"Timesheet!K13","v":"00:00:00"},{"$f":"Timesheet!B13","v":"E33036"}]
[{"$f":"Timesheet!C14","v":35616},{"$f":"Timesheet!AK14","v":0},{"$f":"Timesheet!Z14","v":0},{"$f":"Timesheet!K14","v":"00:00:00"},{"$f":"Timesheet!B14","v":"E33036"}]
[{"$f":"Timesheet!C15","v":11630},{"$f":"Timesheet!AK15","v":0},{"$f":"Timesheet!Z15","v":0},{"$f":"Timesheet!K15","v":"00:00:00"},{"$f":"Timesheet!B15","v":"E33036"}]
[{"$f":"Timesheet!C16","v":33804},{"$f":"Timesheet!AK16","v":0},{"$f":"Timesheet!Z16","v":0},{"$f":"Timesheet!K16","v":"00:00:00"},{"$f":"Timesheet!B16","v":"E33036"}]
[{"$f":"Timesheet!C17","v":11681},{"$f":"Timesheet!AK17","v":0},{"$f":"Timesheet!Z17","v":0},{"$f":"Timesheet!K17","v":"00:00:00"},{"$f":"Timesheet!B17","v":"E33036"}]
[{"$f":"Timesheet!C18","v":51311},{"$f":"Timesheet!AK18","v":0},{"$f":"Timesheet!Z18","v":0},{"$f":"Timesheet!K18","v":"00:00:00"},{"$f":"Timesheet!B18","v":"E33036"}]
[{"$f":"Timesheet!C19","v":19209},{"$f":"Timesheet!AK19","v":0},{"$f":"Timesheet!Z19","v":0},{"$f":"Timesheet!K19","v":"00:00:00"},{"$f":"Timesheet!B19","v":"E33036"}]
[{"$f":"Timesheet!C20","v":40516},{"$f":"Timesheet!AK20","v":0},{"$f":"Timesheet!Z20","v":0},{"$f":"Timesheet!K20","v":"00:00:00"},{"$f":"Timesheet!B20","v":"E33036"}]
[{"$f":"Timesheet!C21","v":42806},{"$f":"Timesheet!AK21","v":0},{"$f":"Timesheet!Z21","v":0},{"$f":"Timesheet!K21","v":"00:00:00"},{"$f":"Timesheet!B21","v":"E33036"}]
[{"$f":"Timesheet!C22","v":47495},{"$f":"Timesheet!AK22","v":0},{"$f":"Timesheet!Z22","v":0},{"$f":"Timesheet!K22","v":"00:00:00"},{"$f":"Timesheet!B22","v":"E33036"}]
[{"$f":"Timesheet!C23","v":38391},{"$f":"Timesheet!AK23","v":0},{"$f":"Timesheet!Z23","v":0},{"$f":"Timesheet!K23","v":"00:00:00"},{"$f":"Timesheet!B23","v":"E33036"}]
[{"$f":"Timesheet!C24","v":28706},{"$f":"Timesheet!AK24","v":0},{"$f":"Timesheet!Z24","v":0},{"$f":"Timesheet!K24","v":"00:00:00"},{"$f":"Timesheet!B24","v":"E33036"}]
[{"$f":"Timesheet!C25","v":44672},{"$f":"Timesheet!AK25","v":0},{"$f":"Timesheet!Z25","v":0},{"$f":"Timesheet!K25","v":"00:00:00"},{"$f":"Timesheet!B25","v":"E33036"}]
[{"$f":"Timesheet!C26","v":14289262},{"$f":"Timesheet!AK26","v":0},{"$f":"Timesheet!Z26","v":0},{"$f":"Timesheet!K26","v":"00:00:00"},{"$f":"Timesheet!B26","v":"E33036"}]
[{"$f":"Timesheet!C27","v":18068},{"$f":"Timesheet!AK27","v":0},{"$f":"Timesheet!Z27","v":0},{"$f":"Timesheet!K27","v":"00:00:00"},{"$f":"Timesheet!B27","v":"E33036"}]
[{"$f":"Timesheet!C28","v":13209997},{"$f":"Timesheet!AK28","v":0},{"$f":"Timesheet!Z28","v":0},{"$f":"Timesheet!K28","v":"00:00:00"},{"$f":"Timesheet!B28","v":"E33036"}]
[{"$f":"Timesheet!C29","v":59},{"$f":"Timesheet!AK29","v":0},{"$f":"Timesheet!Z29","v":0},{"$f":"Timesheet!K29","v":"00:00:00"},{"$f":"Timesheet!B29","v":"E33036"}]
[{"$f":"Timesheet!C30","v":29923},{"$f":"Timesheet!AK30","v":0},{"$f":"Timesheet!Z30","v":0},{"$f":"Timesheet!K30","v":"00:00:00"},{"$f":"Timesheet!B30","v":"E33036"}]
[{"$f":"Timesheet!C31","v":21790},{"$f":"Timesheet!AK31","v":0},{"$f":"Timesheet!Z31","v":0},{"$f":"Timesheet!K31","v":"00:00:00"},{"$f":"Timesheet!B31","v":"E33036"}]
[{"$f":"Timesheet!C32","v":13016632},{"$f":"Timesheet!AK32","v":0},{"$f":"Timesheet!Z32","v":0},{"$f":"Timesheet!K32","v":"00:00:00"},{"$f":"Timesheet!B32","v":"E33036"}]
[{"$f":"Timesheet!C33","v":13616632},{"$f":"Timesheet!AK33","v":0},{"$f":"Timesheet!Z33","v":0},{"$f":"Timesheet!K33","v":"00:00:00"},{"$f":"Timesheet!B33","v":"E33036"}]
[{"$f":"Timesheet!C34","v":40046},{"$f":"Timesheet!AK34","v":0},{"$f":"Timesheet!Z34","v":0},{"$f":"Timesheet!K34","v":"00:00:00"},{"$f":"Timesheet!B34","v":"E33036"}]
[{"$f":"Timesheet!C35","v":18140},{"$f":"Timesheet!AK35","v":0},{"$f":"Timesheet!Z35","v":0},{"$f":"Timesheet!K35","v":"00:00:00"},{"$f":"Timesheet!B35","v":"E33036"}]
[{"$f":"Timesheet!C36","v":9922},{"$f":"Timesheet!AK36","v":0},{"$f":"Timesheet!Z36","v":0},{"$f":"Timesheet!K36","v":"00:00:00"},{"$f":"Timesheet!B36","v":"E33036"}]
[{"$f":"Timesheet!C37","v":34724},{"$f":"Timesheet!AK37","v":0},{"$f":"Timesheet!Z37","v":0},{"$f":"Timesheet!K37","v":"00:00:00"},{"$f":"Timesheet!B37","v":"E33036"}]
[{"$f":"Timesheet!C38","v":20933},{"$f":"Timesheet!AK38","v":0},{"$f":"Timesheet!Z38","v":0},{"$f":"Timesheet!K38","v":"00:00:00"},{"$f":"Timesheet!B38","v":"E33036"}]
[{"$f":"Timesheet!C39","v":36025},{"$f":"Timesheet!AK39","v":0},{"$f":"Timesheet!Z39","v":0},{"$f":"Timesheet!K39","v":"00:00:00"},{"$f":"Timesheet!B39","v":"E33036"}]
[{"$f":"Timesheet!C40","v":41681},{"$f":"Timesheet!AK40","v":0},{"$f":"Timesheet!Z40","v":0},{"$f":"Timesheet!K40","v":"00:00:00"},{"$f":"Timesheet!B40","v":"E33036"}]
[{"$f":"Timesheet!C41","v":42644},{"$f":"Timesheet!AK41","v":0},{"$f":"Timesheet!Z41","v":0},{"$f":"Timesheet!K41","v":"00:00:00"},{"$f":"Timesheet!B41","v":"E33036"}]
[{"$f":"Timesheet!C42","v":49476},{"$f":"Timesheet!AK42","v":0},{"$f":"Timesheet!Z42","v":0},{"$f":"Timesheet!K42","v":"00:00:00"},{"$f":"Timesheet!B42","v":"E33036"}]
[{"$f":"Timesheet!C43","v":50978},{"$f":"Timesheet!AK43","v":0},{"$f":"Timesheet!Z43","v":0},{"$f":"Timesheet!K43","v":"00:00:00"},{"$f":"Timesheet!B43","v":"E33036"}]
[{"$f":"Timesheet!C44","v":41705},{"$f":"Timesheet!AK44","v":0},{"$f":"Timesheet!Z44","v":0},{"$f":"Timesheet!K44","v":"00:00:00"},{"$f":"Timesheet!B44","v":"E33036"}]
[{"$f":"Timesheet!C45","v":47311},{"$f":"Timesheet!AK45","v":0},{"$f":"Timesheet!Z45","v":0},{"$f":"Timesheet!K45","v":"00:00:00"},{"$f":"Timesheet!B45","v":"E33036"}]
[{"$f":"Timesheet!C46","v":36728},{"$f":"Timesheet!AK46","v":0},{"$f":"Timesheet!Z46","v":0},{"$f":"Timesheet!K46","v":"00:00:00"},{"$f":"Timesheet!B46","v":"E33036"}]
[{"$f":"Timesheet!C47","v":51863},{"$f":"Timesheet!AK47","v":0},{"$f":"Timesheet!Z47","v":0},{"$f":"Timesheet!K47","v":"19.10.2023"},{"$f":"Timesheet!B47","v":"E33036"}]
[{"$f":"Timesheet!C48","v":46769},{"$f":"Timesheet!AK48","v":0},{"$f":"Timesheet!Z48","v":0},{"$f":"Timesheet!K48","v":"00:00:00"},{"$f":"Timesheet!B48","v":"E33036"}]
[{"$f":"Timesheet!C49","v":16845},{"$f":"Timesheet!AK49","v":0},{"$f":"Timesheet!Z49","v":0},{"$f":"Timesheet!K49","v":"00:00:00"},{"$f":"Timesheet!B49","v":"E33036"}]
[{"$f":"Timesheet!C50","v":33960},{"$f":"Timesheet!AK50","v":0},{"$f":"Timesheet!Z50","v":0},{"$f":"Timesheet!K50","v":"00:00:00"},{"$f":"Timesheet!B50","v":"E33036"}]
[{"$f":"Timesheet!C51","v":9019},{"$f":"Timesheet!AK51","v":0},{"$f":"Timesheet!Z51","v":0},{"$f":"Timesheet!K51","v":"00:00:00"},{"$f":"Timesheet!B51","v":"E33036"}]
[{"$f":"Timesheet!C52","v":20207},{"$f":"Timesheet!AK52","v":0},{"$f":"Timesheet!Z52","v":0},{"$f":"Timesheet!K52","v":"00:00:00"},{"$f":"Timesheet!B52","v":"E33036"}]
[{"$f":"Timesheet!C53","v":46771},{"$f":"Timesheet!AK53","v":0},{"$f":"Timesheet!Z53","v":0},{"$f":"Timesheet!K53","v":"00:00:00"},{"$f":"Timesheet!B53","v":"E33036"}]
[{"$f":"Timesheet!C54","v":14387314},{"$f":"Timesheet!AK54","v":0},{"$f":"Timesheet!Z54","v":0},{"$f":"Timesheet!K54","v":"00:00:00"},{"$f":"Timesheet!B54","v":"E33036"}]
[{"$f":"Timesheet!C55","v":38898},{"$f":"Timesheet!AK55","v":0},{"$f":"Timesheet!Z55","v":0},{"$f":"Timesheet!K55","v":"00:00:00"},{"$f":"Timesheet!B55","v":"E33036"}]
[{"$f":"Timesheet!C56","v":14016208},{"$f":"Timesheet!AK56","v":0},{"$f":"Timesheet!Z56","v":0},{"$f":"Timesheet!K56","v":"00:00:00"},{"$f":"Timesheet!B56","v":"E33036"}]
[{"$f":"Timesheet!C57","v":38962},{"$f":"Timesheet!AK57","v":0},{"$f":"Timesheet!Z57","v":0},{"$f":"Timesheet!K57","v":"00:00:00"},{"$f":"Timesheet!B57","v":"E33036"}]
[{"$f":"Timesheet!C58","v":39361},{"$f":"Timesheet!AK58","v":0},{"$f":"Timesheet!Z58","v":0},{"$f":"Timesheet!K58","v":"00:00:00"},{"$f":"Timesheet!B58","v":"E33036"}]
[{"$f":"Timesheet!C59","v":37015},{"$f":"Timesheet!AK59","v":0},{"$f":"Timesheet!Z59","v":0},{"$f":"Timesheet!K59","v":"00:00:00"},{"$f":"Timesheet!B59","v":"E33036"}]
[{"$f":"Timesheet!C60","v":29683},{"$f":"Timesheet!AK60","v":0},{"$f":"Timesheet!Z60","v":0},{"$f":"Timesheet!K60","v":"00:00:00"},{"$f":"Timesheet!B60","v":"E33036"}]
[{"$f":"Timesheet!C61","v":23115},{"$f":"Timesheet!AK61","v":0},{"$f":"Timesheet!Z61","v":0},{"$f":"Timesheet!K61","v":"00:00:00"},{"$f":"Timesheet!B61","v":"E33036"}]
[{"$f":"Timesheet!C62","v":14037690},{"$f":"Timesheet!AK62","v":0},{"$f":"Timesheet!Z62","v":0},{"$f":"Timesheet!K62","v":"00:00:00"},{"$f":"Timesheet!B62","v":"E33036"}]
[{"$f":"Timesheet!C63","v":12174},{"$f":"Timesheet!AK63","v":0},{"$f":"Timesheet!Z63","v":0},{"$f":"Timesheet!K63","v":"00:00:00"},{"$f":"Timesheet!B63","v":"E33036"}]
[{"$f":"Timesheet!C64","v":13009},{"$f":"Timesheet!AK64","v":0},{"$f":"Timesheet!Z64","v":0},{"$f":"Timesheet!K64","v":"00:00:00"},{"$f":"Timesheet!B64","v":"E33036"}]
[{"$f":"Timesheet!C65","v":51874},{"$f":"Timesheet!AK65","v":0},{"$f":"Timesheet!Z65","v":0},{"$f":"Timesheet!K65","v":"00:00:00"},{"$f":"Timesheet!B65","v":"E33036"}]
[{"$f":"Timesheet!C66","v":45964},{"$f":"Timesheet!AK66","v":0},{"$f":"Timesheet!Z66","v":0},{"$f":"Timesheet!K66","v":"00:00:00"},{"$f":"Timesheet!B66","v":"E33036"}]
[{"$f":"Timesheet!C67","v":54194},{"$f":"Timesheet!AK67","v":0},{"$f":"Timesheet!Z67","v":0},{"$f":"Timesheet!K67","v":"00:00:00"},{"$f":"Timesheet!B67","v":"E33036"}]
[{"$f":"Timesheet!C68","v":14299640},{"$f":"Timesheet!AK68","v":0},{"$f":"Timesheet!Z68","v":0},{"$f":"Timesheet!K68","v":"00:00:00"},{"$f":"Timesheet!B68","v":"E33036"}]
[{"$f":"Timesheet!C69","v":28604},{"$f":"Timesheet!AK69","v":0},{"$f":"Timesheet!Z69","v":0},{"$f":"Timesheet!K69","v":"00:00:00"},{"$f":"Timesheet!B69","v":"E33036"}]
[{"$f":"Timesheet!C70","v":28602},{"$f":"Timesheet!AK70","v":0},{"$f":"Timesheet!Z70","v":0},{"$f":"Timesheet!K70","v":"00:00:00"},{"$f":"Timesheet!B70","v":"E33036"}]
[{"$f":"Timesheet!C71","v":28989},{"$f":"Timesheet!AK71","v":0},{"$f":"Timesheet!Z71","v":0},{"$f":"Timesheet!K71","v":"00:00:00"},{"$f":"Timesheet!B71","v":"E33036"}]
[{"$f":"Timesheet!C72","v":28779},{"$f":"Timesheet!AK72","v":0},{"$f":"Timesheet!Z72","v":0},{"$f":"Timesheet!K72","v":"00:00:00"},{"$f":"Timesheet!B72","v":"E33036"}]
[{"$f":"Timesheet!C73","v":20013},{"$f":"Timesheet!AK73","v":0},{"$f":"Timesheet!Z73","v":0},{"$f":"Timesheet!K73","v":"00:00:00"},{"$f":"Timesheet!B73","v":"E33036"}]
[{"$f":"Timesheet!C74","v":0},{"$f":"Timesheet!AK74","v":0},{"$f":"Timesheet!Z74","v":0},{"$f":"Timesheet!K74","v":"00:00:00"},{"$f":"Timesheet!B74","v":0}]
[{"$f":"Timesheet!C75","v":0},{"$f":"Timesheet!AK75","v":0},{"$f":"Timesheet!Z75","v":0},{"$f":"Timesheet!K75","v":"00:00:00"},{"$f":"Timesheet!B75","v":0}]
[{"$f":"Timesheet!C76","v":0},{"$f":"Timesheet!AK76","v":0},{"$f":"Timesheet!Z76","v":0},{"$f":"Timesheet!K76","v":"00:00:00"},{"$f":"Timesheet!B76","v":0}]
[{"$f":"Timesheet!C77","v":0},{"$f":"Timesheet!AK77","v":0},{"$f":"Timesheet!Z77","v":0},{"$f":"Timesheet!K77","v":"00:00:00"},{"$f":"Timesheet!B77","v":0}]
[{"$f":"Timesheet!C78","v":0},{"$f":"Timesheet!AK78","v":0},{"$f":"Timesheet!Z78","v":0},{"$f":"Timesheet!K78","v":"00:00:00"},{"$f":"Timesheet!B78","v":0}]
[{"$f":"Timesheet!C79","v":0},{"$f":"Timesheet!AK79","v":0},{"$f":"Timesheet!Z79","v":0},{"$f":"Timesheet!K79","v":"00:00:00"},{"$f":"Timesheet!B79","v":0}]
[{"$f":"Timesheet!C80","v":0},{"$f":"Timesheet!AK80","v":0},{"$f":"Timesheet!Z80","v":0},{"$f":"Timesheet!K80","v":"00:00:00"},{"$f":"Timesheet!B80","v":0}]
[{"$f":"Timesheet!C81","v":0},{"$f":"Timesheet!AK81","v":0},{"$f":"Timesheet!Z81","v":0},{"$f":"Timesheet!K81","v":"00:00:00"},{"$f":"Timesheet!B81","v":0}]
[{"$f":"Timesheet!C82","v":0},{"$f":"Timesheet!AK82","v":0},{"$f":"Timesheet!Z82","v":0},{"$f":"Timesheet!K82","v":"00:00:00"},{"$f":"Timesheet!B82","v":0}]
[{"$f":"Timesheet!C83","v":0},{"$f":"Timesheet!AK83","v":0},{"$f":"Timesheet!Z83","v":0},{"$f":"Timesheet!K83","v":"00:00:00"},{"$f":"Timesheet!B83","v":0}]
[{"$f":"Timesheet!C84","v":0},{"$f":"Timesheet!AK84","v":0},{"$f":"Timesheet!Z84","v":0},{"$f":"Timesheet!K84","v":"00:00:00"},{"$f":"Timesheet!B84","v":0}]
[{"$f":"Timesheet!C85","v":0},{"$f":"Timesheet!AK85","v":0},{"$f":"Timesheet!Z85","v":0},{"$f":"Timesheet!K85","v":"00:00:00"},{"$f":"Timesheet!B85","v":0}]
[{"$f":"Timesheet!C86","v":0},{"$f":"Timesheet!AK86","v":0},{"$f":"Timesheet!Z86","v":0},{"$f":"Timesheet!K86","v":"00:00:00"},{"$f":"Timesheet!B86","v":0}]
[{"$f":"Timesheet!C87","v":0},{"$f":"Timesheet!AK87","v":0},{"$f":"Timesheet!Z87","v":0},{"$f":"Timesheet!K87","v":"00:00:00"},{"$f":"Timesheet!B87","v":0}]
[{"$f":"Timesheet!C88","v":0},{"$f":"Timesheet!AK88","v":0},{"$f":"Timesheet!Z88","v":0},{"$f":"Timesheet!K88","v":"00:00:00"},{"$f":"Timesheet!B88","v":0}]
[{"$f":"Timesheet!C89","v":0},{"$f":"Timesheet!AK89","v":0},{"$f":"Timesheet!Z89","v":0},{"$f":"Timesheet!K89","v":"00:00:00"},{"$f":"Timesheet!B89","v":0}]
[{"$f":"Timesheet!C90","v":0},{"$f":"Timesheet!AK90","v":0},{"$f":"Timesheet!Z90","v":0},{"$f":"Timesheet!K90","v":"00:00:00"},{"$f":"Timesheet!B90","v":0}]
[{"$f":"Timesheet!C91","v":0},{"$f":"Timesheet!AK91","v":0},{"$f":"Timesheet!Z91","v":0},{"$f":"Timesheet!K91","v":"00:00:00"},{"$f":"Timesheet!B91","v":0}]
[{"$f":"Timesheet!C92","v":0},{"$f":"Timesheet!AK92","v":0},{"$f":"Timesheet!Z92","v":0},{"$f":"Timesheet!K92","v":"00:00:00"},{"$f":"Timesheet!B92","v":0}]
[{"$f":"Timesheet!C93","v":0},{"$f":"Timesheet!AK93","v":0},{"$f":"Timesheet!Z93","v":0},{"$f":"Timesheet!K93","v":"00:00:00"},{"$f":"Timesheet!B93","v":0}]
[{"$f":"Timesheet!C94","v":0},{"$f":"Timesheet!AK94","v":0},{"$f":"Timesheet!Z94","v":0},{"$f":"Timesheet!K94","v":"00:00:00"},{"$f":"Timesheet!B94","v":0}]
[{"$f":"Timesheet!C95","v":0},{"$f":"Timesheet!AK95","v":0},{"$f":"Timesheet!Z95","v":0},{"$f":"Timesheet!K95","v":"00:00:00"},{"$f":"Timesheet!B95","v":0}]
[{"$f":"Timesheet!C96","v":0},{"$f":"Timesheet!AK96","v":0},{"$f":"Timesheet!Z96","v":0},{"$f":"Timesheet!K96","v":"00:00:00"},{"$f":"Timesheet!B96","v":0}]
[{"$f":"Timesheet!C97","v":0},{"$f":"Timesheet!AK97","v":0},{"$f":"Timesheet!Z97","v":0},{"$f":"Timesheet!K97","v":"00:00:00"},{"$f":"Timesheet!B97","v":0}]
[{"$f":"Timesheet!C98","v":0},{"$f":"Timesheet!AK98","v":0},{"$f":"Timesheet!Z98","v":0},{"$f":"Timesheet!K98","v":"00:00:00"},{"$f":"Timesheet!B98","v":0}]
[{"$f":"Timesheet!C99","v":0},{"$f":"Timesheet!AK99","v":0},{"$f":"Timesheet!Z99","v":0},{"$f":"Timesheet!K99","v":"00:00:00"},{"$f":"Timesheet!B99","v":0}]
[{"$f":"Timesheet!C100","v":0},{"$f":"Timesheet!AK100","v":0},{"$f":"Timesheet!Z100","v":0},{"$f":"Timesheet!K100","v":"00:00:00"},{"$f":"Timesheet!B100","v":0}]
[{"$f":"Timesheet!C101","v":0},{"$f":"Timesheet!AK101","v":0},{"$f":"Timesheet!Z101","v":0},{"$f":"Timesheet!K101","v":"00:00:00"},{"$f":"Timesheet!B101","v":0}]
[{"$f":"Timesheet!C102","v":0},{"$f":"Timesheet!AK102","v":0},{"$f":"Timesheet!Z102","v":0},{"$f":"Timesheet!K102","v":"00:00:00"},{"$f":"Timesheet!B102","v":0}]
[{"$f":"Timesheet!C103","v":0},{"$f":"Timesheet!AK103","v":0},{"$f":"Timesheet!Z103","v":0},{"$f":"Timesheet!K103","v":"00:00:00"},{"$f":"Timesheet!B103","v":0}]
[{"$f":"Timesheet!C104","v":0},{"$f":"Timesheet!AK104","v":0},{"$f":"Timesheet!Z104","v":0},{"$f":"Timesheet!K104","v":"00:00:00"},{"$f":"Timesheet!B104","v":0}]
[{"$f":"Timesheet!C105","v":0},{"$f":"Timesheet!AK105","v":0},{"$f":"Timesheet!Z105","v":0},{"$f":"Timesheet!K105","v":"00:00:00"},{"$f":"Timesheet!B105","v":0}]
[{"$f":"Timesheet!C106","v":0},{"$f":"Timesheet!AK106","v":0},{"$f":"Timesheet!Z106","v":0},{"$f":"Timesheet!K106","v":"00:00:00"},{"$f":"Timesheet!B106","v":0}]
[{"$f":"Timesheet!C107","v":0},{"$f":"Timesheet!AK107","v":0},{"$f":"Timesheet!Z107","v":0},{"$f":"Timesheet!K107","v":"00:00:00"},{"$f":"Timesheet!B107","v":0}]
[{"$f":"Timesheet!C108","v":0},{"$f":"Timesheet!AK108","v":0},{"$f":"Timesheet!Z108","v":0},{"$f":"Timesheet!K108","v":"00:00:00"},{"$f":"Timesheet!B108","v":0}]
[{"$f":"Timesheet!C109","v":0},{"$f":"Timesheet!AK109","v":0},{"$f":"Timesheet!Z109","v":0},{"$f":"Timesheet!K109","v":"00:00:00"},{"$f":"Timesheet!B109","v":0}]
[{"$f":"Timesheet!C110","v":0},{"$f":"Timesheet!AK110","v":0},{"$f":"Timesheet!Z110","v":0},{"$f":"Timesheet!K110","v":"00:00:00"},{"$f":"Timesheet!B110","v":0}]
[{"$f":"Timesheet!C111","v":0},{"$f":"Timesheet!AK111","v":0},{"$f":"Timesheet!Z111","v":0},{"$f":"Timesheet!K111","v":"00:00:00"},{"$f":"Timesheet!B111","v":0}]
[{"$f":"Timesheet!C112","v":0},{"$f":"Timesheet!AK112","v":0},{"$f":"Timesheet!Z112","v":0},{"$f":"Timesheet!K112","v":"00:00:00"},{"$f":"Timesheet!B112","v":0}]
[{"$f":"Timesheet!C113","v":0},{"$f":"Timesheet!AK113","v":0},{"$f":"Timesheet!Z113","v":0},{"$f":"Timesheet!K113","v":"00:00:00"},{"$f":"Timesheet!B113","v":0}]
[{"$f":"Timesheet!C114","v":0},{"$f":"Timesheet!AK114","v":0},{"$f":"Timesheet!Z114","v":0},{"$f":"Timesheet!K114","v":"00:00:00"},{"$f":"Timesheet!B114","v":0}]
[{"$f":"Timesheet!C115","v":0},{"$f":"Timesheet!AK115","v":0},{"$f":"Timesheet!Z115","v":0},{"$f":"Timesheet!K115","v":"00:00:00"},{"$f":"Timesheet!B115","v":0}]
[{"$f":"Timesheet!C116","v":0},{"$f":"Timesheet!AK116","v":0},{"$f":"Timesheet!Z116","v":0},{"$f":"Timesheet!K116","v":"00:00:00"},{"$f":"Timesheet!B116","v":0}]
[{"$f":"Timesheet!C117","v":0},{"$f":"Timesheet!AK117","v":0},{"$f":"Timesheet!Z117","v":0},{"$f":"Timesheet!K117","v":"00:00:00"},{"$f":"Timesheet!B117","v":0}]
[{"$f":"Timesheet!C118","v":0},{"$f":"Timesheet!AK118","v":0},{"$f":"Timesheet!Z118","v":0},{"$f":"Timesheet!K118","v":"00:00:00"},{"$f":"Timesheet!B118","v":0}]
[{"$f":"Timesheet!C119","v":0},{"$f":"Timesheet!AK119","v":0},{"$f":"Timesheet!Z119","v":0},{"$f":"Timesheet!K119","v":"00:00:00"},{"$f":"Timesheet!B119","v":0}]
[{"$f":"Timesheet!C120","v":0},{"$f":"Timesheet!AK120","v":0},{"$f":"Timesheet!Z120","v":0},{"$f":"Timesheet!K120","v":"00:00:00"},{"$f":"Timesheet!B120","v":0}]
[{"$f":"Timesheet!C121","v":0},{"$f":"Timesheet!AK121","v":0},{"$f":"Timesheet!Z121","v":0},{"$f":"Timesheet!K121","v":"00:00:00"},{"$f":"Timesheet!B121","v":0}]
[{"$f":"Timesheet!C122","v":0},{"$f":"Timesheet!AK122","v":0},{"$f":"Timesheet!Z122","v":0},{"$f":"Timesheet!K122","v":"00:00:00"},{"$f":"Timesheet!B122","v":0}]
[{"$f":"Timesheet!C123","v":0},{"$f":"Timesheet!AK123","v":0},{"$f":"Timesheet!Z123","v":0},{"$f":"Timesheet!K123","v":"00:00:00"},{"$f":"Timesheet!B123","v":0}]
[{"$f":"Timesheet!C124","v":0},{"$f":"Timesheet!AK124","v":0},{"$f":"Timesheet!Z124","v":0},{"$f":"Timesheet!K124","v":"00:00:00"},{"$f":"Timesheet!B124","v":0}]
[{"$f":"Timesheet!C125","v":0},{"$f":"Timesheet!AK125","v":0},{"$f":"Timesheet!Z125","v":0},{"$f":"Timesheet!K125","v":"00:00:00"},{"$f":"Timesheet!B125","v":0}]
[{"$f":"Timesheet!C126","v":0},{"$f":"Timesheet!AK126","v":0},{"$f":"Timesheet!Z126","v":0},{"$f":"Timesheet!K126","v":"00:00:00"},{"$f":"Timesheet!B126","v":0}]
[{"$f":"Timesheet!C127","v":0},{"$f":"Timesheet!AK127","v":0},{"$f":"Timesheet!Z127","v":0},{"$f":"Timesheet!K127","v":"00:00:00"},{"$f":"Timesheet!B127","v":0}]
[{"$f":"Timesheet!C128","v":0},{"$f":"Timesheet!AK128","v":0},{"$f":"Timesheet!Z128","v":0},{"$f":"Timesheet!K128","v":"00:00:00"},{"$f":"Timesheet!B128","v":0}]
[{"$f":"Timesheet!C129","v":0},{"$f":"Timesheet!AK129","v":0},{"$f":"Timesheet!Z129","v":0},{"$f":"Timesheet!K129","v":"00:00:00"},{"$f":"Timesheet!B129","v":0}]
[{"$f":"Timesheet!C130","v":0},{"$f":"Timesheet!AK130","v":0},{"$f":"Timesheet!Z130","v":0},{"$f":"Timesheet!K130","v":"00:00:00"},{"$f":"Timesheet!B130","v":0}]
[{"$f":"Timesheet!C131","v":0},{"$f":"Timesheet!AK131","v":0},{"$f":"Timesheet!Z131","v":0},{"$f":"Timesheet!K131","v":"00:00:00"},{"$f":"Timesheet!B131","v":0}]
[{"$f":"Timesheet!C132","v":0},{"$f":"Timesheet!AK132","v":0},{"$f":"Timesheet!Z132","v":0},{"$f":"Timesheet!K132","v":"00:00:00"},{"$f":"Timesheet!B132","v":0}]
[{"$f":"Timesheet!C133","v":0},{"$f":"Timesheet!AK133","v":0},{"$f":"Timesheet!Z133","v":0},{"$f":"Timesheet!K133","v":"00:00:00"},{"$f":"Timesheet!B133","v":0}]
[{"$f":"Timesheet!C134","v":0},{"$f":"Timesheet!AK134","v":0},{"$f":"Timesheet!Z134","v":0},{"$f":"Timesheet!K134","v":"00:00:00"},{"$f":"Timesheet!B134","v":0}]
[{"$f":"Timesheet!C135","v":0},{"$f":"Timesheet!AK135","v":0},{"$f":"Timesheet!Z135","v":0},{"$f":"Timesheet!K135","v":"00:00:00"},{"$f":"Timesheet!B135","v":0}]
[{"$f":"Timesheet!C136","v":0},{"$f":"Timesheet!AK136","v":0},{"$f":"Timesheet!Z136","v":0},{"$f":"Timesheet!K136","v":"00:00:00"},{"$f":"Timesheet!B136","v":0}]
[{"$f":"Timesheet!C137","v":0},{"$f":"Timesheet!AK137","v":0},{"$f":"Timesheet!Z137","v":0},{"$f":"Timesheet!K137","v":"00:00:00"},{"$f":"Timesheet!B137","v":0}]
[{"$f":"Timesheet!C138","v":0},{"$f":"Timesheet!AK138","v":0},{"$f":"Timesheet!Z138","v":0},{"$f":"Timesheet!K138","v":"00:00:00"},{"$f":"Timesheet!B138","v":0}]
[{"$f":"Timesheet!C139","v":0},{"$f":"Timesheet!AK139","v":0},{"$f":"Timesheet!Z139","v":0},{"$f":"Timesheet!K139","v":"00:00:00"},{"$f":"Timesheet!B139","v":0}]
[{"$f":"Timesheet!C140","v":0},{"$f":"Timesheet!AK140","v":0},{"$f":"Timesheet!Z140","v":0},{"$f":"Timesheet!K140","v":"00:00:00"},{"$f":"Timesheet!B140","v":0}]
[{"$f":"Timesheet!C141","v":0},{"$f":"Timesheet!AK141","v":0},{"$f":"Timesheet!Z141","v":0},{"$f":"Timesheet!K141","v":"00:00:00"},{"$f":"Timesheet!B141","v":0}]
[{"$f":"Timesheet!C142","v":0},{"$f":"Timesheet!AK142","v":0},{"$f":"Timesheet!Z142","v":0},{"$f":"Timesheet!K142","v":"00:00:00"},{"$f":"Timesheet!B142","v":0}]
[{"$f":"Timesheet!C143","v":0},{"$f":"Timesheet!AK143","v":0},{"$f":"Timesheet!Z143","v":0},{"$f":"Timesheet!K143","v":"00:00:00"},{"$f":"Timesheet!B143","v":0}]
[{"$f":"Timesheet!C144","v":0},{"$f":"Timesheet!AK144","v":0},{"$f":"Timesheet!Z144","v":0},{"$f":"Timesheet!K144","v":"00:00:00"},{"$f":"Timesheet!B144","v":0}]
[{"$f":"Timesheet!C145","v":0},{"$f":"Timesheet!AK145","v":0},{"$f":"Timesheet!Z145","v":0},{"$f":"Timesheet!K145","v":"00:00:00"},{"$f":"Timesheet!B145","v":0}]
[{"$f":"Timesheet!C146","v":0},{"$f":"Timesheet!AK146","v":0},{"$f":"Timesheet!Z146","v":0},{"$f":"Timesheet!K146","v":"00:00:00"},{"$f":"Timesheet!B146","v":0}]
[{"$f":"Timesheet!C147","v":0},{"$f":"Timesheet!AK147","v":0},{"$f":"Timesheet!Z147","v":0},{"$f":"Timesheet!K147","v":"00:00:00"},{"$f":"Timesheet!B147","v":0}]
[{"$f":"Timesheet!C148","v":0},{"$f":"Timesheet!AK148","v":0},{"$f":"Timesheet!Z148","v":0},{"$f":"Timesheet!K148","v":"00:00:00"},{"$f":"Timesheet!B148","v":0}]
[{"$f":"Timesheet!C149","v":0},{"$f":"Timesheet!AK149","v":0},{"$f":"Timesheet!Z149","v":0},{"$f":"Timesheet!K149","v":"00:00:00"},{"$f":"Timesheet!B149","v":0}]
[{"$f":"Timesheet!C150","v":0},{"$f":"Timesheet!AK150","v":0},{"$f":"Timesheet!Z150","v":0},{"$f":"Timesheet!K150","v":"00:00:00"},{"$f":"Timesheet!B150","v":0}]
[{"$f":"Timesheet!C151","v":0},{"$f":"Timesheet!AK151","v":0},{"$f":"Timesheet!Z151","v":0},{"$f":"Timesheet!K151","v":"00:00:00"},{"$f":"Timesheet!B151","v":0}]
[{"$f":"Timesheet!C152","v":0},{"$f":"Timesheet!AK152","v":0},{"$f":"Timesheet!Z152","v":0},{"$f":"Timesheet!K152","v":"00:00:00"},{"$f":"Timesheet!B152","v":0}]
[{"$f":"Timesheet!C153","v":0},{"$f":"Timesheet!AK153","v":0},{"$f":"Timesheet!Z153","v":0},{"$f":"Timesheet!K153","v":"00:00:00"},{"$f":"Timesheet!B153","v":0}]
[{"$f":"Timesheet!C154","v":0},{"$f":"Timesheet!AK154","v":0},{"$f":"Timesheet!Z154","v":0},{"$f":"Timesheet!K154","v":"00:00:00"},{"$f":"Timesheet!B154","v":0}]
[{"$f":"Timesheet!C155","v":0},{"$f":"Timesheet!AK155","v":0},{"$f":"Timesheet!Z155","v":0},{"$f":"Timesheet!K155","v":"00:00:00"},{"$f":"Timesheet!B155","v":0}]
[{"$f":"Timesheet!C156","v":0},{"$f":"Timesheet!AK156","v":0},{"$f":"Timesheet!Z156","v":0},{"$f":"Timesheet!K156","v":"00:00:00"},{"$f":"Timesheet!B156","v":0}]
[{"$f":"Timesheet!C157","v":0},{"$f":"Timesheet!AK157","v":0},{"$f":"Timesheet!Z157","v":0},{"$f":"Timesheet!K157","v":"00:00:00"},{"$f":"Timesheet!B157","v":0}]
[{"$f":"Timesheet!C158","v":0},{"$f":"Timesheet!AK158","v":0},{"$f":"Timesheet!Z158","v":0},{"$f":"Timesheet!K158","v":"00:00:00"},{"$f":"Timesheet!B158","v":0}]
[{"$f":"Timesheet!C159","v":0},{"$f":"Timesheet!AK159","v":0},{"$f":"Timesheet!Z159","v":0},{"$f":"Timesheet!K159","v":"00:00:00"},{"$f":"Timesheet!B159","v":0}]
[{"$f":"Timesheet!C160","v":0},{"$f":"Timesheet!AK160","v":0},{"$f":"Timesheet!Z160","v":0},{"$f":"Timesheet!K160","v":"00:00:00"},{"$f":"Timesheet!B160","v":0}]
[{"$f":"Timesheet!C161","v":0},{"$f":"Timesheet!AK161","v":0},{"$f":"Timesheet!Z161","v":0},{"$f":"Timesheet!K161","v":"00:00:00"},{"$f":"Timesheet!B161","v":0}]
[{"$f":"Timesheet!C162","v":0},{"$f":"Timesheet!AK162","v":0},{"$f":"Timesheet!Z162","v":0},{"$f":"Timesheet!K162","v":"00:00:00"},{"$f":"Timesheet!B162","v":0}]
[{"$f":"Timesheet!C163","v":0},{"$f":"Timesheet!AK163","v":0},{"$f":"Timesheet!Z163","v":0},{"$f":"Timesheet!K163","v":"00:00:00"},{"$f":"Timesheet!B163","v":0}]
[{"$f":"Timesheet!C164","v":0},{"$f":"Timesheet!AK164","v":0},{"$f":"Timesheet!Z164","v":0},{"$f":"Timesheet!K164","v":"00:00:00"},{"$f":"Timesheet!B164","v":0}]
[{"$f":"Timesheet!C165","v":0},{"$f":"Timesheet!AK165","v":0},{"$f":"Timesheet!Z165","v":0},{"$f":"Timesheet!K165","v":"00:00:00"},{"$f":"Timesheet!B165","v":0}]
[{"$f":"Timesheet!C166","v":0},{"$f":"Timesheet!AK166","v":0},{"$f":"Timesheet!Z166","v":0},{"$f":"Timesheet!K166","v":"00:00:00"},{"$f":"Timesheet!B166","v":0}]
[{"$f":"Timesheet!C167","v":0},{"$f":"Timesheet!AK167","v":0},{"$f":"Timesheet!Z167","v":0},{"$f":"Timesheet!K167","v":"00:00:00"},{"$f":"Timesheet!B167","v":0}]
[{"$f":"Timesheet!C168","v":0},{"$f":"Timesheet!AK168","v":0},{"$f":"Timesheet!Z168","v":0},{"$f":"Timesheet!K168","v":"00:00:00"},{"$f":"Timesheet!B168","v":0}]
[{"$f":"Timesheet!C169","v":0},{"$f":"Timesheet!AK169","v":0},{"$f":"Timesheet!Z169","v":0},{"$f":"Timesheet!K169","v":"00:00:00"},{"$f":"Timesheet!B169","v":0}]
[{"$f":"Timesheet!C170","v":0},{"$f":"Timesheet!AK170","v":0},{"$f":"Timesheet!Z170","v":0},{"$f":"Timesheet!K170","v":"00:00:00"},{"$f":"Timesheet!B170","v":0}]
[{"$f":"Timesheet!C171","v":0},{"$f":"Timesheet!AK171","v":0},{"$f":"Timesheet!Z171","v":0},{"$f":"Timesheet!K171","v":"00:00:00"},{"$f":"Timesheet!B171","v":0}]
[{"$f":"Timesheet!C172","v":0},{"$f":"Timesheet!AK172","v":0},{"$f":"Timesheet!Z172","v":0},{"$f":"Timesheet!K172","v":"00:00:00"},{"$f":"Timesheet!B172","v":0}]
[{"$f":"Timesheet!C173","v":0},{"$f":"Timesheet!AK173","v":0},{"$f":"Timesheet!Z173","v":0},{"$f":"Timesheet!K173","v":"00:00:00"},{"$f":"Timesheet!B173","v":0}]
[{"$f":"Timesheet!C174","v":0},{"$f":"Timesheet!AK174","v":0},{"$f":"Timesheet!Z174","v":0},{"$f":"Timesheet!K174","v":"00:00:00"},{"$f":"Timesheet!B174","v":0}]
[{"$f":"Timesheet!C175","v":0},{"$f":"Timesheet!AK175","v":0},{"$f":"Timesheet!Z175","v":0},{"$f":"Timesheet!K175","v":"00:00:00"},{"$f":"Timesheet!B175","v":0}]
[{"$f":"Timesheet!C176","v":0},{"$f":"Timesheet!AK176","v":0},{"$f":"Timesheet!Z176","v":0},{"$f":"Timesheet!K176","v":"00:00:00"},{"$f":"Timesheet!B176","v":0}]
[{"$f":"Timesheet!C177","v":0},{"$f":"Timesheet!AK177","v":0},{"$f":"Timesheet!Z177","v":0},{"$f":"Timesheet!K177","v":"00:00:00"},{"$f":"Timesheet!B177","v":0}]
[{"$f":"Timesheet!C178","v":0},{"$f":"Timesheet!AK178","v":0},{"$f":"Timesheet!Z178","v":0},{"$f":"Timesheet!K178","v":"00:00:00"},{"$f":"Timesheet!B178","v":0}]
[{"$f":"Timesheet!C179","v":0},{"$f":"Timesheet!AK179","v":0},{"$f":"Timesheet!Z179","v":0},{"$f":"Timesheet!K179","v":"00:00:00"},{"$f":"Timesheet!B179","v":0}]
[{"$f":"Timesheet!C180","v":0},{"$f":"Timesheet!AK180","v":0},{"$f":"Timesheet!Z180","v":0},{"$f":"Timesheet!K180","v":"00:00:00"},{"$f":"Timesheet!B180","v":0}]
[{"$f":"Timesheet!C181","v":0},{"$f":"Timesheet!AK181","v":0},{"$f":"Timesheet!Z181","v":0},{"$f":"Timesheet!K181","v":"00:00:00"},{"$f":"Timesheet!B181","v":0}]
[{"$f":"Timesheet!C182","v":0},{"$f":"Timesheet!AK182","v":0},{"$f":"Timesheet!Z182","v":0},{"$f":"Timesheet!K182","v":"00:00:00"},{"$f":"Timesheet!B182","v":0}]
[{"$f":"Timesheet!C183","v":0},{"$f":"Timesheet!AK183","v":0},{"$f":"Timesheet!Z183","v":0},{"$f":"Timesheet!K183","v":"00:00:00"},{"$f":"Timesheet!B183","v":0}]
[{"$f":"Timesheet!C184","v":0},{"$f":"Timesheet!AK184","v":0},{"$f":"Timesheet!Z184","v":0},{"$f":"Timesheet!K184","v":"00:00:00"},{"$f":"Timesheet!B184","v":0}]
[{"$f":"Timesheet!C185","v":0},{"$f":"Timesheet!AK185","v":0},{"$f":"Timesheet!Z185","v":0},{"$f":"Timesheet!K185","v":"00:00:00"},{"$f":"Timesheet!B185","v":0}]
[{"$f":"Timesheet!C186","v":0},{"$f":"Timesheet!AK186","v":0},{"$f":"Timesheet!Z186","v":0},{"$f":"Timesheet!K186","v":"00:00:00"},{"$f":"Timesheet!B186","v":0}]
[{"$f":"Timesheet!C187","v":0},{"$f":"Timesheet!AK187","v":0},{"$f":"Timesheet!Z187","v":0},{"$f":"Timesheet!K187","v":"00:00:00"},{"$f":"Timesheet!B187","v":0}]
[{"$f":"Timesheet!C188","v":0},{"$f":"Timesheet!AK188","v":0},{"$f":"Timesheet!Z188","v":0},{"$f":"Timesheet!K188","v":"00:00:00"},{"$f":"Timesheet!B188","v":0}]
[{"$f":"Timesheet!C189","v":0},{"$f":"Timesheet!AK189","v":0},{"$f":"Timesheet!Z189","v":0},{"$f":"Timesheet!K189","v":"00:00:00"},{"$f":"Timesheet!B189","v":0}]
[{"$f":"Timesheet!C190","v":0},{"$f":"Timesheet!AK190","v":0},{"$f":"Timesheet!Z190","v":0},{"$f":"Timesheet!K190","v":"00:00:00"},{"$f":"Timesheet!B190","v":0}]
[{"$f":"Timesheet!C191","v":0},{"$f":"Timesheet!AK191","v":0},{"$f":"Timesheet!Z191","v":0},{"$f":"Timesheet!K191","v":"00:00:00"},{"$f":"Timesheet!B191","v":0}]
[{"$f":"Timesheet!C192","v":0},{"$f":"Timesheet!AK192","v":0},{"$f":"Timesheet!Z192","v":0},{"$f":"Timesheet!K192","v":"00:00:00"},{"$f":"Timesheet!B192","v":0}]
[{"$f":"Timesheet!C193","v":0},{"$f":"Timesheet!AK193","v":0},{"$f":"Timesheet!Z193","v":0},{"$f":"Timesheet!K193","v":"00:00:00"},{"$f":"Timesheet!B193","v":0}]
[{"$f":"Timesheet!C194","v":0},{"$f":"Timesheet!AK194","v":0},{"$f":"Timesheet!Z194","v":0},{"$f":"Timesheet!K194","v":"00:00:00"},{"$f":"Timesheet!B194","v":0}]
[{"$f":"Timesheet!C195","v":0},{"$f":"Timesheet!AK195","v":0},{"$f":"Timesheet!Z195","v":0},{"$f":"Timesheet!K195","v":"00:00:00"},{"$f":"Timesheet!B195","v":0}]
[{"$f":"Timesheet!C196","v":0},{"$f":"Timesheet!AK196","v":0},{"$f":"Timesheet!Z196","v":0},{"$f":"Timesheet!K196","v":"00:00:00"},{"$f":"Timesheet!B196","v":0}]
[{"$f":"Timesheet!C197","v":0},{"$f":"Timesheet!AK197","v":0},{"$f":"Timesheet!Z197","v":0},{"$f":"Timesheet!K197","v":"00:00:00"},{"$f":"Timesheet!B197","v":0}]
[{"$f":"Timesheet!C198","v":0},{"$f":"Timesheet!AK198","v":0},{"$f":"Timesheet!Z198","v":0},{"$f":"Timesheet!K198","v":"00:00:00"},{"$f":"Timesheet!B198","v":0}]
[{"$f":"Timesheet!C199","v":0},{"$f":"Timesheet!AK199","v":0},{"$f":"Timesheet!Z199","v":0},{"$f":"Timesheet!K199","v":"00:00:00"},{"$f":"Timesheet!B199","v":0}]
[{"$f":"Timesheet!C200","v":0},{"$f":"Timesheet!AK200","v":0},{"$f":"Timesheet!Z200","v":0},{"$f":"Timesheet!K200","v":"00:00:00"},{"$f":"Timesheet!B200","v":0}]
[{"$f":"Timesheet!C201","v":0},{"$f":"Timesheet!AK201","v":0},{"$f":"Timesheet!Z201","v":0},{"$f":"Timesheet!K201","v":"00:00:00"},{"$f":"Timesheet!B201","v":0}]
[{"$f":"Timesheet!C202","v":0},{"$f":"Timesheet!AK202","v":0},{"$f":"Timesheet!Z202","v":0},{"$f":"Timesheet!K202","v":"00:00:00"},{"$f":"Timesheet!B202","v":0}]
[{"$f":"Timesheet!C203","v":0},{"$f":"Timesheet!AK203","v":0},{"$f":"Timesheet!Z203","v":0},{"$f":"Timesheet!K203","v":"00:00:00"},{"$f":"Timesheet!B203","v":0}]
[{"$f":"Timesheet!C204","v":0},{"$f":"Timesheet!AK204","v":0},{"$f":"Timesheet!Z204","v":0},{"$f":"Timesheet!K204","v":"00:00:00"},{"$f":"Timesheet!B204","v":0}]
[{"$f":"Timesheet!C205","v":0},{"$f":"Timesheet!AK205","v":0},{"$f":"Timesheet!Z205","v":0},{"$f":"Timesheet!K205","v":"00:00:00"},{"$f":"Timesheet!B205","v":0}]
[{"$f":"Timesheet!C206","v":0},{"$f":"Timesheet!AK206","v":0},{"$f":"Timesheet!Z206","v":0},{"$f":"Timesheet!K206","v":"00:00:00"},{"$f":"Timesheet!B206","v":0}]
[{"$f":"Timesheet!C207","v":0},{"$f":"Timesheet!AK207","v":0},{"$f":"Timesheet!Z207","v":0},{"$f":"Timesheet!K207","v":"00:00:00"},{"$f":"Timesheet!B207","v":0}]
[{"$f":"Timesheet!C208","v":0},{"$f":"Timesheet!AK208","v":0},{"$f":"Timesheet!Z208","v":0},{"$f":"Timesheet!K208","v":"00:00:00"},{"$f":"Timesheet!B208","v":0}]
[{"$f":"Timesheet!C209","v":0},{"$f":"Timesheet!AK209","v":0},{"$f":"Timesheet!Z209","v":0},{"$f":"Timesheet!K209","v":"00:00:00"},{"$f":"Timesheet!B209","v":0}]
[{"$f":"Timesheet!C210","v":0},{"$f":"Timesheet!AK210","v":0},{"$f":"Timesheet!Z210","v":0},{"$f":"Timesheet!K210","v":"00:00:00"},{"$f":"Timesheet!B210","v":0}]
[{"$f":"Timesheet!C211","v":0},{"$f":"Timesheet!AK211","v":0},{"$f":"Timesheet!Z211","v":0},{"$f":"Timesheet!K211","v":"00:00:00"},{"$f":"Timesheet!B211","v":0}]
[{"$f":"Timesheet!C212","v":0},{"$f":"Timesheet!AK212","v":0},{"$f":"Timesheet!Z212","v":0},{"$f":"Timesheet!K212","v":"00:00:00"},{"$f":"Timesheet!B212","v":0}]
[{"$f":"Timesheet!C213","v":0},{"$f":"Timesheet!AK213","v":0},{"$f":"Timesheet!Z213","v":0},{"$f":"Timesheet!K213","v":"00:00:00"},{"$f":"Timesheet!B213","v":0}]
[{"$f":"Timesheet!C214","v":0},{"$f":"Timesheet!AK214","v":0},{"$f":"Timesheet!Z214","v":0},{"$f":"Timesheet!K214","v":"00:00:00"},{"$f":"Timesheet!B214","v":0}]
[{"$f":"Timesheet!C215","v":0},{"$f":"Timesheet!AK215","v":0},{"$f":"Timesheet!Z215","v":0},{"$f":"Timesheet!K215","v":"00:00:00"},{"$f":"Timesheet!B215","v":0}]
[{"$f":"Timesheet!C216","v":0},{"$f":"Timesheet!AK216","v":0},{"$f":"Timesheet!Z216","v":0},{"$f":"Timesheet!K216","v":"00:00:00"},{"$f":"Timesheet!B216","v":0}]
[{"$f":"Timesheet!C217","v":0},{"$f":"Timesheet!AK217","v":0},{"$f":"Timesheet!Z217","v":0},{"$f":"Timesheet!K217","v":"00:00:00"},{"$f":"Timesheet!B217","v":0}]
[{"$f":"Timesheet!C218","v":0},{"$f":"Timesheet!AK218","v":0},{"$f":"Timesheet!Z218","v":0},{"$f":"Timesheet!K218","v":"00:00:00"},{"$f":"Timesheet!B218","v":0}]
[{"$f":"Timesheet!C219","v":0},{"$f":"Timesheet!AK219","v":0},{"$f":"Timesheet!Z219","v":0},{"$f":"Timesheet!K219","v":"00:00:00"},{"$f":"Timesheet!B219","v":0}]
[{"$f":"Timesheet!C220","v":0},{"$f":"Timesheet!AK220","v":0},{"$f":"Timesheet!Z220","v":0},{"$f":"Timesheet!K220","v":"00:00:00"},{"$f":"Timesheet!B220","v":0}]
[{"$f":"Timesheet!C221","v":0},{"$f":"Timesheet!AK221","v":0},{"$f":"Timesheet!Z221","v":0},{"$f":"Timesheet!K221","v":"00:00:00"},{"$f":"Timesheet!B221","v":0}]
[{"$f":"Timesheet!C222","v":0},{"$f":"Timesheet!AK222","v":0},{"$f":"Timesheet!Z222","v":0},{"$f":"Timesheet!K222","v":"00:00:00"},{"$f":"Timesheet!B222","v":0}]
[{"$f":"Timesheet!C223","v":0},{"$f":"Timesheet!AK223","v":0},{"$f":"Timesheet!Z223","v":0},{"$f":"Timesheet!K223","v":"00:00:00"},{"$f":"Timesheet!B223","v":0}]
[{"$f":"Timesheet!C224","v":0},{"$f":"Timesheet!AK224","v":0},{"$f":"Timesheet!Z224","v":0},{"$f":"Timesheet!K224","v":"00:00:00"},{"$f":"Timesheet!B224","v":0}]
[{"$f":"Timesheet!C225","v":0},{"$f":"Timesheet!AK225","v":0},{"$f":"Timesheet!Z225","v":0},{"$f":"Timesheet!K225","v":"00:00:00"},{"$f":"Timesheet!B225","v":0}]
[{"$f":"Timesheet!C226","v":0},{"$f":"Timesheet!AK226","v":0},{"$f":"Timesheet!Z226","v":0},{"$f":"Timesheet!K226","v":"00:00:00"},{"$f":"Timesheet!B226","v":0}]
[{"$f":"Timesheet!C227","v":0},{"$f":"Timesheet!AK227","v":0},{"$f":"Timesheet!Z227","v":0},{"$f":"Timesheet!K227","v":"00:00:00"},{"$f":"Timesheet!B227","v":0}]
[{"$f":"Timesheet!C228","v":0},{"$f":"Timesheet!AK228","v":0},{"$f":"Timesheet!Z228","v":0},{"$f":"Timesheet!K228","v":"00:00:00"},{"$f":"Timesheet!B228","v":0}]
[{"$f":"Timesheet!C229","v":0},{"$f":"Timesheet!AK229","v":0},{"$f":"Timesheet!Z229","v":0},{"$f":"Timesheet!K229","v":"00:00:00"},{"$f":"Timesheet!B229","v":0}]
[{"$f":"Timesheet!C230","v":0},{"$f":"Timesheet!AK230","v":0},{"$f":"Timesheet!Z230","v":0},{"$f":"Timesheet!K230","v":"00:00:00"},{"$f":"Timesheet!B230","v":0}]
[{"$f":"Timesheet!C231","v":0},{"$f":"Timesheet!AK231","v":0},{"$f":"Timesheet!Z231","v":0},{"$f":"Timesheet!K231","v":"00:00:00"},{"$f":"Timesheet!B231","v":0}]
[{"$f":"Timesheet!C232","v":0},{"$f":"Timesheet!AK232","v":0},{"$f":"Timesheet!Z232","v":0},{"$f":"Timesheet!K232","v":"00:00:00"},{"$f":"Timesheet!B232","v":0}]
[{"$f":"Timesheet!C233","v":0},{"$f":"Timesheet!AK233","v":0},{"$f":"Timesheet!Z233","v":0},{"$f":"Timesheet!K233","v":"00:00:00"},{"$f":"Timesheet!B233","v":0}]
[{"$f":"Timesheet!C234","v":0},{"$f":"Timesheet!AK234","v":0},{"$f":"Timesheet!Z234","v":0},{"$f":"Timesheet!K234","v":"00:00:00"},{"$f":"Timesheet!B234","v":0}]
[{"$f":"Timesheet!C235","v":0},{"$f":"Timesheet!AK235","v":0},{"$f":"Timesheet!Z235","v":0},{"$f":"Timesheet!K235","v":"00:00:00"},{"$f":"Timesheet!B235","v":0}]
[{"$f":"Timesheet!C236","v":0},{"$f":"Timesheet!AK236","v":0},{"$f":"Timesheet!Z236","v":0},{"$f":"Timesheet!K236","v":"00:00:00"},{"$f":"Timesheet!B236","v":0}]
[{"$f":"Timesheet!C237","v":0},{"$f":"Timesheet!AK237","v":0},{"$f":"Timesheet!Z237","v":0},{"$f":"Timesheet!K237","v":"00:00:00"},{"$f":"Timesheet!B237","v":0}]
[{"$f":"Timesheet!C238","v":0},{"$f":"Timesheet!AK238","v":0},{"$f":"Timesheet!Z238","v":0},{"$f":"Timesheet!K238","v":"00:00:00"},{"$f":"Timesheet!B238","v":0}]
[{"$f":"Timesheet!C239","v":0},{"$f":"Timesheet!AK239","v":0},{"$f":"Timesheet!Z239","v":0},{"$f":"Timesheet!K239","v":"00:00:00"},{"$f":"Timesheet!B239","v":0}]
[{"$f":"Timesheet!C240","v":0},{"$f":"Timesheet!AK240","v":0},{"$f":"Timesheet!Z240","v":0},{"$f":"Timesheet!K240","v":"00:00:00"},{"$f":"Timesheet!B240","v":0}]
[{"$f":"Timesheet!C241","v":0},{"$f":"Timesheet!AK241","v":0},{"$f":"Timesheet!Z241","v":0},{"$f":"Timesheet!K241","v":"00:00:00"},{"$f":"Timesheet!B241","v":0}]
[{"$f":"Timesheet!C242","v":0},{"$f":"Timesheet!AK242","v":0},{"$f":"Timesheet!Z242","v":0},{"$f":"Timesheet!K242","v":"00:00:00"},{"$f":"Timesheet!B242","v":0}]
[{"$f":"Timesheet!C243","v":0},{"$f":"Timesheet!AK243","v":0},{"$f":"Timesheet!Z243","v":0},{"$f":"Timesheet!K243","v":"00:00:00"},{"$f":"Timesheet!B243","v":0}]
[{"$f":"Timesheet!C244","v":0},{"$f":"Timesheet!AK244","v":0},{"$f":"Timesheet!Z244","v":0},{"$f":"Timesheet!K244","v":"00:00:00"},{"$f":"Timesheet!B244","v":0}]
[{"$f":"Timesheet!C245","v":0},{"$f":"Timesheet!AK245","v":0},{"$f":"Timesheet!Z245","v":0},{"$f":"Timesheet!K245","v":"00:00:00"},{"$f":"Timesheet!B245","v":0}]
[{"$f":"Timesheet!C246","v":0},{"$f":"Timesheet!AK246","v":0},{"$f":"Timesheet!Z246","v":0},{"$f":"Timesheet!K246","v":"00:00:00"},{"$f":"Timesheet!B246","v":0}]
[{"$f":"Timesheet!C247","v":0},{"$f":"Timesheet!AK247","v":0},{"$f":"Timesheet!Z247","v":0},{"$f":"Timesheet!K247","v":"00:00:00"},{"$f":"Timesheet!B247","v":0}]
[{"$f":"Timesheet!C248","v":0},{"$f":"Timesheet!AK248","v":0},{"$f":"Timesheet!Z248","v":0},{"$f":"Timesheet!K248","v":"00:00:00"},{"$f":"Timesheet!B248","v":0}]
[{"$f":"Timesheet!C249","v":0},{"$f":"Timesheet!AK249","v":0},{"$f":"Timesheet!Z249","v":0},{"$f":"Timesheet!K249","v":"00:00:00"},{"$f":"Timesheet!B249","v":0}]
[{"$f":"Timesheet!C250","v":0},{"$f":"Timesheet!AK250","v":0},{"$f":"Timesheet!Z250","v":0},{"$f":"Timesheet!K250","v":"00:00:00"},{"$f":"Timesheet!B250","v":0}]
[{"$f":"Timesheet!C251","v":0},{"$f":"Timesheet!AK251","v":0},{"$f":"Timesheet!Z251","v":0},{"$f":"Timesheet!K251","v":"00:00:00"},{"$f":"Timesheet!B251","v":0}]
[{"$f":"Timesheet!C252","v":0},{"$f":"Timesheet!AK252","v":0},{"$f":"Timesheet!Z252","v":0},{"$f":"Timesheet!K252","v":"00:00:00"},{"$f":"Timesheet!B252","v":0}]
[{"$f":"Timesheet!C253","v":0},{"$f":"Timesheet!AK253","v":0},{"$f":"Timesheet!Z253","v":0},{"$f":"Timesheet!K253","v":"00:00:00"},{"$f":"Timesheet!B253","v":0}]
[{"$f":"Timesheet!C254","v":0},{"$f":"Timesheet!AK254","v":0},{"$f":"Timesheet!Z254","v":0},{"$f":"Timesheet!K254","v":"00:00:00"},{"$f":"Timesheet!B254","v":0}]
[{"$f":"Timesheet!C255","v":0},{"$f":"Timesheet!AK255","v":0},{"$f":"Timesheet!Z255","v":0},{"$f":"Timesheet!K255","v":"00:00:00"},{"$f":"Timesheet!B255","v":0}]
[{"$f":"Timesheet!C256","v":0},{"$f":"Timesheet!AK256","v":0},{"$f":"Timesheet!Z256","v":0},{"$f":"Timesheet!K256","v":"00:00:00"},{"$f":"Timesheet!B256","v":0}]
[{"$f":"Timesheet!C257","v":0},{"$f":"Timesheet!AK257","v":0},{"$f":"Timesheet!Z257","v":0},{"$f":"Timesheet!K257","v":"00:00:00"},{"$f":"Timesheet!B257","v":0}]
[{"$f":"Timesheet!C258","v":0},{"$f":"Timesheet!AK258","v":0},{"$f":"Timesheet!Z258","v":0},{"$f":"Timesheet!K258","v":"00:00:00"},{"$f":"Timesheet!B258","v":0}]
[{"$f":"Timesheet!C259","v":0},{"$f":"Timesheet!AK259","v":0},{"$f":"Timesheet!Z259","v":0},{"$f":"Timesheet!K259","v":"00:00:00"},{"$f":"Timesheet!B259","v":0}]
[{"$f":"Timesheet!C260","v":0},{"$f":"Timesheet!AK260","v":0},{"$f":"Timesheet!Z260","v":0},{"$f":"Timesheet!K260","v":"00:00:00"},{"$f":"Timesheet!B260","v":0}]
[{"$f":"Timesheet!C261","v":0},{"$f":"Timesheet!AK261","v":0},{"$f":"Timesheet!Z261","v":0},{"$f":"Timesheet!K261","v":"00:00:00"},{"$f":"Timesheet!B261","v":0}]
[{"$f":"Timesheet!C262","v":0},{"$f":"Timesheet!AK262","v":0},{"$f":"Timesheet!Z262","v":0},{"$f":"Timesheet!K262","v":"00:00:00"},{"$f":"Timesheet!B262","v":0}]
[{"$f":"Timesheet!C263","v":0},{"$f":"Timesheet!AK263","v":0},{"$f":"Timesheet!Z263","v":0},{"$f":"Timesheet!K263","v":"00:00:00"},{"$f":"Timesheet!B263","v":0}]
[{"$f":"Timesheet!C264","v":0},{"$f":"Timesheet!AK264","v":0},{"$f":"Timesheet!Z264","v":0},{"$f":"Timesheet!K264","v":"00:00:00"},{"$f":"Timesheet!B264","v":0}]
[{"$f":"Timesheet!C265","v":0},{"$f":"Timesheet!AK265","v":0},{"$f":"Timesheet!Z265","v":0},{"$f":"Timesheet!K265","v":"00:00:00"},{"$f":"Timesheet!B265","v":0}]
[{"$f":"Timesheet!C266","v":0},{"$f":"Timesheet!AK266","v":0},{"$f":"Timesheet!Z266","v":0},{"$f":"Timesheet!K266","v":"00:00:00"},{"$f":"Timesheet!B266","v":0}]
[{"$f":"Timesheet!C267","v":0},{"$f":"Timesheet!AK267","v":0},{"$f":"Timesheet!Z267","v":0},{"$f":"Timesheet!K267","v":"00:00:00"},{"$f":"Timesheet!B267","v":0}]
[{"$f":"Timesheet!C268","v":0},{"$f":"Timesheet!AK268","v":0},{"$f":"Timesheet!Z268","v":0},{"$f":"Timesheet!K268","v":"00:00:00"},{"$f":"Timesheet!B268","v":0}]
[{"$f":"Timesheet!C269","v":0},{"$f":"Timesheet!AK269","v":0},{"$f":"Timesheet!Z269","v":0},{"$f":"Timesheet!K269","v":"00:00:00"},{"$f":"Timesheet!B269","v":0}]
[{"$f":"Timesheet!C270","v":0},{"$f":"Timesheet!AK270","v":0},{"$f":"Timesheet!Z270","v":0},{"$f":"Timesheet!K270","v":"00:00:00"},{"$f":"Timesheet!B270","v":0}]
[{"$f":"Timesheet!C271","v":0},{"$f":"Timesheet!AK271","v":0},{"$f":"Timesheet!Z271","v":0},{"$f":"Timesheet!K271","v":"00:00:00"},{"$f":"Timesheet!B271","v":0}]
[{"$f":"Timesheet!C272","v":0},{"$f":"Timesheet!AK272","v":0},{"$f":"Timesheet!Z272","v":0},{"$f":"Timesheet!K272","v":"00:00:00"},{"$f":"Timesheet!B272","v":0}]
[{"$f":"Timesheet!C273","v":0},{"$f":"Timesheet!AK273","v":0},{"$f":"Timesheet!Z273","v":0},{"$f":"Timesheet!K273","v":"00:00:00"},{"$f":"Timesheet!B273","v":0}]
[{"$f":"Timesheet!C274","v":0},{"$f":"Timesheet!AK274","v":0},{"$f":"Timesheet!Z274","v":0},{"$f":"Timesheet!K274","v":"00:00:00"},{"$f":"Timesheet!B274","v":0}]
[{"$f":"Timesheet!C275","v":0},{"$f":"Timesheet!AK275","v":0},{"$f":"Timesheet!Z275","v":0},{"$f":"Timesheet!K275","v":"00:00:00"},{"$f":"Timesheet!B275","v":0}]
[{"$f":"Timesheet!C276","v":0},{"$f":"Timesheet!AK276","v":0},{"$f":"Timesheet!Z276","v":0},{"$f":"Timesheet!K276","v":"00:00:00"},{"$f":"Timesheet!B276","v":0}]
[{"$f":"Timesheet!C277","v":0},{"$f":"Timesheet!AK277","v":0},{"$f":"Timesheet!Z277","v":0},{"$f":"Timesheet!K277","v":"00:00:00"},{"$f":"Timesheet!B277","v":0}]
[{"$f":"Timesheet!C278","v":0},{"$f":"Timesheet!AK278","v":0},{"$f":"Timesheet!Z278","v":0},{"$f":"Timesheet!K278","v":"00:00:00"},{"$f":"Timesheet!B278","v":0}]
[{"$f":"Timesheet!C279","v":0},{"$f":"Timesheet!AK279","v":0},{"$f":"Timesheet!Z279","v":0},{"$f":"Timesheet!K279","v":"00:00:00"},{"$f":"Timesheet!B279","v":0}]
[{"$f":"Timesheet!C280","v":0},{"$f":"Timesheet!AK280","v":0},{"$f":"Timesheet!Z280","v":0},{"$f":"Timesheet!K280","v":"00:00:00"},{"$f":"Timesheet!B280","v":0}]
[{"$f":"Timesheet!C281","v":0},{"$f":"Timesheet!AK281","v":0},{"$f":"Timesheet!Z281","v":0},{"$f":"Timesheet!K281","v":"00:00:00"},{"$f":"Timesheet!B281","v":0}]
[{"$f":"Timesheet!C282","v":0},{"$f":"Timesheet!AK282","v":0},{"$f":"Timesheet!Z282","v":0},{"$f":"Timesheet!K282","v":"00:00:00"},{"$f":"Timesheet!B282","v":0}]
[{"$f":"Timesheet!C283","v":0},{"$f":"Timesheet!AK283","v":0},{"$f":"Timesheet!Z283","v":0},{"$f":"Timesheet!K283","v":"00:00:00"},{"$f":"Timesheet!B283","v":0}]
[{"$f":"Timesheet!C284","v":0},{"$f":"Timesheet!AK284","v":0},{"$f":"Timesheet!Z284","v":0},{"$f":"Timesheet!K284","v":"00:00:00"},{"$f":"Timesheet!B284","v":0}]
[{"$f":"Timesheet!C285","v":0},{"$f":"Timesheet!AK285","v":0},{"$f":"Timesheet!Z285","v":0},{"$f":"Timesheet!K285","v":"00:00:00"},{"$f":"Timesheet!B285","v":0}]
[{"$f":"Timesheet!C286","v":0},{"$f":"Timesheet!AK286","v":0},{"$f":"Timesheet!Z286","v":0},{"$f":"Timesheet!K286","v":"00:00:00"},{"$f":"Timesheet!B286","v":0}]
[{"$f":"Timesheet!C287","v":0},{"$f":"Timesheet!AK287","v":0},{"$f":"Timesheet!Z287","v":0},{"$f":"Timesheet!K287","v":"00:00:00"},{"$f":"Timesheet!B287","v":0}]
[{"$f":"Timesheet!C288","v":0},{"$f":"Timesheet!AK288","v":0},{"$f":"Timesheet!Z288","v":0},{"$f":"Timesheet!K288","v":"00:00:00"},{"$f":"Timesheet!B288","v":0}]
[{"$f":"Timesheet!C289","v":0},{"$f":"Timesheet!AK289","v":0},{"$f":"Timesheet!Z289","v":0},{"$f":"Timesheet!K289","v":"00:00:00"},{"$f":"Timesheet!B289","v":0}]
[{"$f":"Timesheet!C290","v":0},{"$f":"Timesheet!AK290","v":0},{"$f":"Timesheet!Z290","v":0},{"$f":"Timesheet!K290","v":"00:00:00"},{"$f":"Timesheet!B290","v":0}]
[{"$f":"Timesheet!C291","v":0},{"$f":"Timesheet!AK291","v":0},{"$f":"Timesheet!Z291","v":0},{"$f":"Timesheet!K291","v":"00:00:00"},{"$f":"Timesheet!B291","v":0}]
[{"$f":"Timesheet!C292","v":0},{"$f":"Timesheet!AK292","v":0},{"$f":"Timesheet!Z292","v":0},{"$f":"Timesheet!K292","v":"00:00:00"},{"$f":"Timesheet!B292","v":0}]
[{"$f":"Timesheet!C293","v":0},{"$f":"Timesheet!AK293","v":0},{"$f":"Timesheet!Z293","v":0},{"$f":"Timesheet!K293","v":"00:00:00"},{"$f":"Timesheet!B293","v":0}]
[{"$f":"Timesheet!C294","v":0},{"$f":"Timesheet!AK294","v":0},{"$f":"Timesheet!Z294","v":0},{"$f":"Timesheet!K294","v":"00:00:00"},{"$f":"Timesheet!B294","v":0}]
[{"$f":"Timesheet!C295","v":0},{"$f":"Timesheet!AK295","v":0},{"$f":"Timesheet!Z295","v":0},{"$f":"Timesheet!K295","v":"00:00:00"},{"$f":"Timesheet!B295","v":0}]
[{"$f":"Timesheet!C296","v":0},{"$f":"Timesheet!AK296","v":0},{"$f":"Timesheet!Z296","v":0},{"$f":"Timesheet!K296","v":"00:00:00"},{"$f":"Timesheet!B296","v":0}]
[{"$f":"Timesheet!C297","v":0},{"$f":"Timesheet!AK297","v":0},{"$f":"Timesheet!Z297","v":0},{"$f":"Timesheet!K297","v":"00:00:00"},{"$f":"Timesheet!B297","v":0}]
[{"$f":"Timesheet!C298","v":0},{"$f":"Timesheet!AK298","v":0},{"$f":"Timesheet!Z298","v":0},{"$f":"Timesheet!K298","v":"00:00:00"},{"$f":"Timesheet!B298","v":0}]
[{"$f":"Timesheet!C299","v":0},{"$f":"Timesheet!AK299","v":0},{"$f":"Timesheet!Z299","v":0},{"$f":"Timesheet!K299","v":"00:00:00"},{"$f":"Timesheet!B299","v":0}]
[{"$f":"Timesheet!C300","v":0},{"$f":"Timesheet!AK300","v":0},{"$f":"Timesheet!Z300","v":0},{"$f":"Timesheet!K300","v":"00:00:00"},{"$f":"Timesheet!B300","v":0}]
[{"$f":"Timesheet!C301","v":0},{"$f":"Timesheet!AK301","v":0},{"$f":"Timesheet!Z301","v":0},{"$f":"Timesheet!K301","v":"00:00:00"},{"$f":"Timesheet!B301","v":0}]
[{"$f":"Timesheet!C302","v":0},{"$f":"Timesheet!AK302","v":0},{"$f":"Timesheet!Z302","v":0},{"$f":"Timesheet!K302","v":"00:00:00"},{"$f":"Timesheet!B302","v":0}]
[{"$f":"Timesheet!C3","v":44789},{"$f":"Timesheet!AL3","v":0},{"$f":"Timesheet!AB3","v":0},{"$f":"Timesheet!K3","v":"00:00:00"},{"$f":"Timesheet!B3","v":"E33036"}]
[{"$f":"Timesheet!C4","v":39452},{"$f":"Timesheet!AL4","v":0},{"$f":"Timesheet!AB4","v":0},{"$f":"Timesheet!K4","v":"00:00:00"},{"$f":"Timesheet!B4","v":"E33036"}]
[{"$f":"Timesheet!C5","v":51119},{"$f":"Timesheet!AL5","v":0},{"$f":"Timesheet!AB5","v":0},{"$f":"Timesheet!K5","v":"00:00:00"},{"$f":"Timesheet!B5","v":"E33036"}]
[{"$f":"Timesheet!C6","v":20999},{"$f":"Timesheet!AL6","v":0},{"$f":"Timesheet!AB6","v":0},{"$f":"Timesheet!K6","v":"00:00:00"},{"$f":"Timesheet!B6","v":"E33036"}]
[{"$f":"Timesheet!C7","v":50140},{"$f":"Timesheet!AL7","v":0},{"$f":"Timesheet!AB7","v":0},{"$f":"Timesheet!K7","v":"00:00:00"},{"$f":"Timesheet!B7","v":"E33036"}]
[{"$f":"Timesheet!C8","v":41120},{"$f":"Timesheet!AL8","v":0},{"$f":"Timesheet!AB8","v":0},{"$f":"Timesheet!K8","v":"00:00:00"},{"$f":"Timesheet!B8","v":"E33036"}]
[{"$f":"Timesheet!C9","v":14019220},{"$f":"Timesheet!AL9","v":0},{"$f":"Timesheet!AB9","v":0},{"$f":"Timesheet!K9","v":"00:00:00"},{"$f":"Timesheet!B9","v":"E33036"}]
[{"$f":"Timesheet!C10","v":33161},{"$f":"Timesheet!AL10","v":0},{"$f":"Timesheet!AB10","v":0},{"$f":"Timesheet!K10","v":"00:00:00"},{"$f":"Timesheet!B10","v":"E33036"}]
[{"$f":"Timesheet!C11","v":44988},{"$f":"Timesheet!AL11","v":0},{"$f":"Timesheet!AB11","v":0},{"$f":"Timesheet!K11","v":"00:00:00"},{"$f":"Timesheet!B11","v":"E33036"}]
[{"$f":"Timesheet!C12","v":19061},{"$f":"Timesheet!AL12","v":0},{"$f":"Timesheet!AB12","v":0},{"$f":"Timesheet!K12","v":"00:00:00"},{"$f":"Timesheet!B12","v":"E33036"}]
[{"$f":"Timesheet!C13","v":42125},{"$f":"Timesheet!AL13","v":0},{"$f":"Timesheet!AB13","v":0},{"$f":"Timesheet!K13","v":"00:00:00"},{"$f":"Timesheet!B13","v":"E33036"}]
[{"$f":"Timesheet!C14","v":35616},{"$f":"Timesheet!AL14","v":0},{"$f":"Timesheet!AB14","v":0},{"$f":"Timesheet!K14","v":"00:00:00"},{"$f":"Timesheet!B14","v":"E33036"}]
[{"$f":"Timesheet!C15","v":11630},{"$f":"Timesheet!AL15","v":0},{"$f":"Timesheet!AB15","v":0},{"$f":"Timesheet!K15","v":"00:00:00"},{"$f":"Timesheet!B15","v":"E33036"}]
[{"$f":"Timesheet!C16","v":33804},{"$f":"Timesheet!AL16","v":0},{"$f":"Timesheet!AB16","v":0},{"$f":"Timesheet!K16","v":"00:00:00"},{"$f":"Timesheet!B16","v":"E33036"}]
[{"$f":"Timesheet!C17","v":11681},{"$f":"Timesheet!AL17","v":0},{"$f":"Timesheet!AB17","v":0},{"$f":"Timesheet!K17","v":"00:00:00"},{"$f":"Timesheet!B17","v":"E33036"}]
[{"$f":"Timesheet!C18","v":51311},{"$f":"Timesheet!AL18","v":0},{"$f":"Timesheet!AB18","v":0},{"$f":"Timesheet!K18","v":"00:00:00"},{"$f":"Timesheet!B18","v":"E33036"}]
[{"$f":"Timesheet!C19","v":19209},{"$f":"Timesheet!AL19","v":0},{"$f":"Timesheet!AB19","v":0},{"$f":"Timesheet!K19","v":"00:00:00"},{"$f":"Timesheet!B19","v":"E33036"}]
[{"$f":"Timesheet!C20","v":40516},{"$f":"Timesheet!AL20","v":0},{"$f":"Timesheet!AB20","v":0},{"$f":"Timesheet!K20","v":"00:00:00"},{"$f":"Timesheet!B20","v":"E33036"}]
[{"$f":"Timesheet!C21","v":42806},{"$f":"Timesheet!AL21","v":0},{"$f":"Timesheet!AB21","v":0},{"$f":"Timesheet!K21","v":"00:00:00"},{"$f":"Timesheet!B21","v":"E33036"}]
[{"$f":"Timesheet!C22","v":47495},{"$f":"Timesheet!AL22","v":0},{"$f":"Timesheet!AB22","v":0},{"$f":"Timesheet!K22","v":"00:00:00"},{"$f":"Timesheet!B22","v":"E33036"}]
[{"$f":"Timesheet!C23","v":38391},{"$f":"Timesheet!AL23","v":0},{"$f":"Timesheet!AB23","v":0},{"$f":"Timesheet!K23","v":"00:00:00"},{"$f":"Timesheet!B23","v":"E33036"}]
[{"$f":"Timesheet!C24","v":28706},{"$f":"Timesheet!AL24","v":0},{"$f":"Timesheet!AB24","v":0},{"$f":"Timesheet!K24","v":"00:00:00"},{"$f":"Timesheet!B24","v":"E33036"}]
[{"$f":"Timesheet!C25","v":44672},{"$f":"Timesheet!AL25","v":0},{"$f":"Timesheet!AB25","v":0},{"$f":"Timesheet!K25","v":"00:00:00"},{"$f":"Timesheet!B25","v":"E33036"}]
[{"$f":"Timesheet!C26","v":14289262},{"$f":"Timesheet!AL26","v":0},{"$f":"Timesheet!AB26","v":0},{"$f":"Timesheet!K26","v":"00:00:00"},{"$f":"Timesheet!B26","v":"E33036"}]
[{"$f":"Timesheet!C27","v":18068},{"$f":"Timesheet!AL27","v":0},{"$f":"Timesheet!AB27","v":0},{"$f":"Timesheet!K27","v":"00:00:00"},{"$f":"Timesheet!B27","v":"E33036"}]
[{"$f":"Timesheet!C28","v":13209997},{"$f":"Timesheet!AL28","v":0},{"$f":"Timesheet!AB28","v":0},{"$f":"Timesheet!K28","v":"00:00:00"},{"$f":"Timesheet!B28","v":"E33036"}]
[{"$f":"Timesheet!C29","v":59},{"$f":"Timesheet!AL29","v":0},{"$f":"Timesheet!AB29","v":0},{"$f":"Timesheet!K29","v":"00:00:00"},{"$f":"Timesheet!B29","v":"E33036"}]
[{"$f":"Timesheet!C30","v":29923},{"$f":"Timesheet!AL30","v":0},{"$f":"Timesheet!AB30","v":0},{"$f":"Timesheet!K30","v":"00:00:00"},{"$f":"Timesheet!B30","v":"E33036"}]
[{"$f":"Timesheet!C31","v":21790},{"$f":"Timesheet!AL31","v":0},{"$f":"Timesheet!AB31","v":0},{"$f":"Timesheet!K31","v":"00:00:00"},{"$f":"Timesheet!B31","v":"E33036"}]
[{"$f":"Timesheet!C32","v":13016632},{"$f":"Timesheet!AL32","v":0},{"$f":"Timesheet!AB32","v":0},{"$f":"Timesheet!K32","v":"00:00:00"},{"$f":"Timesheet!B32","v":"E33036"}]
[{"$f":"Timesheet!C33","v":13616632},{"$f":"Timesheet!AL33","v":0},{"$f":"Timesheet!AB33","v":0},{"$f":"Timesheet!K33","v":"00:00:00"},{"$f":"Timesheet!B33","v":"E33036"}]
[{"$f":"Timesheet!C34","v":40046},{"$f":"Timesheet!AL34","v":0},{"$f":"Timesheet!AB34","v":0},{"$f":"Timesheet!K34","v":"00:00:00"},{"$f":"Timesheet!B34","v":"E33036"}]
[{"$f":"Timesheet!C35","v":18140},{"$f":"Timesheet!AL35","v":0},{"$f":"Timesheet!AB35","v":0},{"$f":"Timesheet!K35","v":"00:00:00"},{"$f":"Timesheet!B35","v":"E33036"}]
[{"$f":"Timesheet!C36","v":9922},{"$f":"Timesheet!AL36","v":0},{"$f":"Timesheet!AB36","v":0},{"$f":"Timesheet!K36","v":"00:00:00"},{"$f":"Timesheet!B36","v":"E33036"}]
[{"$f":"Timesheet!C37","v":34724},{"$f":"Timesheet!AL37","v":0},{"$f":"Timesheet!AB37","v":0},{"$f":"Timesheet!K37","v":"00:00:00"},{"$f":"Timesheet!B37","v":"E33036"}]
[{"$f":"Timesheet!C38","v":20933},{"$f":"Timesheet!AL38","v":0},{"$f":"Timesheet!AB38","v":0},{"$f":"Timesheet!K38","v":"00:00:00"},{"$f":"Timesheet!B38","v":"E33036"}]
[{"$f":"Timesheet!C39","v":36025},{"$f":"Timesheet!AL39","v":0},{"$f":"Timesheet!AB39","v":0},{"$f":"Timesheet!K39","v":"00:00:00"},{"$f":"Timesheet!B39","v":"E33036"}]
[{"$f":"Timesheet!C40","v":41681},{"$f":"Timesheet!AL40","v":0},{"$f":"Timesheet!AB40","v":0},{"$f":"Timesheet!K40","v":"00:00:00"},{"$f":"Timesheet!B40","v":"E33036"}]
[{"$f":"Timesheet!C41","v":42644},{"$f":"Timesheet!AL41","v":0},{"$f":"Timesheet!AB41","v":0},{"$f":"Timesheet!K41","v":"00:00:00"},{"$f":"Timesheet!B41","v":"E33036"}]
[{"$f":"Timesheet!C42","v":49476},{"$f":"Timesheet!AL42","v":0},{"$f":"Timesheet!AB42","v":0},{"$f":"Timesheet!K42","v":"00:00:00"},{"$f":"Timesheet!B42","v":"E33036"}]
[{"$f":"Timesheet!C43","v":50978},{"$f":"Timesheet!AL43","v":0},{"$f":"Timesheet!AB43","v":0},{"$f":"Timesheet!K43","v":"00:00:00"},{"$f":"Timesheet!B43","v":"E33036"}]
[{"$f":"Timesheet!C44","v":41705},{"$f":"Timesheet!AL44","v":0},{"$f":"Timesheet!AB44","v":0},{"$f":"Timesheet!K44","v":"00:00:00"},{"$f":"Timesheet!B44","v":"E33036"}]
[{"$f":"Timesheet!C45","v":47311},{"$f":"Timesheet!AL45","v":0},{"$f":"Timesheet!AB45","v":0},{"$f":"Timesheet!K45","v":"00:00:00"},{"$f":"Timesheet!B45","v":"E33036"}]
[{"$f":"Timesheet!C46","v":36728},{"$f":"Timesheet!AL46","v":0},{"$f":"Timesheet!AB46","v":0},{"$f":"Timesheet!K46","v":"00:00:00"},{"$f":"Timesheet!B46","v":"E33036"}]
[{"$f":"Timesheet!C47","v":51863},{"$f":"Timesheet!AL47","v":0},{"$f":"Timesheet!AB47","v":0},{"$f":"Timesheet!K47","v":"19.10.2023"},{"$f":"Timesheet!B47","v":"E33036"}]
[{"$f":"Timesheet!C48","v":46769},{"$f":"Timesheet!AL48","v":0},{"$f":"Timesheet!AB48","v":0},{"$f":"Timesheet!K48","v":"00:00:00"},{"$f":"Timesheet!B48","v":"E33036"}]
[{"$f":"Timesheet!C49","v":16845},{"$f":"Timesheet!AL49","v":0},{"$f":"Timesheet!AB49","v":0},{"$f":"Timesheet!K49","v":"00:00:00"},{"$f":"Timesheet!B49","v":"E33036"}]
[{"$f":"Timesheet!C50","v":33960},{"$f":"Timesheet!AL50","v":0},{"$f":"Timesheet!AB50","v":0},{"$f":"Timesheet!K50","v":"00:00:00"},{"$f":"Timesheet!B50","v":"E33036"}]
[{"$f":"Timesheet!C51","v":9019},{"$f":"Timesheet!AL51","v":0},{"$f":"Timesheet!AB51","v":0},{"$f":"Timesheet!K51","v":"00:00:00"},{"$f":"Timesheet!B51","v":"E33036"}]
[{"$f":"Timesheet!C52","v":20207},{"$f":"Timesheet!AL52","v":0},{"$f":"Timesheet!AB52","v":0},{"$f":"Timesheet!K52","v":"00:00:00"},{"$f":"Timesheet!B52","v":"E33036"}]
[{"$f":"Timesheet!C53","v":46771},{"$f":"Timesheet!AL53","v":0},{"$f":"Timesheet!AB53","v":0},{"$f":"Timesheet!K53","v":"00:00:00"},{"$f":"Timesheet!B53","v":"E33036"}]
[{"$f":"Timesheet!C54","v":14387314},{"$f":"Timesheet!AL54","v":0},{"$f":"Timesheet!AB54","v":0},{"$f":"Timesheet!K54","v":"00:00:00"},{"$f":"Timesheet!B54","v":"E33036"}]
[{"$f":"Timesheet!C55","v":38898},{"$f":"Timesheet!AL55","v":0},{"$f":"Timesheet!AB55","v":0},{"$f":"Timesheet!K55","v":"00:00:00"},{"$f":"Timesheet!B55","v":"E33036"}]
[{"$f":"Timesheet!C56","v":14016208},{"$f":"Timesheet!AL56","v":0},{"$f":"Timesheet!AB56","v":0},{"$f":"Timesheet!K56","v":"00:00:00"},{"$f":"Timesheet!B56","v":"E33036"}]
[{"$f":"Timesheet!C57","v":38962},{"$f":"Timesheet!AL57","v":0},{"$f":"Timesheet!AB57","v":0},{"$f":"Timesheet!K57","v":"00:00:00"},{"$f":"Timesheet!B57","v":"E33036"}]
[{"$f":"Timesheet!C58","v":39361},{"$f":"Timesheet!AL58","v":0},{"$f":"Timesheet!AB58","v":0},{"$f":"Timesheet!K58","v":"00:00:00"},{"$f":"Timesheet!B58","v":"E33036"}]
[{"$f":"Timesheet!C59","v":37015},{"$f":"Timesheet!AL59","v":0},{"$f":"Timesheet!AB59","v":0},{"$f":"Timesheet!K59","v":"00:00:00"},{"$f":"Timesheet!B59","v":"E33036"}]
[{"$f":"Timesheet!C60","v":29683},{"$f":"Timesheet!AL60","v":0},{"$f":"Timesheet!AB60","v":0},{"$f":"Timesheet!K60","v":"00:00:00"},{"$f":"Timesheet!B60","v":"E33036"}]
[{"$f":"Timesheet!C61","v":23115},{"$f":"Timesheet!AL61","v":0},{"$f":"Timesheet!AB61","v":0},{"$f":"Timesheet!K61","v":"00:00:00"},{"$f":"Timesheet!B61","v":"E33036"}]
[{"$f":"Timesheet!C62","v":14037690},{"$f":"Timesheet!AL62","v":0},{"$f":"Timesheet!AB62","v":0},{"$f":"Timesheet!K62","v":"00:00:00"},{"$f":"Timesheet!B62","v":"E33036"}]
[{"$f":"Timesheet!C63","v":12174},{"$f":"Timesheet!AL63","v":0},{"$f":"Timesheet!AB63","v":0},{"$f":"Timesheet!K63","v":"00:00:00"},{"$f":"Timesheet!B63","v":"E33036"}]
[{"$f":"Timesheet!C64","v":13009},{"$f":"Timesheet!AL64","v":0},{"$f":"Timesheet!AB64","v":0},{"$f":"Timesheet!K64","v":"00:00:00"},{"$f":"Timesheet!B64","v":"E33036"}]
[{"$f":"Timesheet!C65","v":51874},{"$f":"Timesheet!AL65","v":0},{"$f":"Timesheet!AB65","v":0},{"$f":"Timesheet!K65","v":"00:00:00"},{"$f":"Timesheet!B65","v":"E33036"}]
[{"$f":"Timesheet!C66","v":45964},{"$f":"Timesheet!AL66","v":0},{"$f":"Timesheet!AB66","v":0},{"$f":"Timesheet!K66","v":"00:00:00"},{"$f":"Timesheet!B66","v":"E33036"}]
[{"$f":"Timesheet!C67","v":54194},{"$f":"Timesheet!AL67","v":0},{"$f":"Timesheet!AB67","v":0},{"$f":"Timesheet!K67","v":"00:00:00"},{"$f":"Timesheet!B67","v":"E33036"}]
[{"$f":"Timesheet!C68","v":14299640},{"$f":"Timesheet!AL68","v":0},{"$f":"Timesheet!AB68","v":0},{"$f":"Timesheet!K68","v":"00:00:00"},{"$f":"Timesheet!B68","v":"E33036"}]
[{"$f":"Timesheet!C69","v":28604},{"$f":"Timesheet!AL69","v":0},{"$f":"Timesheet!AB69","v":0},{"$f":"Timesheet!K69","v":"00:00:00"},{"$f":"Timesheet!B69","v":"E33036"}]
[{"$f":"Timesheet!C70","v":28602},{"$f":"Timesheet!AL70","v":0},{"$f":"Timesheet!AB70","v":0},{"$f":"Timesheet!K70","v":"00:00:00"},{"$f":"Timesheet!B70","v":"E33036"}]
[{"$f":"Timesheet!C71","v":28989},{"$f":"Timesheet!AL71","v":0},{"$f":"Timesheet!AB71","v":0},{"$f":"Timesheet!K71","v":"00:00:00"},{"$f":"Timesheet!B71","v":"E33036"}]
[{"$f":"Timesheet!C72","v":28779},{"$f":"Timesheet!AL72","v":0},{"$f":"Timesheet!AB72","v":0},{"$f":"Timesheet!K72","v":"00:00:00"},{"$f":"Timesheet!B72","v":"E33036"}]
[{"$f":"Timesheet!C73","v":20013},{"$f":"Timesheet!AL73","v":0},{"$f":"Timesheet!AB73","v":0},{"$f":"Timesheet!K73","v":"00:00:00"},{"$f":"Timesheet!B73","v":"E33036"}]
[{"$f":"Timesheet!C74","v":0},{"$f":"Timesheet!AL74","v":0},{"$f":"Timesheet!AB74","v":0},{"$f":"Timesheet!K74","v":"00:00:00"},{"$f":"Timesheet!B74","v":0}]
[{"$f":"Timesheet!C75","v":0},{"$f":"Timesheet!AL75","v":0},{"$f":"Timesheet!AB75","v":0},{"$f":"Timesheet!K75","v":"00:00:00"},{"$f":"Timesheet!B75","v":0}]
[{"$f":"Timesheet!C76","v":0},{"$f":"Timesheet!AL76","v":0},{"$f":"Timesheet!AB76","v":0},{"$f":"Timesheet!K76","v":"00:00:00"},{"$f":"Timesheet!B76","v":0}]
[{"$f":"Timesheet!C77","v":0},{"$f":"Timesheet!AL77","v":0},{"$f":"Timesheet!AB77","v":0},{"$f":"Timesheet!K77","v":"00:00:00"},{"$f":"Timesheet!B77","v":0}]
[{"$f":"Timesheet!C78","v":0},{"$f":"Timesheet!AL78","v":0},{"$f":"Timesheet!AB78","v":0},{"$f":"Timesheet!K78","v":"00:00:00"},{"$f":"Timesheet!B78","v":0}]
[{"$f":"Timesheet!C79","v":0},{"$f":"Timesheet!AL79","v":0},{"$f":"Timesheet!AB79","v":0},{"$f":"Timesheet!K79","v":"00:00:00"},{"$f":"Timesheet!B79","v":0}]
[{"$f":"Timesheet!C80","v":0},{"$f":"Timesheet!AL80","v":0},{"$f":"Timesheet!AB80","v":0},{"$f":"Timesheet!K80","v":"00:00:00"},{"$f":"Timesheet!B80","v":0}]
[{"$f":"Timesheet!C81","v":0},{"$f":"Timesheet!AL81","v":0},{"$f":"Timesheet!AB81","v":0},{"$f":"Timesheet!K81","v":"00:00:00"},{"$f":"Timesheet!B81","v":0}]
[{"$f":"Timesheet!C82","v":0},{"$f":"Timesheet!AL82","v":0},{"$f":"Timesheet!AB82","v":0},{"$f":"Timesheet!K82","v":"00:00:00"},{"$f":"Timesheet!B82","v":0}]
[{"$f":"Timesheet!C83","v":0},{"$f":"Timesheet!AL83","v":0},{"$f":"Timesheet!AB83","v":0},{"$f":"Timesheet!K83","v":"00:00:00"},{"$f":"Timesheet!B83","v":0}]
[{"$f":"Timesheet!C84","v":0},{"$f":"Timesheet!AL84","v":0},{"$f":"Timesheet!AB84","v":0},{"$f":"Timesheet!K84","v":"00:00:00"},{"$f":"Timesheet!B84","v":0}]
[{"$f":"Timesheet!C85","v":0},{"$f":"Timesheet!AL85","v":0},{"$f":"Timesheet!AB85","v":0},{"$f":"Timesheet!K85","v":"00:00:00"},{"$f":"Timesheet!B85","v":0}]
[{"$f":"Timesheet!C86","v":0},{"$f":"Timesheet!AL86","v":0},{"$f":"Timesheet!AB86","v":0},{"$f":"Timesheet!K86","v":"00:00:00"},{"$f":"Timesheet!B86","v":0}]
[{"$f":"Timesheet!C87","v":0},{"$f":"Timesheet!AL87","v":0},{"$f":"Timesheet!AB87","v":0},{"$f":"Timesheet!K87","v":"00:00:00"},{"$f":"Timesheet!B87","v":0}]
[{"$f":"Timesheet!C88","v":0},{"$f":"Timesheet!AL88","v":0},{"$f":"Timesheet!AB88","v":0},{"$f":"Timesheet!K88","v":"00:00:00"},{"$f":"Timesheet!B88","v":0}]
[{"$f":"Timesheet!C89","v":0},{"$f":"Timesheet!AL89","v":0},{"$f":"Timesheet!AB89","v":0},{"$f":"Timesheet!K89","v":"00:00:00"},{"$f":"Timesheet!B89","v":0}]
[{"$f":"Timesheet!C90","v":0},{"$f":"Timesheet!AL90","v":0},{"$f":"Timesheet!AB90","v":0},{"$f":"Timesheet!K90","v":"00:00:00"},{"$f":"Timesheet!B90","v":0}]
[{"$f":"Timesheet!C91","v":0},{"$f":"Timesheet!AL91","v":0},{"$f":"Timesheet!AB91","v":0},{"$f":"Timesheet!K91","v":"00:00:00"},{"$f":"Timesheet!B91","v":0}]
[{"$f":"Timesheet!C92","v":0},{"$f":"Timesheet!AL92","v":0},{"$f":"Timesheet!AB92","v":0},{"$f":"Timesheet!K92","v":"00:00:00"},{"$f":"Timesheet!B92","v":0}]
[{"$f":"Timesheet!C93","v":0},{"$f":"Timesheet!AL93","v":0},{"$f":"Timesheet!AB93","v":0},{"$f":"Timesheet!K93","v":"00:00:00"},{"$f":"Timesheet!B93","v":0}]
[{"$f":"Timesheet!C94","v":0},{"$f":"Timesheet!AL94","v":0},{"$f":"Timesheet!AB94","v":0},{"$f":"Timesheet!K94","v":"00:00:00"},{"$f":"Timesheet!B94","v":0}]
[{"$f":"Timesheet!C95","v":0},{"$f":"Timesheet!AL95","v":0},{"$f":"Timesheet!AB95","v":0},{"$f":"Timesheet!K95","v":"00:00:00"},{"$f":"Timesheet!B95","v":0}]
[{"$f":"Timesheet!C96","v":0},{"$f":"Timesheet!AL96","v":0},{"$f":"Timesheet!AB96","v":0},{"$f":"Timesheet!K96","v":"00:00:00"},{"$f":"Timesheet!B96","v":0}]
[{"$f":"Timesheet!C97","v":0},{"$f":"Timesheet!AL97","v":0},{"$f":"Timesheet!AB97","v":0},{"$f":"Timesheet!K97","v":"00:00:00"},{"$f":"Timesheet!B97","v":0}]
[{"$f":"Timesheet!C98","v":0},{"$f":"Timesheet!AL98","v":0},{"$f":"Timesheet!AB98","v":0},{"$f":"Timesheet!K98","v":"00:00:00"},{"$f":"Timesheet!B98","v":0}]
[{"$f":"Timesheet!C99","v":0},{"$f":"Timesheet!AL99","v":0},{"$f":"Timesheet!AB99","v":0},{"$f":"Timesheet!K99","v":"00:00:00"},{"$f":"Timesheet!B99","v":0}]
[{"$f":"Timesheet!C100","v":0},{"$f":"Timesheet!AL100","v":0},{"$f":"Timesheet!AB100","v":0},{"$f":"Timesheet!K100","v":"00:00:00"},{"$f":"Timesheet!B100","v":0}]
[{"$f":"Timesheet!C101","v":0},{"$f":"Timesheet!AL101","v":0},{"$f":"Timesheet!AB101","v":0},{"$f":"Timesheet!K101","v":"00:00:00"},{"$f":"Timesheet!B101","v":0}]
[{"$f":"Timesheet!C102","v":0},{"$f":"Timesheet!AL102","v":0},{"$f":"Timesheet!AB102","v":0},{"$f":"Timesheet!K102","v":"00:00:00"},{"$f":"Timesheet!B102","v":0}]
[{"$f":"Timesheet!C103","v":0},{"$f":"Timesheet!AL103","v":0},{"$f":"Timesheet!AB103","v":0},{"$f":"Timesheet!K103","v":"00:00:00"},{"$f":"Timesheet!B103","v":0}]
[{"$f":"Timesheet!C104","v":0},{"$f":"Timesheet!AL104","v":0},{"$f":"Timesheet!AB104","v":0},{"$f":"Timesheet!K104","v":"00:00:00"},{"$f":"Timesheet!B104","v":0}]
[{"$f":"Timesheet!C105","v":0},{"$f":"Timesheet!AL105","v":0},{"$f":"Timesheet!AB105","v":0},{"$f":"Timesheet!K105","v":"00:00:00"},{"$f":"Timesheet!B105","v":0}]
[{"$f":"Timesheet!C106","v":0},{"$f":"Timesheet!AL106","v":0},{"$f":"Timesheet!AB106","v":0},{"$f":"Timesheet!K106","v":"00:00:00"},{"$f":"Timesheet!B106","v":0}]
[{"$f":"Timesheet!C107","v":0},{"$f":"Timesheet!AL107","v":0},{"$f":"Timesheet!AB107","v":0},{"$f":"Timesheet!K107","v":"00:00:00"},{"$f":"Timesheet!B107","v":0}]
[{"$f":"Timesheet!C108","v":0},{"$f":"Timesheet!AL108","v":0},{"$f":"Timesheet!AB108","v":0},{"$f":"Timesheet!K108","v":"00:00:00"},{"$f":"Timesheet!B108","v":0}]
[{"$f":"Timesheet!C109","v":0},{"$f":"Timesheet!AL109","v":0},{"$f":"Timesheet!AB109","v":0},{"$f":"Timesheet!K109","v":"00:00:00"},{"$f":"Timesheet!B109","v":0}]
[{"$f":"Timesheet!C110","v":0},{"$f":"Timesheet!AL110","v":0},{"$f":"Timesheet!AB110","v":0},{"$f":"Timesheet!K110","v":"00:00:00"},{"$f":"Timesheet!B110","v":0}]
[{"$f":"Timesheet!C111","v":0},{"$f":"Timesheet!AL111","v":0},{"$f":"Timesheet!AB111","v":0},{"$f":"Timesheet!K111","v":"00:00:00"},{"$f":"Timesheet!B111","v":0}]
[{"$f":"Timesheet!C112","v":0},{"$f":"Timesheet!AL112","v":0},{"$f":"Timesheet!AB112","v":0},{"$f":"Timesheet!K112","v":"00:00:00"},{"$f":"Timesheet!B112","v":0}]
[{"$f":"Timesheet!C113","v":0},{"$f":"Timesheet!AL113","v":0},{"$f":"Timesheet!AB113","v":0},{"$f":"Timesheet!K113","v":"00:00:00"},{"$f":"Timesheet!B113","v":0}]
[{"$f":"Timesheet!C114","v":0},{"$f":"Timesheet!AL114","v":0},{"$f":"Timesheet!AB114","v":0},{"$f":"Timesheet!K114","v":"00:00:00"},{"$f":"Timesheet!B114","v":0}]
[{"$f":"Timesheet!C115","v":0},{"$f":"Timesheet!AL115","v":0},{"$f":"Timesheet!AB115","v":0},{"$f":"Timesheet!K115","v":"00:00:00"},{"$f":"Timesheet!B115","v":0}]
[{"$f":"Timesheet!C116","v":0},{"$f":"Timesheet!AL116","v":0},{"$f":"Timesheet!AB116","v":0},{"$f":"Timesheet!K116","v":"00:00:00"},{"$f":"Timesheet!B116","v":0}]
[{"$f":"Timesheet!C117","v":0},{"$f":"Timesheet!AL117","v":0},{"$f":"Timesheet!AB117","v":0},{"$f":"Timesheet!K117","v":"00:00:00"},{"$f":"Timesheet!B117","v":0}]
[{"$f":"Timesheet!C118","v":0},{"$f":"Timesheet!AL118","v":0},{"$f":"Timesheet!AB118","v":0},{"$f":"Timesheet!K118","v":"00:00:00"},{"$f":"Timesheet!B118","v":0}]
[{"$f":"Timesheet!C119","v":0},{"$f":"Timesheet!AL119","v":0},{"$f":"Timesheet!AB119","v":0},{"$f":"Timesheet!K119","v":"00:00:00"},{"$f":"Timesheet!B119","v":0}]
[{"$f":"Timesheet!C120","v":0},{"$f":"Timesheet!AL120","v":0},{"$f":"Timesheet!AB120","v":0},{"$f":"Timesheet!K120","v":"00:00:00"},{"$f":"Timesheet!B120","v":0}]
[{"$f":"Timesheet!C121","v":0},{"$f":"Timesheet!AL121","v":0},{"$f":"Timesheet!AB121","v":0},{"$f":"Timesheet!K121","v":"00:00:00"},{"$f":"Timesheet!B121","v":0}]
[{"$f":"Timesheet!C122","v":0},{"$f":"Timesheet!AL122","v":0},{"$f":"Timesheet!AB122","v":0},{"$f":"Timesheet!K122","v":"00:00:00"},{"$f":"Timesheet!B122","v":0}]
[{"$f":"Timesheet!C123","v":0},{"$f":"Timesheet!AL123","v":0},{"$f":"Timesheet!AB123","v":0},{"$f":"Timesheet!K123","v":"00:00:00"},{"$f":"Timesheet!B123","v":0}]
[{"$f":"Timesheet!C124","v":0},{"$f":"Timesheet!AL124","v":0},{"$f":"Timesheet!AB124","v":0},{"$f":"Timesheet!K124","v":"00:00:00"},{"$f":"Timesheet!B124","v":0}]
[{"$f":"Timesheet!C125","v":0},{"$f":"Timesheet!AL125","v":0},{"$f":"Timesheet!AB125","v":0},{"$f":"Timesheet!K125","v":"00:00:00"},{"$f":"Timesheet!B125","v":0}]
[{"$f":"Timesheet!C126","v":0},{"$f":"Timesheet!AL126","v":0},{"$f":"Timesheet!AB126","v":0},{"$f":"Timesheet!K126","v":"00:00:00"},{"$f":"Timesheet!B126","v":0}]
[{"$f":"Timesheet!C127","v":0},{"$f":"Timesheet!AL127","v":0},{"$f":"Timesheet!AB127","v":0},{"$f":"Timesheet!K127","v":"00:00:00"},{"$f":"Timesheet!B127","v":0}]
[{"$f":"Timesheet!C128","v":0},{"$f":"Timesheet!AL128","v":0},{"$f":"Timesheet!AB128","v":0},{"$f":"Timesheet!K128","v":"00:00:00"},{"$f":"Timesheet!B128","v":0}]
[{"$f":"Timesheet!C129","v":0},{"$f":"Timesheet!AL129","v":0},{"$f":"Timesheet!AB129","v":0},{"$f":"Timesheet!K129","v":"00:00:00"},{"$f":"Timesheet!B129","v":0}]
[{"$f":"Timesheet!C130","v":0},{"$f":"Timesheet!AL130","v":0},{"$f":"Timesheet!AB130","v":0},{"$f":"Timesheet!K130","v":"00:00:00"},{"$f":"Timesheet!B130","v":0}]
[{"$f":"Timesheet!C131","v":0},{"$f":"Timesheet!AL131","v":0},{"$f":"Timesheet!AB131","v":0},{"$f":"Timesheet!K131","v":"00:00:00"},{"$f":"Timesheet!B131","v":0}]
[{"$f":"Timesheet!C132","v":0},{"$f":"Timesheet!AL132","v":0},{"$f":"Timesheet!AB132","v":0},{"$f":"Timesheet!K132","v":"00:00:00"},{"$f":"Timesheet!B132","v":0}]
[{"$f":"Timesheet!C133","v":0},{"$f":"Timesheet!AL133","v":0},{"$f":"Timesheet!AB133","v":0},{"$f":"Timesheet!K133","v":"00:00:00"},{"$f":"Timesheet!B133","v":0}]
[{"$f":"Timesheet!C134","v":0},{"$f":"Timesheet!AL134","v":0},{"$f":"Timesheet!AB134","v":0},{"$f":"Timesheet!K134","v":"00:00:00"},{"$f":"Timesheet!B134","v":0}]
[{"$f":"Timesheet!C135","v":0},{"$f":"Timesheet!AL135","v":0},{"$f":"Timesheet!AB135","v":0},{"$f":"Timesheet!K135","v":"00:00:00"},{"$f":"Timesheet!B135","v":0}]
[{"$f":"Timesheet!C136","v":0},{"$f":"Timesheet!AL136","v":0},{"$f":"Timesheet!AB136","v":0},{"$f":"Timesheet!K136","v":"00:00:00"},{"$f":"Timesheet!B136","v":0}]
[{"$f":"Timesheet!C137","v":0},{"$f":"Timesheet!AL137","v":0},{"$f":"Timesheet!AB137","v":0},{"$f":"Timesheet!K137","v":"00:00:00"},{"$f":"Timesheet!B137","v":0}]
[{"$f":"Timesheet!C138","v":0},{"$f":"Timesheet!AL138","v":0},{"$f":"Timesheet!AB138","v":0},{"$f":"Timesheet!K138","v":"00:00:00"},{"$f":"Timesheet!B138","v":0}]
[{"$f":"Timesheet!C139","v":0},{"$f":"Timesheet!AL139","v":0},{"$f":"Timesheet!AB139","v":0},{"$f":"Timesheet!K139","v":"00:00:00"},{"$f":"Timesheet!B139","v":0}]
[{"$f":"Timesheet!C140","v":0},{"$f":"Timesheet!AL140","v":0},{"$f":"Timesheet!AB140","v":0},{"$f":"Timesheet!K140","v":"00:00:00"},{"$f":"Timesheet!B140","v":0}]
[{"$f":"Timesheet!C141","v":0},{"$f":"Timesheet!AL141","v":0},{"$f":"Timesheet!AB141","v":0},{"$f":"Timesheet!K141","v":"00:00:00"},{"$f":"Timesheet!B141","v":0}]
[{"$f":"Timesheet!C142","v":0},{"$f":"Timesheet!AL142","v":0},{"$f":"Timesheet!AB142","v":0},{"$f":"Timesheet!K142","v":"00:00:00"},{"$f":"Timesheet!B142","v":0}]
[{"$f":"Timesheet!C143","v":0},{"$f":"Timesheet!AL143","v":0},{"$f":"Timesheet!AB143","v":0},{"$f":"Timesheet!K143","v":"00:00:00"},{"$f":"Timesheet!B143","v":0}]
[{"$f":"Timesheet!C144","v":0},{"$f":"Timesheet!AL144","v":0},{"$f":"Timesheet!AB144","v":0},{"$f":"Timesheet!K144","v":"00:00:00"},{"$f":"Timesheet!B144","v":0}]
[{"$f":"Timesheet!C145","v":0},{"$f":"Timesheet!AL145","v":0},{"$f":"Timesheet!AB145","v":0},{"$f":"Timesheet!K145","v":"00:00:00"},{"$f":"Timesheet!B145","v":0}]
[{"$f":"Timesheet!C146","v":0},{"$f":"Timesheet!AL146","v":0},{"$f":"Timesheet!AB146","v":0},{"$f":"Timesheet!K146","v":"00:00:00"},{"$f":"Timesheet!B146","v":0}]
[{"$f":"Timesheet!C147","v":0},{"$f":"Timesheet!AL147","v":0},{"$f":"Timesheet!AB147","v":0},{"$f":"Timesheet!K147","v":"00:00:00"},{"$f":"Timesheet!B147","v":0}]
[{"$f":"Timesheet!C148","v":0},{"$f":"Timesheet!AL148","v":0},{"$f":"Timesheet!AB148","v":0},{"$f":"Timesheet!K148","v":"00:00:00"},{"$f":"Timesheet!B148","v":0}]
[{"$f":"Timesheet!C149","v":0},{"$f":"Timesheet!AL149","v":0},{"$f":"Timesheet!AB149","v":0},{"$f":"Timesheet!K149","v":"00:00:00"},{"$f":"Timesheet!B149","v":0}]
[{"$f":"Timesheet!C150","v":0},{"$f":"Timesheet!AL150","v":0},{"$f":"Timesheet!AB150","v":0},{"$f":"Timesheet!K150","v":"00:00:00"},{"$f":"Timesheet!B150","v":0}]
[{"$f":"Timesheet!C151","v":0},{"$f":"Timesheet!AL151","v":0},{"$f":"Timesheet!AB151","v":0},{"$f":"Timesheet!K151","v":"00:00:00"},{"$f":"Timesheet!B151","v":0}]
[{"$f":"Timesheet!C152","v":0},{"$f":"Timesheet!AL152","v":0},{"$f":"Timesheet!AB152","v":0},{"$f":"Timesheet!K152","v":"00:00:00"},{"$f":"Timesheet!B152","v":0}]
[{"$f":"Timesheet!C153","v":0},{"$f":"Timesheet!AL153","v":0},{"$f":"Timesheet!AB153","v":0},{"$f":"Timesheet!K153","v":"00:00:00"},{"$f":"Timesheet!B153","v":0}]
[{"$f":"Timesheet!C154","v":0},{"$f":"Timesheet!AL154","v":0},{"$f":"Timesheet!AB154","v":0},{"$f":"Timesheet!K154","v":"00:00:00"},{"$f":"Timesheet!B154","v":0}]
[{"$f":"Timesheet!C155","v":0},{"$f":"Timesheet!AL155","v":0},{"$f":"Timesheet!AB155","v":0},{"$f":"Timesheet!K155","v":"00:00:00"},{"$f":"Timesheet!B155","v":0}]
[{"$f":"Timesheet!C156","v":0},{"$f":"Timesheet!AL156","v":0},{"$f":"Timesheet!AB156","v":0},{"$f":"Timesheet!K156","v":"00:00:00"},{"$f":"Timesheet!B156","v":0}]
[{"$f":"Timesheet!C157","v":0},{"$f":"Timesheet!AL157","v":0},{"$f":"Timesheet!AB157","v":0},{"$f":"Timesheet!K157","v":"00:00:00"},{"$f":"Timesheet!B157","v":0}]
[{"$f":"Timesheet!C158","v":0},{"$f":"Timesheet!AL158","v":0},{"$f":"Timesheet!AB158","v":0},{"$f":"Timesheet!K158","v":"00:00:00"},{"$f":"Timesheet!B158","v":0}]
[{"$f":"Timesheet!C159","v":0},{"$f":"Timesheet!AL159","v":0},{"$f":"Timesheet!AB159","v":0},{"$f":"Timesheet!K159","v":"00:00:00"},{"$f":"Timesheet!B159","v":0}]
[{"$f":"Timesheet!C160","v":0},{"$f":"Timesheet!AL160","v":0},{"$f":"Timesheet!AB160","v":0},{"$f":"Timesheet!K160","v":"00:00:00"},{"$f":"Timesheet!B160","v":0}]
[{"$f":"Timesheet!C161","v":0},{"$f":"Timesheet!AL161","v":0},{"$f":"Timesheet!AB161","v":0},{"$f":"Timesheet!K161","v":"00:00:00"},{"$f":"Timesheet!B161","v":0}]
[{"$f":"Timesheet!C162","v":0},{"$f":"Timesheet!AL162","v":0},{"$f":"Timesheet!AB162","v":0},{"$f":"Timesheet!K162","v":"00:00:00"},{"$f":"Timesheet!B162","v":0}]
[{"$f":"Timesheet!C163","v":0},{"$f":"Timesheet!AL163","v":0},{"$f":"Timesheet!AB163","v":0},{"$f":"Timesheet!K163","v":"00:00:00"},{"$f":"Timesheet!B163","v":0}]
[{"$f":"Timesheet!C164","v":0},{"$f":"Timesheet!AL164","v":0},{"$f":"Timesheet!AB164","v":0},{"$f":"Timesheet!K164","v":"00:00:00"},{"$f":"Timesheet!B164","v":0}]
[{"$f":"Timesheet!C165","v":0},{"$f":"Timesheet!AL165","v":0},{"$f":"Timesheet!AB165","v":0},{"$f":"Timesheet!K165","v":"00:00:00"},{"$f":"Timesheet!B165","v":0}]
[{"$f":"Timesheet!C166","v":0},{"$f":"Timesheet!AL166","v":0},{"$f":"Timesheet!AB166","v":0},{"$f":"Timesheet!K166","v":"00:00:00"},{"$f":"Timesheet!B166","v":0}]
[{"$f":"Timesheet!C167","v":0},{"$f":"Timesheet!AL167","v":0},{"$f":"Timesheet!AB167","v":0},{"$f":"Timesheet!K167","v":"00:00:00"},{"$f":"Timesheet!B167","v":0}]
[{"$f":"Timesheet!C168","v":0},{"$f":"Timesheet!AL168","v":0},{"$f":"Timesheet!AB168","v":0},{"$f":"Timesheet!K168","v":"00:00:00"},{"$f":"Timesheet!B168","v":0}]
[{"$f":"Timesheet!C169","v":0},{"$f":"Timesheet!AL169","v":0},{"$f":"Timesheet!AB169","v":0},{"$f":"Timesheet!K169","v":"00:00:00"},{"$f":"Timesheet!B169","v":0}]
[{"$f":"Timesheet!C170","v":0},{"$f":"Timesheet!AL170","v":0},{"$f":"Timesheet!AB170","v":0},{"$f":"Timesheet!K170","v":"00:00:00"},{"$f":"Timesheet!B170","v":0}]
[{"$f":"Timesheet!C171","v":0},{"$f":"Timesheet!AL171","v":0},{"$f":"Timesheet!AB171","v":0},{"$f":"Timesheet!K171","v":"00:00:00"},{"$f":"Timesheet!B171","v":0}]
[{"$f":"Timesheet!C172","v":0},{"$f":"Timesheet!AL172","v":0},{"$f":"Timesheet!AB172","v":0},{"$f":"Timesheet!K172","v":"00:00:00"},{"$f":"Timesheet!B172","v":0}]
[{"$f":"Timesheet!C173","v":0},{"$f":"Timesheet!AL173","v":0},{"$f":"Timesheet!AB173","v":0},{"$f":"Timesheet!K173","v":"00:00:00"},{"$f":"Timesheet!B173","v":0}]
[{"$f":"Timesheet!C174","v":0},{"$f":"Timesheet!AL174","v":0},{"$f":"Timesheet!AB174","v":0},{"$f":"Timesheet!K174","v":"00:00:00"},{"$f":"Timesheet!B174","v":0}]
[{"$f":"Timesheet!C175","v":0},{"$f":"Timesheet!AL175","v":0},{"$f":"Timesheet!AB175","v":0},{"$f":"Timesheet!K175","v":"00:00:00"},{"$f":"Timesheet!B175","v":0}]
[{"$f":"Timesheet!C176","v":0},{"$f":"Timesheet!AL176","v":0},{"$f":"Timesheet!AB176","v":0},{"$f":"Timesheet!K176","v":"00:00:00"},{"$f":"Timesheet!B176","v":0}]
[{"$f":"Timesheet!C177","v":0},{"$f":"Timesheet!AL177","v":0},{"$f":"Timesheet!AB177","v":0},{"$f":"Timesheet!K177","v":"00:00:00"},{"$f":"Timesheet!B177","v":0}]
[{"$f":"Timesheet!C178","v":0},{"$f":"Timesheet!AL178","v":0},{"$f":"Timesheet!AB178","v":0},{"$f":"Timesheet!K178","v":"00:00:00"},{"$f":"Timesheet!B178","v":0}]
[{"$f":"Timesheet!C179","v":0},{"$f":"Timesheet!AL179","v":0},{"$f":"Timesheet!AB179","v":0},{"$f":"Timesheet!K179","v":"00:00:00"},{"$f":"Timesheet!B179","v":0}]
[{"$f":"Timesheet!C180","v":0},{"$f":"Timesheet!AL180","v":0},{"$f":"Timesheet!AB180","v":0},{"$f":"Timesheet!K180","v":"00:00:00"},{"$f":"Timesheet!B180","v":0}]
[{"$f":"Timesheet!C181","v":0},{"$f":"Timesheet!AL181","v":0},{"$f":"Timesheet!AB181","v":0},{"$f":"Timesheet!K181","v":"00:00:00"},{"$f":"Timesheet!B181","v":0}]
[{"$f":"Timesheet!C182","v":0},{"$f":"Timesheet!AL182","v":0},{"$f":"Timesheet!AB182","v":0},{"$f":"Timesheet!K182","v":"00:00:00"},{"$f":"Timesheet!B182","v":0}]
[{"$f":"Timesheet!C183","v":0},{"$f":"Timesheet!AL183","v":0},{"$f":"Timesheet!AB183","v":0},{"$f":"Timesheet!K183","v":"00:00:00"},{"$f":"Timesheet!B183","v":0}]
[{"$f":"Timesheet!C184","v":0},{"$f":"Timesheet!AL184","v":0},{"$f":"Timesheet!AB184","v":0},{"$f":"Timesheet!K184","v":"00:00:00"},{"$f":"Timesheet!B184","v":0}]
[{"$f":"Timesheet!C185","v":0},{"$f":"Timesheet!AL185","v":0},{"$f":"Timesheet!AB185","v":0},{"$f":"Timesheet!K185","v":"00:00:00"},{"$f":"Timesheet!B185","v":0}]
[{"$f":"Timesheet!C186","v":0},{"$f":"Timesheet!AL186","v":0},{"$f":"Timesheet!AB186","v":0},{"$f":"Timesheet!K186","v":"00:00:00"},{"$f":"Timesheet!B186","v":0}]
[{"$f":"Timesheet!C187","v":0},{"$f":"Timesheet!AL187","v":0},{"$f":"Timesheet!AB187","v":0},{"$f":"Timesheet!K187","v":"00:00:00"},{"$f":"Timesheet!B187","v":0}]
[{"$f":"Timesheet!C188","v":0},{"$f":"Timesheet!AL188","v":0},{"$f":"Timesheet!AB188","v":0},{"$f":"Timesheet!K188","v":"00:00:00"},{"$f":"Timesheet!B188","v":0}]
[{"$f":"Timesheet!C189","v":0},{"$f":"Timesheet!AL189","v":0},{"$f":"Timesheet!AB189","v":0},{"$f":"Timesheet!K189","v":"00:00:00"},{"$f":"Timesheet!B189","v":0}]
[{"$f":"Timesheet!C190","v":0},{"$f":"Timesheet!AL190","v":0},{"$f":"Timesheet!AB190","v":0},{"$f":"Timesheet!K190","v":"00:00:00"},{"$f":"Timesheet!B190","v":0}]
[{"$f":"Timesheet!C191","v":0},{"$f":"Timesheet!AL191","v":0},{"$f":"Timesheet!AB191","v":0},{"$f":"Timesheet!K191","v":"00:00:00"},{"$f":"Timesheet!B191","v":0}]
[{"$f":"Timesheet!C192","v":0},{"$f":"Timesheet!AL192","v":0},{"$f":"Timesheet!AB192","v":0},{"$f":"Timesheet!K192","v":"00:00:00"},{"$f":"Timesheet!B192","v":0}]
[{"$f":"Timesheet!C193","v":0},{"$f":"Timesheet!AL193","v":0},{"$f":"Timesheet!AB193","v":0},{"$f":"Timesheet!K193","v":"00:00:00"},{"$f":"Timesheet!B193","v":0}]
[{"$f":"Timesheet!C194","v":0},{"$f":"Timesheet!AL194","v":0},{"$f":"Timesheet!AB194","v":0},{"$f":"Timesheet!K194","v":"00:00:00"},{"$f":"Timesheet!B194","v":0}]
[{"$f":"Timesheet!C195","v":0},{"$f":"Timesheet!AL195","v":0},{"$f":"Timesheet!AB195","v":0},{"$f":"Timesheet!K195","v":"00:00:00"},{"$f":"Timesheet!B195","v":0}]
[{"$f":"Timesheet!C196","v":0},{"$f":"Timesheet!AL196","v":0},{"$f":"Timesheet!AB196","v":0},{"$f":"Timesheet!K196","v":"00:00:00"},{"$f":"Timesheet!B196","v":0}]
[{"$f":"Timesheet!C197","v":0},{"$f":"Timesheet!AL197","v":0},{"$f":"Timesheet!AB197","v":0},{"$f":"Timesheet!K197","v":"00:00:00"},{"$f":"Timesheet!B197","v":0}]
[{"$f":"Timesheet!C198","v":0},{"$f":"Timesheet!AL198","v":0},{"$f":"Timesheet!AB198","v":0},{"$f":"Timesheet!K198","v":"00:00:00"},{"$f":"Timesheet!B198","v":0}]
[{"$f":"Timesheet!C199","v":0},{"$f":"Timesheet!AL199","v":0},{"$f":"Timesheet!AB199","v":0},{"$f":"Timesheet!K199","v":"00:00:00"},{"$f":"Timesheet!B199","v":0}]
[{"$f":"Timesheet!C200","v":0},{"$f":"Timesheet!AL200","v":0},{"$f":"Timesheet!AB200","v":0},{"$f":"Timesheet!K200","v":"00:00:00"},{"$f":"Timesheet!B200","v":0}]
[{"$f":"Timesheet!C201","v":0},{"$f":"Timesheet!AL201","v":0},{"$f":"Timesheet!AB201","v":0},{"$f":"Timesheet!K201","v":"00:00:00"},{"$f":"Timesheet!B201","v":0}]
[{"$f":"Timesheet!C202","v":0},{"$f":"Timesheet!AL202","v":0},{"$f":"Timesheet!AB202","v":0},{"$f":"Timesheet!K202","v":"00:00:00"},{"$f":"Timesheet!B202","v":0}]
[{"$f":"Timesheet!C203","v":0},{"$f":"Timesheet!AL203","v":0},{"$f":"Timesheet!AB203","v":0},{"$f":"Timesheet!K203","v":"00:00:00"},{"$f":"Timesheet!B203","v":0}]
[{"$f":"Timesheet!C204","v":0},{"$f":"Timesheet!AL204","v":0},{"$f":"Timesheet!AB204","v":0},{"$f":"Timesheet!K204","v":"00:00:00"},{"$f":"Timesheet!B204","v":0}]
[{"$f":"Timesheet!C205","v":0},{"$f":"Timesheet!AL205","v":0},{"$f":"Timesheet!AB205","v":0},{"$f":"Timesheet!K205","v":"00:00:00"},{"$f":"Timesheet!B205","v":0}]
[{"$f":"Timesheet!C206","v":0},{"$f":"Timesheet!AL206","v":0},{"$f":"Timesheet!AB206","v":0},{"$f":"Timesheet!K206","v":"00:00:00"},{"$f":"Timesheet!B206","v":0}]
[{"$f":"Timesheet!C207","v":0},{"$f":"Timesheet!AL207","v":0},{"$f":"Timesheet!AB207","v":0},{"$f":"Timesheet!K207","v":"00:00:00"},{"$f":"Timesheet!B207","v":0}]
[{"$f":"Timesheet!C208","v":0},{"$f":"Timesheet!AL208","v":0},{"$f":"Timesheet!AB208","v":0},{"$f":"Timesheet!K208","v":"00:00:00"},{"$f":"Timesheet!B208","v":0}]
[{"$f":"Timesheet!C209","v":0},{"$f":"Timesheet!AL209","v":0},{"$f":"Timesheet!AB209","v":0},{"$f":"Timesheet!K209","v":"00:00:00"},{"$f":"Timesheet!B209","v":0}]
[{"$f":"Timesheet!C210","v":0},{"$f":"Timesheet!AL210","v":0},{"$f":"Timesheet!AB210","v":0},{"$f":"Timesheet!K210","v":"00:00:00"},{"$f":"Timesheet!B210","v":0}]
[{"$f":"Timesheet!C211","v":0},{"$f":"Timesheet!AL211","v":0},{"$f":"Timesheet!AB211","v":0},{"$f":"Timesheet!K211","v":"00:00:00"},{"$f":"Timesheet!B211","v":0}]
[{"$f":"Timesheet!C212","v":0},{"$f":"Timesheet!AL212","v":0},{"$f":"Timesheet!AB212","v":0},{"$f":"Timesheet!K212","v":"00:00:00"},{"$f":"Timesheet!B212","v":0}]
[{"$f":"Timesheet!C213","v":0},{"$f":"Timesheet!AL213","v":0},{"$f":"Timesheet!AB213","v":0},{"$f":"Timesheet!K213","v":"00:00:00"},{"$f":"Timesheet!B213","v":0}]
[{"$f":"Timesheet!C214","v":0},{"$f":"Timesheet!AL214","v":0},{"$f":"Timesheet!AB214","v":0},{"$f":"Timesheet!K214","v":"00:00:00"},{"$f":"Timesheet!B214","v":0}]
[{"$f":"Timesheet!C215","v":0},{"$f":"Timesheet!AL215","v":0},{"$f":"Timesheet!AB215","v":0},{"$f":"Timesheet!K215","v":"00:00:00"},{"$f":"Timesheet!B215","v":0}]
[{"$f":"Timesheet!C216","v":0},{"$f":"Timesheet!AL216","v":0},{"$f":"Timesheet!AB216","v":0},{"$f":"Timesheet!K216","v":"00:00:00"},{"$f":"Timesheet!B216","v":0}]
[{"$f":"Timesheet!C217","v":0},{"$f":"Timesheet!AL217","v":0},{"$f":"Timesheet!AB217","v":0},{"$f":"Timesheet!K217","v":"00:00:00"},{"$f":"Timesheet!B217","v":0}]
[{"$f":"Timesheet!C218","v":0},{"$f":"Timesheet!AL218","v":0},{"$f":"Timesheet!AB218","v":0},{"$f":"Timesheet!K218","v":"00:00:00"},{"$f":"Timesheet!B218","v":0}]
[{"$f":"Timesheet!C219","v":0},{"$f":"Timesheet!AL219","v":0},{"$f":"Timesheet!AB219","v":0},{"$f":"Timesheet!K219","v":"00:00:00"},{"$f":"Timesheet!B219","v":0}]
[{"$f":"Timesheet!C220","v":0},{"$f":"Timesheet!AL220","v":0},{"$f":"Timesheet!AB220","v":0},{"$f":"Timesheet!K220","v":"00:00:00"},{"$f":"Timesheet!B220","v":0}]
[{"$f":"Timesheet!C221","v":0},{"$f":"Timesheet!AL221","v":0},{"$f":"Timesheet!AB221","v":0},{"$f":"Timesheet!K221","v":"00:00:00"},{"$f":"Timesheet!B221","v":0}]
[{"$f":"Timesheet!C222","v":0},{"$f":"Timesheet!AL222","v":0},{"$f":"Timesheet!AB222","v":0},{"$f":"Timesheet!K222","v":"00:00:00"},{"$f":"Timesheet!B222","v":0}]
[{"$f":"Timesheet!C223","v":0},{"$f":"Timesheet!AL223","v":0},{"$f":"Timesheet!AB223","v":0},{"$f":"Timesheet!K223","v":"00:00:00"},{"$f":"Timesheet!B223","v":0}]
[{"$f":"Timesheet!C224","v":0},{"$f":"Timesheet!AL224","v":0},{"$f":"Timesheet!AB224","v":0},{"$f":"Timesheet!K224","v":"00:00:00"},{"$f":"Timesheet!B224","v":0}]
[{"$f":"Timesheet!C225","v":0},{"$f":"Timesheet!AL225","v":0},{"$f":"Timesheet!AB225","v":0},{"$f":"Timesheet!K225","v":"00:00:00"},{"$f":"Timesheet!B225","v":0}]
[{"$f":"Timesheet!C226","v":0},{"$f":"Timesheet!AL226","v":0},{"$f":"Timesheet!AB226","v":0},{"$f":"Timesheet!K226","v":"00:00:00"},{"$f":"Timesheet!B226","v":0}]
[{"$f":"Timesheet!C227","v":0},{"$f":"Timesheet!AL227","v":0},{"$f":"Timesheet!AB227","v":0},{"$f":"Timesheet!K227","v":"00:00:00"},{"$f":"Timesheet!B227","v":0}]
[{"$f":"Timesheet!C228","v":0},{"$f":"Timesheet!AL228","v":0},{"$f":"Timesheet!AB228","v":0},{"$f":"Timesheet!K228","v":"00:00:00"},{"$f":"Timesheet!B228","v":0}]
[{"$f":"Timesheet!C229","v":0},{"$f":"Timesheet!AL229","v":0},{"$f":"Timesheet!AB229","v":0},{"$f":"Timesheet!K229","v":"00:00:00"},{"$f":"Timesheet!B229","v":0}]
[{"$f":"Timesheet!C230","v":0},{"$f":"Timesheet!AL230","v":0},{"$f":"Timesheet!AB230","v":0},{"$f":"Timesheet!K230","v":"00:00:00"},{"$f":"Timesheet!B230","v":0}]
[{"$f":"Timesheet!C231","v":0},{"$f":"Timesheet!AL231","v":0},{"$f":"Timesheet!AB231","v":0},{"$f":"Timesheet!K231","v":"00:00:00"},{"$f":"Timesheet!B231","v":0}]
[{"$f":"Timesheet!C232","v":0},{"$f":"Timesheet!AL232","v":0},{"$f":"Timesheet!AB232","v":0},{"$f":"Timesheet!K232","v":"00:00:00"},{"$f":"Timesheet!B232","v":0}]
[{"$f":"Timesheet!C233","v":0},{"$f":"Timesheet!AL233","v":0},{"$f":"Timesheet!AB233","v":0},{"$f":"Timesheet!K233","v":"00:00:00"},{"$f":"Timesheet!B233","v":0}]
[{"$f":"Timesheet!C234","v":0},{"$f":"Timesheet!AL234","v":0},{"$f":"Timesheet!AB234","v":0},{"$f":"Timesheet!K234","v":"00:00:00"},{"$f":"Timesheet!B234","v":0}]
[{"$f":"Timesheet!C235","v":0},{"$f":"Timesheet!AL235","v":0},{"$f":"Timesheet!AB235","v":0},{"$f":"Timesheet!K235","v":"00:00:00"},{"$f":"Timesheet!B235","v":0}]
[{"$f":"Timesheet!C236","v":0},{"$f":"Timesheet!AL236","v":0},{"$f":"Timesheet!AB236","v":0},{"$f":"Timesheet!K236","v":"00:00:00"},{"$f":"Timesheet!B236","v":0}]
[{"$f":"Timesheet!C237","v":0},{"$f":"Timesheet!AL237","v":0},{"$f":"Timesheet!AB237","v":0},{"$f":"Timesheet!K237","v":"00:00:00"},{"$f":"Timesheet!B237","v":0}]
[{"$f":"Timesheet!C238","v":0},{"$f":"Timesheet!AL238","v":0},{"$f":"Timesheet!AB238","v":0},{"$f":"Timesheet!K238","v":"00:00:00"},{"$f":"Timesheet!B238","v":0}]
[{"$f":"Timesheet!C239","v":0},{"$f":"Timesheet!AL239","v":0},{"$f":"Timesheet!AB239","v":0},{"$f":"Timesheet!K239","v":"00:00:00"},{"$f":"Timesheet!B239","v":0}]
[{"$f":"Timesheet!C240","v":0},{"$f":"Timesheet!AL240","v":0},{"$f":"Timesheet!AB240","v":0},{"$f":"Timesheet!K240","v":"00:00:00"},{"$f":"Timesheet!B240","v":0}]
[{"$f":"Timesheet!C241","v":0},{"$f":"Timesheet!AL241","v":0},{"$f":"Timesheet!AB241","v":0},{"$f":"Timesheet!K241","v":"00:00:00"},{"$f":"Timesheet!B241","v":0}]
[{"$f":"Timesheet!C242","v":0},{"$f":"Timesheet!AL242","v":0},{"$f":"Timesheet!AB242","v":0},{"$f":"Timesheet!K242","v":"00:00:00"},{"$f":"Timesheet!B242","v":0}]
[{"$f":"Timesheet!C243","v":0},{"$f":"Timesheet!AL243","v":0},{"$f":"Timesheet!AB243","v":0},{"$f":"Timesheet!K243","v":"00:00:00"},{"$f":"Timesheet!B243","v":0}]
[{"$f":"Timesheet!C244","v":0},{"$f":"Timesheet!AL244","v":0},{"$f":"Timesheet!AB244","v":0},{"$f":"Timesheet!K244","v":"00:00:00"},{"$f":"Timesheet!B244","v":0}]
[{"$f":"Timesheet!C245","v":0},{"$f":"Timesheet!AL245","v":0},{"$f":"Timesheet!AB245","v":0},{"$f":"Timesheet!K245","v":"00:00:00"},{"$f":"Timesheet!B245","v":0}]
[{"$f":"Timesheet!C246","v":0},{"$f":"Timesheet!AL246","v":0},{"$f":"Timesheet!AB246","v":0},{"$f":"Timesheet!K246","v":"00:00:00"},{"$f":"Timesheet!B246","v":0}]
[{"$f":"Timesheet!C247","v":0},{"$f":"Timesheet!AL247","v":0},{"$f":"Timesheet!AB247","v":0},{"$f":"Timesheet!K247","v":"00:00:00"},{"$f":"Timesheet!B247","v":0}]
[{"$f":"Timesheet!C248","v":0},{"$f":"Timesheet!AL248","v":0},{"$f":"Timesheet!AB248","v":0},{"$f":"Timesheet!K248","v":"00:00:00"},{"$f":"Timesheet!B248","v":0}]
[{"$f":"Timesheet!C249","v":0},{"$f":"Timesheet!AL249","v":0},{"$f":"Timesheet!AB249","v":0},{"$f":"Timesheet!K249","v":"00:00:00"},{"$f":"Timesheet!B249","v":0}]
[{"$f":"Timesheet!C250","v":0},{"$f":"Timesheet!AL250","v":0},{"$f":"Timesheet!AB250","v":0},{"$f":"Timesheet!K250","v":"00:00:00"},{"$f":"Timesheet!B250","v":0}]
[{"$f":"Timesheet!C251","v":0},{"$f":"Timesheet!AL251","v":0},{"$f":"Timesheet!AB251","v":0},{"$f":"Timesheet!K251","v":"00:00:00"},{"$f":"Timesheet!B251","v":0}]
[{"$f":"Timesheet!C252","v":0},{"$f":"Timesheet!AL252","v":0},{"$f":"Timesheet!AB252","v":0},{"$f":"Timesheet!K252","v":"00:00:00"},{"$f":"Timesheet!B252","v":0}]
[{"$f":"Timesheet!C253","v":0},{"$f":"Timesheet!AL253","v":0},{"$f":"Timesheet!AB253","v":0},{"$f":"Timesheet!K253","v":"00:00:00"},{"$f":"Timesheet!B253","v":0}]
[{"$f":"Timesheet!C254","v":0},{"$f":"Timesheet!AL254","v":0},{"$f":"Timesheet!AB254","v":0},{"$f":"Timesheet!K254","v":"00:00:00"},{"$f":"Timesheet!B254","v":0}]
[{"$f":"Timesheet!C255","v":0},{"$f":"Timesheet!AL255","v":0},{"$f":"Timesheet!AB255","v":0},{"$f":"Timesheet!K255","v":"00:00:00"},{"$f":"Timesheet!B255","v":0}]
[{"$f":"Timesheet!C256","v":0},{"$f":"Timesheet!AL256","v":0},{"$f":"Timesheet!AB256","v":0},{"$f":"Timesheet!K256","v":"00:00:00"},{"$f":"Timesheet!B256","v":0}]
[{"$f":"Timesheet!C257","v":0},{"$f":"Timesheet!AL257","v":0},{"$f":"Timesheet!AB257","v":0},{"$f":"Timesheet!K257","v":"00:00:00"},{"$f":"Timesheet!B257","v":0}]
[{"$f":"Timesheet!C258","v":0},{"$f":"Timesheet!AL258","v":0},{"$f":"Timesheet!AB258","v":0},{"$f":"Timesheet!K258","v":"00:00:00"},{"$f":"Timesheet!B258","v":0}]
[{"$f":"Timesheet!C259","v":0},{"$f":"Timesheet!AL259","v":0},{"$f":"Timesheet!AB259","v":0},{"$f":"Timesheet!K259","v":"00:00:00"},{"$f":"Timesheet!B259","v":0}]
[{"$f":"Timesheet!C260","v":0},{"$f":"Timesheet!AL260","v":0},{"$f":"Timesheet!AB260","v":0},{"$f":"Timesheet!K260","v":"00:00:00"},{"$f":"Timesheet!B260","v":0}]
[{"$f":"Timesheet!C261","v":0},{"$f":"Timesheet!AL261","v":0},{"$f":"Timesheet!AB261","v":0},{"$f":"Timesheet!K261","v":"00:00:00"},{"$f":"Timesheet!B261","v":0}]
[{"$f":"Timesheet!C262","v":0},{"$f":"Timesheet!AL262","v":0},{"$f":"Timesheet!AB262","v":0},{"$f":"Timesheet!K262","v":"00:00:00"},{"$f":"Timesheet!B262","v":0}]
[{"$f":"Timesheet!C263","v":0},{"$f":"Timesheet!AL263","v":0},{"$f":"Timesheet!AB263","v":0},{"$f":"Timesheet!K263","v":"00:00:00"},{"$f":"Timesheet!B263","v":0}]
[{"$f":"Timesheet!C264","v":0},{"$f":"Timesheet!AL264","v":0},{"$f":"Timesheet!AB264","v":0},{"$f":"Timesheet!K264","v":"00:00:00"},{"$f":"Timesheet!B264","v":0}]
[{"$f":"Timesheet!C265","v":0},{"$f":"Timesheet!AL265","v":0},{"$f":"Timesheet!AB265","v":0},{"$f":"Timesheet!K265","v":"00:00:00"},{"$f":"Timesheet!B265","v":0}]
[{"$f":"Timesheet!C266","v":0},{"$f":"Timesheet!AL266","v":0},{"$f":"Timesheet!AB266","v":0},{"$f":"Timesheet!K266","v":"00:00:00"},{"$f":"Timesheet!B266","v":0}]
[{"$f":"Timesheet!C267","v":0},{"$f":"Timesheet!AL267","v":0},{"$f":"Timesheet!AB267","v":0},{"$f":"Timesheet!K267","v":"00:00:00"},{"$f":"Timesheet!B267","v":0}]
[{"$f":"Timesheet!C268","v":0},{"$f":"Timesheet!AL268","v":0},{"$f":"Timesheet!AB268","v":0},{"$f":"Timesheet!K268","v":"00:00:00"},{"$f":"Timesheet!B268","v":0}]
[{"$f":"Timesheet!C269","v":0},{"$f":"Timesheet!AL269","v":0},{"$f":"Timesheet!AB269","v":0},{"$f":"Timesheet!K269","v":"00:00:00"},{"$f":"Timesheet!B269","v":0}]
[{"$f":"Timesheet!C270","v":0},{"$f":"Timesheet!AL270","v":0},{"$f":"Timesheet!AB270","v":0},{"$f":"Timesheet!K270","v":"00:00:00"},{"$f":"Timesheet!B270","v":0}]
[{"$f":"Timesheet!C271","v":0},{"$f":"Timesheet!AL271","v":0},{"$f":"Timesheet!AB271","v":0},{"$f":"Timesheet!K271","v":"00:00:00"},{"$f":"Timesheet!B271","v":0}]
[{"$f":"Timesheet!C272","v":0},{"$f":"Timesheet!AL272","v":0},{"$f":"Timesheet!AB272","v":0},{"$f":"Timesheet!K272","v":"00:00:00"},{"$f":"Timesheet!B272","v":0}]
[{"$f":"Timesheet!C273","v":0},{"$f":"Timesheet!AL273","v":0},{"$f":"Timesheet!AB273","v":0},{"$f":"Timesheet!K273","v":"00:00:00"},{"$f":"Timesheet!B273","v":0}]
[{"$f":"Timesheet!C274","v":0},{"$f":"Timesheet!AL274","v":0},{"$f":"Timesheet!AB274","v":0},{"$f":"Timesheet!K274","v":"00:00:00"},{"$f":"Timesheet!B274","v":0}]
[{"$f":"Timesheet!C275","v":0},{"$f":"Timesheet!AL275","v":0},{"$f":"Timesheet!AB275","v":0},{"$f":"Timesheet!K275","v":"00:00:00"},{"$f":"Timesheet!B275","v":0}]
[{"$f":"Timesheet!C276","v":0},{"$f":"Timesheet!AL276","v":0},{"$f":"Timesheet!AB276","v":0},{"$f":"Timesheet!K276","v":"00:00:00"},{"$f":"Timesheet!B276","v":0}]
[{"$f":"Timesheet!C277","v":0},{"$f":"Timesheet!AL277","v":0},{"$f":"Timesheet!AB277","v":0},{"$f":"Timesheet!K277","v":"00:00:00"},{"$f":"Timesheet!B277","v":0}]
[{"$f":"Timesheet!C278","v":0},{"$f":"Timesheet!AL278","v":0},{"$f":"Timesheet!AB278","v":0},{"$f":"Timesheet!K278","v":"00:00:00"},{"$f":"Timesheet!B278","v":0}]
[{"$f":"Timesheet!C279","v":0},{"$f":"Timesheet!AL279","v":0},{"$f":"Timesheet!AB279","v":0},{"$f":"Timesheet!K279","v":"00:00:00"},{"$f":"Timesheet!B279","v":0}]
[{"$f":"Timesheet!C280","v":0},{"$f":"Timesheet!AL280","v":0},{"$f":"Timesheet!AB280","v":0},{"$f":"Timesheet!K280","v":"00:00:00"},{"$f":"Timesheet!B280","v":0}]
[{"$f":"Timesheet!C281","v":0},{"$f":"Timesheet!AL281","v":0},{"$f":"Timesheet!AB281","v":0},{"$f":"Timesheet!K281","v":"00:00:00"},{"$f":"Timesheet!B281","v":0}]
[{"$f":"Timesheet!C282","v":0},{"$f":"Timesheet!AL282","v":0},{"$f":"Timesheet!AB282","v":0},{"$f":"Timesheet!K282","v":"00:00:00"},{"$f":"Timesheet!B282","v":0}]
[{"$f":"Timesheet!C283","v":0},{"$f":"Timesheet!AL283","v":0},{"$f":"Timesheet!AB283","v":0},{"$f":"Timesheet!K283","v":"00:00:00"},{"$f":"Timesheet!B283","v":0}]
[{"$f":"Timesheet!C284","v":0},{"$f":"Timesheet!AL284","v":0},{"$f":"Timesheet!AB284","v":0},{"$f":"Timesheet!K284","v":"00:00:00"},{"$f":"Timesheet!B284","v":0}]
[{"$f":"Timesheet!C285","v":0},{"$f":"Timesheet!AL285","v":0},{"$f":"Timesheet!AB285","v":0},{"$f":"Timesheet!K285","v":"00:00:00"},{"$f":"Timesheet!B285","v":0}]
[{"$f":"Timesheet!C286","v":0},{"$f":"Timesheet!AL286","v":0},{"$f":"Timesheet!AB286","v":0},{"$f":"Timesheet!K286","v":"00:00:00"},{"$f":"Timesheet!B286","v":0}]
[{"$f":"Timesheet!C287","v":0},{"$f":"Timesheet!AL287","v":0},{"$f":"Timesheet!AB287","v":0},{"$f":"Timesheet!K287","v":"00:00:00"},{"$f":"Timesheet!B287","v":0}]
[{"$f":"Timesheet!C288","v":0},{"$f":"Timesheet!AL288","v":0},{"$f":"Timesheet!AB288","v":0},{"$f":"Timesheet!K288","v":"00:00:00"},{"$f":"Timesheet!B288","v":0}]
[{"$f":"Timesheet!C289","v":0},{"$f":"Timesheet!AL289","v":0},{"$f":"Timesheet!AB289","v":0},{"$f":"Timesheet!K289","v":"00:00:00"},{"$f":"Timesheet!B289","v":0}]
[{"$f":"Timesheet!C290","v":0},{"$f":"Timesheet!AL290","v":0},{"$f":"Timesheet!AB290","v":0},{"$f":"Timesheet!K290","v":"00:00:00"},{"$f":"Timesheet!B290","v":0}]
[{"$f":"Timesheet!C291","v":0},{"$f":"Timesheet!AL291","v":0},{"$f":"Timesheet!AB291","v":0},{"$f":"Timesheet!K291","v":"00:00:00"},{"$f":"Timesheet!B291","v":0}]
[{"$f":"Timesheet!C292","v":0},{"$f":"Timesheet!AL292","v":0},{"$f":"Timesheet!AB292","v":0},{"$f":"Timesheet!K292","v":"00:00:00"},{"$f":"Timesheet!B292","v":0}]
[{"$f":"Timesheet!C293","v":0},{"$f":"Timesheet!AL293","v":0},{"$f":"Timesheet!AB293","v":0},{"$f":"Timesheet!K293","v":"00:00:00"},{"$f":"Timesheet!B293","v":0}]
[{"$f":"Timesheet!C294","v":0},{"$f":"Timesheet!AL294","v":0},{"$f":"Timesheet!AB294","v":0},{"$f":"Timesheet!K294","v":"00:00:00"},{"$f":"Timesheet!B294","v":0}]
[{"$f":"Timesheet!C295","v":0},{"$f":"Timesheet!AL295","v":0},{"$f":"Timesheet!AB295","v":0},{"$f":"Timesheet!K295","v":"00:00:00"},{"$f":"Timesheet!B295","v":0}]
[{"$f":"Timesheet!C296","v":0},{"$f":"Timesheet!AL296","v":0},{"$f":"Timesheet!AB296","v":0},{"$f":"Timesheet!K296","v":"00:00:00"},{"$f":"Timesheet!B296","v":0}]
[{"$f":"Timesheet!C297","v":0},{"$f":"Timesheet!AL297","v":0},{"$f":"Timesheet!AB297","v":0},{"$f":"Timesheet!K297","v":"00:00:00"},{"$f":"Timesheet!B297","v":0}]
[{"$f":"Timesheet!C298","v":0},{"$f":"Timesheet!AL298","v":0},{"$f":"Timesheet!AB298","v":0},{"$f":"Timesheet!K298","v":"00:00:00"},{"$f":"Timesheet!B298","v":0}]
[{"$f":"Timesheet!C299","v":0},{"$f":"Timesheet!AL299","v":0},{"$f":"Timesheet!AB299","v":0},{"$f":"Timesheet!K299","v":"00:00:00"},{"$f":"Timesheet!B299","v":0}]
[{"$f":"Timesheet!C300","v":0},{"$f":"Timesheet!AL300","v":0},{"$f":"Timesheet!AB300","v":0},{"$f":"Timesheet!K300","v":"00:00:00"},{"$f":"Timesheet!B300","v":0}]
[{"$f":"Timesheet!C301","v":0},{"$f":"Timesheet!AL301","v":0},{"$f":"Timesheet!AB301","v":0},{"$f":"Timesheet!K301","v":"00:00:00"},{"$f":"Timesheet!B301","v":0}]
[{"$f":"Timesheet!C302","v":0},{"$f":"Timesheet!AL302","v":0},{"$f":"Timesheet!AB302","v":0},{"$f":"Timesheet!K302","v":"00:00:00"},{"$f":"Timesheet!B302","v":0}]